{"text_format":"1","workbook":"xlsx","n_sheets":31,"sheets":["Introduction","User Guide","Project Background","User Inputs","Notes","Construction","Operation","Results","Charts","Summary Report","Mitigation","Quantified Reductions","Mitigation Calcs","Adaptation","Assumptions","Constants","Annual Assumptions","Materials","Commuting","Equipment","Land Use","Electricity","Fuels","MM + EF","Buildings","Industrial Processes","OnRoad","HFCs","Waste","Lists","Log"],"not_rendered":{"charts":6,"images":2,"macros":1,"external_links":0,"defined_names":127,"comments":4,"pivot_tables":0},"unopened":[],"bounds":{"document_bytes":16777216,"sheet_cells":100000,"rows_first":2000,"rows_last":500,"rows_between":2000,"halvings":0,"cell_chars":16384,"cell_head_chars":4096},"cells_cut":0,"cells_raw":0,"read":"whole","date_system":"1900"}

{"sheet":"Introduction","index":0,"n_rows":77,"n_cols":3,"rows_kept":77,"cut":false,"hidden":false,"merged":[[67,1,67,2],[76,1,76,2],[7,1,7,2],[8,1,8,2],[3,1,3,2],[12,1,12,2],[10,1,10,2],[5,1,5,2]]}
[null,"Minnesota Climate Calculator"]
[null,"Version 1.2, March 2026"]
[]
[null,"This calculator is intended to be used to develop a reasonable estimate of greenhouse gas (GHG) emissions from development projects in Minnesota. The results from this calculator may be used to complete the Environmental Assessment Worksheet (EAW), as required by potential projects that meet or exceed the thresholds described in Minnesota Rules 4410.4300. Using this calculator is not required for the EAW. The results of the calculator are based on user inputs and assumptions, which are documented within the calculator and the accompanying report; actual project emissions may vary. "]
[]
[null,"Purpose"]
[]
[null,"The purpose of this calculator is to help project developers and responsible governmental units assess the full GHG emissions impact potential of a project and to provide information on mitigation measures and adaptation strategies. Outputs of the calculator may be used to answer items 7 and 18 of the EAW. "]
[null,"Click here for more information on completing climate assessments on the approved EAW form."]
[]
[null,"Scope"]
[]
[null,"The emissions quantified in this calculator account for the full GHG impact of a project throughout the construction and operational phases of the project. The calculator quantifies emissions from project activities that occur on-site as well as emissions that occur upstream and downstream of the project. The calculator defines and quantifies emissions from 18 sources, as shown and described below."]
[]
[null,null,"Material inputs: Emissions associated with the production of materials used during the construction phase of the project, including the "]
[null,null,"extraction of raw materials, the transportation of raw materials to the manufacturing site, and the manufacturing of materials. "]
[]
[null,null,"Transportation of material inputs: Emissions that result from transportation of construction materials from the manufacturing facility "]
[null,null,"location to the project site (for use or installation) during the construction phase of the project."]
[]
[null,null,"Employee commuting: Emissions that result from employees commuting to the project site during the construction phase of the project. "]
[]
[null,null,"Construction equipment: Emissions from electricity and fuel used in off-road construction equipment (e.g., dozers, excavators, loaders, "]
[null,null,"generators, etc.) during the construction phase."]
[]
[null,null,"Land use change (construction): The net carbon change from the transition of one land use type to another due to project construction."]
[]
[null,null,"Construction waste: Emissions from the transportation and treatment of waste generated during construction that is treated"]
[null,null,"(e.g., landfilled) at a facility off-site."]
[]
[null,null,"Building energy consumption: Emissions from a project’s building energy consumption during the operational phase of the project. "]
[null,null,"This includes on-site combustion of fuels (e.g., natural gas) as well as emissions from the generation of electricity consumed on-site."]
[]
[null,null,"Coal production: Emissions from the increased delivery of coal including upstream fugitive and direct emissions from the processing, "]
[null,null,"storage, and transportation of coal as well as direct combustion emissions."]
[]
[null,null,"Natural gas and oil products: Emissions from the increased delivery of natural gas and oil products, including upstream fugitive and "]
[null,null,"direct emissions from production, transmission, and distribution as well as direct combustion emissions."]
[]
[null,null,"Industrial processes: Emissions from the production of metals, minerals, chemicals, and other industrial activities. This includes"]
[null,null,"emissions associated with the extraction of raw materials, their transportation to the industrial site, and the manufacturing process"]
[null,null,"(including both building energy and process emissions)."]
[]
[null,null,"Land use change (operation): The net carbon change from the transition of one land use type to another due to project operation."]
[]
[null,null,"HFC leakage: Emissions from hydrofluorocarbons (HFCs) that are used in air conditioning and refrigeration equipment during project "]
[null,null,"operation. Leakage occurs from this equipment during installation, operation (including servicing), and disposal. "]
[]
[null,null,"On-road vehicles: Emissions from on-road vehicles that are used during operation. This includes emissions generated on-site from "]
[null,null,"vehicles that are driven on project roadways and downstream from vehicles driven to and from the project site by visitors or residents. "]
[]
[null,null,"Treatment of waste on-site: Emissions from the on-site treatment of waste during project operations. This emissions source is "]
[null,null,"applicable to landfills, waste incineration facilities, composting facilities, and anaerobic digesters. "]
[]
[null,null,"Treatment of wastewater on-site: Emissions from municipal and industrial wastewater treatment plants including direct methane "]
[null,null,"emissions from the wastewater treatment process and direct and indirect nitrous oxide emissions from wastewater effluent."]
[]
[null,null,"Treatment of waste off-site: Emissions from the transportation and treatment of waste generated during project operation that is"]
[null,null,"treated (e.g., landfilled, combusted) at a facility off-site."]
[]
[null,null,"Enteric fermentation: Emissions from enteric fermentation, or the digestive process of ruminant livestock, during project operation."]
[]
[null,null,"Manure management: Emissions from the process of managing livestock manure in solid or liquid systems during project operation, "]
[null,null,"including direct and indirect emissions from managed manure and pasture and manure land application."]
[]
[null,null,"Limitations"]
[]
[null,"This calculator does not support quantification of emissions for all project categories and may not estimate all sources of GHG emissions that are applicable to your project. Key limitations of the calculator include:"]
[null,null,"Exclusions: Due to the lack of data availability as well as the high variability of project types and complexity in developing widely applicable default assumptions, the calculator does not quantify emissions that result from project decommissioning. The calculator also does not quantify emissions from the following sources: operational material inputs and transportation of material inputs; SF6 emissions from transmission and distribution equipment; employee commuting during project operation; maintenance activities; changes in off-road vehicle, aircraft, or watercraft usage; and consumption of products generated. Finally, emission offsets (e.g., avoided emissions from energy recovery or recycling) are not quantified."]
[null,null,"Emission Factors: Emission factors, such as those used for material inputs, waste treatment, and select industrial processes, were only available on a carbon dioxide equivalent (CO2e) basis. Therefore, these emission factors may not have been derived using the IPCC Fifth Assessment Report global warming potential (GWP) values used in the calculator. "]
[null,null,"Highway Projects: This calculator is not intended to estimate emissions for projects that fall under subpart 22 (Highway projects). Emissions from highway projects should be estimated using the Minnesota Infrastructure Carbon Estimator (MICE) Tool. "]
[null,null,"Feedlot Projects: This calculator generally aligns with the method employed by the Animal Feedlot GHG Calculator by calculating both methane and nitrous oxide emissions from manure management and the land application of manure. However, unlike the Animal Feedlot GHG Calculator, this calculator quantifies indirect N2O emissions from manure management and direct and indirect N2O emissions from manure deposited by grazing animals onto pasture, while it does not quantify emissions avoided from alfalfa. It also allows users to specify the portion of manure applied to land as a fertilizer. Furthermore, this calculator quantifies lifetime emissions, rather than emissions for a single year, and does not adjust animal populations for aging, lifetimes shorter than one year, or loss of stock. Users should input population averages for the project lifetime that account for these factors. "]
[null,null,"Double Counting: The calculator aims to account for the full GHG impact of a project. As a result, the emission factors in the calculator consider upstream and downstream impacts. In some cases, the inclusion of upstream and downstream impacts could lead to double counting of emissions, depending on the project and the emission sources modeled. Users should assess the GHG emissions calculations by reviewing the emission methodologies to determine if their specific project and the included emission sources have any overlap."]
[null,null,"Quantified Reductions: The calculator quantifies emission reductions from select mitigation measures using inputs entered into the Project Background and User Inputs tabs. Reductions from other potential mitigation measures are not currently quantified within the calculator. "]
[]
[]
[null,"This calculator was prepared by ICF for the Environmental Quality Board, based on certain limited information, methodologies, assumptions and under the circumstances applicable at the time the calculator was prepared. Different or additional information, methodologies, assumptions, or circumstances would lead to different results; therefore, actual future results may differ materially from those presented in this calculator. ICF does not make any representation with respect to the likelihood of any future outcome or the accuracy of any information herein or any conclusions based thereon. ICF is not responsible for typographical, pictorial, or other editorial errors.\n\nAny use of this calculator other than as a whole and in conjunction with this notice is prohibited. This calculator may not be altered, copied, or disseminated in whole or in part. This calculator is provided AS IS. NO WARRANTY, WHETHER EXPRESS OR IMPLIED, INCLUDING THE IMPLIED WARRANTIES OF MERCHANTABILITY AND FITNESS FOR A PARTICULAR PURPOSE, IS GIVEN OR MADE BY ICF IN CONNECTION WITH THIS CALCULATOR. You use this calculator at your own risk. ICF is not liable for any damages of any kind attributable to your use of this calculator.\n\nICF is a non-partisan, non-political company that delivers a broad and diverse range of independent, unbiased, objective analyses and related consulting services to help its clients meet their missions. This calculator may not be construed as ICF’s endorsement of any policy or any regulatory, lobbying, legal, or other advocacy position, organization, or political party. Any conclusions presented herein do not necessarily represent the policy or political views of ICF. ICF’s services do not constitute legal or tax advice."]

{"sheet":"User Guide","index":1,"n_rows":55,"n_cols":5,"rows_kept":55,"cut":false,"hidden":false,"merged":[[53,1,53,3],[54,1,54,3],[53,4,53,13],[54,4,54,13],[43,1,43,3],[46,1,46,3],[47,1,47,3],[44,4,44,13],[48,4,48,13],[45,1,45,3],[44,1,44,3],[43,4,43,13],[46,4,46,13],[47,4,47,13],[48,1,48,3],[45,4,45,13],[50,1,50,3],[52,1,52,3],[49,1,49,3],[50,4,50,13],[49,4,49,13],[52,4,52,13],[51,1,51,3],[51,4,51,13]]}
[null,"Minnesota Climate Calculator User Guide"]
[]
[null,"Instructions"]
[]
[null,"Welcome to the Minnesota Climate Calculator! This guide will help you navigate and use the calculator effectively to estimate GHG "]
[null,"emissions from major development projects in Minnesota. Ensure macros are enabled before beginning and follow the steps below."]
[]
[null,"Step 1 - ","Fill out project background information and select applicable emission sources."]
[null,"Step 2 - ","Enter data or select defaults for emission sources applicable to your project."]
[null,"Step 3 - ","Document assumptions and notes that are specific to your project and user inputs."]
[null,"Step 4 - ","Review the calculations and results in the Construction, Operation, and Results tabs."]
[null,"Step 5 - ","Identify and quantify potential mitigation measures to reduce GHG emissions from the proposed project."]
[null,"Step 6 - ","Select the climate risks and project characteristics that are applicable to your project to identify potential adaptation strategies."]
[]
[null,"Macro Settings"]
[null,"To adjust your Macro settings and enable Macros:"]
[null,"1. Exit out of the calculator and re-launch Microsoft Excel before opening the calculator.  "]
[null,"2. Click on File in the top left of the screen. "]
[null,"3. Scroll to the bottom of the menu and select “Options”. "]
[null,"4. When the Options box appears, select “Trust Center” in the left hand menu of the box.  "]
[null,"5. Click the gray “Trust Center Settings” button.  "]
[null,"6. When the Trust Center options box appears, click “Macro Settings” in the left-hand menu."]
[null,"7. Select “Disable all macros with notification.” "]
[null,"8. Once the security level has been adjusted, right click the calculator file in file explorer, select properties, and mark 'Unblock'. "]
[null,"9. Open the calculator and enable macros in the pop-up box. "]
[]
[null,"Legend"]
[]
[null,null,"Yellow cells are data input fields."]
[null,null,"Blue cells are headings and are not editable."]
[null,null,"White cells are lists or constants and are not editable. "]
[null,null,"Green cells are calculated fields and are not editable. "]
[null,null,"Light green cells are calculated fields for interim calculations and are not editable."]
[null,null,"Gray cells are assumptions and are not editable."]
[null,null,"Black cells are for emissions sources that are not applicable and are not calculated."]
[]
[null,"«","Input for mitigation measure quantification."]
[null,0,"Emission source was selected as applicable, inputs are complete."]
[null,1,"Emission source was selected as applicable, inputs are not complete."]
[null,0.1,"Emission source was selected as not applicable, no inputs are needed."]
[]
[null,"Table of Contents"]
[]
[null,"Project Background",null,null,"Users enter project background information and select applicable emissions sources."]
[null,"User Inputs",null,null,"Users enter data for emission sources that are applicable to their project."]
[null,"Notes",null,null,"Users enter assumptions and notes that are specific to their project."]
[null,"Construction",null,null,"Calculates emissions that occur during the construction phase of the project by emissions source."]
[null,"Operation",null,null,"Calculates emissions that occur during the operational phase of the project by emissions source."]
[null,"Results",null,null,"Summarizes cumulative and annualized GHG emissions by emissions source."]
[null,"Charts",null,null,"Graphically summarizes cumulative and annualized GHG emissions by emissions source."]
[null,"Mitigation",null,null,"Identifies potential mitigation measures to reduce GHG emissions from the proposed project."]
[null,"Quantified Reductions",null,null,"Quantifies GHG emission reductions from select mitigation measures."]
[null,"Adaptation",null,null,"Identifies potential adaptation strategies by climate trend and project characteristic."]
[null,"Assumptions",null,null,"Assumptions used to calculated construction and operation GHG emissions for each source."]
[null,"Constants",null,null,"Constants and conversion factors used in calculations."]

{"sheet":"Project Background","index":2,"n_rows":55,"n_cols":14,"rows_kept":55,"cut":false,"hidden":false,"merged":[[16,1,16,2],[17,1,17,2],[23,1,23,2],[19,1,19,2],[20,1,20,2],[4,1,4,10],[10,3,10,7],[10,1,10,2],[14,1,14,2],[12,1,12,2],[13,1,13,2],[7,1,7,2],[8,1,8,2],[7,3,7,7],[8,3,8,7],[12,5,12,6],[9,1,9,2],[9,3,9,7],[53,6,54,6],[18,1,18,2],[26,1,26,6],[24,1,25,6],[34,1,34,10],[23,3,23,7],[29,1,29,10],[21,1,21,2],[37,6,38,6],[53,7,54,7],[24,7,25,7],[37,7,38,7]]}
[null,"Project Background (Step 1)",null,null,null,null,null,null,null,null,null,null,null,"Completeness Checks"]
[]
[null,"Project Information"]
[]
[null,"Enter information into all yellow cells. Results may not calculate if fields are left blank, as highlighted by the red x marks. For building construction projects, select the Apply Defaults button to populate the Construction Duration with the default data from the grey cells. Note that default values are dependent on total project acreage. "]
[{"$f":"IF(N20>0.1,1,0)","v":1},"Complete all required fields before proceeding to the User Inputs tab"]
[]
[null,"Project Name"]
[null,"Project Category (primary)",null,null,null,null,null,null,{"$f":"IF(D9=0,1,0)","v":1},null,null,null,null,{"$f":"I9","v":1}]
[null,"Project Category (secondary)"]
[null,"Location (County)",null,null,null,null,null,null,{"$f":"IF(D11=0,1,0)","v":1},null,null,null,null,{"$f":"I11","v":1}]
[]
[null,"Construction Start Date",null,null,{"$f":"IF(D13=0,1,0)","v":1},"Building Construction Project?",null,null,null,null,null,null,null,{"$f":"E13","v":1}]
[null,"Operational Year ",null,null,{"$f":"IF(D14=0,1,0)","v":1},null,null,null,null,null,null,null,null,{"$f":"E14","v":1}]
[null,"Operational Lifetime (Years) ",null,null,1,"Construction Stage","Duration (Days)","Default*",{"$f":"IF(SUM(G16:G21)=0,1,0)","v":1},null,null,null,null,{"$f":"E15","v":1}]
[null,null,null,null,null,"Demolition",null,{"$f":"INDEX(Assumptions!$D$64:$D$77,MATCH(1,('Project Background'!$D$17>=Assumptions!$B$64:$B$77)*('Project Background'!$D$17<=Assumptions!$C$64:$C$77),0))*$D$17","v":0}]
[null,"Total Project Acreage",null,null,{"$f":"IF(D17=0,1,0)","v":1},"Site Preparation",null,{"$f":"INDEX(Assumptions!$E$64:$E$77,MATCH(1,('Project Background'!$D$17>=Assumptions!$B$64:$B$77)*('Project Background'!$D$17<=Assumptions!$C$64:$C$77),0))*$D$17","v":0},null,null,null,null,null,{"$f":"E17","v":1}]
[null,"Residential Building Area (sq ft)",null,null,{"$f":"IF(H13=\"No\",0.1,IF(SUM(D18:D22)=0,1,0))","v":1},"Grading",null,{"$f":"INDEX(Assumptions!$F$64:$F$77,MATCH(1,('Project Background'!$D$17>=Assumptions!$B$64:$B$77)*('Project Background'!$D$17<=Assumptions!$C$64:$C$77),0))*$D$17","v":0},null,null,null,null,null,{"$f":"E18","v":1}]
[null,"Commercial Building Area (sq ft)",null,null,{"$f":"$E$18","v":1},"Building Construction",null,{"$f":"IF(H13=\"No\",0,(INDEX(Assumptions!$G$64:$G$77,MATCH(1,('Project Background'!$D$17>=Assumptions!$B$64:$B$77)*('Project Background'!$D$17<=Assumptions!$C$64:$C$77),0))*$D$17))","v":0},null,null,null,null,null,{"$f":"I15","v":1}]
[null,"Industrial Building Area (sq ft)",null,null,{"$f":"$E$18","v":1},"Architectural Coatings",null,{"$f":"IF(H13=\"No\",0,(INDEX(Assumptions!$H$64:$H$77,MATCH(1,('Project Background'!$D$17>=Assumptions!$B$64:$B$77)*('Project Background'!$D$17<=Assumptions!$C$64:$C$77),0))*$D$17))","v":0},null,null,null,null,null,{"$f":"SUM(N9:N19)","v":8}]
[null,"Institutional Building Area (sq ft)",null,null,1,"Paving and Landscaping",null,{"$f":"INDEX(Assumptions!$I$64:$I$77,MATCH(1,('Project Background'!$D$17>=Assumptions!$B$64:$B$77)*('Project Background'!$D$17<=Assumptions!$C$64:$C$77),0))*$D$17","v":0}]
[null,"Other Building Area (sq ft)",null,null,1,"*Defaults are dependent on total project acreage and are only applicable to building construction projects."]
[]
[null,"Electricity Provider",null,"Grid Average"]
[null,"Portion of Building Electricity Consumption to be Generated On-Site via Renewables or Supplied through the Purchase of Renewable Energy Credits (RECs)",null,null,null,null,null,0,"«"]
[]
[null,"Portion of Building Natural Gas Consumption to be Supplied from Renewable Sources",null,null,null,null,null,0,"«"]
[null,"Calculation Preferences"]
[]
[null,"Please specify the preferred unit in which to present emissions in the Results tab."]
[]
[null,"Unit","tons"]
[null,"Applicable Emission Sources "]
[]
[null,"Information is provided below on emission sources potentially applicable to your project depending on the project category selected in the section above. Select the 'Apply Defaults' button to include all applicable sources, or manually select \"Yes\" or \"No\" to indicate which emission sources to estimate GHG emissions for in this calculator. The red x mark will appear until a selection is made for all emission sources."]
[null,"Complete the table to identify which emission sources to quantify before proceeding to the User Inputs tab"]
[null,"Project Phase","Emission Source",null,null,null,"Include Emission Source?","Applicable to Project Category?",{"$f":"IF(N41>0,1,0)","v":1}]
[null,"Construction","Material inputs",null,null,null,null,{"$f":"IFERROR(IF(INDEX(Assumptions!$C$6:$AQ$24,MATCH($C38,Assumptions!$C$6:$C$24,0),(MATCH($D$9,Assumptions!$C$6:$AQ$6,0)))=\"Yes\",INDEX(Assumptions!$C$6:$AQ$24,MATCH($C38,Assumptions!$C$6:$C$24,0),(MATCH($D$9,Assumptions!$C$6:$AQ$6,0))),IF(INDEX(Assumptions!$C$6:$AQ$24,MATCH($C38,Assumptions!$C$6:$C$24,0),MATCH($D$10,Assumptions!$C$6:$AQ$6,0))=\"Yes\",INDEX(Assumptions!$C$6:$AQ$24,MATCH($C38,Assumptions!$C$6:$C$24,0),MATCH($D$10,Assumptions!$C$6:$AQ$6,0)),\"No\")),IFERROR(INDEX(Assumptions!$C$6:$AQ$24,MATCH($C38,Assumptions!$C$6:$C$24,0),MATCH($D$10,Assumptions!$C$6:$AQ$6,0)),\"No\"))","v":"No"},null,null,null,null,null,{"$f":"COUNTIF(G40:G54,\"\")","v":15}]
[null,"Construction","Transportation of material inputs ",null,null,null,null,null,null,null,null,null,null,{"$f":"COUNTIF(G38,\"\")","v":1}]
[null,"Construction","Employee commuting",null,null,null,null,{"$f":"IFERROR(IF(INDEX(Assumptions!$C$6:$AQ$24,MATCH($C40,Assumptions!$C$6:$C$24,0),(MATCH($D$9,Assumptions!$C$6:$AQ$6,0)))=\"Yes\",INDEX(Assumptions!$C$6:$AQ$24,MATCH($C40,Assumptions!$C$6:$C$24,0),(MATCH($D$9,Assumptions!$C$6:$AQ$6,0))),IF(INDEX(Assumptions!$C$6:$AQ$24,MATCH($C40,Assumptions!$C$6:$C$24,0),MATCH($D$10,Assumptions!$C$6:$AQ$6,0))=\"Yes\",INDEX(Assumptions!$C$6:$AQ$24,MATCH($C40,Assumptions!$C$6:$C$24,0),MATCH($D$10,Assumptions!$C$6:$AQ$6,0)),\"No\")),IFERROR(INDEX(Assumptions!$C$6:$AQ$24,MATCH($C40,Assumptions!$C$6:$C$24,0),MATCH($D$10,Assumptions!$C$6:$AQ$6,0)),\"No\"))","v":"No"},null,null,null,null,null,{"$f":"COUNTIF(G54,\"\")","v":1}]
[null,"Construction","Construction equipment",null,null,null,null,{"$f":"IFERROR(IF(INDEX(Assumptions!$C$6:$AQ$24,MATCH($C41,Assumptions!$C$6:$C$24,0),(MATCH($D$9,Assumptions!$C$6:$AQ$6,0)))=\"Yes\",INDEX(Assumptions!$C$6:$AQ$24,MATCH($C41,Assumptions!$C$6:$C$24,0),(MATCH($D$9,Assumptions!$C$6:$AQ$6,0))),IF(INDEX(Assumptions!$C$6:$AQ$24,MATCH($C41,Assumptions!$C$6:$C$24,0),MATCH($D$10,Assumptions!$C$6:$AQ$6,0))=\"Yes\",INDEX(Assumptions!$C$6:$AQ$24,MATCH($C41,Assumptions!$C$6:$C$24,0),MATCH($D$10,Assumptions!$C$6:$AQ$6,0)),\"No\")),IFERROR(INDEX(Assumptions!$C$6:$AQ$24,MATCH($C41,Assumptions!$C$6:$C$24,0),MATCH($D$10,Assumptions!$C$6:$AQ$6,0)),\"No\"))","v":"No"},null,null,null,null,null,{"$f":"SUM(N38:N40)","v":17}]
[null,"Construction","Land use change (construction)",null,null,null,null,{"$f":"IFERROR(IF(INDEX(Assumptions!$C$6:$AQ$24,MATCH($C42,Assumptions!$C$6:$C$24,0),(MATCH($D$9,Assumptions!$C$6:$AQ$6,0)))=\"Yes\",INDEX(Assumptions!$C$6:$AQ$24,MATCH($C42,Assumptions!$C$6:$C$24,0),(MATCH($D$9,Assumptions!$C$6:$AQ$6,0))),IF(INDEX(Assumptions!$C$6:$AQ$24,MATCH($C42,Assumptions!$C$6:$C$24,0),MATCH($D$10,Assumptions!$C$6:$AQ$6,0))=\"Yes\",INDEX(Assumptions!$C$6:$AQ$24,MATCH($C42,Assumptions!$C$6:$C$24,0),MATCH($D$10,Assumptions!$C$6:$AQ$6,0)),\"No\")),IFERROR(INDEX(Assumptions!$C$6:$AQ$24,MATCH($C42,Assumptions!$C$6:$C$24,0),MATCH($D$10,Assumptions!$C$6:$AQ$6,0)),\"No\"))","v":"No"},null,null,null,null,null,{"$f":"IF(N41>0,\"Incomplete\",\"Complete\")","v":"Incomplete"}]
[null,"Construction","Construction waste",null,null,null,null,{"$f":"IFERROR(IF(INDEX(Assumptions!$C$6:$AQ$24,MATCH($C43,Assumptions!$C$6:$C$24,0),(MATCH($D$9,Assumptions!$C$6:$AQ$6,0)))=\"Yes\",INDEX(Assumptions!$C$6:$AQ$24,MATCH($C43,Assumptions!$C$6:$C$24,0),(MATCH($D$9,Assumptions!$C$6:$AQ$6,0))),IF(INDEX(Assumptions!$C$6:$AQ$24,MATCH($C43,Assumptions!$C$6:$C$24,0),MATCH($D$10,Assumptions!$C$6:$AQ$6,0))=\"Yes\",INDEX(Assumptions!$C$6:$AQ$24,MATCH($C43,Assumptions!$C$6:$C$24,0),MATCH($D$10,Assumptions!$C$6:$AQ$6,0)),\"No\")),IFERROR(INDEX(Assumptions!$C$6:$AQ$24,MATCH($C43,Assumptions!$C$6:$C$24,0),MATCH($D$10,Assumptions!$C$6:$AQ$6,0)),\"No\"))","v":"No"}]
[null,"Operation","Building energy consumption",null,null,null,null,{"$f":"IFERROR(IF(INDEX(Assumptions!$C$6:$AQ$24,MATCH($C44,Assumptions!$C$6:$C$24,0),(MATCH($D$9,Assumptions!$C$6:$AQ$6,0)))=\"Yes\",INDEX(Assumptions!$C$6:$AQ$24,MATCH($C44,Assumptions!$C$6:$C$24,0),(MATCH($D$9,Assumptions!$C$6:$AQ$6,0))),IF(INDEX(Assumptions!$C$6:$AQ$24,MATCH($C44,Assumptions!$C$6:$C$24,0),MATCH($D$10,Assumptions!$C$6:$AQ$6,0))=\"Yes\",INDEX(Assumptions!$C$6:$AQ$24,MATCH($C44,Assumptions!$C$6:$C$24,0),MATCH($D$10,Assumptions!$C$6:$AQ$6,0)),\"No\")),IFERROR(INDEX(Assumptions!$C$6:$AQ$24,MATCH($C44,Assumptions!$C$6:$C$24,0),MATCH($D$10,Assumptions!$C$6:$AQ$6,0)),\"No\"))","v":"No"}]
[null,"Operation","Coal production",null,null,null,null,{"$f":"IFERROR(IF(INDEX(Assumptions!$C$6:$AQ$24,MATCH($C45,Assumptions!$C$6:$C$24,0),(MATCH($D$9,Assumptions!$C$6:$AQ$6,0)))=\"Yes\",INDEX(Assumptions!$C$6:$AQ$24,MATCH($C45,Assumptions!$C$6:$C$24,0),(MATCH($D$9,Assumptions!$C$6:$AQ$6,0))),IF(INDEX(Assumptions!$C$6:$AQ$24,MATCH($C45,Assumptions!$C$6:$C$24,0),MATCH($D$10,Assumptions!$C$6:$AQ$6,0))=\"Yes\",INDEX(Assumptions!$C$6:$AQ$24,MATCH($C45,Assumptions!$C$6:$C$24,0),MATCH($D$10,Assumptions!$C$6:$AQ$6,0)),\"No\")),IFERROR(INDEX(Assumptions!$C$6:$AQ$24,MATCH($C45,Assumptions!$C$6:$C$24,0),MATCH($D$10,Assumptions!$C$6:$AQ$6,0)),\"No\"))","v":"No"}]
[null,"Operation","Natural gas and oil products",null,null,null,null,{"$f":"IFERROR(IF(INDEX(Assumptions!$C$6:$AQ$24,MATCH($C46,Assumptions!$C$6:$C$24,0),(MATCH($D$9,Assumptions!$C$6:$AQ$6,0)))=\"Yes\",INDEX(Assumptions!$C$6:$AQ$24,MATCH($C46,Assumptions!$C$6:$C$24,0),(MATCH($D$9,Assumptions!$C$6:$AQ$6,0))),IF(INDEX(Assumptions!$C$6:$AQ$24,MATCH($C46,Assumptions!$C$6:$C$24,0),MATCH($D$10,Assumptions!$C$6:$AQ$6,0))=\"Yes\",INDEX(Assumptions!$C$6:$AQ$24,MATCH($C46,Assumptions!$C$6:$C$24,0),MATCH($D$10,Assumptions!$C$6:$AQ$6,0)),\"No\")),IFERROR(INDEX(Assumptions!$C$6:$AQ$24,MATCH($C46,Assumptions!$C$6:$C$24,0),MATCH($D$10,Assumptions!$C$6:$AQ$6,0)),\"No\"))","v":"No"}]
[null,"Operation","Industrial processes",null,null,null,null,{"$f":"IFERROR(IF(INDEX(Assumptions!$C$6:$AQ$24,MATCH($C47,Assumptions!$C$6:$C$24,0),(MATCH($D$9,Assumptions!$C$6:$AQ$6,0)))=\"Yes\",INDEX(Assumptions!$C$6:$AQ$24,MATCH($C47,Assumptions!$C$6:$C$24,0),(MATCH($D$9,Assumptions!$C$6:$AQ$6,0))),IF(INDEX(Assumptions!$C$6:$AQ$24,MATCH($C47,Assumptions!$C$6:$C$24,0),MATCH($D$10,Assumptions!$C$6:$AQ$6,0))=\"Yes\",INDEX(Assumptions!$C$6:$AQ$24,MATCH($C47,Assumptions!$C$6:$C$24,0),MATCH($D$10,Assumptions!$C$6:$AQ$6,0)),\"No\")),IFERROR(INDEX(Assumptions!$C$6:$AQ$24,MATCH($C47,Assumptions!$C$6:$C$24,0),MATCH($D$10,Assumptions!$C$6:$AQ$6,0)),\"No\"))","v":"No"}]
[null,"Operation","HFC leakage",null,null,null,null,{"$f":"IFERROR(IF(INDEX(Assumptions!$C$6:$AQ$24,MATCH($C48,Assumptions!$C$6:$C$24,0),(MATCH($D$9,Assumptions!$C$6:$AQ$6,0)))=\"Yes\",INDEX(Assumptions!$C$6:$AQ$24,MATCH($C48,Assumptions!$C$6:$C$24,0),(MATCH($D$9,Assumptions!$C$6:$AQ$6,0))),IF(INDEX(Assumptions!$C$6:$AQ$24,MATCH($C48,Assumptions!$C$6:$C$24,0),MATCH($D$10,Assumptions!$C$6:$AQ$6,0))=\"Yes\",INDEX(Assumptions!$C$6:$AQ$24,MATCH($C48,Assumptions!$C$6:$C$24,0),MATCH($D$10,Assumptions!$C$6:$AQ$6,0)),\"No\")),IFERROR(INDEX(Assumptions!$C$6:$AQ$24,MATCH($C48,Assumptions!$C$6:$C$24,0),MATCH($D$10,Assumptions!$C$6:$AQ$6,0)),\"No\"))","v":"No"}]
[null,"Operation","Land use change (operations)",null,null,null,null,{"$f":"IFERROR(IF(INDEX(Assumptions!$C$6:$AQ$24,MATCH($C49,Assumptions!$C$6:$C$24,0),(MATCH($D$9,Assumptions!$C$6:$AQ$6,0)))=\"Yes\",INDEX(Assumptions!$C$6:$AQ$24,MATCH($C49,Assumptions!$C$6:$C$24,0),(MATCH($D$9,Assumptions!$C$6:$AQ$6,0))),IF(INDEX(Assumptions!$C$6:$AQ$24,MATCH($C49,Assumptions!$C$6:$C$24,0),MATCH($D$10,Assumptions!$C$6:$AQ$6,0))=\"Yes\",INDEX(Assumptions!$C$6:$AQ$24,MATCH($C49,Assumptions!$C$6:$C$24,0),MATCH($D$10,Assumptions!$C$6:$AQ$6,0)),\"No\")),IFERROR(INDEX(Assumptions!$C$6:$AQ$24,MATCH($C49,Assumptions!$C$6:$C$24,0),MATCH($D$10,Assumptions!$C$6:$AQ$6,0)),\"No\"))","v":"No"}]
[null,"Operation","On-road vehicles",null,null,null,null,{"$f":"IFERROR(IF(INDEX(Assumptions!$C$6:$AQ$24,MATCH($C50,Assumptions!$C$6:$C$24,0),(MATCH($D$9,Assumptions!$C$6:$AQ$6,0)))=\"Yes\",INDEX(Assumptions!$C$6:$AQ$24,MATCH($C50,Assumptions!$C$6:$C$24,0),(MATCH($D$9,Assumptions!$C$6:$AQ$6,0))),IF(INDEX(Assumptions!$C$6:$AQ$24,MATCH($C50,Assumptions!$C$6:$C$24,0),MATCH($D$10,Assumptions!$C$6:$AQ$6,0))=\"Yes\",INDEX(Assumptions!$C$6:$AQ$24,MATCH($C50,Assumptions!$C$6:$C$24,0),MATCH($D$10,Assumptions!$C$6:$AQ$6,0)),\"No\")),IFERROR(INDEX(Assumptions!$C$6:$AQ$24,MATCH($C50,Assumptions!$C$6:$C$24,0),MATCH($D$10,Assumptions!$C$6:$AQ$6,0)),\"No\"))","v":"No"}]
[null,"Operation","Treatment of waste on-site",null,null,null,null,{"$f":"IFERROR(IF(INDEX(Assumptions!$C$6:$AQ$24,MATCH($C51,Assumptions!$C$6:$C$24,0),(MATCH($D$9,Assumptions!$C$6:$AQ$6,0)))=\"Yes\",INDEX(Assumptions!$C$6:$AQ$24,MATCH($C51,Assumptions!$C$6:$C$24,0),(MATCH($D$9,Assumptions!$C$6:$AQ$6,0))),IF(INDEX(Assumptions!$C$6:$AQ$24,MATCH($C51,Assumptions!$C$6:$C$24,0),MATCH($D$10,Assumptions!$C$6:$AQ$6,0))=\"Yes\",INDEX(Assumptions!$C$6:$AQ$24,MATCH($C51,Assumptions!$C$6:$C$24,0),MATCH($D$10,Assumptions!$C$6:$AQ$6,0)),\"No\")),IFERROR(INDEX(Assumptions!$C$6:$AQ$24,MATCH($C51,Assumptions!$C$6:$C$24,0),MATCH($D$10,Assumptions!$C$6:$AQ$6,0)),\"No\"))","v":"No"}]
[null,"Operation","Treatment of wastewater on-site",null,null,null,null,{"$f":"IFERROR(IF(INDEX(Assumptions!$C$6:$AQ$24,MATCH($C52,Assumptions!$C$6:$C$24,0),(MATCH($D$9,Assumptions!$C$6:$AQ$6,0)))=\"Yes\",INDEX(Assumptions!$C$6:$AQ$24,MATCH($C52,Assumptions!$C$6:$C$24,0),(MATCH($D$9,Assumptions!$C$6:$AQ$6,0))),IF(INDEX(Assumptions!$C$6:$AQ$24,MATCH($C52,Assumptions!$C$6:$C$24,0),MATCH($D$10,Assumptions!$C$6:$AQ$6,0))=\"Yes\",INDEX(Assumptions!$C$6:$AQ$24,MATCH($C52,Assumptions!$C$6:$C$24,0),MATCH($D$10,Assumptions!$C$6:$AQ$6,0)),\"No\")),IFERROR(INDEX(Assumptions!$C$6:$AQ$24,MATCH($C52,Assumptions!$C$6:$C$24,0),MATCH($D$10,Assumptions!$C$6:$AQ$6,0)),\"No\"))","v":"No"}]
[null,"Operation","Treatment of waste off-site",null,null,null,null,{"$f":"IFERROR(IF(INDEX(Assumptions!$C$6:$AQ$24,MATCH($C53,Assumptions!$C$6:$C$24,0),(MATCH($D$9,Assumptions!$C$6:$AQ$6,0)))=\"Yes\",INDEX(Assumptions!$C$6:$AQ$24,MATCH($C53,Assumptions!$C$6:$C$24,0),(MATCH($D$9,Assumptions!$C$6:$AQ$6,0))),IF(INDEX(Assumptions!$C$6:$AQ$24,MATCH($C53,Assumptions!$C$6:$C$24,0),MATCH($D$10,Assumptions!$C$6:$AQ$6,0))=\"Yes\",INDEX(Assumptions!$C$6:$AQ$24,MATCH($C53,Assumptions!$C$6:$C$24,0),MATCH($D$10,Assumptions!$C$6:$AQ$6,0)),\"No\")),IFERROR(INDEX(Assumptions!$C$6:$AQ$24,MATCH($C53,Assumptions!$C$6:$C$24,0),MATCH($D$10,Assumptions!$C$6:$AQ$6,0)),\"No\"))","v":"No"}]
[null,"Operation","Enteric fermentation",null,null,null,null,{"$f":"IFERROR(IF(INDEX(Assumptions!$C$6:$AQ$24,MATCH($C54,Assumptions!$C$6:$C$24,0),(MATCH($D$9,Assumptions!$C$6:$AQ$6,0)))=\"Yes\",INDEX(Assumptions!$C$6:$AQ$24,MATCH($C54,Assumptions!$C$6:$C$24,0),(MATCH($D$9,Assumptions!$C$6:$AQ$6,0))),IF(INDEX(Assumptions!$C$6:$AQ$24,MATCH($C54,Assumptions!$C$6:$C$24,0),MATCH($D$10,Assumptions!$C$6:$AQ$6,0))=\"Yes\",INDEX(Assumptions!$C$6:$AQ$24,MATCH($C54,Assumptions!$C$6:$C$24,0),MATCH($D$10,Assumptions!$C$6:$AQ$6,0)),\"No\")),IFERROR(INDEX(Assumptions!$C$6:$AQ$24,MATCH($C54,Assumptions!$C$6:$C$24,0),MATCH($D$10,Assumptions!$C$6:$AQ$6,0)),\"No\"))","v":"No"}]
[null,"Operation","Manure management"]

{"sheet":"User Inputs","index":3,"n_rows":344,"n_cols":18,"rows_kept":344,"cut":false,"hidden":false,"merged":[[306,2,306,6],[193,2,194,2],[193,3,194,3],[91,2,92,3],[233,2,234,3],[233,4,233,5],[222,3,222,5],[223,3,223,5],[224,3,224,5],[225,3,225,5],[226,3,226,5],[227,3,227,5],[330,4,330,11],[324,2,325,2],[324,3,325,3],[330,2,331,2],[330,3,331,3],[11,2,11,8],[26,2,26,8],[308,4,308,12],[318,4,318,11],[324,4,324,9],[308,2,309,2],[308,3,309,3],[318,2,319,2],[318,3,319,3],[271,2,271,13],[276,2,276,13],[254,2,254,13],[91,4,91,5],[142,7,142,10],[263,2,263,13],[193,4,193,5],[58,10,58,15],[142,3,142,6],[79,2,80,2],[79,3,80,3],[79,4,80,4],[58,2,59,2],[58,4,58,9],[142,2,143,2],[58,3,59,3]]}
[null,null,"User Inputs (Step 2)",null,null,null,null,null,null,null,null,null,null,null,null,null,null,"Completeness Checks"]
[]
[null,null,"Enter data in the yellow cells for emission sources that are applicable to your project (as identified in the Project Background tab). Inputs for emission sources identified as not applicable are blacked out. "]
[null,null,"Incomplete data are highlighted by the red x marks to the left of each table. Default values are available for select inputs. Click the 'Apply Defaults' button to populate the calculator with default values. "]
[null,null,"Select 'Hide Sources Not Applicable' or 'Show All Sources' to hide or view sources selected as not applicable on the Project Background tab."]
[]
[null,2,"Construction Phase "]
[null,null,"Material inputs"]
[null,null,"Material Inputs and Transportation of Material Inputs"]
[null,null,"Enter the total amount of material (in short tons) that will be used during the construction phase of your project. Concrete and wood products may instead"]
[null,null,"be entered in cubic yards while insulation may be entered in square feet. Use the dropdown to select an alternate unit if data are not provided in short"]
[null,null,"tons. Additionally, select the source of each material (i.e., domestic or imported). Select \"Unknown\" if you do not know the source of the material.  "]
[]
[null,{"$f":"IF('Project Background'!G38=\"No\",0.1,IF(SUM(D15:D23)>0,0,1))","v":1},"Material Type","Quantity","Unit","Geographical Sourcing",null,null,null,null,null,null,null,null,null,null,null,{"$f":"B14","v":1}]
[null,null,"Aluminum",null,"Tons","Unknown"]
[null,null,"Asphalt",null,"Tons","Domestic"]
[null,null,"Brick",null,"Tons","Unknown"]
[null,null,"Concrete",null,"Tons","Domestic"]
[null,null,"Glass",null,"Tons","Unknown"]
[null,null,"Insulation (residential)",null,"Tons","Unknown"]
[null,null,"Insulation (commercial)",null,"Tons","Unknown"]
[null,null,"Steel",null,"Tons","Unknown"]
[null,null,"Wood Products",null,"Tons","Unknown"]
[null,2]
[null,null,"Employee commuting"]
[null,null,"Enter the daily average number of employees that will commute to the construction site during each phase of construction. Enter the average one-way"]
[null,null,"commuter distance and mode breakout or select the \"Apply Defaults\" button to the right of the table to populate these fields with default values. "]
[]
[null,{"$f":"IF('Project Background'!$G$40=\"No\",0.1,IF(SUM(D30:D35)>0,0,1))","v":1},"Construction Stage","Daily Average Number of Employees Commuting",null,null,null,null,null,null,null,null,null,null,null,null,null,{"$f":"B29","v":1}]
[null,null,"Demolition"]
[null,null,"Site Preparation"]
[null,null,"Grading"]
[null,null,"Building Construction"]
[null,null,"Architectural Coatings"]
[null,null,"Paving and Landscaping"]
[]
[null,{"$f":"IF('Project Background'!$G$40=\"No\",0.1,IF(D38>0,0,1))","v":1},null,"One-Way Distance (miles)","Default",null,null,null,null,null,null,null,null,null,null,null,null,{"$f":"B37","v":1}]
[null,null,"Average One-Way Commute Length",null,{"$f":"Assumptions!D99","v":13.2}]
[]
[null,{"$f":"IF('Project Background'!$G$40=\"No\",0.1,IF(AND(SUM(D41:D46)>0,D47=100%),0,1))","v":1},"Transportation Mode","Percent of Employees","Default",null,null,null,null,null,null,null,null,null,null,null,null,{"$f":"B40","v":1}]
[null,null,"Single Occupancy Vehicle",null,{"$f":"Assumptions!C80","v":0.81699999999999995}]
[null,null,"Carpool",null,{"$f":"Assumptions!C81","v":0.106},"«"]
[null,null,"Motorcycle",null,{"$f":"Assumptions!C82","v":2E-3}]
[null,null,"Bus",null,{"$f":"Assumptions!C83","v":1.9E-2},"«"]
[null,null,"Transit Rail",null,{"$f":"Assumptions!C84","v":2.1999999999999999E-2},"«"]
[null,null,"Bike/Walk",null,{"$f":"Assumptions!C85","v":3.4000000000000002E-2},"«"]
[null,2,"Total: ",{"$f":"SUM(D41:D46)","v":0},{"$f":"IF(AND(D47<>100%,'Project Background'!$G$40=\"Yes\"),\"Values do not sum to 100%. Update to ensure values sum to 100%.\",\"\")","v":""}]
[]
[null,null,"Construction equipment"]
[null,null,"Emissions from construction equipment may be quantified based on equipment use or fuel consumption. Specify the preferred approach for calculating emissions from construction equipment and then complete the table below for the selected approach."]
[]
[null,null,"Approach:","Fuel Consumption",{"$f":"IF(D52=\"Equipment Use\", \"E\", IF(D52=\"Fuel Consumption\",\"F\",\"\"))","v":"F"}]
[]
[null,null,"Approach 1: Construction equipment use"]
[null,null,"Select the fuel type used by each type of equipment and enter the total number of hours each equipment type is used per day by construction phase. The total hours should  "]
[null,null,"account for multiple pieces of equipment being used each day. For example, if the project uses 3 forklifts for 6 hours/day during the building construction phase, then the"]
[null,null,"total number of hours/day for forklifts during the building construction phase would equal 18 (i.e., 3 forklifts * 6 hours/day)."]
[null,null,null,"«"]
[null,null,"Equipment Type","Fuel Type","Number of Hours per Day by Construction Stage",null,null,null,null,null,"Default*",null,null,null,null,null,null,{"$f":"IF(R60+R81>0.2,1,0)","v":1}]
[null,{"$f":"IF(OR(('Project Background'!$G$41=\"No\"),(D52=\"Fuel Consumption\")),0.1,IF(D52=\"\",1,IF(AND(SUM(E61:J75)>0,SUM(B61:B75)=0),0,1)))","v":0.1},null,null,"Demolition","Site Preparation","Grading","Building Construction","Architectural Coatings","Paving and Landscaping","Demolition","Site Preparation","Grading","Building Construction","Architectural Coatings","Paving and Landscaping",null,{"$f":"B60","v":0.1}]
[null,{"$f":"IF(AND(SUM(E61:J61)>1,ISBLANK(D61)),1,0)","v":0},"Air Compressors","Diesel",null,null,null,null,null,null,{"$f":"Assumptions!C122","v":0},{"$f":"Assumptions!D122","v":0},{"$f":"Assumptions!E122","v":0},{"$f":"IF('Project Background'!$H$13=\"No\",0,Assumptions!F122)","v":0},{"$f":"IF('Project Background'!$H$13=\"No\",0,Assumptions!G122)","v":6},{"$f":"Assumptions!H122","v":0}]
[null,{"$f":"IF(AND(SUM(E62:J62)>1,ISBLANK(D62)),1,0)","v":0},"Cement and Mortar Mixers","Diesel",null,null,null,null,null,null,{"$f":"Assumptions!C123","v":0},{"$f":"Assumptions!D123","v":0},{"$f":"Assumptions!E123","v":0},{"$f":"IF('Project Background'!$H$13=\"No\",0,Assumptions!F123)","v":0},{"$f":"IF('Project Background'!$H$13=\"No\",0,Assumptions!G123)","v":0},{"$f":"Assumptions!H123","v":24}]
[null,0,"Concrete/Industrial Saws","Diesel",null,null,null,null,null,null,{"$f":"Assumptions!C124","v":8},{"$f":"Assumptions!D124","v":0},{"$f":"Assumptions!E124","v":0},{"$f":"IF('Project Background'!$H$13=\"No\",0,Assumptions!F124)","v":0},{"$f":"IF('Project Background'!$H$13=\"No\",0,Assumptions!G124)","v":0},{"$f":"Assumptions!H124","v":0}]
[null,0,"Cranes","Diesel",null,null,null,null,null,null,{"$f":"Assumptions!C125","v":0},{"$f":"Assumptions!D125","v":0},{"$f":"Assumptions!E125","v":0},{"$f":"IF('Project Background'!$H$13=\"No\",0,Assumptions!F125)","v":4},{"$f":"IF('Project Background'!$H$13=\"No\",0,Assumptions!G125)","v":0},{"$f":"Assumptions!H125","v":0}]
[null,0,"Excavators","Diesel",null,null,null,null,null,null,{"$f":"Assumptions!C126","v":0},{"$f":"Assumptions!D126","v":0},{"$f":"Assumptions!E126","v":0},{"$f":"IF('Project Background'!$H$13=\"No\",0,Assumptions!F126)","v":0},{"$f":"IF('Project Background'!$H$13=\"No\",0,Assumptions!G126)","v":0},{"$f":"Assumptions!H126","v":0}]
[null,0,"Forklifts","Diesel",null,null,null,null,null,null,{"$f":"Assumptions!C127","v":0},{"$f":"Assumptions!D127","v":0},{"$f":"Assumptions!E127","v":0},{"$f":"IF('Project Background'!$H$13=\"No\",0,Assumptions!F127)","v":12},{"$f":"IF('Project Background'!$H$13=\"No\",0,Assumptions!G127)","v":0},{"$f":"Assumptions!H127","v":0}]
[null,0,"Generator Sets","Diesel",null,null,null,null,null,null,{"$f":"Assumptions!C128","v":0},{"$f":"Assumptions!D128","v":0},{"$f":"Assumptions!E128","v":0},{"$f":"IF('Project Background'!$H$13=\"No\",0,Assumptions!F128)","v":0},{"$f":"IF('Project Background'!$H$13=\"No\",0,Assumptions!G128)","v":0},{"$f":"Assumptions!H128","v":0}]
[null,0,"Graders","Diesel",null,null,null,null,null,null,{"$f":"Assumptions!C129","v":0},{"$f":"Assumptions!D129","v":8},{"$f":"Assumptions!E129","v":6},{"$f":"IF('Project Background'!$H$13=\"No\",0,Assumptions!F129)","v":0},{"$f":"IF('Project Background'!$H$13=\"No\",0,Assumptions!G129)","v":0},{"$f":"Assumptions!H129","v":0}]
[null,0,"Pavers","Diesel",null,null,null,null,null,null,{"$f":"Assumptions!C130","v":0},{"$f":"Assumptions!D130","v":0},{"$f":"Assumptions!E130","v":0},{"$f":"IF('Project Background'!$H$13=\"No\",0,Assumptions!F130)","v":0},{"$f":"IF('Project Background'!$H$13=\"No\",0,Assumptions!G130)","v":0},{"$f":"Assumptions!H130","v":7}]
[null,0,"Paving Equipment","Diesel",null,null,null,null,null,null,{"$f":"Assumptions!C131","v":0},{"$f":"Assumptions!D131","v":0},{"$f":"Assumptions!E131","v":0},{"$f":"IF('Project Background'!$H$13=\"No\",0,Assumptions!F131)","v":0},{"$f":"IF('Project Background'!$H$13=\"No\",0,Assumptions!G131)","v":0},{"$f":"Assumptions!H131","v":0}]
[null,0,"Rollers","Diesel",null,null,null,null,null,null,{"$f":"Assumptions!C132","v":0},{"$f":"Assumptions!D132","v":0},{"$f":"Assumptions!E132","v":0},{"$f":"IF('Project Background'!$H$13=\"No\",0,Assumptions!F132)","v":0},{"$f":"IF('Project Background'!$H$13=\"No\",0,Assumptions!G132)","v":0},{"$f":"Assumptions!H132","v":7}]
[null,0,"Rubber Tired Dozers","Diesel",null,null,null,null,null,null,{"$f":"Assumptions!C133","v":1},{"$f":"Assumptions!D133","v":0},{"$f":"Assumptions!E133","v":6},{"$f":"IF('Project Background'!$H$13=\"No\",0,Assumptions!F133)","v":0},{"$f":"IF('Project Background'!$H$13=\"No\",0,Assumptions!G133)","v":0},{"$f":"Assumptions!H133","v":0}]
[null,0,"Scrapers","Diesel",null,null,null,null,null,null,{"$f":"Assumptions!C134","v":0},{"$f":"Assumptions!D134","v":0},{"$f":"Assumptions!E134","v":0},{"$f":"IF('Project Background'!$H$13=\"No\",0,Assumptions!F134)","v":0},{"$f":"IF('Project Background'!$H$13=\"No\",0,Assumptions!G134)","v":0},{"$f":"Assumptions!H134","v":0}]
[null,0,"Tractors/Loaders/Backhoes","Diesel",null,null,null,null,null,null,{"$f":"Assumptions!C135","v":12},{"$f":"Assumptions!D135","v":8},{"$f":"Assumptions!E135","v":7},{"$f":"IF('Project Background'!$H$13=\"No\",0,Assumptions!F135)","v":16},{"$f":"IF('Project Background'!$H$13=\"No\",0,Assumptions!G135)","v":0},{"$f":"Assumptions!H135","v":7}]
[null,0,"Welders","Diesel",null,null,null,null,null,null,{"$f":"Assumptions!C136","v":0},{"$f":"Assumptions!D136","v":0},{"$f":"Assumptions!E136","v":0},{"$f":"IF('Project Background'!$H$13=\"No\",0,Assumptions!F136)","v":0},{"$f":"IF('Project Background'!$H$13=\"No\",0,Assumptions!G136)","v":0},{"$f":"Assumptions!H136","v":0}]
[null,null,null,null,null,null,null,null,null,null,"*Defaults are only applicable to building construction projects. Values are dependent on the number of project acres."]
[null,null,"Approach 2: Construction equipment fuel consumption"]
[null,null,"Enter the total amount of each fuel type consumed (in the designated units) by all construction equipment during the construction phase of the project."]
[]
[null,null,"Fuel Type","Total Consumption","Units"]
[null,{"$f":"IF(OR(('Project Background'!$G$41=\"No\"),(D52=\"Equipment Use\")),0.1,IF(D52=\"\",1,IF(SUM(D82:D86)>0,0,1)))","v":1},null,null,null,null,null,null,null,null,null,null,null,null,null,null,null,{"$f":"B81","v":1}]
[null,null,"Diesel",null,"Gallons"]
[null,null,"Electricity",null,"kWh","«"]
[null,null,"Biodiesel 100",null,"Gallons","«"]
[null,null,"Biodiesel 20",null,"Gallons","«"]
[null,null,"Renewable Diesel",null,"Gallons","«"]
[null,2]
[null,null,"Land use change (construction)"]
[null,null,"Enter the number of acres by land cover type before and after development. Additionally, identify the number of trees removed during development and the number of new "]
[null,null,"trees planted (not including trees removed/added that are part of converted forest area). This information should match the information reported in item #8 of the EAW."]
[]
[null,null,"Land Use Type",null,"Acres"]
[null,{"$f":"IF('Project Background'!$G$42=\"No\",0.1,IF(AND(SUM(E94:F109)>0,E110=F110),0,1))","v":1},null,null,"Pre-Construction ","Post-Construction ",null,null,null,null,null,null,null,null,null,null,null,{"$f":"B93","v":1}]
[null,null,"Wetlands: peatland, non forested"]
[null,null,"Wetlands: peatland, forested"]
[null,null,"Wetlands: mineral soil, non forested"]
[null,null,"Wetlands: mineral soil, forested"]
[null,null,"Forest ",null,null,null,"«"]
[null,null,"Rivers and streams"]
[null,null,"Brush and grassland",null,null,null,"«"]
[null,null,"Cropland"]
[null,null,"Livestock rangeland/pastureland"]
[null,null,"Lawn/landscaping"]
[null,null,"Green Infrastructure: Constructed wetlands, paved"]
[null,null,"Green Infrastructure: Constructed wetlands, vegetated"]
[null,null,"Green Infrastructure: Constructed green roofs"]
[null,null,"Green Infrastructure: Constructed permeable pavements "]
[null,null,"Impervious surface "]
[null,null,"Stormwater pond (wet sedimentation basin) "]
[null,null,null,"Total: ",{"$f":"SUM(E94:E109)","v":0},{"$f":"SUM(F94:F109)","v":0},{"$f":"IF(E110=F110,\"\",\"Totals are not equal. Update to ensure total acres per-construction equals total acres post construction.\")","v":""}]
[null,null,"Land use change (construction)"]
[null,null,"Trees",null,"Number"]
[null,null,"Number of mature trees removed"]
[null,null,"Number of new trees planted",null,null,"«"]
[null,2]
[null,null,"Construction waste"]
[null,null,"Enter the total amount of waste generated during construction in short tons. Default values are provided based on inputs entered under the Material Inputs section above. Select the \"Apply Defaults\" "]
[null,null,"button to the right of the table to populate the table with default values. You may also enter an amount for other mixed waste generated during construction and demolition to account for other waste "]
[null,null,"that is not covered by the material-specific values."]
[]
[null,{"$f":"IF('Project Background'!$G$43=\"No\",0.1,IF(SUM(D122:D130)>0,0,1))","v":1},"Material Type","Quantity (tons)","Default (tons)","Loss Rate (%)",null,null,null,null,null,null,null,null,null,null,null,{"$f":"B121","v":1}]
[null,null,"Aluminum",null,{"$f":"D15*F122","v":0},{"$f":"INDEX(Assumptions!$B$189:$C$197,MATCH('User Inputs'!C122,Assumptions!$B$189:$B$197,0),2)","v":0}]
[null,null,"Asphalt",null,{"$f":"D16*F123","v":0},{"$f":"INDEX(Assumptions!$B$189:$C$197,MATCH('User Inputs'!C123,Assumptions!$B$189:$B$197,0),2)","v":0}]
[null,null,"Brick",null,{"$f":"D17*F124","v":0},{"$f":"INDEX(Assumptions!$B$189:$C$197,MATCH('User Inputs'!C124,Assumptions!$B$189:$B$197,0),2)","v":0.04}]
[null,null,"Concrete",null,{"$f":"IF(E18=\"Cubic yards\",D18*Constants!F39,D18)*F125","v":0},{"$f":"INDEX(Assumptions!$B$189:$C$197,MATCH('User Inputs'!C125,Assumptions!$B$189:$B$197,0),2)","v":0.03}]
[null,null,"Glass",null,{"$f":"D19*F126","v":0},{"$f":"INDEX(Assumptions!$B$189:$C$197,MATCH('User Inputs'!C126,Assumptions!$B$189:$B$197,0),2)","v":0.03}]
[null,null,"Insulation",null,{"$f":"IF(E20=\"Square feet\",D20*Constants!$F$37,D20)*F127+IF(E21=\"Square feet\",D21*Constants!$F$37,D21)*F127","v":0},{"$f":"INDEX(Assumptions!$B$189:$C$197,MATCH(\"Insulation\",Assumptions!$B$189:$B$197,0),2)","v":0.1}]
[null,null,"Steel",null,{"$f":"D22*F128","v":0},{"$f":"INDEX(Assumptions!$B$189:$C$197,MATCH('User Inputs'!C128,Assumptions!$B$189:$B$197,0),2)","v":0}]
[null,null,"Wood Products",null,{"$f":"IF(E23=\"Cubic yards\",D23*Constants!#REF!,D23)*F129","v":0},{"$f":"INDEX(Assumptions!$B$189:$C$197,MATCH('User Inputs'!C129,Assumptions!$B$189:$B$197,0),2)","v":0.05}]
[null,null,"Mixed Waste",null,"NA","NA"]
[null,2]
[null,null,"Operational Phase "]
[]
[null,null,"Building energy consumption"]
[null,null,"Emissions from buildings may be quantified based on building energy intensities or fuel consumption. Specify the preferred approach for calculating emissions from buildings and then complete the table below for the selected approach."]
[]
[null,null,"Approach:","Fuel Consumption",{"$f":"IF(D137=\"Energy Intensity\",\"B\",(IF(D137=\"Fuel Consumption\",\"F\",\"\")))","v":"F"}]
[]
[null,null,"Approach 1: Building energy intensities"]
[null,null,"Enter the energy intensity of each building type that is applicable to your project in Btu per square foot per year. Applicability is determined based on the building square footage data entered in the Project "]
[null,null,"Background tab. Select the \"Apply Defaults\" button to the right of the table to populate the table with default values. For \"Other\" building types, no default is available and must be provided, if applicable."]
[]
[null,null,"Building Type","Energy Intensity (Btu/sq ft/year)",null,null,null,"Default*",null,null,null,null,null,null,null,null,null,{"$f":"IF((R144+R155)>0.2,1,0)","v":1}]
[null,{"$f":"IF(OR(('Project Background'!$G$44=\"No\"),(E137=\"F\")),0.1,IF(E137=\"\",1,IF(AND(SUM(B145:B149)=0,'Project Background'!E18=0),0,1)))","v":0.1},null,"Electricity","Natural Gas ","Propane","Kerosene or \nFuel Oil","Electricity","Natural Gas ","Propane","Kerosene or \nFuel Oil",null,null,null,null,null,null,{"$f":"B144","v":0.1}]
[null,{"$f":"IF('Project Background'!D18=0,0,IF(SUM(D145:G145)>0,0,1))","v":0},"Residential",null,null,null,null,{"$f":"INDEX(Assumptions!$B$213:$H$217,MATCH('User Inputs'!$C145,Assumptions!$B$213:$B$217,0),MATCH('User Inputs'!H$144,Assumptions!$B$213:$H$213,0))","v":18096.906012842966},{"$f":"INDEX(Assumptions!$B$213:$H$217,MATCH('User Inputs'!$C145,Assumptions!$B$213:$B$217,0),MATCH('User Inputs'!I$144,Assumptions!$B$213:$H$213,0))","v":24460.011675423237},{"$f":"INDEX(Assumptions!$B$213:$H$217,MATCH('User Inputs'!$C145,Assumptions!$B$213:$B$217,0),MATCH('User Inputs'!J$144,Assumptions!$B$213:$H$213,0))","v":3619.3812025685934},{"$f":"INDEX(Assumptions!$B$213:$H$217,MATCH('User Inputs'!$C145,Assumptions!$B$213:$B$217,0),MATCH('User Inputs'!K$144,Assumptions!$B$213:$H$213,0))","v":233.50846468184471}]
[null,{"$f":"IF('Project Background'!D19=0,0,IF(SUM(D146:G146)>0,0,1))","v":0},"Commercial",null,null,null,null,{"$f":"INDEX(Assumptions!$B$213:$H$217,MATCH('User Inputs'!$C146,Assumptions!$B$213:$B$217,0),MATCH('User Inputs'!H$144,Assumptions!$B$213:$H$213,0))","v":30766.128999999997},{"$f":"INDEX(Assumptions!$B$213:$H$217,MATCH('User Inputs'!$C146,Assumptions!$B$213:$B$217,0),MATCH('User Inputs'!I$144,Assumptions!$B$213:$H$213,0))","v":35534.875},{"$f":"INDEX(Assumptions!$B$213:$H$217,MATCH('User Inputs'!$C146,Assumptions!$B$213:$B$217,0),MATCH('User Inputs'!J$144,Assumptions!$B$213:$H$213,0))","v":0},{"$f":"INDEX(Assumptions!$B$213:$H$217,MATCH('User Inputs'!$C146,Assumptions!$B$213:$B$217,0),MATCH('User Inputs'!K$144,Assumptions!$B$213:$H$213,0))","v":1661.5642857142857}]
[null,{"$f":"IF('Project Background'!D20=0,0,IF(SUM(D147:G147)>0,0,1))","v":0},"Industrial",null,null,null,null,{"$f":"INDEX(Assumptions!$B$213:$H$217,MATCH('User Inputs'!$C147,Assumptions!$B$213:$B$217,0),MATCH('User Inputs'!H$144,Assumptions!$B$213:$H$213,0))","v":229952.19837444543},{"$f":"INDEX(Assumptions!$B$213:$H$217,MATCH('User Inputs'!$C147,Assumptions!$B$213:$B$217,0),MATCH('User Inputs'!I$144,Assumptions!$B$213:$H$213,0))","v":656392.90150842944},{"$f":"INDEX(Assumptions!$B$213:$H$217,MATCH('User Inputs'!$C147,Assumptions!$B$213:$B$217,0),MATCH('User Inputs'!J$144,Assumptions!$B$213:$H$213,0))","v":0},{"$f":"INDEX(Assumptions!$B$213:$H$217,MATCH('User Inputs'!$C147,Assumptions!$B$213:$B$217,0),MATCH('User Inputs'!K$144,Assumptions!$B$213:$H$213,0))","v":8191.6592724046141}]
[null,{"$f":"IF('Project Background'!D21=0,0,IF(SUM(D148:G148)>0,0,1))","v":0},"Institutional",null,null,null,null,{"$f":"INDEX(Assumptions!$B$213:$H$217,MATCH('User Inputs'!$C148,Assumptions!$B$213:$B$217,0),MATCH('User Inputs'!H$144,Assumptions!$B$213:$H$213,0))","v":46860.056000000004},{"$f":"INDEX(Assumptions!$B$213:$H$217,MATCH('User Inputs'!$C148,Assumptions!$B$213:$B$217,0),MATCH('User Inputs'!I$144,Assumptions!$B$213:$H$213,0))","v":48219.033333333333},{"$f":"INDEX(Assumptions!$B$213:$H$217,MATCH('User Inputs'!$C148,Assumptions!$B$213:$B$217,0),MATCH('User Inputs'!J$144,Assumptions!$B$213:$H$213,0))","v":0},{"$f":"INDEX(Assumptions!$B$213:$H$217,MATCH('User Inputs'!$C148,Assumptions!$B$213:$B$217,0),MATCH('User Inputs'!K$144,Assumptions!$B$213:$H$213,0))","v":3659.9321428571438}]
[null,{"$f":"IF('Project Background'!D22=0,0,IF(SUM(D149:G149)>0,0,1))","v":0},"Other",null,null,null,null,"NA","NA","NA","NA"]
[null,null,"*Refer to the Buildings tab for industry-specific default values for industrial buildings. These values may be manually entered in place of the default provided."]
[]
[null,null,"Approach 2: Building fuel consumption"]
[null,null,"Enter the total amount of energy consumed annually by fuel type."]
[]
[null,{"$f":"IF(OR(('Project Background'!$G$44=\"No\"),(E137=\"B\")),0.1,IF(E137=\"\",1,IF((SUM(D156:D159)>0),0,1)))","v":1},"Fuel Type","Fuel Consumption (units/year)","Unit",null,null,null,null,null,null,null,null,null,null,null,null,{"$f":"B155","v":1}]
[null,null,"Electricity",null,"kWh"]
[null,null,"Natural Gas ",null,"Cubic feet"]
[null,null,"Propane",null,"Gallons"]
[null,null,"Kerosene or Fuel Oil",null,"Gallons"]
[null,2]
[null,null,"Coal production"]
[null,null,"Enter the incremental annual production of coal by type."]
[]
[null,{"$f":"IF('Project Background'!$G$45=\"No\",0.1,IF(SUM(D165:D170)>0,0,1))","v":1},"Coal Type","Incremental Production (tons/year)",null,null,null,null,null,null,null,null,null,null,null,null,null,{"$f":"B164","v":1}]
[null,null,"Mixed Coal"]
[null,null,"Anthracite Coal"]
[null,null,"Bituminous Coal"]
[null,null,"Subbituminous Coal"]
[null,null,"Lignite Coal"]
[null,null,"Coal Coke"]
[null,2,"Emissions from natural gas and oil products "]
[null,null,"Natural gas and oil products"]
[null,null,"Enter the incremental annual throughput of each fuel type. "]
[null,null,"Emissions from natural gas and oil products "]
[null,{"$f":"IF('Project Background'!$G$46=\"No\",0.1,IF(SUM(D176:D190)>0,0,1))","v":1},"Fuel Type","Incremental Throughput ","Unit",null,null,null,null,null,null,null,null,null,null,null,null,{"$f":"B175","v":1}]
[null,null,"Natural Gas",null,"Cubic Feet/year"]
[null,null,"Renewable Natural Gas",null,"Cubic Feet/year"]
[null,null,"Propane",null,"Gallons/year"]
[null,null,"Gasoline",null,"Gallons/year"]
[null,null,"Distillate Fuel Oil No. 1",null,"Gallons/year"]
[null,null,"Distillate Fuel Oil No. 2",null,"Gallons/year"]
[null,null,"Distillate Fuel Oil No. 4",null,"Gallons/year"]
[null,null,"Residual Fuel Oil No. 5",null,"Gallons/year"]
[null,null,"Residual Fuel Oil No. 6",null,"Gallons/year"]
[null,null,"Liquified Petroleum Gas (LPG)",null,"Gallons/year"]
[null,null,"Kerosene",null,"Gallons/year"]
[null,null,"Kerosene Jet Fuel",null,"Gallons/year"]
[null,null,"Biodiesel 100",null,"Gallons/year"]
[null,null,"Biodiesel 20",null,"Gallons/year"]
[null,null,"Renewable Diesel",null,"Gallons/year"]
[]
[null,null,"If mitigation strategies are being adopted to reduce natural gas leakage and venting, enter the anticipated percent reduction relative to the default emissions."]
[null,null,"Emissions from natural gas and oil products "]
[null,null,"Fuel Type","Percent Reduction in Leakage and Venting Emissions","Leakage and Venting Emissions (kgCO2e/MMBtu)"]
[null,null,null,null,"Adjusted","Default"]
[null,null,"Natural Gas",null,{"$f":"(F196*(1-D196))","v":4.2813020597097582},{"$f":"Assumptions!C255","v":4.2813020597097582},"«"]
[null,2]
[null,null,"Industrial processes"]
[null,null,"Enter the annual quantity of industrial output by product type. Enter the emissions factor for each applicable product type or select the "]
[null,null,"\"Apply Defaults\" button to the right of the table to populate the emission factors column with default values."]
[]
[null,{"$f":"IF('Project Background'!$G$47=\"No\",0.1,IF(AND(SUM(B203:B210)=0,SUM(D203:D210)>0),0,1))","v":1},"Product Type"," Quantity (tons/year)","Emission Factor (kgCO2e/ton)","Default Emission Factor",null,null,null,null,null,null,null,null,null,null,null,{"$f":"B202","v":1}]
[null,{"$f":"IF(D203=0,0,IF(E203>0,0,1))","v":0},"Cement",null,null,{"$f":"Assumptions!C259","v":863.12008726831129}]
[null,{"$f":"IF(D204=0,0,IF(E204>0,0,1))","v":0},"Lime",null,null,{"$f":"Assumptions!C260","v":1162.633702818772}]
[null,0,"Limestone Use",null,null,{"$f":"Assumptions!C261","v":8.5874853556443913}]
[null,0,"Magnesium",null,null,{"$f":"Assumptions!C262","v":16178.309980080652}]
[null,0,"Iron and Steel",null,null,{"$f":"Assumptions!C263","v":1326.6024619739444}]
[null,0,"Ammonia",null,null,{"$f":"Assumptions!C264","v":937.36358469066101}]
[null,0,"Aluminum",null,null,{"$f":"Assumptions!C265","v":9332.1564599999983}]
[null,0,"Nitric Acid",null,null,{"$f":"Assumptions!C266","v":1804.3658058909436}]
[null,2]
[null,null,"HFC leakage"]
[null,null,"Enter the portion of the building area that utilizes air conditioning and/or refrigeration equipment  for each applicable building type. "]
[null,null,"Applicability is determined based on the building square footage data entered in the Project Background tab. Select the \"Apply Defaults\" "]
[null,null,"button to the right of the table to populate the table with default values.",null,null,null,null,null,null,null,null,null,null,null,null,null,null,{"$f":"IF((R217+R223)>0.2,1,0)","v":1}]
[]
[null,{"$f":"IF('Project Background'!$G$48=\"No\",0.1,IF(AND(SUM(B218:B221)=0,'Project Background'!E18=0),0,1))","v":1},"Building Type","Percent of Building Area Utilized ","Default",null,null,null,null,null,null,null,null,null,null,null,null,{"$f":"B217","v":1}]
[null,{"$f":"IF('Project Background'!D18=0,0,IF(D218>0,0,1))","v":0},"Residential",null,1]
[null,{"$f":"IF('Project Background'!D19=0,0,IF(D219>0,0,1))","v":0},"Commercial",null,1]
[null,{"$f":"IF('Project Background'!D20=0,0,IF(D220>0,0,1))","v":0},"Industrial",null,1]
[null,{"$f":"IF('Project Background'!D21=0,0,IF(D221>0,0,1))","v":0},"Institutional",null,1]
[]
[null,{"$f":"IF('Project Background'!$G$48=\"No\",0.1,IF(SUM(B224:B228)>0,1,0))","v":0},"Building Type","Equipment Type",null,null,"HFC","Default",null,null,null,null,null,null,null,null,null,{"$f":"B223","v":0}]
[null,{"$f":"IF('Project Background'!D18=0,0,IF(ISBLANK(G224),1,0))","v":0},"Residential","Room A/C & Other residential A/C and heat pumps",null,null,null,{"$f":"_xlfn.XLOOKUP(D224,HFCs!$B$8:$B$12,HFCs!$C$8:$C$12)","v":"R-454B"},"«"]
[null,{"$f":"IF('Project Background'!D19=0,0,IF(ISBLANK(G225),1,0))","v":0},"Commercial","Other commercial A/C and heat pumps",null,null,null,{"$f":"_xlfn.XLOOKUP(D225,HFCs!$B$8:$B$12,HFCs!$C$8:$C$12)","v":"R-454B"},"«"]
[null,{"$f":"IF('Project Background'!D21=0,0,IF(ISBLANK(G226),1,0))","v":0},"Institutional","Walk-in refrigerators and freezers",null,null,null,{"$f":"_xlfn.XLOOKUP(D226,HFCs!$B$8:$B$12,HFCs!$C$8:$C$12)","v":"R-404A"},"«"]
[null,{"$f":"IF('Project Background'!D21=0,0,IF(ISBLANK(G227),1,0))","v":0},"Institutional","Other commercial A/C and heat pumps",null,null,null,{"$f":"_xlfn.XLOOKUP(D227,HFCs!$B$8:$B$12,HFCs!$C$8:$C$12)","v":"R-454B"},"«"]
[null,{"$f":"IF('Project Background'!D20=0,0,IF(ISBLANK(G228),1,0))","v":0},"Industrial","Other commercial A/C and heat pumps",null,null,null,{"$f":"_xlfn.XLOOKUP(D228,HFCs!$B$8:$B$12,HFCs!$C$8:$C$12)","v":"R-454B"},"«"]
[null,2]
[null,null,"Land use change (operations)"]
[null,null,"Enter the number of acres by land cover type after project operation. The number of acres by land cover type after "]
[null,null,"development are set equal to the post-construction values entered in the land use change section above."]
[]
[null,null,"Land Use Type",null,"Acres"]
[null,{"$f":"IF('Project Background'!$G$49=\"No\",0.1,IF(AND(SUM(E236:F251)>0,E252=F252),0,1))","v":1},null,null,"Post-Construction ","Post-Operation",null,null,null,null,null,null,null,null,null,null,null,{"$f":"B235","v":1}]
[null,null,"Wetlands: peatland, non forested",null,{"$f":"F94","v":0}]
[null,null,"Wetlands: peatland, forested",null,0]
[null,null,"Wetlands: mineral soil, non forested",null,0]
[null,null,"Wetlands: mineral soil, forested",null,0]
[null,null,"Forest ",null,0]
[null,null,"Rivers and streams",null,0]
[null,null,"Brush and grassland",null,0]
[null,null,"Cropland",null,0]
[null,null,"Livestock rangeland/pastureland",null,0]
[null,null,"Lawn/landscaping",null,0]
[null,null,"Green Infrastructure: Constructed wetlands, paved",null,0]
[null,null,"Green Infrastructure: Constructed wetlands, vegetated",null,0]
[null,null,"Green Infrastructure: Constructed green roofs",null,0]
[null,null,"Green Infrastructure: Constructed permeable pavements ",null,0]
[null,null,"Impervious surface ",null,0]
[null,null,"Stormwater pond (wet sedimentation basin) ",null,0]
[null,null,null,"Total: ",{"$f":"SUM(E236:E251)","v":0},{"$f":"SUM(F236:F251)","v":0},{"$f":"IF(OR(E252=F252,'Project Background'!G49=\"No\"),\"\",\"Totals are not equal. Update to ensure total acres per-construction equals total acres post construction.\")","v":""}]
[null,2]
[null,null,"On-road vehicles"]
[null,null,"Enter the additional vehicle miles traveled (VMT) each year as a result of the project. VMT may be entered by speed bin, if known. "]
[]
[null,{"$f":"IF('Project Background'!$G$50=\"No\",0.1,IF(SUM(D258:D261)>0,0,1))","v":1},"Speed Bin \n(miles/hour)","Additional VMT (miles/year)",null,null,null,null,null,null,null,null,null,null,null,null,null,{"$f":"B257","v":1}]
[null,null,"Fleet Average"]
[null,null,"0-30"]
[null,null,"31-55"]
[null,null,"56-75"]
[null,2]
[null,null,"Treatment of waste on-site"]
[null,null,"Select the waste treatment practice from the dropdown list and enter the amount of waste the project is anticipated to treat on-site each year in short tons. You may select up to three waste treatment practices."]
[]
[null,{"$f":"IF('Project Background'!$G$51=\"No\",0.1,IF(AND(SUM(B267:B269)=0,SUM(D267:D269)>0),0,1))","v":1},"Waste Treatment Practice","Quantity of Waste Treated \n(tons/year)",null,null,null,null,null,null,null,null,null,null,null,null,null,{"$f":"B266","v":1}]
[null,{"$f":"IF(D267=0,0,IF(C267>0,0,1))","v":0}]
[null,{"$f":"IF(D268=0,0,IF(C268>0,0,1))","v":0}]
[null,{"$f":"IF(D269=0,0,IF(C269>0,0,1))","v":0}]
[null,2]
[null,null,"Treatment of wastewater on-site"]
[null,null,"For municipal wastewater, enter the population served and type of system used by the treatment plant."]
[]
[null,{"$f":"IF('Project Background'!$G$52=\"No\",0.1,IF(R279=0,0,IF(AND(D274>0,D275<>\"\"),0,1)))","v":1},"Population Served by Treatment Plant",null,null,null,null,null,null,null,null,null,null,null,null,null,null,{"$f":"B274","v":1}]
[null,{"$f":"IF(AND(D274>0,D275>0),1,0)","v":0},"Wastewater Treatment System Type"]
[null,1]
[null,null,"For industrial wastewater, select the product type from the dropdown list and enter the anticipated annual production output of the plant in metric tons per year."]
[null,null,"Treatment of wastewater on-site"]
[null,{"$f":"IF('Project Background'!$G$52=\"No\",0.1,IF(B275>0,0,IF(AND(SUM(B280)=0,SUM(D280)>0),0,1)))","v":1},"Product Type"," Production (MT/year)",null,null,null,null,null,null,null,null,null,null,null,null,null,{"$f":"B279","v":1}]
[null,{"$f":"IF(D280=0,0,IF(C280>0,0,1))","v":0}]
[null,2]
[null,null,"Treatment of waste off-site"]
[null,null,"Enter the number of households, employees, or annual visitors relevant to your project during operation. "]
[]
[null,{"$f":"IF('Project Background'!$G$53=\"No\",0.1,IF(AND(SUM(B286:B290)=0,SUM(D286:D290)>0),0,1))","v":1},"Activity","Quantity","Waste Generation Rate","Default","Unit",null,null,null,null,null,null,null,null,null,null,{"$f":"B285","v":1}]
[null,{"$f":"IF(D286=0,0,IF(E286>0,0,1))","v":0},"Number of households",null,null,{"$f":"Assumptions!C318","v":7.0042857142857144},"lb/household/day"]
[null,{"$f":"IF(D287=0,0,IF(E287>0,0,1))","v":0},"Number of employees (commercial)",null,null,{"$f":"Assumptions!C319","v":10.53},"lb/employee/day"]
[null,0,"Number of employees (industrial)",null,null,{"$f":"Assumptions!C320","v":8.93},"lb/employee/day"]
[null,0,"Number of employees (institutional)",null,null,{"$f":"Assumptions!C321","v":3.55},"lb/employee/day"]
[null,0,"Visitors per year (public venues)",null,null,{"$f":"Assumptions!C322","v":1.72},"lb/visitor"]
[]
[null,null,"Enter the percent of waste that is managed by each type of waste treatment practice. Default values are provided based on the county "]
[null,null,"in which your project is located, as specified in the Project Background tab. Select the \"Apply Defaults\" button to the right of the table "]
[null,null,"to populate the table with default values. Values must sum to 100%."]
[]
[null,{"$f":"IF('Project Background'!$G$53=\"No\",0.1,IF(AND(SUM(D297:D300)>0,D301=100%),0,1))","v":1},"Waste Treatment Practice","Percent of Waste","Default",null,null,null,null,null,null,null,null,null,null,null,null,{"$f":"B296","v":1}]
[null,null,"Recycled",null,0,"«"]
[null,null,"Composted",null,0,"«"]
[null,null,"Landfilled",null,{"$f":"IFERROR((INDEX(Assumptions!$B$325:$F$412,MATCH('Project Background'!$D$11,Assumptions!$B$325:$B$412,0),2)),\"No county input\")","v":"No county input"}]
[null,null,"Combusted",null,{"$f":"IFERROR((INDEX(Assumptions!$B$325:$F$412,MATCH('Project Background'!$D$11,Assumptions!$B$325:$B$412,0),3)),\"No county input\")","v":"No county input"}]
[null,2,"Total: ",{"$f":"SUM(D297:D300)","v":0},{"$f":"IF('Project Background'!$G$53=\"No\",\"\",IF(D301<>100%,\"Values do not sum to 100%. Update to ensure values sum to 100%.\",\"\"))","v":"Values do not sum to 100%. Update to ensure values sum to 100%."}]
[null,null,"Enteric fermentation"]
[null,null,"Enteric Fermentation and Manure Management"]
[null,null,"Enter the average annual number of animals across the operational lifetime of the project that will be managed during feedlot operation as a result of the project. Additionally, enter the portion "]
[null,null,"of manure that will be treated by each manure management system. Values by livestock type must sum to 100%. Finally, specify the portion of manure applied or sold for use as fertilizer."]
[]
[null,{"$f":"IF('Project Background'!$G$54=\"No\",0.1,IF(H307<>\"\",0,1))","v":1},"Percent of manure applied or sold for application to agricultural soils (pasture or cropland) as fertilizer",null,null,null,null,null,null,null,null,null,null,null,null,null,null,{"$f":"B307","v":1}]
[]
[null,null,"Beef Cattle","Population","Percentage of Manure Management System"]
[null,{"$f":"IF('Project Background'!$G$54=\"No\",0.1,IF(AND(SUM(B311:B337)=0,SUM(D311:D317,D321:D323,D327:D329,D333:D337)>0),0,1))","v":1},null,null,"Anaerobic digester","Cattle deep litter","Composting","Daily spread","Deep pit","Dry lot","Liquid/slurry","Pasture, range, paddock","Solid storage",null,null,null,null,{"$f":"B310","v":1}]
[null,{"$f":"IF(D311=0,0,IF(SUM(E311:M311)=100%,0,1))","v":0},"Bulls",null,null,null,null,null,null,null,null,null,null,{"$f":"IF(D311<>\"\",((IF((SUM(E311:M311)<>100%),\"System percents must equal 100%\", \"\"))),\"\")","v":""}]
[null,{"$f":"IF(D312=0,0,IF(SUM(E312:M312)=100%,0,1))","v":0},"Beef cows",null,null,null,null,null,null,null,null,null,null,{"$f":"IF(D312<>\"\",((IF((SUM(E312:M312)<>100%),\"System percents must equal 100%\", \"\"))),\"\")","v":""}]
[null,0,"Beef heifers",null,null,null,null,null,null,null,null,null,null,""]
[null,0,"Steer stockers",null,null,null,null,null,null,null,null,null,null,""]
[null,0,"Heifer stockers",null,null,null,null,null,null,null,null,null,null,""]
[null,0,"Feedlot beef",null,null,null,null,null,null,null,null,null,null,""]
[null,0,"Beef calves",null,null,null,null,null,null,null,null,null,null,""]
[]
[null,null,"Dairy Cattle","Population","Percentage of Manure Management System"]
[null,null,null,null,"Anaerobic digester","Anaerobic lagoon - liquid","Daily spread","Deep pit","Dry lot","Liquid/slurry","Pasture, range, paddock","Solid storage","«"]
[null,{"$f":"IF(D321=0,0,IF(SUM(E321:L321)=100%,0,1))","v":0},"Dairy heifers",null,null,null,null,null,null,null,null,null,{"$f":"IF(D321<>\"\",((IF((SUM(E321:L321)<>100%),\"System percents must equal 100%\", \"\"))),\"\")","v":""}]
[null,{"$f":"IF(D322=0,0,IF(SUM(E322:L322)=100%,0,1))","v":0},"Dairy cows",null,null,null,null,null,null,null,null,null,{"$f":"IF(D322<>\"\",((IF((SUM(E322:L322)<>100%),\"System percents must equal 100%\", \"\"))),\"\")","v":""}]
[null,0,"Dairy calves",null,null,null,null,null,null,null,null,null,{"$f":"IF(D323<>\"\",((IF((SUM(E323:L323)<>100%),\"System percents must equal 100%\", \"\"))),\"\")","v":""}]
[]
[null,null,"Swine","Population","Percentage of Manure Management System"]
[null,null,null,null,"Anaerobic digester","Anaerobic lagoon - liquid","Deep pit","Liquid/slurry","Pasture, range, paddock","Solid storage","«"]
[null,{"$f":"IF(D327=0,0,IF(SUM(E327:J327)=100%,0,1))","v":0},"Swine, <55 lbs",null,null,null,null,null,null,null,{"$f":"IF(D327<>\"\",((IF((SUM(E327:J327)<>100%),\"System percents must equal 100%\", \"\"))),\"\")","v":""}]
[null,{"$f":"IF(D328=0,0,IF(SUM(E328:J328)=100%,0,1))","v":0},"Swine 55-330 lbs",null,null,null,null,null,null,null,{"$f":"IF(D328<>\"\",((IF((SUM(E328:J328)<>100%),\"System percents must equal 100%\", \"\"))),\"\")","v":""}]
[null,0,"Swine 330+ lbs",null,null,null,null,null,null,null,{"$f":"IF(D329<>\"\",((IF((SUM(E329:J329)<>100%),\"System percents must equal 100%\", \"\"))),\"\")","v":""}]
[]
[null,null,"Poultry","Population","Percentage of Manure Management System"]
[null,null,null,null,"Anaerobic digester","Anaerobic lagoon - liquid","Composting","Liquid/slurry","Pasture, range, paddock","Poultry with litter","Poultry without litter ","Solid storage"]
[null,{"$f":"IF(D333=0,0,IF(SUM(E333:L333)=100%,0,1))","v":0},"Poultry, layers",null,null,null,null,null,null,null,null,null,{"$f":"IF(D333<>\"\",((IF((SUM(E333:L333)<>100%),\"System percents must equal 100%\", \"\"))),\"\")","v":""}]
[null,0,"Poultry, pullets",null,null,null,null,null,null,null,null,null,{"$f":"IF(D334<>\"\",((IF((SUM(E334:L334)<>100%),\"System percents must equal 100%\", \"\"))),\"\")","v":""}]
[null,0,"Poultry, chickens",null,null,null,null,null,null,null,null,null,{"$f":"IF(D335<>\"\",((IF((SUM(E335:L335)<>100%),\"System percents must equal 100%\", \"\"))),\"\")","v":""}]
[null,0,"Poultry, broilers",null,null,null,null,null,null,null,null,null,{"$f":"IF(D336<>\"\",((IF((SUM(E336:L336)<>100%),\"System percents must equal 100%\", \"\"))),\"\")","v":""}]
[null,0,"Turkeys",null,null,null,null,null,null,null,null,null,{"$f":"IF(D337<>\"\",((IF((SUM(E337:L337)<>100%),\"System percents must equal 100%\", \"\"))),\"\")","v":""}]
[null,2,"Enteric fermentation"]
[]
[]
[]
[null,null,null,null,null,null,null,null,null,null,null,null,null,null,null,null,null,"Any inputs missing?"]
[null,null,null,null,null,null,null,null,null,null,null,null,null,null,null,null,null,{"$f":"SUM(R12:R339)","v":24.2}]
[null,null,null,null,null,null,null,null,null,null,null,null,null,null,null,null,null,{"$f":"IF(R343>0,\"True\",\"False\")","v":"True"}]

{"sheet":"Notes","index":4,"n_rows":31,"n_cols":2,"rows_kept":31,"cut":false,"hidden":false,"merged":[]}
[null,"Notes (Step 3)"]
[]
[null,"Enter notes into the yellow cells below to document assumptions, data sources, notes for reviewers, special circumstances, or other helpful information specific to your project, if desired."]
[]
[null,"General Notes"]
[]
[null,"Construction"]
[null,"Material inputs"]
[null,"Transportation of material inputs "]
[null,"Employee commuting"]
[null,"Construction equipment"]
[null,"Land use change (construction)"]
[null,"Construction waste"]
[]
[null,"Operation"]
[null,"Building energy consumption"]
[null,"Coal production"]
[null,"Natural gas and oil products"]
[null,"Industrial processes"]
[null,"HFC leakage"]
[null,"Land use change (operations)"]
[null,"On-road vehicles"]
[null,"Treatment of waste on-site"]
[null,"Treatment of wastewater on-site"]
[null,"Treatment of waste off-site"]
[null,"Enteric fermentation"]
[null,"Manure management"]
[]
[null,"Mitigation Measures and Quantified Reductions"]
[]
[null,"Adaptation Strategies"]

{"sheet":"Construction","index":5,"n_rows":160,"n_cols":24,"rows_kept":160,"cut":false,"hidden":false,"merged":[[68,23,69,23],[26,14,26,17],[68,9,68,14],[42,2,43,2],[118,1,119,3],[107,1,108,1],[107,2,108,2],[107,3,108,3],[2,1,2,8],[53,1,54,1],[68,16,68,21],[42,4,43,4],[53,4,54,4],[147,1,148,1],[26,9,26,12],[26,1,27,1],[26,4,26,7],[9,1,9,7],[10,1,11,1],[25,1,25,7],[68,1,69,1],[68,2,68,7],[86,1,87,1],[86,2,87,2],[86,4,87,4],[86,6,87,6],[42,1,43,1]]}
[null,"Construction Emissions Calculations (Step 4a)"]
[]
[null,"This tab calculates emissions that occur during the construction phase of the project based on user inputs and calculator assumptions. The values on this tab may not be modified. Return to the Project Background and User Inputs tab to modify data inputs."]
[]
[]
[]
[]
[]
[null,"Material Inputs"]
[]
[null,"Material Type","Quantity",null,"Emission Factor",null,"GHG Emissions"]
[null,null,"tons",null,"kgCO2e/ton",null,"kgCO2e"]
[null,"Aluminum",{"$f":"'User Inputs'!D15","v":0},"x",{"$f":"IFERROR(IF('User Inputs'!F15=Assumptions!$C$28,Assumptions!C29,IF('User Inputs'!F15=Assumptions!$D$28,Assumptions!D29,IF('User Inputs'!F15=Assumptions!$E$28,Assumptions!E29))),\"\")","v":6498},"=",{"$f":"IFERROR((C13*E13),\"\")","v":0}]
[null,"Asphalt",{"$f":"'User Inputs'!D16","v":0},"x",{"$f":"IFERROR(IF('User Inputs'!F16=Assumptions!$C$28,Assumptions!C30,IF('User Inputs'!F16=Assumptions!$D$28,Assumptions!D30,IF('User Inputs'!F16=Assumptions!$E$28,Assumptions!E30))),\"\")","v":70.2},"=",{"$f":"IFERROR((C14*E14),\"\")","v":0}]
[null,"Brick",{"$f":"'User Inputs'!D17","v":0},"x",{"$f":"IFERROR(IF('User Inputs'!F17=Assumptions!$C$28,Assumptions!C31,IF('User Inputs'!F17=Assumptions!$D$28,Assumptions!D31,IF('User Inputs'!F17=Assumptions!$E$28,Assumptions!E31))),\"\")","v":451.43999999999994},"=",0]
[null,"Concrete",{"$f":"IF('User Inputs'!E18=\"Cubic yards\",'User Inputs'!D18*Constants!F39,'User Inputs'!D18)","v":0},"x",{"$f":"IFERROR(IF('User Inputs'!F18=Assumptions!$C$28,Assumptions!C32,IF('User Inputs'!F18=Assumptions!$D$28,Assumptions!D32,IF('User Inputs'!F18=Assumptions!$E$28,Assumptions!E32))),\"\")","v":146.59061888141653},"=",0]
[null,"Glass",{"$f":"'User Inputs'!D19","v":0},"x",{"$f":"IFERROR(IF('User Inputs'!F19=Assumptions!$C$28,Assumptions!C33,IF('User Inputs'!F19=Assumptions!$D$28,Assumptions!D33,IF('User Inputs'!F19=Assumptions!$E$28,Assumptions!E33))),\"\")","v":1259.2800000000002},"=",0]
[null,"Insulation (residential)",{"$f":"IF('User Inputs'!E20=\"Square feet\",'User Inputs'!D20*Constants!$F$37,'User Inputs'!D20)","v":0},"x",{"$f":"IFERROR(IF('User Inputs'!F20=Assumptions!$C$28,Assumptions!C34,IF('User Inputs'!F20=Assumptions!$D$28,Assumptions!D34,IF('User Inputs'!F20=Assumptions!$E$28,Assumptions!E34))),\"\")","v":2284.3817460090995},"=",0]
[null,"Insulation (commercial)",{"$f":"IF('User Inputs'!E21=\"Square feet\",'User Inputs'!D21*Constants!F38,'User Inputs'!D21)","v":0},"x",{"$f":"IFERROR(IF('User Inputs'!F21=Assumptions!$C$28,Assumptions!C35,IF('User Inputs'!F21=Assumptions!$D$28,Assumptions!D35,IF('User Inputs'!F21=Assumptions!$E$28,Assumptions!E35))),\"\")","v":2284.3817460091},"=",0]
[null,"Steel",{"$f":"'User Inputs'!D22","v":0},"x",{"$f":"IFERROR(IF('User Inputs'!F22=Assumptions!$C$28,Assumptions!C36,IF('User Inputs'!F22=Assumptions!$D$28,Assumptions!D36,IF('User Inputs'!F22=Assumptions!$E$28,Assumptions!E36))),\"\")","v":1576.3},"=",0]
[null,"Wood Products",{"$f":"IF('User Inputs'!E23=\"Cubic yards\",'User Inputs'!D23*Constants!F40,'User Inputs'!D23)","v":0},"x",{"$f":"IFERROR(IF('User Inputs'!F23=Assumptions!$C$28,Assumptions!C37,IF('User Inputs'!F23=Assumptions!$D$28,Assumptions!D37,IF('User Inputs'!F23=Assumptions!$E$28,Assumptions!E37))),\"\")","v":335.28571328976034},"=",0]
[]
[null,null,null,null,null,"Total",{"$f":"SUM(G13:G21)","v":0}]
[1]
[null,"Transportation of Material Inputs"]
[]
[null,"Material Type","Quantity",null,"Distance Travelled to Project Site (miles)",null,null,null,null,"Emission Factor (kgCO2e/ton-mile)",null,null,null,null,"Embodied Emissions (kgCO2e)",null,null,null,null,"GHG Emissions"]
[null,null,"tons",null,"Aircraft","Watercraft","Truck","Rail",null,"Aircraft","Watercraft","Truck","Rail",null,"Aircraft","Watercraft","Truck","Rail",null," kgCO2e"]
[null,{"$f":"B13","v":"Aluminum"},0,"x",{"$f":"IF('User Inputs'!$F15=\"Domestic\",\nINDEX(Assumptions!$B$40:$F$51,MATCH(Construction!$B29,Assumptions!$B$40:$B$51,0),MATCH(Construction!E$28,Assumptions!$B$42:$F$42,0)),\nIF('User Inputs'!$F15=\"Imported\",\nINDEX(Assumptions!$B$40:$N$51,MATCH(Construction!$B29,Assumptions!$B$40:$B$51,0),6),\n(INDEX(Assumptions!$B$40:$N$51,MATCH(Construction!$B29,Assumptions!$B$40:$B$51,0),10)\n)\n))","v":27.513657036279959},{"$f":"IF('User Inputs'!$F15=\"Domestic\",\nINDEX(Assumptions!$B$40:$F$51,MATCH(Construction!$B29,Assumptions!$B$40:$B$51,0),MATCH(Construction!F$28,Assumptions!$B$42:$F$42,0)),\nIF('User Inputs'!$F15=\"Imported\",\nINDEX(Assumptions!$B$40:$N$51,MATCH(Construction!$B29,Assumptions!$B$40:$B$51,0),7),\n(INDEX(Assumptions!$B$40:$N$51,MATCH(Construction!$B29,Assumptions!$B$40:$B$51,0),11)\n)\n))","v":0},{"$f":"IF('User Inputs'!$F15=\"Domestic\",\nINDEX(Assumptions!$B$40:$F$51,MATCH(Construction!$B29,Assumptions!$B$40:$B$51,0),MATCH(Construction!G$28,Assumptions!$B$42:$F$42,0)),\nIF('User Inputs'!$F15=\"Imported\",\nINDEX(Assumptions!$B$40:$N$51,MATCH(Construction!$B29,Assumptions!$B$40:$B$51,0),8),\n(INDEX(Assumptions!$B$40:$N$51,MATCH(Construction!$B29,Assumptions!$B$40:$B$51,0),12)\n)\n))","v":665.68753512235298},{"$f":"IF('User Inputs'!$F15=\"Domestic\",\nINDEX(Assumptions!$B$40:$F$51,MATCH(Construction!$B29,Assumptions!$B$40:$B$51,0),MATCH(Construction!H$28,Assumptions!$B$42:$F$42,0)),\nIF('User Inputs'!$F15=\"Imported\",\nINDEX(Assumptions!$B$40:$N$51,MATCH(Construction!$B29,Assumptions!$B$40:$B$51,0),9),\n(INDEX(Assumptions!$B$40:$N$51,MATCH(Construction!$B29,Assumptions!$B$40:$B$51,0),13)\n)\n))","v":9.8747738812641561},"x",{"$f":"IFERROR((INDEX('Annual Assumptions'!$B$8:$BZ$12,MATCH(J$28,'Annual Assumptions'!$B$8:$B$12,0),MATCH(YEAR('Project Background'!$D$13),'Annual Assumptions'!$B$8:$BZ$8,1))),\"No start date\")","v":"No start date"},{"$f":"IFERROR((INDEX('Annual Assumptions'!$B$8:$BZ$12,MATCH(K$28,'Annual Assumptions'!$B$8:$B$12,0),MATCH(YEAR('Project Background'!$D$13),'Annual Assumptions'!$B$8:$BZ$8,1))),\"No start date\")","v":"No start date"},{"$f":"IFERROR((INDEX('Annual Assumptions'!$B$8:$BZ$12,MATCH(L$28,'Annual Assumptions'!$B$8:$B$12,0),MATCH(YEAR('Project Background'!$D$13),'Annual Assumptions'!$B$8:$BZ$8,1))),\"No start date\")","v":"No start date"},{"$f":"IFERROR((INDEX('Annual Assumptions'!$B$8:$BZ$12,MATCH(M$28,'Annual Assumptions'!$B$8:$B$12,0),MATCH(YEAR('Project Background'!$D$13),'Annual Assumptions'!$B$8:$BZ$8,1))),\"No start date\")","v":"No start date"},"=",{"$f":"IFERROR(($C29*E29*J29),\"\")","v":""},{"$f":"IFERROR(($C29*F29*K29),\"\")","v":""},"","","=",{"$f":"SUM(O29:R29)","v":0}]
[null,"Asphalt",0,"x",{"$f":"IF('User Inputs'!$F16=\"Domestic\",\nINDEX(Assumptions!$B$40:$F$51,MATCH(Construction!$B30,Assumptions!$B$40:$B$51,0),MATCH(Construction!E$28,Assumptions!$B$42:$F$42,0)),\nIF('User Inputs'!$F16=\"Imported\",\nINDEX(Assumptions!$B$40:$N$51,MATCH(Construction!$B30,Assumptions!$B$40:$B$51,0),6),\n(INDEX(Assumptions!$B$40:$N$51,MATCH(Construction!$B30,Assumptions!$B$40:$B$51,0),10)\n)\n))","v":0},{"$f":"IF('User Inputs'!$F16=\"Domestic\",\nINDEX(Assumptions!$B$40:$F$51,MATCH(Construction!$B30,Assumptions!$B$40:$B$51,0),MATCH(Construction!F$28,Assumptions!$B$42:$F$42,0)),\nIF('User Inputs'!$F16=\"Imported\",\nINDEX(Assumptions!$B$40:$N$51,MATCH(Construction!$B30,Assumptions!$B$40:$B$51,0),7),\n(INDEX(Assumptions!$B$40:$N$51,MATCH(Construction!$B30,Assumptions!$B$40:$B$51,0),11)\n)\n))","v":0},{"$f":"IF('User Inputs'!$F16=\"Domestic\",\nINDEX(Assumptions!$B$40:$F$51,MATCH(Construction!$B30,Assumptions!$B$40:$B$51,0),MATCH(Construction!G$28,Assumptions!$B$42:$F$42,0)),\nIF('User Inputs'!$F16=\"Imported\",\nINDEX(Assumptions!$B$40:$N$51,MATCH(Construction!$B30,Assumptions!$B$40:$B$51,0),8),\n(INDEX(Assumptions!$B$40:$N$51,MATCH(Construction!$B30,Assumptions!$B$40:$B$51,0),12)\n)\n))","v":30},{"$f":"IF('User Inputs'!$F16=\"Domestic\",\nINDEX(Assumptions!$B$40:$F$51,MATCH(Construction!$B30,Assumptions!$B$40:$B$51,0),MATCH(Construction!H$28,Assumptions!$B$42:$F$42,0)),\nIF('User Inputs'!$F16=\"Imported\",\nINDEX(Assumptions!$B$40:$N$51,MATCH(Construction!$B30,Assumptions!$B$40:$B$51,0),9),\n(INDEX(Assumptions!$B$40:$N$51,MATCH(Construction!$B30,Assumptions!$B$40:$B$51,0),13)\n)\n))","v":0},"x",{"$f":"IFERROR((INDEX('Annual Assumptions'!$B$8:$BZ$12,MATCH(J$28,'Annual Assumptions'!$B$8:$B$12,0),MATCH(YEAR('Project Background'!$D$13),'Annual Assumptions'!$B$8:$BZ$8,1))),\"No start date\")","v":"No start date"},{"$f":"IFERROR((INDEX('Annual Assumptions'!$B$8:$BZ$12,MATCH(K$28,'Annual Assumptions'!$B$8:$B$12,0),MATCH(YEAR('Project Background'!$D$13),'Annual Assumptions'!$B$8:$BZ$8,1))),\"No start date\")","v":"No start date"},{"$f":"IFERROR((INDEX('Annual Assumptions'!$B$8:$BZ$12,MATCH(L$28,'Annual Assumptions'!$B$8:$B$12,0),MATCH(YEAR('Project Background'!$D$13),'Annual Assumptions'!$B$8:$BZ$8,1))),\"No start date\")","v":"No start date"},{"$f":"IFERROR((INDEX('Annual Assumptions'!$B$8:$BZ$12,MATCH(M$28,'Annual Assumptions'!$B$8:$B$12,0),MATCH(YEAR('Project Background'!$D$13),'Annual Assumptions'!$B$8:$BZ$8,1))),\"No start date\")","v":"No start date"},"=",{"$f":"IFERROR(($C30*E30*J30),\"\")","v":""},{"$f":"IFERROR(($C30*F30*K30),\"\")","v":""},{"$f":"IFERROR(($C30*G30*L30),\"\")","v":""},{"$f":"IFERROR(($C30*H30*M30),\"\")","v":""},"=",{"$f":"SUM(O30:R30)","v":0}]
[null,"Brick",0,"x",{"$f":"IF('User Inputs'!$F17=\"Domestic\",\nINDEX(Assumptions!$B$40:$F$51,MATCH(Construction!$B31,Assumptions!$B$40:$B$51,0),MATCH(Construction!E$28,Assumptions!$B$42:$F$42,0)),\nIF('User Inputs'!$F17=\"Imported\",\nINDEX(Assumptions!$B$40:$N$51,MATCH(Construction!$B31,Assumptions!$B$40:$B$51,0),6),\n(INDEX(Assumptions!$B$40:$N$51,MATCH(Construction!$B31,Assumptions!$B$40:$B$51,0),10)\n)\n))","v":0},{"$f":"IF('User Inputs'!$F17=\"Domestic\",\nINDEX(Assumptions!$B$40:$F$51,MATCH(Construction!$B31,Assumptions!$B$40:$B$51,0),MATCH(Construction!F$28,Assumptions!$B$42:$F$42,0)),\nIF('User Inputs'!$F17=\"Imported\",\nINDEX(Assumptions!$B$40:$N$51,MATCH(Construction!$B31,Assumptions!$B$40:$B$51,0),7),\n(INDEX(Assumptions!$B$40:$N$51,MATCH(Construction!$B31,Assumptions!$B$40:$B$51,0),11)\n)\n))","v":1180.6400000000001},{"$f":"IF('User Inputs'!$F17=\"Domestic\",\nINDEX(Assumptions!$B$40:$F$51,MATCH(Construction!$B31,Assumptions!$B$40:$B$51,0),MATCH(Construction!G$28,Assumptions!$B$42:$F$42,0)),\nIF('User Inputs'!$F17=\"Imported\",\nINDEX(Assumptions!$B$40:$N$51,MATCH(Construction!$B31,Assumptions!$B$40:$B$51,0),8),\n(INDEX(Assumptions!$B$40:$N$51,MATCH(Construction!$B31,Assumptions!$B$40:$B$51,0),12)\n)\n))","v":349.91535935675654},{"$f":"IF('User Inputs'!$F17=\"Domestic\",\nINDEX(Assumptions!$B$40:$F$51,MATCH(Construction!$B31,Assumptions!$B$40:$B$51,0),MATCH(Construction!H$28,Assumptions!$B$42:$F$42,0)),\nIF('User Inputs'!$F17=\"Imported\",\nINDEX(Assumptions!$B$40:$N$51,MATCH(Construction!$B31,Assumptions!$B$40:$B$51,0),9),\n(INDEX(Assumptions!$B$40:$N$51,MATCH(Construction!$B31,Assumptions!$B$40:$B$51,0),13)\n)\n))","v":5.7399716546735045},"x",{"$f":"IFERROR((INDEX('Annual Assumptions'!$B$8:$BZ$12,MATCH(J$28,'Annual Assumptions'!$B$8:$B$12,0),MATCH(YEAR('Project Background'!$D$13),'Annual Assumptions'!$B$8:$BZ$8,1))),\"No start date\")","v":"No start date"},{"$f":"IFERROR((INDEX('Annual Assumptions'!$B$8:$BZ$12,MATCH(K$28,'Annual Assumptions'!$B$8:$B$12,0),MATCH(YEAR('Project Background'!$D$13),'Annual Assumptions'!$B$8:$BZ$8,1))),\"No start date\")","v":"No start date"},{"$f":"IFERROR((INDEX('Annual Assumptions'!$B$8:$BZ$12,MATCH(L$28,'Annual Assumptions'!$B$8:$B$12,0),MATCH(YEAR('Project Background'!$D$13),'Annual Assumptions'!$B$8:$BZ$8,1))),\"No start date\")","v":"No start date"},{"$f":"IFERROR((INDEX('Annual Assumptions'!$B$8:$BZ$12,MATCH(M$28,'Annual Assumptions'!$B$8:$B$12,0),MATCH(YEAR('Project Background'!$D$13),'Annual Assumptions'!$B$8:$BZ$8,1))),\"No start date\")","v":"No start date"},"=","","","","","=",0]
[null,"Concrete",0,"x",{"$f":"IF('User Inputs'!$F18=\"Domestic\",\nINDEX(Assumptions!$B$40:$F$51,MATCH(Construction!$B32,Assumptions!$B$40:$B$51,0),MATCH(Construction!E$28,Assumptions!$B$42:$F$42,0)),\nIF('User Inputs'!$F18=\"Imported\",\nINDEX(Assumptions!$B$40:$N$51,MATCH(Construction!$B32,Assumptions!$B$40:$B$51,0),6),\n(INDEX(Assumptions!$B$40:$N$51,MATCH(Construction!$B32,Assumptions!$B$40:$B$51,0),10)\n)\n))","v":0},{"$f":"IF('User Inputs'!$F18=\"Domestic\",\nINDEX(Assumptions!$B$40:$F$51,MATCH(Construction!$B32,Assumptions!$B$40:$B$51,0),MATCH(Construction!F$28,Assumptions!$B$42:$F$42,0)),\nIF('User Inputs'!$F18=\"Imported\",\nINDEX(Assumptions!$B$40:$N$51,MATCH(Construction!$B32,Assumptions!$B$40:$B$51,0),7),\n(INDEX(Assumptions!$B$40:$N$51,MATCH(Construction!$B32,Assumptions!$B$40:$B$51,0),11)\n)\n))","v":0},{"$f":"IF('User Inputs'!$F18=\"Domestic\",\nINDEX(Assumptions!$B$40:$F$51,MATCH(Construction!$B32,Assumptions!$B$40:$B$51,0),MATCH(Construction!G$28,Assumptions!$B$42:$F$42,0)),\nIF('User Inputs'!$F18=\"Imported\",\nINDEX(Assumptions!$B$40:$N$51,MATCH(Construction!$B32,Assumptions!$B$40:$B$51,0),8),\n(INDEX(Assumptions!$B$40:$N$51,MATCH(Construction!$B32,Assumptions!$B$40:$B$51,0),12)\n)\n))","v":30},{"$f":"IF('User Inputs'!$F18=\"Domestic\",\nINDEX(Assumptions!$B$40:$F$51,MATCH(Construction!$B32,Assumptions!$B$40:$B$51,0),MATCH(Construction!H$28,Assumptions!$B$42:$F$42,0)),\nIF('User Inputs'!$F18=\"Imported\",\nINDEX(Assumptions!$B$40:$N$51,MATCH(Construction!$B32,Assumptions!$B$40:$B$51,0),9),\n(INDEX(Assumptions!$B$40:$N$51,MATCH(Construction!$B32,Assumptions!$B$40:$B$51,0),13)\n)\n))","v":0},"x",{"$f":"IFERROR((INDEX('Annual Assumptions'!$B$8:$BZ$12,MATCH(J$28,'Annual Assumptions'!$B$8:$B$12,0),MATCH(YEAR('Project Background'!$D$13),'Annual Assumptions'!$B$8:$BZ$8,1))),\"No start date\")","v":"No start date"},{"$f":"IFERROR((INDEX('Annual Assumptions'!$B$8:$BZ$12,MATCH(K$28,'Annual Assumptions'!$B$8:$B$12,0),MATCH(YEAR('Project Background'!$D$13),'Annual Assumptions'!$B$8:$BZ$8,1))),\"No start date\")","v":"No start date"},{"$f":"IFERROR((INDEX('Annual Assumptions'!$B$8:$BZ$12,MATCH(L$28,'Annual Assumptions'!$B$8:$B$12,0),MATCH(YEAR('Project Background'!$D$13),'Annual Assumptions'!$B$8:$BZ$8,1))),\"No start date\")","v":"No start date"},{"$f":"IFERROR((INDEX('Annual Assumptions'!$B$8:$BZ$12,MATCH(M$28,'Annual Assumptions'!$B$8:$B$12,0),MATCH(YEAR('Project Background'!$D$13),'Annual Assumptions'!$B$8:$BZ$8,1))),\"No start date\")","v":"No start date"},"=","","","","","=",0]
[null,"Glass",0,"x",{"$f":"IF('User Inputs'!$F19=\"Domestic\",\nINDEX(Assumptions!$B$40:$F$51,MATCH(Construction!$B33,Assumptions!$B$40:$B$51,0),MATCH(Construction!E$28,Assumptions!$B$42:$F$42,0)),\nIF('User Inputs'!$F19=\"Imported\",\nINDEX(Assumptions!$B$40:$N$51,MATCH(Construction!$B33,Assumptions!$B$40:$B$51,0),6),\n(INDEX(Assumptions!$B$40:$N$51,MATCH(Construction!$B33,Assumptions!$B$40:$B$51,0),10)\n)\n))","v":0},{"$f":"IF('User Inputs'!$F19=\"Domestic\",\nINDEX(Assumptions!$B$40:$F$51,MATCH(Construction!$B33,Assumptions!$B$40:$B$51,0),MATCH(Construction!F$28,Assumptions!$B$42:$F$42,0)),\nIF('User Inputs'!$F19=\"Imported\",\nINDEX(Assumptions!$B$40:$N$51,MATCH(Construction!$B33,Assumptions!$B$40:$B$51,0),7),\n(INDEX(Assumptions!$B$40:$N$51,MATCH(Construction!$B33,Assumptions!$B$40:$B$51,0),11)\n)\n))","v":293.92},{"$f":"IF('User Inputs'!$F19=\"Domestic\",\nINDEX(Assumptions!$B$40:$F$51,MATCH(Construction!$B33,Assumptions!$B$40:$B$51,0),MATCH(Construction!G$28,Assumptions!$B$42:$F$42,0)),\nIF('User Inputs'!$F19=\"Imported\",\nINDEX(Assumptions!$B$40:$N$51,MATCH(Construction!$B33,Assumptions!$B$40:$B$51,0),8),\n(INDEX(Assumptions!$B$40:$N$51,MATCH(Construction!$B33,Assumptions!$B$40:$B$51,0),12)\n)\n))","v":271.17419482309532},{"$f":"IF('User Inputs'!$F19=\"Domestic\",\nINDEX(Assumptions!$B$40:$F$51,MATCH(Construction!$B33,Assumptions!$B$40:$B$51,0),MATCH(Construction!H$28,Assumptions!$B$42:$F$42,0)),\nIF('User Inputs'!$F19=\"Imported\",\nINDEX(Assumptions!$B$40:$N$51,MATCH(Construction!$B33,Assumptions!$B$40:$B$51,0),9),\n(INDEX(Assumptions!$B$40:$N$51,MATCH(Construction!$B33,Assumptions!$B$40:$B$51,0),13)\n)\n))","v":4.4483105703757166},"x",{"$f":"IFERROR((INDEX('Annual Assumptions'!$B$8:$BZ$12,MATCH(J$28,'Annual Assumptions'!$B$8:$B$12,0),MATCH(YEAR('Project Background'!$D$13),'Annual Assumptions'!$B$8:$BZ$8,1))),\"No start date\")","v":"No start date"},{"$f":"IFERROR((INDEX('Annual Assumptions'!$B$8:$BZ$12,MATCH(K$28,'Annual Assumptions'!$B$8:$B$12,0),MATCH(YEAR('Project Background'!$D$13),'Annual Assumptions'!$B$8:$BZ$8,1))),\"No start date\")","v":"No start date"},{"$f":"IFERROR((INDEX('Annual Assumptions'!$B$8:$BZ$12,MATCH(L$28,'Annual Assumptions'!$B$8:$B$12,0),MATCH(YEAR('Project Background'!$D$13),'Annual Assumptions'!$B$8:$BZ$8,1))),\"No start date\")","v":"No start date"},{"$f":"IFERROR((INDEX('Annual Assumptions'!$B$8:$BZ$12,MATCH(M$28,'Annual Assumptions'!$B$8:$B$12,0),MATCH(YEAR('Project Background'!$D$13),'Annual Assumptions'!$B$8:$BZ$8,1))),\"No start date\")","v":"No start date"},"=","","","","","=",0]
[null,"Insulation (residential)",0,"x",{"$f":"IF('User Inputs'!$F20=\"Domestic\",\nINDEX(Assumptions!$B$40:$F$51,MATCH(Construction!$B34,Assumptions!$B$40:$B$51,0),MATCH(Construction!E$28,Assumptions!$B$42:$F$42,0)),\nIF('User Inputs'!$F20=\"Imported\",\nINDEX(Assumptions!$B$40:$N$51,MATCH(Construction!$B34,Assumptions!$B$40:$B$51,0),6),\n(INDEX(Assumptions!$B$40:$N$51,MATCH(Construction!$B34,Assumptions!$B$40:$B$51,0),10)\n)\n))","v":0},{"$f":"IF('User Inputs'!$F20=\"Domestic\",\nINDEX(Assumptions!$B$40:$F$51,MATCH(Construction!$B34,Assumptions!$B$40:$B$51,0),MATCH(Construction!F$28,Assumptions!$B$42:$F$42,0)),\nIF('User Inputs'!$F20=\"Imported\",\nINDEX(Assumptions!$B$40:$N$51,MATCH(Construction!$B34,Assumptions!$B$40:$B$51,0),7),\n(INDEX(Assumptions!$B$40:$N$51,MATCH(Construction!$B34,Assumptions!$B$40:$B$51,0),11)\n)\n))","v":0},{"$f":"IF('User Inputs'!$F20=\"Domestic\",\nINDEX(Assumptions!$B$40:$F$51,MATCH(Construction!$B34,Assumptions!$B$40:$B$51,0),MATCH(Construction!G$28,Assumptions!$B$42:$F$42,0)),\nIF('User Inputs'!$F20=\"Imported\",\nINDEX(Assumptions!$B$40:$N$51,MATCH(Construction!$B34,Assumptions!$B$40:$B$51,0),8),\n(INDEX(Assumptions!$B$40:$N$51,MATCH(Construction!$B34,Assumptions!$B$40:$B$51,0),12)\n)\n))","v":307.56998799992795},{"$f":"IF('User Inputs'!$F20=\"Domestic\",\nINDEX(Assumptions!$B$40:$F$51,MATCH(Construction!$B34,Assumptions!$B$40:$B$51,0),MATCH(Construction!H$28,Assumptions!$B$42:$F$42,0)),\nIF('User Inputs'!$F20=\"Imported\",\nINDEX(Assumptions!$B$40:$N$51,MATCH(Construction!$B34,Assumptions!$B$40:$B$51,0),9),\n(INDEX(Assumptions!$B$40:$N$51,MATCH(Construction!$B34,Assumptions!$B$40:$B$51,0),13)\n)\n))","v":5.0453430115020961},"x",{"$f":"IFERROR((INDEX('Annual Assumptions'!$B$8:$BZ$12,MATCH(J$28,'Annual Assumptions'!$B$8:$B$12,0),MATCH(YEAR('Project Background'!$D$13),'Annual Assumptions'!$B$8:$BZ$8,1))),\"No start date\")","v":"No start date"},{"$f":"IFERROR((INDEX('Annual Assumptions'!$B$8:$BZ$12,MATCH(K$28,'Annual Assumptions'!$B$8:$B$12,0),MATCH(YEAR('Project Background'!$D$13),'Annual Assumptions'!$B$8:$BZ$8,1))),\"No start date\")","v":"No start date"},{"$f":"IFERROR((INDEX('Annual Assumptions'!$B$8:$BZ$12,MATCH(L$28,'Annual Assumptions'!$B$8:$B$12,0),MATCH(YEAR('Project Background'!$D$13),'Annual Assumptions'!$B$8:$BZ$8,1))),\"No start date\")","v":"No start date"},{"$f":"IFERROR((INDEX('Annual Assumptions'!$B$8:$BZ$12,MATCH(M$28,'Annual Assumptions'!$B$8:$B$12,0),MATCH(YEAR('Project Background'!$D$13),'Annual Assumptions'!$B$8:$BZ$8,1))),\"No start date\")","v":"No start date"},"=","","","","","=",0]
[null,{"$f":"B19","v":"Insulation (commercial)"},{"$f":"C19","v":0},"x",{"$f":"IF('User Inputs'!$F21=\"Domestic\",\nINDEX(Assumptions!$B$40:$F$51,MATCH(Construction!$B35,Assumptions!$B$40:$B$51,0),MATCH(Construction!E$28,Assumptions!$B$42:$F$42,0)),\nIF('User Inputs'!$F21=\"Imported\",\nINDEX(Assumptions!$B$40:$N$51,MATCH(Construction!$B35,Assumptions!$B$40:$B$51,0),6),\n(INDEX(Assumptions!$B$40:$N$51,MATCH(Construction!$B35,Assumptions!$B$40:$B$51,0),10)\n)\n))","v":0},{"$f":"IF('User Inputs'!$F21=\"Domestic\",\nINDEX(Assumptions!$B$40:$F$51,MATCH(Construction!$B35,Assumptions!$B$40:$B$51,0),MATCH(Construction!F$28,Assumptions!$B$42:$F$42,0)),\nIF('User Inputs'!$F21=\"Imported\",\nINDEX(Assumptions!$B$40:$N$51,MATCH(Construction!$B35,Assumptions!$B$40:$B$51,0),7),\n(INDEX(Assumptions!$B$40:$N$51,MATCH(Construction!$B35,Assumptions!$B$40:$B$51,0),11)\n)\n))","v":0},{"$f":"IF('User Inputs'!$F21=\"Domestic\",\nINDEX(Assumptions!$B$40:$F$51,MATCH(Construction!$B35,Assumptions!$B$40:$B$51,0),MATCH(Construction!G$28,Assumptions!$B$42:$F$42,0)),\nIF('User Inputs'!$F21=\"Imported\",\nINDEX(Assumptions!$B$40:$N$51,MATCH(Construction!$B35,Assumptions!$B$40:$B$51,0),8),\n(INDEX(Assumptions!$B$40:$N$51,MATCH(Construction!$B35,Assumptions!$B$40:$B$51,0),12)\n)\n))","v":307.56998799992795},{"$f":"IF('User Inputs'!$F21=\"Domestic\",\nINDEX(Assumptions!$B$40:$F$51,MATCH(Construction!$B35,Assumptions!$B$40:$B$51,0),MATCH(Construction!H$28,Assumptions!$B$42:$F$42,0)),\nIF('User Inputs'!$F21=\"Imported\",\nINDEX(Assumptions!$B$40:$N$51,MATCH(Construction!$B35,Assumptions!$B$40:$B$51,0),9),\n(INDEX(Assumptions!$B$40:$N$51,MATCH(Construction!$B35,Assumptions!$B$40:$B$51,0),13)\n)\n))","v":5.0453430115020961},"x",{"$f":"IFERROR((INDEX('Annual Assumptions'!$B$8:$BZ$12,MATCH(J$28,'Annual Assumptions'!$B$8:$B$12,0),MATCH(YEAR('Project Background'!$D$13),'Annual Assumptions'!$B$8:$BZ$8,1))),\"No start date\")","v":"No start date"},{"$f":"IFERROR((INDEX('Annual Assumptions'!$B$8:$BZ$12,MATCH(K$28,'Annual Assumptions'!$B$8:$B$12,0),MATCH(YEAR('Project Background'!$D$13),'Annual Assumptions'!$B$8:$BZ$8,1))),\"No start date\")","v":"No start date"},{"$f":"IFERROR((INDEX('Annual Assumptions'!$B$8:$BZ$12,MATCH(L$28,'Annual Assumptions'!$B$8:$B$12,0),MATCH(YEAR('Project Background'!$D$13),'Annual Assumptions'!$B$8:$BZ$8,1))),\"No start date\")","v":"No start date"},{"$f":"IFERROR((INDEX('Annual Assumptions'!$B$8:$BZ$12,MATCH(M$28,'Annual Assumptions'!$B$8:$B$12,0),MATCH(YEAR('Project Background'!$D$13),'Annual Assumptions'!$B$8:$BZ$8,1))),\"No start date\")","v":"No start date"},"=","","","","","=",0]
[null,{"$f":"B20","v":"Steel"},0,"x",{"$f":"IF('User Inputs'!$F22=\"Domestic\",\nINDEX(Assumptions!$B$40:$F$51,MATCH(Construction!$B36,Assumptions!$B$40:$B$51,0),MATCH(Construction!E$28,Assumptions!$B$42:$F$42,0)),\nIF('User Inputs'!$F22=\"Imported\",\nINDEX(Assumptions!$B$40:$N$51,MATCH(Construction!$B36,Assumptions!$B$40:$B$51,0),6),\n(INDEX(Assumptions!$B$40:$N$51,MATCH(Construction!$B36,Assumptions!$B$40:$B$51,0),10)\n)\n))","v":10.315932273939669},{"$f":"IF('User Inputs'!$F22=\"Domestic\",\nINDEX(Assumptions!$B$40:$F$51,MATCH(Construction!$B36,Assumptions!$B$40:$B$51,0),MATCH(Construction!F$28,Assumptions!$B$42:$F$42,0)),\nIF('User Inputs'!$F22=\"Imported\",\nINDEX(Assumptions!$B$40:$N$51,MATCH(Construction!$B36,Assumptions!$B$40:$B$51,0),7),\n(INDEX(Assumptions!$B$40:$N$51,MATCH(Construction!$B36,Assumptions!$B$40:$B$51,0),11)\n)\n))","v":0},{"$f":"IF('User Inputs'!$F22=\"Domestic\",\nINDEX(Assumptions!$B$40:$F$51,MATCH(Construction!$B36,Assumptions!$B$40:$B$51,0),MATCH(Construction!G$28,Assumptions!$B$42:$F$42,0)),\nIF('User Inputs'!$F22=\"Imported\",\nINDEX(Assumptions!$B$40:$N$51,MATCH(Construction!$B36,Assumptions!$B$40:$B$51,0),8),\n(INDEX(Assumptions!$B$40:$N$51,MATCH(Construction!$B36,Assumptions!$B$40:$B$51,0),12)\n)\n))","v":563.86511621317732},{"$f":"IF('User Inputs'!$F22=\"Domestic\",\nINDEX(Assumptions!$B$40:$F$51,MATCH(Construction!$B36,Assumptions!$B$40:$B$51,0),MATCH(Construction!H$28,Assumptions!$B$42:$F$42,0)),\nIF('User Inputs'!$F22=\"Imported\",\nINDEX(Assumptions!$B$40:$N$51,MATCH(Construction!$B36,Assumptions!$B$40:$B$51,0),9),\n(INDEX(Assumptions!$B$40:$N$51,MATCH(Construction!$B36,Assumptions!$B$40:$B$51,0),13)\n)\n))","v":1.2575857895754308},"x",{"$f":"IFERROR((INDEX('Annual Assumptions'!$B$8:$BZ$12,MATCH(J$28,'Annual Assumptions'!$B$8:$B$12,0),MATCH(YEAR('Project Background'!$D$13),'Annual Assumptions'!$B$8:$BZ$8,1))),\"No start date\")","v":"No start date"},{"$f":"IFERROR((INDEX('Annual Assumptions'!$B$8:$BZ$12,MATCH(K$28,'Annual Assumptions'!$B$8:$B$12,0),MATCH(YEAR('Project Background'!$D$13),'Annual Assumptions'!$B$8:$BZ$8,1))),\"No start date\")","v":"No start date"},{"$f":"IFERROR((INDEX('Annual Assumptions'!$B$8:$BZ$12,MATCH(L$28,'Annual Assumptions'!$B$8:$B$12,0),MATCH(YEAR('Project Background'!$D$13),'Annual Assumptions'!$B$8:$BZ$8,1))),\"No start date\")","v":"No start date"},{"$f":"IFERROR((INDEX('Annual Assumptions'!$B$8:$BZ$12,MATCH(M$28,'Annual Assumptions'!$B$8:$B$12,0),MATCH(YEAR('Project Background'!$D$13),'Annual Assumptions'!$B$8:$BZ$8,1))),\"No start date\")","v":"No start date"},"=","","","","","=",0]
[null,{"$f":"B21","v":"Wood Products"},0,"x",{"$f":"IF('User Inputs'!$F23=\"Domestic\",\nINDEX(Assumptions!$B$40:$F$51,MATCH(Construction!$B37,Assumptions!$B$40:$B$51,0),MATCH(Construction!E$28,Assumptions!$B$42:$F$42,0)),\nIF('User Inputs'!$F23=\"Imported\",\nINDEX(Assumptions!$B$40:$N$51,MATCH(Construction!$B37,Assumptions!$B$40:$B$51,0),6),\n(INDEX(Assumptions!$B$40:$N$51,MATCH(Construction!$B37,Assumptions!$B$40:$B$51,0),10)\n)\n))","v":0},{"$f":"IF('User Inputs'!$F23=\"Domestic\",\nINDEX(Assumptions!$B$40:$F$51,MATCH(Construction!$B37,Assumptions!$B$40:$B$51,0),MATCH(Construction!F$28,Assumptions!$B$42:$F$42,0)),\nIF('User Inputs'!$F23=\"Imported\",\nINDEX(Assumptions!$B$40:$N$51,MATCH(Construction!$B37,Assumptions!$B$40:$B$51,0),7),\n(INDEX(Assumptions!$B$40:$N$51,MATCH(Construction!$B37,Assumptions!$B$40:$B$51,0),11)\n)\n))","v":0},{"$f":"IF('User Inputs'!$F23=\"Domestic\",\nINDEX(Assumptions!$B$40:$F$51,MATCH(Construction!$B37,Assumptions!$B$40:$B$51,0),MATCH(Construction!G$28,Assumptions!$B$42:$F$42,0)),\nIF('User Inputs'!$F23=\"Imported\",\nINDEX(Assumptions!$B$40:$N$51,MATCH(Construction!$B37,Assumptions!$B$40:$B$51,0),8),\n(INDEX(Assumptions!$B$40:$N$51,MATCH(Construction!$B37,Assumptions!$B$40:$B$51,0),12)\n)\n))","v":447.66796549784988},{"$f":"IF('User Inputs'!$F23=\"Domestic\",\nINDEX(Assumptions!$B$40:$F$51,MATCH(Construction!$B37,Assumptions!$B$40:$B$51,0),MATCH(Construction!H$28,Assumptions!$B$42:$F$42,0)),\nIF('User Inputs'!$F23=\"Imported\",\nINDEX(Assumptions!$B$40:$N$51,MATCH(Construction!$B37,Assumptions!$B$40:$B$51,0),9),\n(INDEX(Assumptions!$B$40:$N$51,MATCH(Construction!$B37,Assumptions!$B$40:$B$51,0),13)\n)\n))","v":20.702259342773328},"x",{"$f":"IFERROR((INDEX('Annual Assumptions'!$B$8:$BZ$12,MATCH(J$28,'Annual Assumptions'!$B$8:$B$12,0),MATCH(YEAR('Project Background'!$D$13),'Annual Assumptions'!$B$8:$BZ$8,1))),\"No start date\")","v":"No start date"},{"$f":"IFERROR((INDEX('Annual Assumptions'!$B$8:$BZ$12,MATCH(K$28,'Annual Assumptions'!$B$8:$B$12,0),MATCH(YEAR('Project Background'!$D$13),'Annual Assumptions'!$B$8:$BZ$8,1))),\"No start date\")","v":"No start date"},{"$f":"IFERROR((INDEX('Annual Assumptions'!$B$8:$BZ$12,MATCH(L$28,'Annual Assumptions'!$B$8:$B$12,0),MATCH(YEAR('Project Background'!$D$13),'Annual Assumptions'!$B$8:$BZ$8,1))),\"No start date\")","v":"No start date"},{"$f":"IFERROR((INDEX('Annual Assumptions'!$B$8:$BZ$12,MATCH(M$28,'Annual Assumptions'!$B$8:$B$12,0),MATCH(YEAR('Project Background'!$D$13),'Annual Assumptions'!$B$8:$BZ$8,1))),\"No start date\")","v":"No start date"},"=","","","","","=",0]
[]
[null,null,null,null,null,null,null,null,null,null,null,null,null,null,null,null,null,null,"Total",{"$f":"SUM(T29:T37)","v":0}]
[1]
[null,"Employee Commuting"]
[]
[null,"Construction Stage","Number of Employees",null,"Construction Days",null,"Commuting Distance",null,"Total Distance"]
[null,null,null,null,null,null,"miles/day",null,"miles"]
[null,{"$f":"'User Inputs'!C30","v":"Demolition"},{"$f":"'User Inputs'!D30","v":0},"x",{"$f":"'Project Background'!G16","v":0},"x",{"$f":"'User Inputs'!D38*2","v":0},"=",{"$f":"C45*E45*G45","v":0}]
[null,{"$f":"'User Inputs'!C31","v":"Site Preparation"},{"$f":"'User Inputs'!D31","v":0},"x",{"$f":"'Project Background'!G17","v":0},"x",{"$f":"$G$45","v":0},"=",{"$f":"C46*E46*G46","v":0}]
[null,{"$f":"'User Inputs'!C32","v":"Grading"},{"$f":"'User Inputs'!D32","v":0},"x",{"$f":"'Project Background'!G18","v":0},"x",{"$f":"$G$45","v":0},"=",0]
[null,{"$f":"'User Inputs'!C33","v":"Building Construction"},{"$f":"'User Inputs'!D33","v":0},"x",{"$f":"'Project Background'!G19","v":0},"x",0,"=",0]
[null,{"$f":"'User Inputs'!C34","v":"Architectural Coatings"},{"$f":"'User Inputs'!D34","v":0},"x",{"$f":"'Project Background'!G20","v":0},"x",0,"=",0]
[null,{"$f":"'User Inputs'!C35","v":"Paving and Landscaping"},{"$f":"'User Inputs'!D35","v":0},"x",{"$f":"'Project Background'!G21","v":0},"x",0,"=",0]
[]
[null,null,null,null,null,null,null,"Total",{"$f":"SUM(I45:I50)","v":0}]
[]
[null,"Commuting Mode","Emission Factor",null,"Mode Breakout",null,"Total Distance",null,"GHG Emissions"]
[null,null,"kgCO2e/\npassenger-mile",null,null,null,"miles",null,"kgCO2e"]
[null,"Single Occupancy Vehicle",{"$f":"Assumptions!C89","v":0.38854191612443478},"x",{"$f":"_xlfn.XLOOKUP(B56,'User Inputs'!$C$40:$C$46,'User Inputs'!$D$40:$D$46)","v":0},"x",{"$f":"I52","v":0},"=",{"$f":"C56*E56*G56","v":0}]
[null,"Carpool",{"$f":"Assumptions!C90","v":0.15730441948357682},"x",{"$f":"_xlfn.XLOOKUP(B57,'User Inputs'!$C$40:$C$46,'User Inputs'!$D$40:$D$46)","v":0},"x",{"$f":"$G$56","v":0},"=",{"$f":"C57*E57*G57","v":0}]
[null,"Motorcycle",{"$f":"Assumptions!C91","v":0.43295985618145078},"x",{"$f":"_xlfn.XLOOKUP(B58,'User Inputs'!$C$40:$C$46,'User Inputs'!$D$40:$D$46)","v":0},"x",{"$f":"$G$56","v":0},"=",0]
[null,"Bus",{"$f":"Assumptions!C92","v":7.3593664643008899E-2},"x",{"$f":"_xlfn.XLOOKUP(B59,'User Inputs'!$C$40:$C$46,'User Inputs'!$D$40:$D$46)","v":0},"x",{"$f":"$G$56","v":0},"=",0]
[null,"Transit Rail",{"$f":"Assumptions!C93","v":8.0336878478692392E-2},"x",{"$f":"_xlfn.XLOOKUP(B60,'User Inputs'!$C$40:$C$46,'User Inputs'!$D$40:$D$46)","v":0},"x",{"$f":"$G$56","v":0},"=",0]
[null,"Bike/Walk",{"$f":"Assumptions!C94","v":0},"x",{"$f":"_xlfn.XLOOKUP(B61,'User Inputs'!$C$40:$C$46,'User Inputs'!$D$40:$D$46)","v":0},"x",{"$f":"$G$56","v":0},"=",0]
[null,null,null,null,{"$f":"IF(SUM(E56:E61)<>100%,\"Values do not sum to 100%\",\"\")","v":"Values do not sum to 100%"}]
[null,null,null,null,null,null,null,"Total",{"$f":"SUM(I56:I61)","v":0}]
[]
[null,"Construction Equipment",null,"No Approach Selected"]
[]
[null,"Approach 1: Emissions Based on Equipment Use"]
[]
[null,"Equipment Type","Hours/Day",null,null,null,null,null,null,"Days",null,null,null,null,null,null,"Hours/Equipment",null,null,null,null,null,null,"Hours/Equipment"]
[null,null,"Demolition","Site Preparation","Grading","Building Construction","Architectural Coating","Paving and Landscaping",null,"Demolition","Site Preparation","Grading","Building Construction","Architectural Coating","Paving and Landscaping",null,"Demolition","Site Preparation","Grading","Building Construction","Architectural Coating","Paving and Landscaping"]
[null,"Air Compressors",{"$f":"IF('User Inputs'!$E$52=\"E\",'User Inputs'!E61,0)","v":0},{"$f":"IF('User Inputs'!$E$52=\"E\",'User Inputs'!F61,0)","v":0},{"$f":"IF('User Inputs'!$E$52=\"E\",'User Inputs'!G61,0)","v":0},{"$f":"IF('User Inputs'!$E$52=\"E\",'User Inputs'!H61,0)","v":0},{"$f":"IF('User Inputs'!$E$52=\"E\",'User Inputs'!I61,0)","v":0},{"$f":"IF('User Inputs'!$E$52=\"E\",'User Inputs'!J61,0)","v":0},"x",{"$f":"'Project Background'!$G$16","v":0},{"$f":"'Project Background'!$G$17","v":0},{"$f":"'Project Background'!$G$18","v":0},{"$f":"'Project Background'!$G$19","v":0},{"$f":"'Project Background'!$G$20","v":0},{"$f":"'Project Background'!$G$21","v":0},"=",{"$f":"C71*J71","v":0},{"$f":"D71*K71","v":0},{"$f":"E71*L71","v":0},{"$f":"F71*M71","v":0},{"$f":"G71*N71","v":0},{"$f":"H71*O71","v":0},"=",{"$f":"SUM(Q71:V71)","v":0}]
[null,"Cement and Mortar Mixers",{"$f":"IF('User Inputs'!$E$52=\"E\",'User Inputs'!E62,0)","v":0},{"$f":"IF('User Inputs'!$E$52=\"E\",'User Inputs'!F62,0)","v":0},{"$f":"IF('User Inputs'!$E$52=\"E\",'User Inputs'!G62,0)","v":0},{"$f":"IF('User Inputs'!$E$52=\"E\",'User Inputs'!H62,0)","v":0},{"$f":"IF('User Inputs'!$E$52=\"E\",'User Inputs'!I62,0)","v":0},{"$f":"IF('User Inputs'!$E$52=\"E\",'User Inputs'!J62,0)","v":0},"x",{"$f":"'Project Background'!$G$16","v":0},{"$f":"'Project Background'!$G$17","v":0},{"$f":"'Project Background'!$G$18","v":0},{"$f":"'Project Background'!$G$19","v":0},{"$f":"'Project Background'!$G$20","v":0},{"$f":"'Project Background'!$G$21","v":0},"=",0,0,0,0,0,0,"=",{"$f":"SUM(Q72:V72)","v":0}]
[null,"Concrete/Industrial Saws",{"$f":"IF('User Inputs'!$E$52=\"E\",'User Inputs'!E63,0)","v":0},{"$f":"IF('User Inputs'!$E$52=\"E\",'User Inputs'!F63,0)","v":0},{"$f":"IF('User Inputs'!$E$52=\"E\",'User Inputs'!G63,0)","v":0},{"$f":"IF('User Inputs'!$E$52=\"E\",'User Inputs'!H63,0)","v":0},{"$f":"IF('User Inputs'!$E$52=\"E\",'User Inputs'!I63,0)","v":0},{"$f":"IF('User Inputs'!$E$52=\"E\",'User Inputs'!J63,0)","v":0},"x",{"$f":"'Project Background'!$G$16","v":0},{"$f":"'Project Background'!$G$17","v":0},{"$f":"'Project Background'!$G$18","v":0},{"$f":"'Project Background'!$G$19","v":0},{"$f":"'Project Background'!$G$20","v":0},{"$f":"'Project Background'!$G$21","v":0},"=",0,0,0,0,0,0,"=",0]
[null,"Cranes",{"$f":"IF('User Inputs'!$E$52=\"E\",'User Inputs'!E64,0)","v":0},{"$f":"IF('User Inputs'!$E$52=\"E\",'User Inputs'!F64,0)","v":0},{"$f":"IF('User Inputs'!$E$52=\"E\",'User Inputs'!G64,0)","v":0},{"$f":"IF('User Inputs'!$E$52=\"E\",'User Inputs'!H64,0)","v":0},{"$f":"IF('User Inputs'!$E$52=\"E\",'User Inputs'!I64,0)","v":0},{"$f":"IF('User Inputs'!$E$52=\"E\",'User Inputs'!J64,0)","v":0},"x",{"$f":"'Project Background'!$G$16","v":0},{"$f":"'Project Background'!$G$17","v":0},{"$f":"'Project Background'!$G$18","v":0},{"$f":"'Project Background'!$G$19","v":0},{"$f":"'Project Background'!$G$20","v":0},{"$f":"'Project Background'!$G$21","v":0},"=",0,0,0,0,0,0,"=",0]
[null,"Excavators",{"$f":"IF('User Inputs'!$E$52=\"E\",'User Inputs'!E65,0)","v":0},{"$f":"IF('User Inputs'!$E$52=\"E\",'User Inputs'!F65,0)","v":0},{"$f":"IF('User Inputs'!$E$52=\"E\",'User Inputs'!G65,0)","v":0},{"$f":"IF('User Inputs'!$E$52=\"E\",'User Inputs'!H65,0)","v":0},{"$f":"IF('User Inputs'!$E$52=\"E\",'User Inputs'!I65,0)","v":0},{"$f":"IF('User Inputs'!$E$52=\"E\",'User Inputs'!J65,0)","v":0},"x",{"$f":"'Project Background'!$G$16","v":0},{"$f":"'Project Background'!$G$17","v":0},{"$f":"'Project Background'!$G$18","v":0},{"$f":"'Project Background'!$G$19","v":0},{"$f":"'Project Background'!$G$20","v":0},{"$f":"'Project Background'!$G$21","v":0},"=",0,0,0,0,0,0,"=",0]
[null,"Forklifts",{"$f":"IF('User Inputs'!$E$52=\"E\",'User Inputs'!E66,0)","v":0},{"$f":"IF('User Inputs'!$E$52=\"E\",'User Inputs'!F66,0)","v":0},{"$f":"IF('User Inputs'!$E$52=\"E\",'User Inputs'!G66,0)","v":0},{"$f":"IF('User Inputs'!$E$52=\"E\",'User Inputs'!H66,0)","v":0},{"$f":"IF('User Inputs'!$E$52=\"E\",'User Inputs'!I66,0)","v":0},{"$f":"IF('User Inputs'!$E$52=\"E\",'User Inputs'!J66,0)","v":0},"x",{"$f":"'Project Background'!$G$16","v":0},{"$f":"'Project Background'!$G$17","v":0},{"$f":"'Project Background'!$G$18","v":0},{"$f":"'Project Background'!$G$19","v":0},{"$f":"'Project Background'!$G$20","v":0},{"$f":"'Project Background'!$G$21","v":0},"=",0,0,0,0,0,0,"=",0]
[null,"Generator Sets",{"$f":"IF('User Inputs'!$E$52=\"E\",'User Inputs'!E67,0)","v":0},{"$f":"IF('User Inputs'!$E$52=\"E\",'User Inputs'!F67,0)","v":0},{"$f":"IF('User Inputs'!$E$52=\"E\",'User Inputs'!G67,0)","v":0},{"$f":"IF('User Inputs'!$E$52=\"E\",'User Inputs'!H67,0)","v":0},{"$f":"IF('User Inputs'!$E$52=\"E\",'User Inputs'!I67,0)","v":0},{"$f":"IF('User Inputs'!$E$52=\"E\",'User Inputs'!J67,0)","v":0},"x",{"$f":"'Project Background'!$G$16","v":0},{"$f":"'Project Background'!$G$17","v":0},{"$f":"'Project Background'!$G$18","v":0},{"$f":"'Project Background'!$G$19","v":0},{"$f":"'Project Background'!$G$20","v":0},{"$f":"'Project Background'!$G$21","v":0},"=",0,0,0,0,0,0,"=",0]
[null,"Graders",{"$f":"IF('User Inputs'!$E$52=\"E\",'User Inputs'!E68,0)","v":0},{"$f":"IF('User Inputs'!$E$52=\"E\",'User Inputs'!F68,0)","v":0},{"$f":"IF('User Inputs'!$E$52=\"E\",'User Inputs'!G68,0)","v":0},{"$f":"IF('User Inputs'!$E$52=\"E\",'User Inputs'!H68,0)","v":0},{"$f":"IF('User Inputs'!$E$52=\"E\",'User Inputs'!I68,0)","v":0},{"$f":"IF('User Inputs'!$E$52=\"E\",'User Inputs'!J68,0)","v":0},"x",{"$f":"'Project Background'!$G$16","v":0},{"$f":"'Project Background'!$G$17","v":0},{"$f":"'Project Background'!$G$18","v":0},{"$f":"'Project Background'!$G$19","v":0},{"$f":"'Project Background'!$G$20","v":0},{"$f":"'Project Background'!$G$21","v":0},"=",0,0,0,0,0,0,"=",0]
[null,"Pavers",{"$f":"IF('User Inputs'!$E$52=\"E\",'User Inputs'!E69,0)","v":0},{"$f":"IF('User Inputs'!$E$52=\"E\",'User Inputs'!F69,0)","v":0},{"$f":"IF('User Inputs'!$E$52=\"E\",'User Inputs'!G69,0)","v":0},{"$f":"IF('User Inputs'!$E$52=\"E\",'User Inputs'!H69,0)","v":0},{"$f":"IF('User Inputs'!$E$52=\"E\",'User Inputs'!I69,0)","v":0},{"$f":"IF('User Inputs'!$E$52=\"E\",'User Inputs'!J69,0)","v":0},"x",{"$f":"'Project Background'!$G$16","v":0},{"$f":"'Project Background'!$G$17","v":0},{"$f":"'Project Background'!$G$18","v":0},{"$f":"'Project Background'!$G$19","v":0},{"$f":"'Project Background'!$G$20","v":0},{"$f":"'Project Background'!$G$21","v":0},"=",0,0,0,0,0,0,"=",0]
[null,"Paving Equipment",{"$f":"IF('User Inputs'!$E$52=\"E\",'User Inputs'!E70,0)","v":0},{"$f":"IF('User Inputs'!$E$52=\"E\",'User Inputs'!F70,0)","v":0},{"$f":"IF('User Inputs'!$E$52=\"E\",'User Inputs'!G70,0)","v":0},{"$f":"IF('User Inputs'!$E$52=\"E\",'User Inputs'!H70,0)","v":0},{"$f":"IF('User Inputs'!$E$52=\"E\",'User Inputs'!I70,0)","v":0},{"$f":"IF('User Inputs'!$E$52=\"E\",'User Inputs'!J70,0)","v":0},"x",{"$f":"'Project Background'!$G$16","v":0},{"$f":"'Project Background'!$G$17","v":0},{"$f":"'Project Background'!$G$18","v":0},{"$f":"'Project Background'!$G$19","v":0},{"$f":"'Project Background'!$G$20","v":0},{"$f":"'Project Background'!$G$21","v":0},"=",0,0,0,0,0,0,"=",0]
[null,"Rollers",{"$f":"IF('User Inputs'!$E$52=\"E\",'User Inputs'!E71,0)","v":0},{"$f":"IF('User Inputs'!$E$52=\"E\",'User Inputs'!F71,0)","v":0},{"$f":"IF('User Inputs'!$E$52=\"E\",'User Inputs'!G71,0)","v":0},{"$f":"IF('User Inputs'!$E$52=\"E\",'User Inputs'!H71,0)","v":0},{"$f":"IF('User Inputs'!$E$52=\"E\",'User Inputs'!I71,0)","v":0},{"$f":"IF('User Inputs'!$E$52=\"E\",'User Inputs'!J71,0)","v":0},"x",{"$f":"'Project Background'!$G$16","v":0},{"$f":"'Project Background'!$G$17","v":0},{"$f":"'Project Background'!$G$18","v":0},{"$f":"'Project Background'!$G$19","v":0},{"$f":"'Project Background'!$G$20","v":0},{"$f":"'Project Background'!$G$21","v":0},"=",0,0,0,0,0,0,"=",0]
[null,"Rubber Tired Dozers",{"$f":"IF('User Inputs'!$E$52=\"E\",'User Inputs'!E72,0)","v":0},{"$f":"IF('User Inputs'!$E$52=\"E\",'User Inputs'!F72,0)","v":0},{"$f":"IF('User Inputs'!$E$52=\"E\",'User Inputs'!G72,0)","v":0},{"$f":"IF('User Inputs'!$E$52=\"E\",'User Inputs'!H72,0)","v":0},{"$f":"IF('User Inputs'!$E$52=\"E\",'User Inputs'!I72,0)","v":0},{"$f":"IF('User Inputs'!$E$52=\"E\",'User Inputs'!J72,0)","v":0},"x",{"$f":"'Project Background'!$G$16","v":0},{"$f":"'Project Background'!$G$17","v":0},{"$f":"'Project Background'!$G$18","v":0},{"$f":"'Project Background'!$G$19","v":0},{"$f":"'Project Background'!$G$20","v":0},{"$f":"'Project Background'!$G$21","v":0},"=",0,0,0,0,0,0,"=",0]
[null,"Scrapers",{"$f":"IF('User Inputs'!$E$52=\"E\",'User Inputs'!E73,0)","v":0},{"$f":"IF('User Inputs'!$E$52=\"E\",'User Inputs'!F73,0)","v":0},{"$f":"IF('User Inputs'!$E$52=\"E\",'User Inputs'!G73,0)","v":0},{"$f":"IF('User Inputs'!$E$52=\"E\",'User Inputs'!H73,0)","v":0},{"$f":"IF('User Inputs'!$E$52=\"E\",'User Inputs'!I73,0)","v":0},{"$f":"IF('User Inputs'!$E$52=\"E\",'User Inputs'!J73,0)","v":0},"x",{"$f":"'Project Background'!$G$16","v":0},{"$f":"'Project Background'!$G$17","v":0},{"$f":"'Project Background'!$G$18","v":0},{"$f":"'Project Background'!$G$19","v":0},{"$f":"'Project Background'!$G$20","v":0},{"$f":"'Project Background'!$G$21","v":0},"=",0,0,0,0,0,0,"=",0]
[null,"Tractors/Loaders/Backhoes",{"$f":"IF('User Inputs'!$E$52=\"E\",'User Inputs'!E74,0)","v":0},{"$f":"IF('User Inputs'!$E$52=\"E\",'User Inputs'!F74,0)","v":0},{"$f":"IF('User Inputs'!$E$52=\"E\",'User Inputs'!G74,0)","v":0},{"$f":"IF('User Inputs'!$E$52=\"E\",'User Inputs'!H74,0)","v":0},{"$f":"IF('User Inputs'!$E$52=\"E\",'User Inputs'!I74,0)","v":0},{"$f":"IF('User Inputs'!$E$52=\"E\",'User Inputs'!J74,0)","v":0},"x",{"$f":"'Project Background'!$G$16","v":0},{"$f":"'Project Background'!$G$17","v":0},{"$f":"'Project Background'!$G$18","v":0},{"$f":"'Project Background'!$G$19","v":0},{"$f":"'Project Background'!$G$20","v":0},{"$f":"'Project Background'!$G$21","v":0},"=",0,0,0,0,0,0,"=",0]
[null,"Welders",{"$f":"IF('User Inputs'!$E$52=\"E\",'User Inputs'!E75,0)","v":0},{"$f":"IF('User Inputs'!$E$52=\"E\",'User Inputs'!F75,0)","v":0},{"$f":"IF('User Inputs'!$E$52=\"E\",'User Inputs'!G75,0)","v":0},{"$f":"IF('User Inputs'!$E$52=\"E\",'User Inputs'!H75,0)","v":0},{"$f":"IF('User Inputs'!$E$52=\"E\",'User Inputs'!I75,0)","v":0},{"$f":"IF('User Inputs'!$E$52=\"E\",'User Inputs'!J75,0)","v":0},"x",{"$f":"'Project Background'!$G$16","v":0},{"$f":"'Project Background'!$G$17","v":0},{"$f":"'Project Background'!$G$18","v":0},{"$f":"'Project Background'!$G$19","v":0},{"$f":"'Project Background'!$G$20","v":0},{"$f":"'Project Background'!$G$21","v":0},"=",0,0,0,0,0,0,"=",{"$f":"SUM(Q85:V85)","v":0}]
[]
[null,"Equipment Type","Hours/Equipment",null,"Horsepower",null,"Load Factor",null,"Energy Consumption",null,"Unit Conversion",null,"Emissions Factor",null,"GHG Emissions"]
[null,null,null,null,null,null,null,null,"Btu/hp-hr",null,"MMBtu/Btu",null,"kgCO2e/MMBtu",null,"kgCO2e"]
[null,"Air Compressors",{"$f":"X71","v":0},"x",{"$f":"Assumptions!C103","v":37},"x",{"$f":"Assumptions!D103","v":0.48},"x",{"$f":"Assumptions!E103","v":7684.7331467442827},"x",{"$f":"Constants!$F$23","v":9.9999999999999995E-7},"x",{"$f":"IFERROR(IF('User Inputs'!D61=\"Electric\",INDEX('Annual Assumptions'!$B$17:$BZ$18,MATCH(\"Grid Average\",'Annual Assumptions'!$B$17:$B$18,0),MATCH(YEAR('Project Background'!$D$13),'Annual Assumptions'!$B$17:$BZ$17,0)),(INDEX(Assumptions!$B$141:$F$156,MATCH(Construction!B89,Assumptions!$B$141:$B$156,0),MATCH('User Inputs'!D61,Assumptions!$B$141:$F$141,0)))),\"No start date\")","v":93.741064238574651},"=",{"$f":"IFERROR(C89*E89*G89*I89*K89*M89,0)","v":0}]
[null,"Cement and Mortar Mixers",0,"x",{"$f":"Assumptions!C104","v":10},"x",{"$f":"Assumptions!D104","v":0.56000000000000005},"x",{"$f":"Assumptions!E104","v":7709.2352667212108},"x",{"$f":"Constants!$F$23","v":9.9999999999999995E-7},"x",{"$f":"IFERROR(IF('User Inputs'!D62=\"Electric\",INDEX('Annual Assumptions'!$B$17:$BZ$18,MATCH(\"Grid Average\",'Annual Assumptions'!$B$17:$B$18,0),MATCH(YEAR('Project Background'!$D$13),'Annual Assumptions'!$B$17:$BZ$17,0)),(INDEX(Assumptions!$B$141:$F$156,MATCH(Construction!B90,Assumptions!$B$141:$B$156,0),MATCH('User Inputs'!D62,Assumptions!$B$141:$F$141,0)))),\"No start date\")","v":93.741064238574651},"=",{"$f":"IFERROR(C90*E90*G90*I90*K90*M90,0)","v":0}]
[null,"Concrete/Industrial Saws",0,"x",{"$f":"Assumptions!C105","v":33},"x",{"$f":"Assumptions!D105","v":0.73},"x",{"$f":"Assumptions!E105","v":7774.653609983282},"x",{"$f":"Constants!$F$23","v":9.9999999999999995E-7},"x",{"$f":"IFERROR(IF('User Inputs'!D63=\"Electric\",INDEX('Annual Assumptions'!$B$17:$BZ$18,MATCH(\"Grid Average\",'Annual Assumptions'!$B$17:$B$18,0),MATCH(YEAR('Project Background'!$D$13),'Annual Assumptions'!$B$17:$BZ$17,0)),(INDEX(Assumptions!$B$141:$F$156,MATCH(Construction!B91,Assumptions!$B$141:$B$156,0),MATCH('User Inputs'!D63,Assumptions!$B$141:$F$141,0)))),\"No start date\")","v":93.741064238574651},"=",0]
[null,"Cranes",0,"x",{"$f":"Assumptions!C106","v":367},"x",{"$f":"Assumptions!D106","v":0.28999999999999998},"x",{"$f":"Assumptions!E106","v":7133.3762982662747},"x",{"$f":"Constants!$F$23","v":9.9999999999999995E-7},"x",{"$f":"IFERROR(IF('User Inputs'!D64=\"Electric\",INDEX('Annual Assumptions'!$B$17:$BZ$18,MATCH(\"Grid Average\",'Annual Assumptions'!$B$17:$B$18,0),MATCH(YEAR('Project Background'!$D$13),'Annual Assumptions'!$B$17:$BZ$17,0)),(INDEX(Assumptions!$B$141:$F$156,MATCH(Construction!B92,Assumptions!$B$141:$B$156,0),MATCH('User Inputs'!D64,Assumptions!$B$141:$F$141,0)))),\"No start date\")","v":97.083498197674189},"=",0]
[null,"Excavators",0,"x",{"$f":"Assumptions!C107","v":36},"x",{"$f":"Assumptions!D107","v":0.38},"x",{"$f":"Assumptions!E107","v":7938.5846915429656},"x",{"$f":"Constants!$F$23","v":9.9999999999999995E-7},"x",{"$f":"IFERROR(IF('User Inputs'!D65=\"Electric\",INDEX('Annual Assumptions'!$B$17:$BZ$18,MATCH(\"Grid Average\",'Annual Assumptions'!$B$17:$B$18,0),MATCH(YEAR('Project Background'!$D$13),'Annual Assumptions'!$B$17:$BZ$17,0)),(INDEX(Assumptions!$B$141:$F$156,MATCH(Construction!B93,Assumptions!$B$141:$B$156,0),MATCH('User Inputs'!D65,Assumptions!$B$141:$F$141,0)))),\"No start date\")","v":97.083498197674189},"=",0]
[null,"Forklifts",0,"x",{"$f":"Assumptions!C108","v":82},"x",{"$f":"Assumptions!D108","v":0.2},"x",{"$f":"Assumptions!E108","v":7126.9364479127207},"x",{"$f":"Constants!$F$23","v":9.9999999999999995E-7},"x",{"$f":"IFERROR(IF('User Inputs'!D66=\"Electric\",INDEX('Annual Assumptions'!$B$17:$BZ$18,MATCH(\"Grid Average\",'Annual Assumptions'!$B$17:$B$18,0),MATCH(YEAR('Project Background'!$D$13),'Annual Assumptions'!$B$17:$BZ$17,0)),(INDEX(Assumptions!$B$141:$F$156,MATCH(Construction!B94,Assumptions!$B$141:$B$156,0),MATCH('User Inputs'!D66,Assumptions!$B$141:$F$141,0)))),\"No start date\")","v":97.407362053839393},"=",0]
[null,"Generator Sets",0,"x",{"$f":"Assumptions!C109","v":14},"x",{"$f":"Assumptions!D109","v":0.74},"x",{"$f":"Assumptions!E109","v":7684.183293408546},"x",{"$f":"Constants!$F$23","v":9.9999999999999995E-7},"x",{"$f":"IFERROR(IF('User Inputs'!D67=\"Electric\",INDEX('Annual Assumptions'!$B$17:$BZ$18,MATCH(\"Grid Average\",'Annual Assumptions'!$B$17:$B$18,0),MATCH(YEAR('Project Background'!$D$13),'Annual Assumptions'!$B$17:$BZ$17,0)),(INDEX(Assumptions!$B$141:$F$156,MATCH(Construction!B95,Assumptions!$B$141:$B$156,0),MATCH('User Inputs'!D67,Assumptions!$B$141:$F$141,0)))),\"No start date\")","v":93.741064238574651},"=",0]
[null,"Graders",0,"x",{"$f":"Assumptions!C110","v":148},"x",{"$f":"Assumptions!D110","v":0.41},"x",{"$f":"Assumptions!E110","v":7182.1821756030158},"x",{"$f":"Constants!$F$23","v":9.9999999999999995E-7},"x",{"$f":"IFERROR(IF('User Inputs'!D68=\"Electric\",INDEX('Annual Assumptions'!$B$17:$BZ$18,MATCH(\"Grid Average\",'Annual Assumptions'!$B$17:$B$18,0),MATCH(YEAR('Project Background'!$D$13),'Annual Assumptions'!$B$17:$BZ$17,0)),(INDEX(Assumptions!$B$141:$F$156,MATCH(Construction!B96,Assumptions!$B$141:$B$156,0),MATCH('User Inputs'!D68,Assumptions!$B$141:$F$141,0)))),\"No start date\")","v":98.118839055816821},"=",0]
[null,"Pavers",0,"x",{"$f":"Assumptions!C111","v":81},"x",{"$f":"Assumptions!D111","v":0.42},"x",{"$f":"Assumptions!E111","v":7119.2187908958904},"x",{"$f":"Constants!$F$23","v":9.9999999999999995E-7},"x",{"$f":"IFERROR(IF('User Inputs'!D69=\"Electric\",INDEX('Annual Assumptions'!$B$17:$BZ$18,MATCH(\"Grid Average\",'Annual Assumptions'!$B$17:$B$18,0),MATCH(YEAR('Project Background'!$D$13),'Annual Assumptions'!$B$17:$BZ$17,0)),(INDEX(Assumptions!$B$141:$F$156,MATCH(Construction!B97,Assumptions!$B$141:$B$156,0),MATCH('User Inputs'!D69,Assumptions!$B$141:$F$141,0)))),\"No start date\")","v":98.118839055816821},"=",0]
[null,"Paving Equipment",0,"x",{"$f":"Assumptions!C112","v":89},"x",{"$f":"Assumptions!D112","v":0.36},"x",{"$f":"Assumptions!E112","v":7134.7533479606873},"x",{"$f":"Constants!$F$23","v":9.9999999999999995E-7},"x",{"$f":"IFERROR(IF('User Inputs'!D70=\"Electric\",INDEX('Annual Assumptions'!$B$17:$BZ$18,MATCH(\"Grid Average\",'Annual Assumptions'!$B$17:$B$18,0),MATCH(YEAR('Project Background'!$D$13),'Annual Assumptions'!$B$17:$BZ$17,0)),(INDEX(Assumptions!$B$141:$F$156,MATCH(Construction!B98,Assumptions!$B$141:$B$156,0),MATCH('User Inputs'!D70,Assumptions!$B$141:$F$141,0)))),\"No start date\")","v":93.741064238574651},"=",0]
[null,"Rollers",0,"x",{"$f":"Assumptions!C113","v":36},"x",{"$f":"Assumptions!D113","v":0.38},"x",{"$f":"Assumptions!E113","v":7935.4021717084888},"x",{"$f":"Constants!$F$23","v":9.9999999999999995E-7},"x",{"$f":"IFERROR(IF('User Inputs'!D71=\"Electric\",INDEX('Annual Assumptions'!$B$17:$BZ$18,MATCH(\"Grid Average\",'Annual Assumptions'!$B$17:$B$18,0),MATCH(YEAR('Project Background'!$D$13),'Annual Assumptions'!$B$17:$BZ$17,0)),(INDEX(Assumptions!$B$141:$F$156,MATCH(Construction!B99,Assumptions!$B$141:$B$156,0),MATCH('User Inputs'!D71,Assumptions!$B$141:$F$141,0)))),\"No start date\")","v":97.083498197674189},"=",0]
[null,"Rubber Tired Dozers",0,"x",{"$f":"Assumptions!C114","v":367},"x",{"$f":"Assumptions!D114","v":0.4},"x",{"$f":"Assumptions!E114","v":7195.3995643327553},"x",{"$f":"Constants!$F$23","v":9.9999999999999995E-7},"x",{"$f":"IFERROR(IF('User Inputs'!D72=\"Electric\",INDEX('Annual Assumptions'!$B$17:$BZ$18,MATCH(\"Grid Average\",'Annual Assumptions'!$B$17:$B$18,0),MATCH(YEAR('Project Background'!$D$13),'Annual Assumptions'!$B$17:$BZ$17,0)),(INDEX(Assumptions!$B$141:$F$156,MATCH(Construction!B100,Assumptions!$B$141:$B$156,0),MATCH('User Inputs'!D72,Assumptions!$B$141:$F$141,0)))),\"No start date\")","v":97.083498197674189},"=",0]
[null,"Scrapers",0,"x",{"$f":"Assumptions!C115","v":423},"x",{"$f":"Assumptions!D115","v":0.48},"x",{"$f":"Assumptions!E115","v":7151.7354071943046},"x",{"$f":"Constants!$F$23","v":9.9999999999999995E-7},"x",{"$f":"IFERROR(IF('User Inputs'!D73=\"Electric\",INDEX('Annual Assumptions'!$B$17:$BZ$18,MATCH(\"Grid Average\",'Annual Assumptions'!$B$17:$B$18,0),MATCH(YEAR('Project Background'!$D$13),'Annual Assumptions'!$B$17:$BZ$17,0)),(INDEX(Assumptions!$B$141:$F$156,MATCH(Construction!B101,Assumptions!$B$141:$B$156,0),MATCH('User Inputs'!D73,Assumptions!$B$141:$F$141,0)))),\"No start date\")","v":97.083498197674189},"=",0]
[null,"Tractors/Loaders/Backhoes",0,"x",{"$f":"Assumptions!C116","v":84},"x",{"$f":"Assumptions!D116","v":0.37},"x",{"$f":"Assumptions!E116","v":7164.179249179123},"x",{"$f":"Constants!$F$23","v":9.9999999999999995E-7},"x",{"$f":"IFERROR(IF('User Inputs'!D74=\"Electric\",INDEX('Annual Assumptions'!$B$17:$BZ$18,MATCH(\"Grid Average\",'Annual Assumptions'!$B$17:$B$18,0),MATCH(YEAR('Project Background'!$D$13),'Annual Assumptions'!$B$17:$BZ$17,0)),(INDEX(Assumptions!$B$141:$F$156,MATCH(Construction!B102,Assumptions!$B$141:$B$156,0),MATCH('User Inputs'!D74,Assumptions!$B$141:$F$141,0)))),\"No start date\")","v":97.083498197674189},"=",0]
[null,"Welders",0,"x",{"$f":"Assumptions!C117","v":46},"x",{"$f":"Assumptions!D117","v":0.45},"x",{"$f":"Assumptions!E117","v":7683.893771648467},"x",{"$f":"Constants!$F$23","v":9.9999999999999995E-7},"x",{"$f":"IFERROR(IF('User Inputs'!D75=\"Electric\",INDEX('Annual Assumptions'!$B$17:$BZ$18,MATCH(\"Grid Average\",'Annual Assumptions'!$B$17:$B$18,0),MATCH(YEAR('Project Background'!$D$13),'Annual Assumptions'!$B$17:$BZ$17,0)),(INDEX(Assumptions!$B$141:$F$156,MATCH(Construction!B103,Assumptions!$B$141:$B$156,0),MATCH('User Inputs'!D75,Assumptions!$B$141:$F$141,0)))),\"No start date\")","v":93.741064238574651},"=",0]
[]
[null,null,null,null,null,null,null,null,null,null,null,null,null,"Total",{"$f":"SUM(O89:O103)","v":0}]
[null,"Approach 2: Emissions Based on Fuel Consumption"]
[]
[null,"Fuel Type","Total Consumption","Units",null,"Heat Content OR Conversion",null,"Unit Conversion",null,"Emissions Factor",null,"GHG Emissions"]
[null,null,null,null,null,"Btu/Unit",null,"MMBtu/Btu",null,"kgCO2e/MMBtu",null,"kgCO2e"]
[null,"Diesel",{"$f":"IF('User Inputs'!$E$52=\"F\",'User Inputs'!D82,0)","v":0},"Gallons","x",{"$f":"Assumptions!F161","v":138000},"x",{"$f":"Constants!$F$23","v":9.9999999999999995E-7},"x",{"$f":"IFERROR(IF(B110=\"Electric\",INDEX('Annual Assumptions'!$B$17:$BZ$18,MATCH(\"Grid Average\",'Annual Assumptions'!$B$17:$B$18,0),MATCH(YEAR('Project Background'!$D$13),'Annual Assumptions'!$B$17:$BZ$17,0)),(INDEX(Assumptions!$B$159:$E$164,MATCH(B110,Assumptions!$B$159:$B$164,0),4))),\"No start date\")","v":90.312621805630556},"=",{"$f":"IFERROR(C110*F110*H110*J110,0)","v":0}]
[null,"Electric",{"$f":"IF('User Inputs'!$E$52=\"F\",'User Inputs'!D83,0)","v":0},"kWh","x",{"$f":"Constants!$F$21","v":3412.14},"x",{"$f":"Constants!$F$23","v":9.9999999999999995E-7},"x",{"$f":"IFERROR(IF(B111=\"Electric\",INDEX('Annual Assumptions'!$B$17:$BZ$18,MATCH(\"Grid Average\",'Annual Assumptions'!$B$17:$B$18,0),MATCH(YEAR('Project Background'!$D$13),'Annual Assumptions'!$B$17:$BZ$17,0)),(INDEX(Assumptions!$B$159:$E$164,MATCH(B111,Assumptions!$B$159:$B$164,0),4))),\"No start date\")","v":"No start date"},"=",{"$f":"IFERROR(C111*F111*H111*J111,0)","v":0}]
[null,"Biodiesel 100",{"$f":"IF('User Inputs'!$E$52=\"F\",'User Inputs'!D84,0)","v":0},"Gallons","x",{"$f":"Assumptions!F162","v":128000},"x",{"$f":"Constants!$F$23","v":9.9999999999999995E-7},"x",{"$f":"IFERROR(IF(B112=\"Electric\",INDEX('Annual Assumptions'!$B$17:$BZ$18,MATCH(\"Grid Average\",'Annual Assumptions'!$B$17:$B$18,0),MATCH(YEAR('Project Background'!$D$13),'Annual Assumptions'!$B$17:$BZ$17,0)),(INDEX(Assumptions!$B$159:$E$164,MATCH(B112,Assumptions!$B$159:$B$164,0),4))),\"No start date\")","v":26.926332436339933},"=",{"$f":"IFERROR(C112*F112*H112*J112,0)","v":0}]
[null,"Biodiesel 20",{"$f":"IF('User Inputs'!$E$52=\"F\",'User Inputs'!D85,0)","v":0},"Gallons","x",{"$f":"Assumptions!F163","v":128000},"x",{"$f":"Constants!$F$23","v":9.9999999999999995E-7},"x",{"$f":"IFERROR(IF(B113=\"Electric\",INDEX('Annual Assumptions'!$B$17:$BZ$18,MATCH(\"Grid Average\",'Annual Assumptions'!$B$17:$B$18,0),MATCH(YEAR('Project Background'!$D$13),'Annual Assumptions'!$B$17:$BZ$17,0)),(INDEX(Assumptions!$B$159:$E$164,MATCH(B113,Assumptions!$B$159:$B$164,0),4))),\"No start date\")","v":83.329107386486328},"=",0]
[null,"Renewable Diesel",{"$f":"IF('User Inputs'!$E$52=\"F\",'User Inputs'!D86,0)","v":0},"Gallons","x",{"$f":"Assumptions!F164","v":122887},"x",{"$f":"Constants!$F$23","v":9.9999999999999995E-7},"x",{"$f":"IFERROR(IF(B114=\"Electric\",INDEX('Annual Assumptions'!$B$17:$BZ$18,MATCH(\"Grid Average\",'Annual Assumptions'!$B$17:$B$18,0),MATCH(YEAR('Project Background'!$D$13),'Annual Assumptions'!$B$17:$BZ$17,0)),(INDEX(Assumptions!$B$159:$E$164,MATCH(B114,Assumptions!$B$159:$B$164,0),4))),\"No start date\")","v":37.874215519050104},"=",0]
[]
[null,null,null,null,null,null,null,null,null,null,"Total",{"$f":"SUM(L110:L114)","v":0}]
[null,"Land Use Change"]
[]
[null,"Land Cover Type",null,null,"Pre-Construction ",null,"Post-Construction ",null,"Carbon Stock ",null,"Conversion Factor",null,"GHG Emissions"]
[null,null,null,null,"acres",null,"acres",null,"MT C/acre",null,"C to CO2",null,"kgCO2e"]
["(","Wetlands: peatland, non forested",null,null,{"$f":"'User Inputs'!E94","v":0}," - ",{"$f":"'User Inputs'!F94","v":0},") x",{"$f":"Assumptions!D168","v":367.87088110131424},"x",{"$f":"Constants!$F$35","v":3.6666666666666665},"=",{"$f":"(E121-G121)*I121*K121","v":0}]
["(","Wetlands: peatland, forested",null,null,{"$f":"'User Inputs'!E95","v":0}," - ",{"$f":"'User Inputs'!F95","v":0},") x",{"$f":"Assumptions!D169","v":436.18048028678282},"x",{"$f":"Constants!$F$35","v":3.6666666666666665},"=",{"$f":"(E122-G122)*I122*K122","v":0}]
["(","Wetlands: mineral soil, non forested",null,null,{"$f":"'User Inputs'!E96","v":0}," - ",{"$f":"'User Inputs'!F96","v":0},") x",{"$f":"Assumptions!D170","v":55.564268739632432},"x",{"$f":"Constants!$F$35","v":3.6666666666666665},"=",0]
["(","Wetlands: mineral soil, forested",null,null,{"$f":"'User Inputs'!E97","v":0}," - ",{"$f":"'User Inputs'!F97","v":0},") x",{"$f":"Assumptions!D171","v":77.153906384852476},"x",{"$f":"Constants!$F$35","v":3.6666666666666665},"=",0]
["(","Forest ",null,null,{"$f":"'User Inputs'!E98","v":0}," - ",{"$f":"'User Inputs'!F98","v":0},") x",{"$f":"Assumptions!D172","v":99},"x",{"$f":"Constants!$F$35","v":3.6666666666666665},"=",0]
["(","Rivers and streams",null,null,{"$f":"'User Inputs'!E99","v":0}," - ",{"$f":"'User Inputs'!F99","v":0},") x",{"$f":"Assumptions!D173","v":0},"x",{"$f":"Constants!$F$35","v":3.6666666666666665},"=",0]
["(","Brush and grassland",null,null,{"$f":"'User Inputs'!E100","v":0}," - ",{"$f":"'User Inputs'!F100","v":0},") x",{"$f":"Assumptions!D174","v":40.798506395373956},"x",{"$f":"Constants!$F$35","v":3.6666666666666665},"=",0]
["(","Cropland",null,null,{"$f":"'User Inputs'!E101","v":0}," - ",{"$f":"'User Inputs'!F101","v":0},") x",{"$f":"Assumptions!D175","v":32.490790157128821},"x",{"$f":"Constants!$F$35","v":3.6666666666666665},"=",0]
["(","Livestock rangeland/pastureland",null,null,{"$f":"'User Inputs'!E102","v":0}," - ",{"$f":"'User Inputs'!F102","v":0},") x",{"$f":"Assumptions!D176","v":40.798506395373956},"x",{"$f":"Constants!$F$35","v":3.6666666666666665},"=",0]
["(","Lawn/landscaping",null,null,{"$f":"'User Inputs'!E103","v":0}," - ",{"$f":"'User Inputs'!F103","v":0},") x",{"$f":"Assumptions!D177","v":19.060723174359076},"x",{"$f":"Constants!$F$35","v":3.6666666666666665},"=",0]
["(","Green Infrastructure: Constructed wetlands, paved",null,null,{"$f":"'User Inputs'!E104","v":0}," - ",{"$f":"'User Inputs'!F104","v":0},") x",{"$f":"Assumptions!D178","v":0},"x",{"$f":"Constants!$F$35","v":3.6666666666666665},"=",0]
["(","Green Infrastructure: Constructed wetlands, vegetated",null,null,{"$f":"'User Inputs'!E105","v":0}," - ",{"$f":"'User Inputs'!F105","v":0},") x",{"$f":"Assumptions!D179","v":43.402602132696629},"x",{"$f":"Constants!$F$35","v":3.6666666666666665},"=",0]
["(","Green Infrastructure: Constructed green roofs",null,null,{"$f":"'User Inputs'!E106","v":0}," - ",{"$f":"'User Inputs'!F106","v":0},") x",{"$f":"Assumptions!D180","v":19.060723174359076},"x",{"$f":"Constants!$F$35","v":3.6666666666666665},"=",0]
["(","Green Infrastructure: Constructed permeable pavements ",null,null,{"$f":"'User Inputs'!E107","v":0}," - ",{"$f":"'User Inputs'!F107","v":0},") x",{"$f":"Assumptions!D181","v":0},"x",{"$f":"Constants!$F$35","v":3.6666666666666665},"=",0]
["(","Impervious surface ",null,null,{"$f":"'User Inputs'!E108","v":0}," - ",{"$f":"'User Inputs'!F108","v":0},") x",{"$f":"Assumptions!D182","v":0},"x",{"$f":"Constants!$F$35","v":3.6666666666666665},"=",0]
["(","Stormwater pond (wet sedimentation basin) ",null,null,{"$f":"'User Inputs'!E109","v":0}," - ",{"$f":"'User Inputs'!F109","v":0},") x",{"$f":"Assumptions!D183","v":0},"x",{"$f":"Constants!$F$35","v":3.6666666666666665},"=",0]
[]
[null,null,null,null,null,null,null,null,null,null,null,"Subtotal",{"$f":"SUM(M121:M136)","v":0}]
[]
[null,null,null,null,"Trees Removed",null,"Trees Added",null,"Carbon Stock ",null,"Conversion Factor",null,"GHG Emissions"]
[null,null,null,null,"number",null,"number",null,"(MT C/tree)",null,"C to CO2",null,"kgCO2e"]
[null,null,null,"(",{"$f":"'User Inputs'!E113","v":0}," - ",{"$f":"'User Inputs'!E114","v":0},") x",{"$f":"Assumptions!D186","v":0.49532286804000009},"x",{"$f":"Constants!$F$35","v":3.6666666666666665},"=",{"$f":"(E142-G142)*I142*K142","v":0}]
[]
[null,null,null,null,null,null,null,null,null,null,null,"Total",{"$f":"M138+M142","v":0}]
[]
[null,"Construction Waste"]
[]
[null,"Material Type","Quantity",null,"Emission Factor",null,"Unit Conversion",null,"GHG Emissions"]
[null,null,"tons",null,"MTCO2e/ton",null,"kg/MT ",null,"kgCO2e"]
[null,"Aluminum",{"$f":"'User Inputs'!D122","v":0},"x",{"$f":"INDEX(Assumptions!$B$200:$C$209,MATCH(Construction!B150,Assumptions!$B$200:$B$209,0),2)","v":0.02},"x",{"$f":"Constants!$F$7","v":1000},"=",{"$f":"C150*E150*G150","v":0}]
[null,"Asphalt",{"$f":"'User Inputs'!D123","v":0},"x",{"$f":"INDEX(Assumptions!$B$200:$C$209,MATCH(Construction!B151,Assumptions!$B$200:$B$209,0),2)","v":0.02},"x",{"$f":"Constants!$F$7","v":1000},"=",{"$f":"C151*E151*G151","v":0}]
[null,"Brick",{"$f":"'User Inputs'!D124","v":0},"x",{"$f":"INDEX(Assumptions!$B$200:$C$209,MATCH(Construction!B152,Assumptions!$B$200:$B$209,0),2)","v":0.02},"x",{"$f":"Constants!$F$7","v":1000},"=",{"$f":"C152*E152*G152","v":0}]
[null,"Concrete",{"$f":"'User Inputs'!D125","v":0},"x",{"$f":"INDEX(Assumptions!$B$200:$C$209,MATCH(Construction!B153,Assumptions!$B$200:$B$209,0),2)","v":0.02},"x",{"$f":"Constants!$F$7","v":1000},"=",{"$f":"C153*E153*G153","v":0}]
[null,"Glass",{"$f":"'User Inputs'!D126","v":0},"x",{"$f":"INDEX(Assumptions!$B$200:$C$209,MATCH(Construction!B154,Assumptions!$B$200:$B$209,0),2)","v":0.02},"x",{"$f":"Constants!$F$7","v":1000},"=",0]
[null,"Insulation",{"$f":"'User Inputs'!D127","v":0},"x",{"$f":"INDEX(Assumptions!$B$200:$C$209,MATCH(Construction!B155,Assumptions!$B$200:$B$209,0),2)","v":0.02},"x",{"$f":"Constants!$F$7","v":1000},"=",0]
[null,"Steel",{"$f":"'User Inputs'!D128","v":0},"x",{"$f":"INDEX(Assumptions!$B$200:$C$209,MATCH(Construction!B156,Assumptions!$B$200:$B$209,0),2)","v":0.02},"x",{"$f":"Constants!$F$7","v":1000},"=",0]
[null,"Wood Products",{"$f":"'User Inputs'!D129","v":0},"x",{"$f":"INDEX(Assumptions!$B$200:$C$209,MATCH(Construction!B157,Assumptions!$B$200:$B$209,0),2)","v":0.17},"x",{"$f":"Constants!$F$7","v":1000},"=",{"$f":"C157*E157*G157","v":0}]
[null,"Mixed Waste",{"$f":"'User Inputs'!D130","v":0},"x",{"$f":"INDEX(Assumptions!$B$200:$C$209,MATCH(Construction!B158,Assumptions!$B$200:$B$209,0),2)","v":5.1889999999999992E-2},"x",{"$f":"Constants!$F$7","v":1000},"=",{"$f":"C158*E158*G158","v":0}]
[]
[null,null,null,null,null,null,null,"Total",{"$f":"SUM(I150:I158)","v":0}]

{"sheet":"Operation","index":6,"n_rows":416,"n_cols":63,"rows_kept":416,"cut":false,"hidden":false,"merged":[[17,9,17,12],[114,1,115,1],[114,6,115,6],[215,2,216,2],[28,4,29,4],[78,1,79,1],[99,1,100,1],[119,2,119,4],[17,1,18,1],[17,2,18,2],[28,1,29,1],[171,1,172,1],[117,2,117,4],[17,4,17,7],[215,1,216,1],[183,9,184,9],[56,1,57,1],[71,1,72,1],[151,1,152,1],[189,1,190,1],[189,7,190,7],[408,14,409,14],[238,6,239,6],[260,1,261,1],[260,2,261,2],[408,1,409,1],[320,1,321,1],[290,1,291,1],[238,1,239,1],[290,2,291,2],[238,2,239,2],[408,4,409,4],[378,1,379,1],[349,1,350,1],[207,16,208,16],[207,14,208,14],[114,2,115,4],[116,2,116,4],[114,14,115,14],[120,2,120,4],[114,5,115,5],[114,12,115,12],[201,7,202,7],[195,7,196,7],[118,2,118,4],[201,3,202,3],[126,1,127,3],[207,1,208,1],[183,1,184,1],[195,1,196,1]]}
[null,"Operational Emissions Calculations (Step 4a)"]
[]
[null,"This tab calculates annual emissions that occur during the operational phase of the project based on user inputs and calculator assumptions. The values on this tab may not be modified. Return to the Project Background and User Inputs tab to modify data inputs."]
[]
[]
[]
[]
[]
[]
[]
[]
[]
[]
[null,"Building Energy Consumption"]
[]
[null,"Building Energy Consumption"]
[]
[null,"Building Type","Square Footage",null,"Energy Intensity \n(Btu/square foot/year)",null,null,null,null,"Building Energy Consumption \n(Btu/year)"]
[null,null,null,null,"Electricity","Natural Gas ","Propane","Kerosene or \nFuel Oil",null,"Electricity","Natural Gas ","Propane","Kerosene or \nFuel Oil"]
[null,"Residential",{"$f":"'Project Background'!D18","v":0},"x",{"$f":"INDEX('User Inputs'!$C$144:$G$149,MATCH(Operation!$B20,'User Inputs'!$C$144:$C$149,0),MATCH(Operation!E$19,'User Inputs'!$C$144:$G$144,0))","v":0},{"$f":"INDEX('User Inputs'!$C$144:$G$149,MATCH(Operation!$B20,'User Inputs'!$C$144:$C$149,0),MATCH(Operation!F$19,'User Inputs'!$C$144:$G$144,0))","v":0},{"$f":"INDEX('User Inputs'!$C$144:$G$149,MATCH(Operation!$B20,'User Inputs'!$C$144:$C$149,0),MATCH(Operation!G$19,'User Inputs'!$C$144:$G$144,0))","v":0},{"$f":"INDEX('User Inputs'!$C$144:$G$149,MATCH(Operation!$B20,'User Inputs'!$C$144:$C$149,0),MATCH(Operation!H$19,'User Inputs'!$C$144:$G$144,0))","v":0},"=",{"$f":"IFERROR(($C20*E20),\"-\")","v":0},0,0,0]
[null,"Commercial",{"$f":"'Project Background'!D19","v":0},"x",{"$f":"INDEX('User Inputs'!$C$144:$G$149,MATCH(Operation!$B21,'User Inputs'!$C$144:$C$149,0),MATCH(Operation!E$19,'User Inputs'!$C$144:$G$144,0))","v":0},{"$f":"INDEX('User Inputs'!$C$144:$G$149,MATCH(Operation!$B21,'User Inputs'!$C$144:$C$149,0),MATCH(Operation!F$19,'User Inputs'!$C$144:$G$144,0))","v":0},{"$f":"INDEX('User Inputs'!$C$144:$G$149,MATCH(Operation!$B21,'User Inputs'!$C$144:$C$149,0),MATCH(Operation!G$19,'User Inputs'!$C$144:$G$144,0))","v":0},{"$f":"INDEX('User Inputs'!$C$144:$G$149,MATCH(Operation!$B21,'User Inputs'!$C$144:$C$149,0),MATCH(Operation!H$19,'User Inputs'!$C$144:$G$144,0))","v":0},"=",0,0,0,0]
[null,"Industrial",{"$f":"'Project Background'!D20","v":0},"x",{"$f":"INDEX('User Inputs'!$C$144:$G$149,MATCH(Operation!$B22,'User Inputs'!$C$144:$C$149,0),MATCH(Operation!E$19,'User Inputs'!$C$144:$G$144,0))","v":0},{"$f":"INDEX('User Inputs'!$C$144:$G$149,MATCH(Operation!$B22,'User Inputs'!$C$144:$C$149,0),MATCH(Operation!F$19,'User Inputs'!$C$144:$G$144,0))","v":0},{"$f":"INDEX('User Inputs'!$C$144:$G$149,MATCH(Operation!$B22,'User Inputs'!$C$144:$C$149,0),MATCH(Operation!G$19,'User Inputs'!$C$144:$G$144,0))","v":0},{"$f":"INDEX('User Inputs'!$C$144:$G$149,MATCH(Operation!$B22,'User Inputs'!$C$144:$C$149,0),MATCH(Operation!H$19,'User Inputs'!$C$144:$G$144,0))","v":0},"=",0,0,0,0]
[null,"Institutional",{"$f":"'Project Background'!D21","v":0},"x",{"$f":"INDEX('User Inputs'!$C$144:$G$149,MATCH(Operation!$B23,'User Inputs'!$C$144:$C$149,0),MATCH(Operation!E$19,'User Inputs'!$C$144:$G$144,0))","v":0},{"$f":"INDEX('User Inputs'!$C$144:$G$149,MATCH(Operation!$B23,'User Inputs'!$C$144:$C$149,0),MATCH(Operation!F$19,'User Inputs'!$C$144:$G$144,0))","v":0},{"$f":"INDEX('User Inputs'!$C$144:$G$149,MATCH(Operation!$B23,'User Inputs'!$C$144:$C$149,0),MATCH(Operation!G$19,'User Inputs'!$C$144:$G$144,0))","v":0},{"$f":"INDEX('User Inputs'!$C$144:$G$149,MATCH(Operation!$B23,'User Inputs'!$C$144:$C$149,0),MATCH(Operation!H$19,'User Inputs'!$C$144:$G$144,0))","v":0},"=",0,0,0,0]
[null,"Other",{"$f":"'Project Background'!D22","v":0},"x",{"$f":"INDEX('User Inputs'!$C$144:$G$149,MATCH(Operation!$B24,'User Inputs'!$C$144:$C$149,0),MATCH(Operation!E$19,'User Inputs'!$C$144:$G$144,0))","v":0},{"$f":"INDEX('User Inputs'!$C$144:$G$149,MATCH(Operation!$B24,'User Inputs'!$C$144:$C$149,0),MATCH(Operation!F$19,'User Inputs'!$C$144:$G$144,0))","v":0},{"$f":"INDEX('User Inputs'!$C$144:$G$149,MATCH(Operation!$B24,'User Inputs'!$C$144:$C$149,0),MATCH(Operation!G$19,'User Inputs'!$C$144:$G$144,0))","v":0},{"$f":"INDEX('User Inputs'!$C$144:$G$149,MATCH(Operation!$B24,'User Inputs'!$C$144:$C$149,0),MATCH(Operation!H$19,'User Inputs'!$C$144:$G$144,0))","v":0},"=",{"$f":"IFERROR(($C24*E24),0)","v":0},{"$f":"IFERROR(($C24*F24),0)","v":0},0,{"$f":"IFERROR(($C24*H24),0)","v":0}]
[]
[null,null,null,null,null,null,null,null,"Total",{"$f":"SUM(J20:J24)","v":0},{"$f":"SUM(K20:K24)","v":0},{"$f":"SUM(L20:L24)","v":0},{"$f":"SUM(M20:M24)","v":0}]
[null,"Annual GHG Emissions from Buildings (Year 1)*"]
[]
[null,"Energy Type","Building Energy Consumption",null,"Percent Purchased from Grid",null,"Unit Conversion",null," Emission Factor (Year 1)",null,"Annual GHG Emissions"]
[null,null,"Btu/year",null,null,null,"MMBtu/Btu",null,"kgCO2e/MMBtu",null,"kgCO2e/year"]
[null,"Electricity",{"$f":"IF('User Inputs'!D137=\"\",\"Select Approach\",IF('User Inputs'!$E$137=\"B\",J26,('User Inputs'!D156*Constants!$F$21)))","v":0},"x",{"$f":"1-'Project Background'!$H$25","v":1},"x",{"$f":"Constants!$F$23","v":9.9999999999999995E-7},"x",{"$f":"IFERROR((INDEX('Annual Assumptions'!$B$17:$BZ$22,MATCH('Project Background'!D24,'Annual Assumptions'!$B$17:$B$22,0),MATCH('Project Background'!$D$14,'Annual Assumptions'!$B$17:$BZ$17,0))),\"No operational year\")","v":"No operational year"},"=",{"$f":"IFERROR(C31*E31*G31*I31,0)","v":0}]
[null,"Natural Gas ",{"$f":"IF('User Inputs'!D137=\"\",\"Select Approach\",IF('User Inputs'!$E$137=\"B\",(K26-C33),(('User Inputs'!D157*Constants!$C$14)-C33)))","v":0},"x","NA","x",{"$f":"Constants!$F$23","v":9.9999999999999995E-7},"x",{"$f":"Assumptions!E237","v":65.149456379705697},"=",{"$f":"IFERROR((C32*G32*I32),0)","v":0}]
[null,"Renewable Natural Gas ",{"$f":"IF('User Inputs'!D137=\"\",\"Select Approach\",IF('User Inputs'!$E$137=\"B\",(K26*'Project Background'!H27),(('User Inputs'!D157*Constants!$C$15)*'Project Background'!H27)))","v":0},"x","NA","x",{"$f":"Constants!$F$23","v":9.9999999999999995E-7},"x",{"$f":"Assumptions!E238","v":18.555201323532359},"=",{"$f":"IFERROR((C33*G33*I33),0)","v":0}]
[null,"Propane",{"$f":"IF('User Inputs'!D137=\"\",\"Select Approach\",IF('User Inputs'!$E$137=\"B\",L26,('User Inputs'!D158*Constants!$C$17)))","v":0},"x","NA","x",{"$f":"Constants!$F$23","v":9.9999999999999995E-7},"x",{"$f":"Assumptions!E239","v":81.279043991959028},"=",0]
[null,"Kerosene or Fuel Oil",{"$f":"IF('User Inputs'!D137=\"\",\"Select Approach\",IF('User Inputs'!$E$137=\"B\",M26,('User Inputs'!D159*Constants!$C$25)))","v":0},"x","NA","x",{"$f":"Constants!$F$23","v":9.9999999999999995E-7},"x",{"$f":"IFERROR((AVERAGE(Assumptions!E242,Assumptions!E247)),0)","v":90.932621805630561},"=",0]
[null,"* The emissions factor for electricity is assumed to change over time."]
[null,null,null,null,null,null,null,null,null,"Total",{"$f":"SUM(K31:K35)","v":0}]
[]
[null,"Annual GHG Emissions from Buildings (kgCO2e)"]
[]
[null,"Energy Type",{"$f":"'Project Background'!D14","v":0},{"$f":"IFERROR((IF(((C41+1)<('Project Background'!$D$14+'Project Background'!$D$15)),(C41+1),\"\")),\"\")","v":""},{"$f":"IFERROR((IF(((D41+1)<('Project Background'!$D$14+'Project Background'!$D$15)),(D41+1),\"\")),\"\")","v":""},{"$f":"IFERROR((IF(((E41+1)<('Project Background'!$D$14+'Project Background'!$D$15)),(E41+1),\"\")),\"\")","v":""},{"$f":"IFERROR((IF(((F41+1)<('Project Background'!$D$14+'Project Background'!$D$15)),(F41+1),\"\")),\"\")","v":""},{"$f":"IFERROR((IF(((G41+1)<('Project Background'!$D$14+'Project Background'!$D$15)),(G41+1),\"\")),\"\")","v":""},{"$f":"IFERROR((IF(((H41+1)<('Project Background'!$D$14+'Project Background'!$D$15)),(H41+1),\"\")),\"\")","v":""},{"$f":"IFERROR((IF(((I41+1)<('Project Background'!$D$14+'Project Background'!$D$15)),(I41+1),\"\")),\"\")","v":""},{"$f":"IFERROR((IF(((J41+1)<('Project Background'!$D$14+'Project Background'!$D$15)),(J41+1),\"\")),\"\")","v":""},{"$f":"IFERROR((IF(((K41+1)<('Project Background'!$D$14+'Project Background'!$D$15)),(K41+1),\"\")),\"\")","v":""},{"$f":"IFERROR((IF(((L41+1)<('Project Background'!$D$14+'Project Background'!$D$15)),(L41+1),\"\")),\"\")","v":""},{"$f":"IFERROR((IF(((M41+1)<('Project Background'!$D$14+'Project Background'!$D$15)),(M41+1),\"\")),\"\")","v":""},{"$f":"IFERROR((IF(((N41+1)<('Project Background'!$D$14+'Project Background'!$D$15)),(N41+1),\"\")),\"\")","v":""},{"$f":"IFERROR((IF(((O41+1)<('Project Background'!$D$14+'Project Background'!$D$15)),(O41+1),\"\")),\"\")","v":""},{"$f":"IFERROR((IF(((P41+1)<('Project Background'!$D$14+'Project Background'!$D$15)),(P41+1),\"\")),\"\")","v":""},{"$f":"IFERROR((IF(((Q41+1)<('Project Background'!$D$14+'Project Background'!$D$15)),(Q41+1),\"\")),\"\")","v":""},{"$f":"IFERROR((IF(((R41+1)<('Project Background'!$D$14+'Project Background'!$D$15)),(R41+1),\"\")),\"\")","v":""},{"$f":"IFERROR((IF(((S41+1)<('Project Background'!$D$14+'Project Background'!$D$15)),(S41+1),\"\")),\"\")","v":""},{"$f":"IFERROR((IF(((T41+1)<('Project Background'!$D$14+'Project Background'!$D$15)),(T41+1),\"\")),\"\")","v":""},{"$f":"IFERROR((IF(((U41+1)<('Project Background'!$D$14+'Project Background'!$D$15)),(U41+1),\"\")),\"\")","v":""},{"$f":"IFERROR((IF(((V41+1)<('Project Background'!$D$14+'Project Background'!$D$15)),(V41+1),\"\")),\"\")","v":""},{"$f":"IFERROR((IF(((W41+1)<('Project Background'!$D$14+'Project Background'!$D$15)),(W41+1),\"\")),\"\")","v":""},{"$f":"IFERROR((IF(((X41+1)<('Project Background'!$D$14+'Project Background'!$D$15)),(X41+1),\"\")),\"\")","v":""},{"$f":"IFERROR((IF(((Y41+1)<('Project Background'!$D$14+'Project Background'!$D$15)),(Y41+1),\"\")),\"\")","v":""},{"$f":"IFERROR((IF(((Z41+1)<('Project Background'!$D$14+'Project Background'!$D$15)),(Z41+1),\"\")),\"\")","v":""},{"$f":"IFERROR((IF(((AA41+1)<('Project Background'!$D$14+'Project Background'!$D$15)),(AA41+1),\"\")),\"\")","v":""},{"$f":"IFERROR((IF(((AB41+1)<('Project Background'!$D$14+'Project Background'!$D$15)),(AB41+1),\"\")),\"\")","v":""},{"$f":"IFERROR((IF(((AC41+1)<('Project Background'!$D$14+'Project Background'!$D$15)),(AC41+1),\"\")),\"\")","v":""},{"$f":"IFERROR((IF(((AD41+1)<('Project Background'!$D$14+'Project Background'!$D$15)),(AD41+1),\"\")),\"\")","v":""},{"$f":"IFERROR((IF(((AE41+1)<('Project Background'!$D$14+'Project Background'!$D$15)),(AE41+1),\"\")),\"\")","v":""},{"$f":"IFERROR((IF(((AF41+1)<('Project Background'!$D$14+'Project Background'!$D$15)),(AF41+1),\"\")),\"\")","v":""},{"$f":"IFERROR((IF(((AG41+1)<('Project Background'!$D$14+'Project Background'!$D$15)),(AG41+1),\"\")),\"\")","v":""},{"$f":"IFERROR((IF(((AH41+1)<('Project Background'!$D$14+'Project Background'!$D$15)),(AH41+1),\"\")),\"\")","v":""},{"$f":"IFERROR((IF(((AI41+1)<('Project Background'!$D$14+'Project Background'!$D$15)),(AI41+1),\"\")),\"\")","v":""},{"$f":"IFERROR((IF(((AJ41+1)<('Project Background'!$D$14+'Project Background'!$D$15)),(AJ41+1),\"\")),\"\")","v":""},{"$f":"IFERROR((IF(((AK41+1)<('Project Background'!$D$14+'Project Background'!$D$15)),(AK41+1),\"\")),\"\")","v":""},{"$f":"IFERROR((IF(((AL41+1)<('Project Background'!$D$14+'Project Background'!$D$15)),(AL41+1),\"\")),\"\")","v":""},{"$f":"IFERROR((IF(((AM41+1)<('Project Background'!$D$14+'Project Background'!$D$15)),(AM41+1),\"\")),\"\")","v":""},{"$f":"IFERROR((IF(((AN41+1)<('Project Background'!$D$14+'Project Background'!$D$15)),(AN41+1),\"\")),\"\")","v":""},{"$f":"IFERROR((IF(((AO41+1)<('Project Background'!$D$14+'Project Background'!$D$15)),(AO41+1),\"\")),\"\")","v":""},{"$f":"IFERROR((IF(((AP41+1)<('Project Background'!$D$14+'Project Background'!$D$15)),(AP41+1),\"\")),\"\")","v":""},{"$f":"IFERROR((IF(((AQ41+1)<('Project Background'!$D$14+'Project Background'!$D$15)),(AQ41+1),\"\")),\"\")","v":""},{"$f":"IFERROR((IF(((AR41+1)<('Project Background'!$D$14+'Project Background'!$D$15)),(AR41+1),\"\")),\"\")","v":""},{"$f":"IFERROR((IF(((AS41+1)<('Project Background'!$D$14+'Project Background'!$D$15)),(AS41+1),\"\")),\"\")","v":""},{"$f":"IFERROR((IF(((AT41+1)<('Project Background'!$D$14+'Project Background'!$D$15)),(AT41+1),\"\")),\"\")","v":""},{"$f":"IFERROR((IF(((AU41+1)<('Project Background'!$D$14+'Project Background'!$D$15)),(AU41+1),\"\")),\"\")","v":""},{"$f":"IFERROR((IF(((AV41+1)<('Project Background'!$D$14+'Project Background'!$D$15)),(AV41+1),\"\")),\"\")","v":""},{"$f":"IFERROR((IF(((AW41+1)<('Project Background'!$D$14+'Project Background'!$D$15)),(AW41+1),\"\")),\"\")","v":""},{"$f":"IFERROR((IF(((AX41+1)<('Project Background'!$D$14+'Project Background'!$D$15)),(AX41+1),\"\")),\"\")","v":""},{"$f":"IFERROR((IF(((AY41+1)<('Project Background'!$D$14+'Project Background'!$D$15)),(AY41+1),\"\")),\"\")","v":""},{"$f":"IFERROR((IF(((AZ41+1)<('Project Background'!$D$14+'Project Background'!$D$15)),(AZ41+1),\"\")),\"\")","v":""},{"$f":"IFERROR((IF(((BA41+1)<('Project Background'!$D$14+'Project Background'!$D$15)),(BA41+1),\"\")),\"\")","v":""},{"$f":"IFERROR((IF(((BB41+1)<('Project Background'!$D$14+'Project Background'!$D$15)),(BB41+1),\"\")),\"\")","v":""},{"$f":"IFERROR((IF(((BC41+1)<('Project Background'!$D$14+'Project Background'!$D$15)),(BC41+1),\"\")),\"\")","v":""},{"$f":"IFERROR((IF(((BD41+1)<('Project Background'!$D$14+'Project Background'!$D$15)),(BD41+1),\"\")),\"\")","v":""},{"$f":"IFERROR((IF(((BE41+1)<('Project Background'!$D$14+'Project Background'!$D$15)),(BE41+1),\"\")),\"\")","v":""},{"$f":"IFERROR((IF(((BF41+1)<('Project Background'!$D$14+'Project Background'!$D$15)),(BF41+1),\"\")),\"\")","v":""},{"$f":"IFERROR((IF(((BG41+1)<('Project Background'!$D$14+'Project Background'!$D$15)),(BG41+1),\"\")),\"\")","v":""},{"$f":"IFERROR((IF(((BH41+1)<('Project Background'!$D$14+'Project Background'!$D$15)),(BH41+1),\"\")),\"\")","v":""},{"$f":"IFERROR((IF(((BI41+1)<('Project Background'!$D$14+'Project Background'!$D$15)),(BI41+1),\"\")),\"\")","v":""},{"$f":"IFERROR((IF(((BJ41+1)<('Project Background'!$D$14+'Project Background'!$D$15)),(BJ41+1),\"\")),\"\")","v":""}]
[null,"Electricity",{"$f":"K31","v":0},{"$f":"IFERROR(($C$31*$E$31*$G$31*(INDEX('Annual Assumptions'!$B$17:$BZ$22,MATCH('Project Background'!$D$24,'Annual Assumptions'!$B$17:$B$22,0),MATCH(D41,'Annual Assumptions'!$B$17:$BZ$17,0)))),\"\")","v":""},{"$f":"IFERROR(($C$31*$E$31*$G$31*(INDEX('Annual Assumptions'!$B$17:$BZ$22,MATCH('Project Background'!$D$24,'Annual Assumptions'!$B$17:$B$22,0),MATCH(E41,'Annual Assumptions'!$B$17:$BZ$17,0)))),\"\")","v":""},{"$f":"IFERROR(($C$31*$E$31*$G$31*(INDEX('Annual Assumptions'!$B$17:$BZ$22,MATCH('Project Background'!$D$24,'Annual Assumptions'!$B$17:$B$22,0),MATCH(F41,'Annual Assumptions'!$B$17:$BZ$17,0)))),\"\")","v":""},{"$f":"IFERROR(($C$31*$E$31*$G$31*(INDEX('Annual Assumptions'!$B$17:$BZ$22,MATCH('Project Background'!$D$24,'Annual Assumptions'!$B$17:$B$22,0),MATCH(G41,'Annual Assumptions'!$B$17:$BZ$17,0)))),\"\")","v":""},{"$f":"IFERROR(($C$31*$E$31*$G$31*(INDEX('Annual Assumptions'!$B$17:$BZ$22,MATCH('Project Background'!$D$24,'Annual Assumptions'!$B$17:$B$22,0),MATCH(H41,'Annual Assumptions'!$B$17:$BZ$17,0)))),\"\")","v":""},{"$f":"IFERROR(($C$31*$E$31*$G$31*(INDEX('Annual Assumptions'!$B$17:$BZ$22,MATCH('Project Background'!$D$24,'Annual Assumptions'!$B$17:$B$22,0),MATCH(I41,'Annual Assumptions'!$B$17:$BZ$17,0)))),\"\")","v":""},{"$f":"IFERROR(($C$31*$E$31*$G$31*(INDEX('Annual Assumptions'!$B$17:$BZ$22,MATCH('Project Background'!$D$24,'Annual Assumptions'!$B$17:$B$22,0),MATCH(J41,'Annual Assumptions'!$B$17:$BZ$17,0)))),\"\")","v":""},{"$f":"IFERROR(($C$31*$E$31*$G$31*(INDEX('Annual Assumptions'!$B$17:$BZ$22,MATCH('Project Background'!$D$24,'Annual Assumptions'!$B$17:$B$22,0),MATCH(K41,'Annual Assumptions'!$B$17:$BZ$17,0)))),\"\")","v":""},{"$f":"IFERROR(($C$31*$E$31*$G$31*(INDEX('Annual Assumptions'!$B$17:$BZ$22,MATCH('Project Background'!$D$24,'Annual Assumptions'!$B$17:$B$22,0),MATCH(L41,'Annual Assumptions'!$B$17:$BZ$17,0)))),\"\")","v":""},{"$f":"IFERROR(($C$31*$E$31*$G$31*(INDEX('Annual Assumptions'!$B$17:$BZ$22,MATCH('Project Background'!$D$24,'Annual Assumptions'!$B$17:$B$22,0),MATCH(M41,'Annual Assumptions'!$B$17:$BZ$17,0)))),\"\")","v":""},{"$f":"IFERROR(($C$31*$E$31*$G$31*(INDEX('Annual Assumptions'!$B$17:$BZ$22,MATCH('Project Background'!$D$24,'Annual Assumptions'!$B$17:$B$22,0),MATCH(N41,'Annual Assumptions'!$B$17:$BZ$17,0)))),\"\")","v":""},{"$f":"IFERROR(($C$31*$E$31*$G$31*(INDEX('Annual Assumptions'!$B$17:$BZ$22,MATCH('Project Background'!$D$24,'Annual Assumptions'!$B$17:$B$22,0),MATCH(O41,'Annual Assumptions'!$B$17:$BZ$17,0)))),\"\")","v":""},{"$f":"IFERROR(($C$31*$E$31*$G$31*(INDEX('Annual Assumptions'!$B$17:$BZ$22,MATCH('Project Background'!$D$24,'Annual Assumptions'!$B$17:$B$22,0),MATCH(P41,'Annual Assumptions'!$B$17:$BZ$17,0)))),\"\")","v":""},{"$f":"IFERROR(($C$31*$E$31*$G$31*(INDEX('Annual Assumptions'!$B$17:$BZ$22,MATCH('Project Background'!$D$24,'Annual Assumptions'!$B$17:$B$22,0),MATCH(Q41,'Annual Assumptions'!$B$17:$BZ$17,0)))),\"\")","v":""},{"$f":"IFERROR(($C$31*$E$31*$G$31*(INDEX('Annual Assumptions'!$B$17:$BZ$22,MATCH('Project Background'!$D$24,'Annual Assumptions'!$B$17:$B$22,0),MATCH(R41,'Annual Assumptions'!$B$17:$BZ$17,0)))),\"\")","v":""},{"$f":"IFERROR(($C$31*$E$31*$G$31*(INDEX('Annual Assumptions'!$B$17:$BZ$22,MATCH('Project Background'!$D$24,'Annual Assumptions'!$B$17:$B$22,0),MATCH(S41,'Annual Assumptions'!$B$17:$BZ$17,0)))),\"\")","v":""},{"$f":"IFERROR(($C$31*$E$31*$G$31*(INDEX('Annual Assumptions'!$B$17:$BZ$22,MATCH('Project Background'!$D$24,'Annual Assumptions'!$B$17:$B$22,0),MATCH(T41,'Annual Assumptions'!$B$17:$BZ$17,0)))),\"\")","v":""},{"$f":"IFERROR(($C$31*$E$31*$G$31*(INDEX('Annual Assumptions'!$B$17:$BZ$22,MATCH('Project Background'!$D$24,'Annual Assumptions'!$B$17:$B$22,0),MATCH(U41,'Annual Assumptions'!$B$17:$BZ$17,0)))),\"\")","v":""},{"$f":"IFERROR(($C$31*$E$31*$G$31*(INDEX('Annual Assumptions'!$B$17:$BZ$22,MATCH('Project Background'!$D$24,'Annual Assumptions'!$B$17:$B$22,0),MATCH(V41,'Annual Assumptions'!$B$17:$BZ$17,0)))),\"\")","v":""},{"$f":"IFERROR(($C$31*$E$31*$G$31*(INDEX('Annual Assumptions'!$B$17:$BZ$22,MATCH('Project Background'!$D$24,'Annual Assumptions'!$B$17:$B$22,0),MATCH(W41,'Annual Assumptions'!$B$17:$BZ$17,0)))),\"\")","v":""},{"$f":"IFERROR(($C$31*$E$31*$G$31*(INDEX('Annual Assumptions'!$B$17:$BZ$22,MATCH('Project Background'!$D$24,'Annual Assumptions'!$B$17:$B$22,0),MATCH(X41,'Annual Assumptions'!$B$17:$BZ$17,0)))),\"\")","v":""},{"$f":"IFERROR(($C$31*$E$31*$G$31*(INDEX('Annual Assumptions'!$B$17:$BZ$22,MATCH('Project Background'!$D$24,'Annual Assumptions'!$B$17:$B$22,0),MATCH(Y41,'Annual Assumptions'!$B$17:$BZ$17,0)))),\"\")","v":""},{"$f":"IFERROR(($C$31*$E$31*$G$31*(INDEX('Annual Assumptions'!$B$17:$BZ$22,MATCH('Project Background'!$D$24,'Annual Assumptions'!$B$17:$B$22,0),MATCH(Z41,'Annual Assumptions'!$B$17:$BZ$17,0)))),\"\")","v":""},{"$f":"IFERROR(($C$31*$E$31*$G$31*(INDEX('Annual Assumptions'!$B$17:$BZ$22,MATCH('Project Background'!$D$24,'Annual Assumptions'!$B$17:$B$22,0),MATCH(AA41,'Annual Assumptions'!$B$17:$BZ$17,0)))),\"\")","v":""},{"$f":"IFERROR(($C$31*$E$31*$G$31*(INDEX('Annual Assumptions'!$B$17:$BZ$22,MATCH('Project Background'!$D$24,'Annual Assumptions'!$B$17:$B$22,0),MATCH(AB41,'Annual Assumptions'!$B$17:$BZ$17,0)))),\"\")","v":""},{"$f":"IFERROR(($C$31*$E$31*$G$31*(INDEX('Annual Assumptions'!$B$17:$BZ$22,MATCH('Project Background'!$D$24,'Annual Assumptions'!$B$17:$B$22,0),MATCH(AC41,'Annual Assumptions'!$B$17:$BZ$17,0)))),\"\")","v":""},{"$f":"IFERROR(($C$31*$E$31*$G$31*(INDEX('Annual Assumptions'!$B$17:$BZ$22,MATCH('Project Background'!$D$24,'Annual Assumptions'!$B$17:$B$22,0),MATCH(AD41,'Annual Assumptions'!$B$17:$BZ$17,0)))),\"\")","v":""},{"$f":"IFERROR(($C$31*$E$31*$G$31*(INDEX('Annual Assumptions'!$B$17:$BZ$22,MATCH('Project Background'!$D$24,'Annual Assumptions'!$B$17:$B$22,0),MATCH(AE41,'Annual Assumptions'!$B$17:$BZ$17,0)))),\"\")","v":""},{"$f":"IFERROR(($C$31*$E$31*$G$31*(INDEX('Annual Assumptions'!$B$17:$BZ$22,MATCH('Project Background'!$D$24,'Annual Assumptions'!$B$17:$B$22,0),MATCH(AF41,'Annual Assumptions'!$B$17:$BZ$17,0)))),\"\")","v":""},{"$f":"IFERROR(($C$31*$E$31*$G$31*(INDEX('Annual Assumptions'!$B$17:$BZ$22,MATCH('Project Background'!$D$24,'Annual Assumptions'!$B$17:$B$22,0),MATCH(AG41,'Annual Assumptions'!$B$17:$BZ$17,0)))),\"\")","v":""},{"$f":"IFERROR(($C$31*$E$31*$G$31*(INDEX('Annual Assumptions'!$B$17:$BZ$22,MATCH('Project Background'!$D$24,'Annual Assumptions'!$B$17:$B$22,0),MATCH(AH41,'Annual Assumptions'!$B$17:$BZ$17,0)))),\"\")","v":""},{"$f":"IFERROR(($C$31*$E$31*$G$31*(INDEX('Annual Assumptions'!$B$17:$BZ$22,MATCH('Project Background'!$D$24,'Annual Assumptions'!$B$17:$B$22,0),MATCH(AI41,'Annual Assumptions'!$B$17:$BZ$17,0)))),\"\")","v":""},{"$f":"IFERROR(($C$31*$E$31*$G$31*(INDEX('Annual Assumptions'!$B$17:$BZ$22,MATCH('Project Background'!$D$24,'Annual Assumptions'!$B$17:$B$22,0),MATCH(AJ41,'Annual Assumptions'!$B$17:$BZ$17,0)))),\"\")","v":""},{"$f":"IFERROR(($C$31*$E$31*$G$31*(INDEX('Annual Assumptions'!$B$17:$BZ$22,MATCH('Project Background'!$D$24,'Annual Assumptions'!$B$17:$B$22,0),MATCH(AK41,'Annual Assumptions'!$B$17:$BZ$17,0)))),\"\")","v":""},{"$f":"IFERROR(($C$31*$E$31*$G$31*(INDEX('Annual Assumptions'!$B$17:$BZ$22,MATCH('Project Background'!$D$24,'Annual Assumptions'!$B$17:$B$22,0),MATCH(AL41,'Annual Assumptions'!$B$17:$BZ$17,0)))),\"\")","v":""},{"$f":"IFERROR(($C$31*$E$31*$G$31*(INDEX('Annual Assumptions'!$B$17:$BZ$22,MATCH('Project Background'!$D$24,'Annual Assumptions'!$B$17:$B$22,0),MATCH(AM41,'Annual Assumptions'!$B$17:$BZ$17,0)))),\"\")","v":""},{"$f":"IFERROR(($C$31*$E$31*$G$31*(INDEX('Annual Assumptions'!$B$17:$BZ$22,MATCH('Project Background'!$D$24,'Annual Assumptions'!$B$17:$B$22,0),MATCH(AN41,'Annual Assumptions'!$B$17:$BZ$17,0)))),\"\")","v":""},{"$f":"IFERROR(($C$31*$E$31*$G$31*(INDEX('Annual Assumptions'!$B$17:$BZ$22,MATCH('Project Background'!$D$24,'Annual Assumptions'!$B$17:$B$22,0),MATCH(AO41,'Annual Assumptions'!$B$17:$BZ$17,0)))),\"\")","v":""},{"$f":"IFERROR(($C$31*$E$31*$G$31*(INDEX('Annual Assumptions'!$B$17:$BZ$22,MATCH('Project Background'!$D$24,'Annual Assumptions'!$B$17:$B$22,0),MATCH(AP41,'Annual Assumptions'!$B$17:$BZ$17,0)))),\"\")","v":""},{"$f":"IFERROR(($C$31*$E$31*$G$31*(INDEX('Annual Assumptions'!$B$17:$BZ$22,MATCH('Project Background'!$D$24,'Annual Assumptions'!$B$17:$B$22,0),MATCH(AQ41,'Annual Assumptions'!$B$17:$BZ$17,0)))),\"\")","v":""},{"$f":"IFERROR(($C$31*$E$31*$G$31*(INDEX('Annual Assumptions'!$B$17:$BZ$22,MATCH('Project Background'!$D$24,'Annual Assumptions'!$B$17:$B$22,0),MATCH(AR41,'Annual Assumptions'!$B$17:$BZ$17,0)))),\"\")","v":""},{"$f":"IFERROR(($C$31*$E$31*$G$31*(INDEX('Annual Assumptions'!$B$17:$BZ$22,MATCH('Project Background'!$D$24,'Annual Assumptions'!$B$17:$B$22,0),MATCH(AS41,'Annual Assumptions'!$B$17:$BZ$17,0)))),\"\")","v":""},{"$f":"IFERROR(($C$31*$E$31*$G$31*(INDEX('Annual Assumptions'!$B$17:$BZ$22,MATCH('Project Background'!$D$24,'Annual Assumptions'!$B$17:$B$22,0),MATCH(AT41,'Annual Assumptions'!$B$17:$BZ$17,0)))),\"\")","v":""},{"$f":"IFERROR(($C$31*$E$31*$G$31*(INDEX('Annual Assumptions'!$B$17:$BZ$22,MATCH('Project Background'!$D$24,'Annual Assumptions'!$B$17:$B$22,0),MATCH(AU41,'Annual Assumptions'!$B$17:$BZ$17,0)))),\"\")","v":""},{"$f":"IFERROR(($C$31*$E$31*$G$31*(INDEX('Annual Assumptions'!$B$17:$BZ$22,MATCH('Project Background'!$D$24,'Annual Assumptions'!$B$17:$B$22,0),MATCH(AV41,'Annual Assumptions'!$B$17:$BZ$17,0)))),\"\")","v":""},{"$f":"IFERROR(($C$31*$E$31*$G$31*(INDEX('Annual Assumptions'!$B$17:$BZ$22,MATCH('Project Background'!$D$24,'Annual Assumptions'!$B$17:$B$22,0),MATCH(AW41,'Annual Assumptions'!$B$17:$BZ$17,0)))),\"\")","v":""},{"$f":"IFERROR(($C$31*$E$31*$G$31*(INDEX('Annual Assumptions'!$B$17:$BZ$22,MATCH('Project Background'!$D$24,'Annual Assumptions'!$B$17:$B$22,0),MATCH(AX41,'Annual Assumptions'!$B$17:$BZ$17,0)))),\"\")","v":""},{"$f":"IFERROR(($C$31*$E$31*$G$31*(INDEX('Annual Assumptions'!$B$17:$BZ$22,MATCH('Project Background'!$D$24,'Annual Assumptions'!$B$17:$B$22,0),MATCH(AY41,'Annual Assumptions'!$B$17:$BZ$17,0)))),\"\")","v":""},{"$f":"IFERROR(($C$31*$E$31*$G$31*(INDEX('Annual Assumptions'!$B$17:$BZ$22,MATCH('Project Background'!$D$24,'Annual Assumptions'!$B$17:$B$22,0),MATCH(AZ41,'Annual Assumptions'!$B$17:$BZ$17,0)))),\"\")","v":""},{"$f":"IFERROR(($C$31*$E$31*$G$31*(INDEX('Annual Assumptions'!$B$17:$BZ$22,MATCH('Project Background'!$D$24,'Annual Assumptions'!$B$17:$B$22,0),MATCH(BA41,'Annual Assumptions'!$B$17:$BZ$17,0)))),\"\")","v":""},{"$f":"IFERROR(($C$31*$E$31*$G$31*(INDEX('Annual Assumptions'!$B$17:$BZ$22,MATCH('Project Background'!$D$24,'Annual Assumptions'!$B$17:$B$22,0),MATCH(BB41,'Annual Assumptions'!$B$17:$BZ$17,0)))),\"\")","v":""},{"$f":"IFERROR(($C$31*$E$31*$G$31*(INDEX('Annual Assumptions'!$B$17:$BZ$22,MATCH('Project Background'!$D$24,'Annual Assumptions'!$B$17:$B$22,0),MATCH(BC41,'Annual Assumptions'!$B$17:$BZ$17,0)))),\"\")","v":""},{"$f":"IFERROR(($C$31*$E$31*$G$31*(INDEX('Annual Assumptions'!$B$17:$BZ$22,MATCH('Project Background'!$D$24,'Annual Assumptions'!$B$17:$B$22,0),MATCH(BD41,'Annual Assumptions'!$B$17:$BZ$17,0)))),\"\")","v":""},{"$f":"IFERROR(($C$31*$E$31*$G$31*(INDEX('Annual Assumptions'!$B$17:$BZ$22,MATCH('Project Background'!$D$24,'Annual Assumptions'!$B$17:$B$22,0),MATCH(BE41,'Annual Assumptions'!$B$17:$BZ$17,0)))),\"\")","v":""},{"$f":"IFERROR(($C$31*$E$31*$G$31*(INDEX('Annual Assumptions'!$B$17:$BZ$22,MATCH('Project Background'!$D$24,'Annual Assumptions'!$B$17:$B$22,0),MATCH(BF41,'Annual Assumptions'!$B$17:$BZ$17,0)))),\"\")","v":""},{"$f":"IFERROR(($C$31*$E$31*$G$31*(INDEX('Annual Assumptions'!$B$17:$BZ$22,MATCH('Project Background'!$D$24,'Annual Assumptions'!$B$17:$B$22,0),MATCH(BG41,'Annual Assumptions'!$B$17:$BZ$17,0)))),\"\")","v":""},{"$f":"IFERROR(($C$31*$E$31*$G$31*(INDEX('Annual Assumptions'!$B$17:$BZ$22,MATCH('Project Background'!$D$24,'Annual Assumptions'!$B$17:$B$22,0),MATCH(BH41,'Annual Assumptions'!$B$17:$BZ$17,0)))),\"\")","v":""},{"$f":"IFERROR(($C$31*$E$31*$G$31*(INDEX('Annual Assumptions'!$B$17:$BZ$22,MATCH('Project Background'!$D$24,'Annual Assumptions'!$B$17:$B$22,0),MATCH(BI41,'Annual Assumptions'!$B$17:$BZ$17,0)))),\"\")","v":""},{"$f":"IFERROR(($C$31*$E$31*$G$31*(INDEX('Annual Assumptions'!$B$17:$BZ$22,MATCH('Project Background'!$D$24,'Annual Assumptions'!$B$17:$B$22,0),MATCH(BJ41,'Annual Assumptions'!$B$17:$BZ$17,0)))),\"\")","v":""},{"$f":"IFERROR(($C$31*$E$31*$G$31*(INDEX('Annual Assumptions'!$B$17:$BZ$22,MATCH('Project Background'!$D$24,'Annual Assumptions'!$B$17:$B$22,0),MATCH(BK41,'Annual Assumptions'!$B$17:$BZ$17,0)))),\"\")","v":""}]
[null,"Natural Gas ",{"$f":"K32","v":0},{"$f":"IF(D$41=\"\",\"\",C43)","v":""},{"$f":"IF(E$41=\"\",\"\",D43)","v":""},"","","","","","","","","","","","","","","","","","","","","","","","","","","","","","","","","","","","","","","","","","","","","","","",{"$f":"IF(BA$41=\"\",\"\",AZ43)","v":""},{"$f":"IF(BB$41=\"\",\"\",BA43)","v":""},{"$f":"IF(BC$41=\"\",\"\",BB43)","v":""},{"$f":"IF(BD$41=\"\",\"\",BC43)","v":""},{"$f":"IF(BE$41=\"\",\"\",BD43)","v":""},{"$f":"IF(BF$41=\"\",\"\",BE43)","v":""},{"$f":"IF(BG$41=\"\",\"\",BF43)","v":""},{"$f":"IF(BH$41=\"\",\"\",BG43)","v":""},{"$f":"IF(BI$41=\"\",\"\",BH43)","v":""},{"$f":"IF(BJ$41=\"\",\"\",BI43)","v":""},{"$f":"IF(BK$41=\"\",\"\",BJ43)","v":""}]
[null,"Renewable Natural Gas ",{"$f":"K33","v":0},{"$f":"IF(D$41=\"\",\"\",C44)","v":""},{"$f":"IF(E$41=\"\",\"\",D44)","v":""},"","","","","","","","","","","","","","","","","","","","","","","","","","","","","","","","","","","","","","","","","","","","","","","","","","","","","","","","","",""]
[null,"Propane",{"$f":"K34","v":0},{"$f":"IF(D$41=\"\",\"\",C45)","v":""},{"$f":"IF(E$41=\"\",\"\",D45)","v":""},"","","","","","","","","","","","","","",{"$f":"IF(T$41=\"\",\"\",S45)","v":""},"","","","","","","","",{"$f":"IF(AC$41=\"\",\"\",AB45)","v":""},"","","","","","","","","","",{"$f":"IF(AN$41=\"\",\"\",AM45)","v":""},"","","","","","","","","","",{"$f":"IF(AY$41=\"\",\"\",AX45)","v":""},"","","","","","","","","","","",""]
[null,"Kerosene or Fuel Oil",{"$f":"K35","v":0},{"$f":"IF(D$41=\"\",\"\",C46)","v":""},{"$f":"IF(E$41=\"\",\"\",D46)","v":""},"","","","","","","","","","","","","","","","","","","","","","","","","","","","","","","","","","","","","","","","","","","","","","","","","","","","","","","","","",""]
[]
[null,"Total",{"$f":"SUM(C42:C46)","v":0},{"$f":"IF(D41=\"\",\"\",SUM(D42:D46))","v":""},"","","","","","","","","","","","","","","","","","","","","","","","","","","","","","","","","","","","","","","","","","","","","","","","","","","","","","","","","","",""]
[]
[null,"Annual GHG Emissions Avoided from Renewable Energy (kgCO2e)"]
[]
[null,"Energy Type",{"$f":"'Project Background'!D14","v":0},{"$f":"IFERROR((IF(((C52+1)<('Project Background'!$D$14+'Project Background'!$D$15)),(C52+1),\"\")),\"\")","v":""},{"$f":"IFERROR((IF(((D52+1)<('Project Background'!$D$14+'Project Background'!$D$15)),(D52+1),\"\")),\"\")","v":""},{"$f":"IFERROR((IF(((E52+1)<('Project Background'!$D$14+'Project Background'!$D$15)),(E52+1),\"\")),\"\")","v":""},{"$f":"IFERROR((IF(((F52+1)<('Project Background'!$D$14+'Project Background'!$D$15)),(F52+1),\"\")),\"\")","v":""},{"$f":"IFERROR((IF(((G52+1)<('Project Background'!$D$14+'Project Background'!$D$15)),(G52+1),\"\")),\"\")","v":""},{"$f":"IFERROR((IF(((H52+1)<('Project Background'!$D$14+'Project Background'!$D$15)),(H52+1),\"\")),\"\")","v":""},{"$f":"IFERROR((IF(((I52+1)<('Project Background'!$D$14+'Project Background'!$D$15)),(I52+1),\"\")),\"\")","v":""},{"$f":"IFERROR((IF(((J52+1)<('Project Background'!$D$14+'Project Background'!$D$15)),(J52+1),\"\")),\"\")","v":""},{"$f":"IFERROR((IF(((K52+1)<('Project Background'!$D$14+'Project Background'!$D$15)),(K52+1),\"\")),\"\")","v":""},{"$f":"IFERROR((IF(((L52+1)<('Project Background'!$D$14+'Project Background'!$D$15)),(L52+1),\"\")),\"\")","v":""},{"$f":"IFERROR((IF(((M52+1)<('Project Background'!$D$14+'Project Background'!$D$15)),(M52+1),\"\")),\"\")","v":""},{"$f":"IFERROR((IF(((N52+1)<('Project Background'!$D$14+'Project Background'!$D$15)),(N52+1),\"\")),\"\")","v":""},{"$f":"IFERROR((IF(((O52+1)<('Project Background'!$D$14+'Project Background'!$D$15)),(O52+1),\"\")),\"\")","v":""},{"$f":"IFERROR((IF(((P52+1)<('Project Background'!$D$14+'Project Background'!$D$15)),(P52+1),\"\")),\"\")","v":""},{"$f":"IFERROR((IF(((Q52+1)<('Project Background'!$D$14+'Project Background'!$D$15)),(Q52+1),\"\")),\"\")","v":""},{"$f":"IFERROR((IF(((R52+1)<('Project Background'!$D$14+'Project Background'!$D$15)),(R52+1),\"\")),\"\")","v":""},{"$f":"IFERROR((IF(((S52+1)<('Project Background'!$D$14+'Project Background'!$D$15)),(S52+1),\"\")),\"\")","v":""},{"$f":"IFERROR((IF(((T52+1)<('Project Background'!$D$14+'Project Background'!$D$15)),(T52+1),\"\")),\"\")","v":""},{"$f":"IFERROR((IF(((U52+1)<('Project Background'!$D$14+'Project Background'!$D$15)),(U52+1),\"\")),\"\")","v":""},{"$f":"IFERROR((IF(((V52+1)<('Project Background'!$D$14+'Project Background'!$D$15)),(V52+1),\"\")),\"\")","v":""},{"$f":"IFERROR((IF(((W52+1)<('Project Background'!$D$14+'Project Background'!$D$15)),(W52+1),\"\")),\"\")","v":""},{"$f":"IFERROR((IF(((X52+1)<('Project Background'!$D$14+'Project Background'!$D$15)),(X52+1),\"\")),\"\")","v":""},{"$f":"IFERROR((IF(((Y52+1)<('Project Background'!$D$14+'Project Background'!$D$15)),(Y52+1),\"\")),\"\")","v":""},{"$f":"IFERROR((IF(((Z52+1)<('Project Background'!$D$14+'Project Background'!$D$15)),(Z52+1),\"\")),\"\")","v":""},{"$f":"IFERROR((IF(((AA52+1)<('Project Background'!$D$14+'Project Background'!$D$15)),(AA52+1),\"\")),\"\")","v":""},{"$f":"IFERROR((IF(((AB52+1)<('Project Background'!$D$14+'Project Background'!$D$15)),(AB52+1),\"\")),\"\")","v":""},{"$f":"IFERROR((IF(((AC52+1)<('Project Background'!$D$14+'Project Background'!$D$15)),(AC52+1),\"\")),\"\")","v":""},{"$f":"IFERROR((IF(((AD52+1)<('Project Background'!$D$14+'Project Background'!$D$15)),(AD52+1),\"\")),\"\")","v":""},{"$f":"IFERROR((IF(((AE52+1)<('Project Background'!$D$14+'Project Background'!$D$15)),(AE52+1),\"\")),\"\")","v":""},{"$f":"IFERROR((IF(((AF52+1)<('Project Background'!$D$14+'Project Background'!$D$15)),(AF52+1),\"\")),\"\")","v":""},{"$f":"IFERROR((IF(((AG52+1)<('Project Background'!$D$14+'Project Background'!$D$15)),(AG52+1),\"\")),\"\")","v":""},{"$f":"IFERROR((IF(((AH52+1)<('Project Background'!$D$14+'Project Background'!$D$15)),(AH52+1),\"\")),\"\")","v":""},{"$f":"IFERROR((IF(((AI52+1)<('Project Background'!$D$14+'Project Background'!$D$15)),(AI52+1),\"\")),\"\")","v":""},{"$f":"IFERROR((IF(((AJ52+1)<('Project Background'!$D$14+'Project Background'!$D$15)),(AJ52+1),\"\")),\"\")","v":""},{"$f":"IFERROR((IF(((AK52+1)<('Project Background'!$D$14+'Project Background'!$D$15)),(AK52+1),\"\")),\"\")","v":""},{"$f":"IFERROR((IF(((AL52+1)<('Project Background'!$D$14+'Project Background'!$D$15)),(AL52+1),\"\")),\"\")","v":""},{"$f":"IFERROR((IF(((AM52+1)<('Project Background'!$D$14+'Project Background'!$D$15)),(AM52+1),\"\")),\"\")","v":""},{"$f":"IFERROR((IF(((AN52+1)<('Project Background'!$D$14+'Project Background'!$D$15)),(AN52+1),\"\")),\"\")","v":""},{"$f":"IFERROR((IF(((AO52+1)<('Project Background'!$D$14+'Project Background'!$D$15)),(AO52+1),\"\")),\"\")","v":""},{"$f":"IFERROR((IF(((AP52+1)<('Project Background'!$D$14+'Project Background'!$D$15)),(AP52+1),\"\")),\"\")","v":""},{"$f":"IFERROR((IF(((AQ52+1)<('Project Background'!$D$14+'Project Background'!$D$15)),(AQ52+1),\"\")),\"\")","v":""},{"$f":"IFERROR((IF(((AR52+1)<('Project Background'!$D$14+'Project Background'!$D$15)),(AR52+1),\"\")),\"\")","v":""},{"$f":"IFERROR((IF(((AS52+1)<('Project Background'!$D$14+'Project Background'!$D$15)),(AS52+1),\"\")),\"\")","v":""},{"$f":"IFERROR((IF(((AT52+1)<('Project Background'!$D$14+'Project Background'!$D$15)),(AT52+1),\"\")),\"\")","v":""},{"$f":"IFERROR((IF(((AU52+1)<('Project Background'!$D$14+'Project Background'!$D$15)),(AU52+1),\"\")),\"\")","v":""},{"$f":"IFERROR((IF(((AV52+1)<('Project Background'!$D$14+'Project Background'!$D$15)),(AV52+1),\"\")),\"\")","v":""},{"$f":"IFERROR((IF(((AW52+1)<('Project Background'!$D$14+'Project Background'!$D$15)),(AW52+1),\"\")),\"\")","v":""},{"$f":"IFERROR((IF(((AX52+1)<('Project Background'!$D$14+'Project Background'!$D$15)),(AX52+1),\"\")),\"\")","v":""},{"$f":"IFERROR((IF(((AY52+1)<('Project Background'!$D$14+'Project Background'!$D$15)),(AY52+1),\"\")),\"\")","v":""},{"$f":"IFERROR((IF(((AZ52+1)<('Project Background'!$D$14+'Project Background'!$D$15)),(AZ52+1),\"\")),\"\")","v":""},{"$f":"IFERROR((IF(((BA52+1)<('Project Background'!$D$14+'Project Background'!$D$15)),(BA52+1),\"\")),\"\")","v":""},{"$f":"IFERROR((IF(((BB52+1)<('Project Background'!$D$14+'Project Background'!$D$15)),(BB52+1),\"\")),\"\")","v":""},{"$f":"IFERROR((IF(((BC52+1)<('Project Background'!$D$14+'Project Background'!$D$15)),(BC52+1),\"\")),\"\")","v":""},{"$f":"IFERROR((IF(((BD52+1)<('Project Background'!$D$14+'Project Background'!$D$15)),(BD52+1),\"\")),\"\")","v":""},{"$f":"IFERROR((IF(((BE52+1)<('Project Background'!$D$14+'Project Background'!$D$15)),(BE52+1),\"\")),\"\")","v":""},{"$f":"IFERROR((IF(((BF52+1)<('Project Background'!$D$14+'Project Background'!$D$15)),(BF52+1),\"\")),\"\")","v":""},{"$f":"IFERROR((IF(((BG52+1)<('Project Background'!$D$14+'Project Background'!$D$15)),(BG52+1),\"\")),\"\")","v":""},{"$f":"IFERROR((IF(((BH52+1)<('Project Background'!$D$14+'Project Background'!$D$15)),(BH52+1),\"\")),\"\")","v":""},{"$f":"IFERROR((IF(((BI52+1)<('Project Background'!$D$14+'Project Background'!$D$15)),(BI52+1),\"\")),\"\")","v":""},{"$f":"IFERROR((IF(((BJ52+1)<('Project Background'!$D$14+'Project Background'!$D$15)),(BJ52+1),\"\")),\"\")","v":""}]
[null,"Electricity",{"$f":"IF(C52<>\"\",IF('Project Background'!$H$25=100%,(Operation!$C$31*Operation!$G$31*Operation!$I$31),((1-$E$31)/$E$31*C42)),\"\")","v":0},{"$f":"IF(D52<>\"\",IF('Project Background'!$H$25=100%,(Operation!$C$31*Operation!$G$31*((INDEX('Annual Assumptions'!$B$17:$BZ$22,MATCH('Project Background'!$D$24,'Annual Assumptions'!$B$17:$B$22,0),MATCH(D52,'Annual Assumptions'!$B$17:$BZ$17,0))))),((1-$E$31)/$E$31*D42)),\"\")","v":""},{"$f":"IF(E52<>\"\",IF('Project Background'!$H$25=100%,(Operation!$C$31*Operation!$G$31*((INDEX('Annual Assumptions'!$B$17:$BZ$22,MATCH('Project Background'!$D$24,'Annual Assumptions'!$B$17:$B$22,0),MATCH(E52,'Annual Assumptions'!$B$17:$BZ$17,0))))),((1-$E$31)/$E$31*E42)),\"\")","v":""},{"$f":"IF(F52<>\"\",IF('Project Background'!$H$25=100%,(Operation!$C$31*Operation!$G$31*((INDEX('Annual Assumptions'!$B$17:$BZ$22,MATCH('Project Background'!$D$24,'Annual Assumptions'!$B$17:$B$22,0),MATCH(F52,'Annual Assumptions'!$B$17:$BZ$17,0))))),((1-$E$31)/$E$31*F42)),\"\")","v":""},{"$f":"IF(G52<>\"\",IF('Project Background'!$H$25=100%,(Operation!$C$31*Operation!$G$31*((INDEX('Annual Assumptions'!$B$17:$BZ$22,MATCH('Project Background'!$D$24,'Annual Assumptions'!$B$17:$B$22,0),MATCH(G52,'Annual Assumptions'!$B$17:$BZ$17,0))))),((1-$E$31)/$E$31*G42)),\"\")","v":""},{"$f":"IF(H52<>\"\",IF('Project Background'!$H$25=100%,(Operation!$C$31*Operation!$G$31*((INDEX('Annual Assumptions'!$B$17:$BZ$22,MATCH('Project Background'!$D$24,'Annual Assumptions'!$B$17:$B$22,0),MATCH(H52,'Annual Assumptions'!$B$17:$BZ$17,0))))),((1-$E$31)/$E$31*H42)),\"\")","v":""},{"$f":"IF(I52<>\"\",IF('Project Background'!$H$25=100%,(Operation!$C$31*Operation!$G$31*((INDEX('Annual Assumptions'!$B$17:$BZ$22,MATCH('Project Background'!$D$24,'Annual Assumptions'!$B$17:$B$22,0),MATCH(I52,'Annual Assumptions'!$B$17:$BZ$17,0))))),((1-$E$31)/$E$31*I42)),\"\")","v":""},{"$f":"IF(J52<>\"\",IF('Project Background'!$H$25=100%,(Operation!$C$31*Operation!$G$31*((INDEX('Annual Assumptions'!$B$17:$BZ$22,MATCH('Project Background'!$D$24,'Annual Assumptions'!$B$17:$B$22,0),MATCH(J52,'Annual Assumptions'!$B$17:$BZ$17,0))))),((1-$E$31)/$E$31*J42)),\"\")","v":""},{"$f":"IF(K52<>\"\",IF('Project Background'!$H$25=100%,(Operation!$C$31*Operation!$G$31*((INDEX('Annual Assumptions'!$B$17:$BZ$22,MATCH('Project Background'!$D$24,'Annual Assumptions'!$B$17:$B$22,0),MATCH(K52,'Annual Assumptions'!$B$17:$BZ$17,0))))),((1-$E$31)/$E$31*K42)),\"\")","v":""},{"$f":"IF(L52<>\"\",IF('Project Background'!$H$25=100%,(Operation!$C$31*Operation!$G$31*((INDEX('Annual Assumptions'!$B$17:$BZ$22,MATCH('Project Background'!$D$24,'Annual Assumptions'!$B$17:$B$22,0),MATCH(L52,'Annual Assumptions'!$B$17:$BZ$17,0))))),((1-$E$31)/$E$31*L42)),\"\")","v":""},{"$f":"IF(M52<>\"\",IF('Project Background'!$H$25=100%,(Operation!$C$31*Operation!$G$31*((INDEX('Annual Assumptions'!$B$17:$BZ$22,MATCH('Project Background'!$D$24,'Annual Assumptions'!$B$17:$B$22,0),MATCH(M52,'Annual Assumptions'!$B$17:$BZ$17,0))))),((1-$E$31)/$E$31*M42)),\"\")","v":""},{"$f":"IF(N52<>\"\",IF('Project Background'!$H$25=100%,(Operation!$C$31*Operation!$G$31*((INDEX('Annual Assumptions'!$B$17:$BZ$22,MATCH('Project Background'!$D$24,'Annual Assumptions'!$B$17:$B$22,0),MATCH(N52,'Annual Assumptions'!$B$17:$BZ$17,0))))),((1-$E$31)/$E$31*N42)),\"\")","v":""},{"$f":"IF(O52<>\"\",IF('Project Background'!$H$25=100%,(Operation!$C$31*Operation!$G$31*((INDEX('Annual Assumptions'!$B$17:$BZ$22,MATCH('Project Background'!$D$24,'Annual Assumptions'!$B$17:$B$22,0),MATCH(O52,'Annual Assumptions'!$B$17:$BZ$17,0))))),((1-$E$31)/$E$31*O42)),\"\")","v":""},{"$f":"IF(P52<>\"\",IF('Project Background'!$H$25=100%,(Operation!$C$31*Operation!$G$31*((INDEX('Annual Assumptions'!$B$17:$BZ$22,MATCH('Project Background'!$D$24,'Annual Assumptions'!$B$17:$B$22,0),MATCH(P52,'Annual Assumptions'!$B$17:$BZ$17,0))))),((1-$E$31)/$E$31*P42)),\"\")","v":""},{"$f":"IF(Q52<>\"\",IF('Project Background'!$H$25=100%,(Operation!$C$31*Operation!$G$31*((INDEX('Annual Assumptions'!$B$17:$BZ$22,MATCH('Project Background'!$D$24,'Annual Assumptions'!$B$17:$B$22,0),MATCH(Q52,'Annual Assumptions'!$B$17:$BZ$17,0))))),((1-$E$31)/$E$31*Q42)),\"\")","v":""},{"$f":"IF(R52<>\"\",IF('Project Background'!$H$25=100%,(Operation!$C$31*Operation!$G$31*((INDEX('Annual Assumptions'!$B$17:$BZ$22,MATCH('Project Background'!$D$24,'Annual Assumptions'!$B$17:$B$22,0),MATCH(R52,'Annual Assumptions'!$B$17:$BZ$17,0))))),((1-$E$31)/$E$31*R42)),\"\")","v":""},{"$f":"IF(S52<>\"\",IF('Project Background'!$H$25=100%,(Operation!$C$31*Operation!$G$31*((INDEX('Annual Assumptions'!$B$17:$BZ$22,MATCH('Project Background'!$D$24,'Annual Assumptions'!$B$17:$B$22,0),MATCH(S52,'Annual Assumptions'!$B$17:$BZ$17,0))))),((1-$E$31)/$E$31*S42)),\"\")","v":""},{"$f":"IF(T52<>\"\",IF('Project Background'!$H$25=100%,(Operation!$C$31*Operation!$G$31*((INDEX('Annual Assumptions'!$B$17:$BZ$22,MATCH('Project Background'!$D$24,'Annual Assumptions'!$B$17:$B$22,0),MATCH(T52,'Annual Assumptions'!$B$17:$BZ$17,0))))),((1-$E$31)/$E$31*T42)),\"\")","v":""},{"$f":"IF(U52<>\"\",IF('Project Background'!$H$25=100%,(Operation!$C$31*Operation!$G$31*((INDEX('Annual Assumptions'!$B$17:$BZ$22,MATCH('Project Background'!$D$24,'Annual Assumptions'!$B$17:$B$22,0),MATCH(U52,'Annual Assumptions'!$B$17:$BZ$17,0))))),((1-$E$31)/$E$31*U42)),\"\")","v":""},{"$f":"IF(V52<>\"\",IF('Project Background'!$H$25=100%,(Operation!$C$31*Operation!$G$31*((INDEX('Annual Assumptions'!$B$17:$BZ$22,MATCH('Project Background'!$D$24,'Annual Assumptions'!$B$17:$B$22,0),MATCH(V52,'Annual Assumptions'!$B$17:$BZ$17,0))))),((1-$E$31)/$E$31*V42)),\"\")","v":""},{"$f":"IF(W52<>\"\",IF('Project Background'!$H$25=100%,(Operation!$C$31*Operation!$G$31*((INDEX('Annual Assumptions'!$B$17:$BZ$22,MATCH('Project Background'!$D$24,'Annual Assumptions'!$B$17:$B$22,0),MATCH(W52,'Annual Assumptions'!$B$17:$BZ$17,0))))),((1-$E$31)/$E$31*W42)),\"\")","v":""},{"$f":"IF(X52<>\"\",IF('Project Background'!$H$25=100%,(Operation!$C$31*Operation!$G$31*((INDEX('Annual Assumptions'!$B$17:$BZ$22,MATCH('Project Background'!$D$24,'Annual Assumptions'!$B$17:$B$22,0),MATCH(X52,'Annual Assumptions'!$B$17:$BZ$17,0))))),((1-$E$31)/$E$31*X42)),\"\")","v":""},{"$f":"IF(Y52<>\"\",IF('Project Background'!$H$25=100%,(Operation!$C$31*Operation!$G$31*((INDEX('Annual Assumptions'!$B$17:$BZ$22,MATCH('Project Background'!$D$24,'Annual Assumptions'!$B$17:$B$22,0),MATCH(Y52,'Annual Assumptions'!$B$17:$BZ$17,0))))),((1-$E$31)/$E$31*Y42)),\"\")","v":""},{"$f":"IF(Z52<>\"\",IF('Project Background'!$H$25=100%,(Operation!$C$31*Operation!$G$31*((INDEX('Annual Assumptions'!$B$17:$BZ$22,MATCH('Project Background'!$D$24,'Annual Assumptions'!$B$17:$B$22,0),MATCH(Z52,'Annual Assumptions'!$B$17:$BZ$17,0))))),((1-$E$31)/$E$31*Z42)),\"\")","v":""},{"$f":"IF(AA52<>\"\",IF('Project Background'!$H$25=100%,(Operation!$C$31*Operation!$G$31*((INDEX('Annual Assumptions'!$B$17:$BZ$22,MATCH('Project Background'!$D$24,'Annual Assumptions'!$B$17:$B$22,0),MATCH(AA52,'Annual Assumptions'!$B$17:$BZ$17,0))))),((1-$E$31)/$E$31*AA42)),\"\")","v":""},{"$f":"IF(AB52<>\"\",IF('Project Background'!$H$25=100%,(Operation!$C$31*Operation!$G$31*((INDEX('Annual Assumptions'!$B$17:$BZ$22,MATCH('Project Background'!$D$24,'Annual Assumptions'!$B$17:$B$22,0),MATCH(AB52,'Annual Assumptions'!$B$17:$BZ$17,0))))),((1-$E$31)/$E$31*AB42)),\"\")","v":""},{"$f":"IF(AC52<>\"\",IF('Project Background'!$H$25=100%,(Operation!$C$31*Operation!$G$31*((INDEX('Annual Assumptions'!$B$17:$BZ$22,MATCH('Project Background'!$D$24,'Annual Assumptions'!$B$17:$B$22,0),MATCH(AC52,'Annual Assumptions'!$B$17:$BZ$17,0))))),((1-$E$31)/$E$31*AC42)),\"\")","v":""},{"$f":"IF(AD52<>\"\",IF('Project Background'!$H$25=100%,(Operation!$C$31*Operation!$G$31*((INDEX('Annual Assumptions'!$B$17:$BZ$22,MATCH('Project Background'!$D$24,'Annual Assumptions'!$B$17:$B$22,0),MATCH(AD52,'Annual Assumptions'!$B$17:$BZ$17,0))))),((1-$E$31)/$E$31*AD42)),\"\")","v":""},{"$f":"IF(AE52<>\"\",IF('Project Background'!$H$25=100%,(Operation!$C$31*Operation!$G$31*((INDEX('Annual Assumptions'!$B$17:$BZ$22,MATCH('Project Background'!$D$24,'Annual Assumptions'!$B$17:$B$22,0),MATCH(AE52,'Annual Assumptions'!$B$17:$BZ$17,0))))),((1-$E$31)/$E$31*AE42)),\"\")","v":""},{"$f":"IF(AF52<>\"\",IF('Project Background'!$H$25=100%,(Operation!$C$31*Operation!$G$31*((INDEX('Annual Assumptions'!$B$17:$BZ$22,MATCH('Project Background'!$D$24,'Annual Assumptions'!$B$17:$B$22,0),MATCH(AF52,'Annual Assumptions'!$B$17:$BZ$17,0))))),((1-$E$31)/$E$31*AF42)),\"\")","v":""},{"$f":"IF(AG52<>\"\",IF('Project Background'!$H$25=100%,(Operation!$C$31*Operation!$G$31*((INDEX('Annual Assumptions'!$B$17:$BZ$22,MATCH('Project Background'!$D$24,'Annual Assumptions'!$B$17:$B$22,0),MATCH(AG52,'Annual Assumptions'!$B$17:$BZ$17,0))))),((1-$E$31)/$E$31*AG42)),\"\")","v":""},{"$f":"IF(AH52<>\"\",IF('Project Background'!$H$25=100%,(Operation!$C$31*Operation!$G$31*((INDEX('Annual Assumptions'!$B$17:$BZ$22,MATCH('Project Background'!$D$24,'Annual Assumptions'!$B$17:$B$22,0),MATCH(AH52,'Annual Assumptions'!$B$17:$BZ$17,0))))),((1-$E$31)/$E$31*AH42)),\"\")","v":""},{"$f":"IF(AI52<>\"\",IF('Project Background'!$H$25=100%,(Operation!$C$31*Operation!$G$31*((INDEX('Annual Assumptions'!$B$17:$BZ$22,MATCH('Project Background'!$D$24,'Annual Assumptions'!$B$17:$B$22,0),MATCH(AI52,'Annual Assumptions'!$B$17:$BZ$17,0))))),((1-$E$31)/$E$31*AI42)),\"\")","v":""},{"$f":"IF(AJ52<>\"\",IF('Project Background'!$H$25=100%,(Operation!$C$31*Operation!$G$31*((INDEX('Annual Assumptions'!$B$17:$BZ$22,MATCH('Project Background'!$D$24,'Annual Assumptions'!$B$17:$B$22,0),MATCH(AJ52,'Annual Assumptions'!$B$17:$BZ$17,0))))),((1-$E$31)/$E$31*AJ42)),\"\")","v":""},{"$f":"IF(AK52<>\"\",IF('Project Background'!$H$25=100%,(Operation!$C$31*Operation!$G$31*((INDEX('Annual Assumptions'!$B$17:$BZ$22,MATCH('Project Background'!$D$24,'Annual Assumptions'!$B$17:$B$22,0),MATCH(AK52,'Annual Assumptions'!$B$17:$BZ$17,0))))),((1-$E$31)/$E$31*AK42)),\"\")","v":""},{"$f":"IF(AL52<>\"\",IF('Project Background'!$H$25=100%,(Operation!$C$31*Operation!$G$31*((INDEX('Annual Assumptions'!$B$17:$BZ$22,MATCH('Project Background'!$D$24,'Annual Assumptions'!$B$17:$B$22,0),MATCH(AL52,'Annual Assumptions'!$B$17:$BZ$17,0))))),((1-$E$31)/$E$31*AL42)),\"\")","v":""},{"$f":"IF(AM52<>\"\",IF('Project Background'!$H$25=100%,(Operation!$C$31*Operation!$G$31*((INDEX('Annual Assumptions'!$B$17:$BZ$22,MATCH('Project Background'!$D$24,'Annual Assumptions'!$B$17:$B$22,0),MATCH(AM52,'Annual Assumptions'!$B$17:$BZ$17,0))))),((1-$E$31)/$E$31*AM42)),\"\")","v":""},{"$f":"IF(AN52<>\"\",IF('Project Background'!$H$25=100%,(Operation!$C$31*Operation!$G$31*((INDEX('Annual Assumptions'!$B$17:$BZ$22,MATCH('Project Background'!$D$24,'Annual Assumptions'!$B$17:$B$22,0),MATCH(AN52,'Annual Assumptions'!$B$17:$BZ$17,0))))),((1-$E$31)/$E$31*AN42)),\"\")","v":""},{"$f":"IF(AO52<>\"\",IF('Project Background'!$H$25=100%,(Operation!$C$31*Operation!$G$31*((INDEX('Annual Assumptions'!$B$17:$BZ$22,MATCH('Project Background'!$D$24,'Annual Assumptions'!$B$17:$B$22,0),MATCH(AO52,'Annual Assumptions'!$B$17:$BZ$17,0))))),((1-$E$31)/$E$31*AO42)),\"\")","v":""},{"$f":"IF(AP52<>\"\",IF('Project Background'!$H$25=100%,(Operation!$C$31*Operation!$G$31*((INDEX('Annual Assumptions'!$B$17:$BZ$22,MATCH('Project Background'!$D$24,'Annual Assumptions'!$B$17:$B$22,0),MATCH(AP52,'Annual Assumptions'!$B$17:$BZ$17,0))))),((1-$E$31)/$E$31*AP42)),\"\")","v":""},{"$f":"IF(AQ52<>\"\",IF('Project Background'!$H$25=100%,(Operation!$C$31*Operation!$G$31*((INDEX('Annual Assumptions'!$B$17:$BZ$22,MATCH('Project Background'!$D$24,'Annual Assumptions'!$B$17:$B$22,0),MATCH(AQ52,'Annual Assumptions'!$B$17:$BZ$17,0))))),((1-$E$31)/$E$31*AQ42)),\"\")","v":""},{"$f":"IF(AR52<>\"\",IF('Project Background'!$H$25=100%,(Operation!$C$31*Operation!$G$31*((INDEX('Annual Assumptions'!$B$17:$BZ$22,MATCH('Project Background'!$D$24,'Annual Assumptions'!$B$17:$B$22,0),MATCH(AR52,'Annual Assumptions'!$B$17:$BZ$17,0))))),((1-$E$31)/$E$31*AR42)),\"\")","v":""},{"$f":"IF(AS52<>\"\",IF('Project Background'!$H$25=100%,(Operation!$C$31*Operation!$G$31*((INDEX('Annual Assumptions'!$B$17:$BZ$22,MATCH('Project Background'!$D$24,'Annual Assumptions'!$B$17:$B$22,0),MATCH(AS52,'Annual Assumptions'!$B$17:$BZ$17,0))))),((1-$E$31)/$E$31*AS42)),\"\")","v":""},{"$f":"IF(AT52<>\"\",IF('Project Background'!$H$25=100%,(Operation!$C$31*Operation!$G$31*((INDEX('Annual Assumptions'!$B$17:$BZ$22,MATCH('Project Background'!$D$24,'Annual Assumptions'!$B$17:$B$22,0),MATCH(AT52,'Annual Assumptions'!$B$17:$BZ$17,0))))),((1-$E$31)/$E$31*AT42)),\"\")","v":""},{"$f":"IF(AU52<>\"\",IF('Project Background'!$H$25=100%,(Operation!$C$31*Operation!$G$31*((INDEX('Annual Assumptions'!$B$17:$BZ$22,MATCH('Project Background'!$D$24,'Annual Assumptions'!$B$17:$B$22,0),MATCH(AU52,'Annual Assumptions'!$B$17:$BZ$17,0))))),((1-$E$31)/$E$31*AU42)),\"\")","v":""},{"$f":"IF(AV52<>\"\",IF('Project Background'!$H$25=100%,(Operation!$C$31*Operation!$G$31*((INDEX('Annual Assumptions'!$B$17:$BZ$22,MATCH('Project Background'!$D$24,'Annual Assumptions'!$B$17:$B$22,0),MATCH(AV52,'Annual Assumptions'!$B$17:$BZ$17,0))))),((1-$E$31)/$E$31*AV42)),\"\")","v":""},{"$f":"IF(AW52<>\"\",IF('Project Background'!$H$25=100%,(Operation!$C$31*Operation!$G$31*((INDEX('Annual Assumptions'!$B$17:$BZ$22,MATCH('Project Background'!$D$24,'Annual Assumptions'!$B$17:$B$22,0),MATCH(AW52,'Annual Assumptions'!$B$17:$BZ$17,0))))),((1-$E$31)/$E$31*AW42)),\"\")","v":""},{"$f":"IF(AX52<>\"\",IF('Project Background'!$H$25=100%,(Operation!$C$31*Operation!$G$31*((INDEX('Annual Assumptions'!$B$17:$BZ$22,MATCH('Project Background'!$D$24,'Annual Assumptions'!$B$17:$B$22,0),MATCH(AX52,'Annual Assumptions'!$B$17:$BZ$17,0))))),((1-$E$31)/$E$31*AX42)),\"\")","v":""},{"$f":"IF(AY52<>\"\",IF('Project Background'!$H$25=100%,(Operation!$C$31*Operation!$G$31*((INDEX('Annual Assumptions'!$B$17:$BZ$22,MATCH('Project Background'!$D$24,'Annual Assumptions'!$B$17:$B$22,0),MATCH(AY52,'Annual Assumptions'!$B$17:$BZ$17,0))))),((1-$E$31)/$E$31*AY42)),\"\")","v":""},{"$f":"IF(AZ52<>\"\",IF('Project Background'!$H$25=100%,(Operation!$C$31*Operation!$G$31*((INDEX('Annual Assumptions'!$B$17:$BZ$22,MATCH('Project Background'!$D$24,'Annual Assumptions'!$B$17:$B$22,0),MATCH(AZ52,'Annual Assumptions'!$B$17:$BZ$17,0))))),((1-$E$31)/$E$31*AZ42)),\"\")","v":""},{"$f":"IF(BA52<>\"\",IF('Project Background'!$H$25=100%,(Operation!$C$31*Operation!$G$31*((INDEX('Annual Assumptions'!$B$17:$BZ$22,MATCH('Project Background'!$D$24,'Annual Assumptions'!$B$17:$B$22,0),MATCH(BA52,'Annual Assumptions'!$B$17:$BZ$17,0))))),((1-$E$31)/$E$31*BA42)),\"\")","v":""},{"$f":"IF(BB52<>\"\",IF('Project Background'!$H$25=100%,(Operation!$C$31*Operation!$G$31*((INDEX('Annual Assumptions'!$B$17:$BZ$22,MATCH('Project Background'!$D$24,'Annual Assumptions'!$B$17:$B$22,0),MATCH(BB52,'Annual Assumptions'!$B$17:$BZ$17,0))))),((1-$E$31)/$E$31*BB42)),\"\")","v":""},{"$f":"IF(BC52<>\"\",IF('Project Background'!$H$25=100%,(Operation!$C$31*Operation!$G$31*((INDEX('Annual Assumptions'!$B$17:$BZ$22,MATCH('Project Background'!$D$24,'Annual Assumptions'!$B$17:$B$22,0),MATCH(BC52,'Annual Assumptions'!$B$17:$BZ$17,0))))),((1-$E$31)/$E$31*BC42)),\"\")","v":""},{"$f":"IF(BD52<>\"\",IF('Project Background'!$H$25=100%,(Operation!$C$31*Operation!$G$31*((INDEX('Annual Assumptions'!$B$17:$BZ$22,MATCH('Project Background'!$D$24,'Annual Assumptions'!$B$17:$B$22,0),MATCH(BD52,'Annual Assumptions'!$B$17:$BZ$17,0))))),((1-$E$31)/$E$31*BD42)),\"\")","v":""},{"$f":"IF(BE52<>\"\",IF('Project Background'!$H$25=100%,(Operation!$C$31*Operation!$G$31*((INDEX('Annual Assumptions'!$B$17:$BZ$22,MATCH('Project Background'!$D$24,'Annual Assumptions'!$B$17:$B$22,0),MATCH(BE52,'Annual Assumptions'!$B$17:$BZ$17,0))))),((1-$E$31)/$E$31*BE42)),\"\")","v":""},{"$f":"IF(BF52<>\"\",IF('Project Background'!$H$25=100%,(Operation!$C$31*Operation!$G$31*((INDEX('Annual Assumptions'!$B$17:$BZ$22,MATCH('Project Background'!$D$24,'Annual Assumptions'!$B$17:$B$22,0),MATCH(BF52,'Annual Assumptions'!$B$17:$BZ$17,0))))),((1-$E$31)/$E$31*BF42)),\"\")","v":""},{"$f":"IF(BG52<>\"\",IF('Project Background'!$H$25=100%,(Operation!$C$31*Operation!$G$31*((INDEX('Annual Assumptions'!$B$17:$BZ$22,MATCH('Project Background'!$D$24,'Annual Assumptions'!$B$17:$B$22,0),MATCH(BG52,'Annual Assumptions'!$B$17:$BZ$17,0))))),((1-$E$31)/$E$31*BG42)),\"\")","v":""},{"$f":"IF(BH52<>\"\",IF('Project Background'!$H$25=100%,(Operation!$C$31*Operation!$G$31*((INDEX('Annual Assumptions'!$B$17:$BZ$22,MATCH('Project Background'!$D$24,'Annual Assumptions'!$B$17:$B$22,0),MATCH(BH52,'Annual Assumptions'!$B$17:$BZ$17,0))))),((1-$E$31)/$E$31*BH42)),\"\")","v":""},{"$f":"IF(BI52<>\"\",IF('Project Background'!$H$25=100%,(Operation!$C$31*Operation!$G$31*((INDEX('Annual Assumptions'!$B$17:$BZ$22,MATCH('Project Background'!$D$24,'Annual Assumptions'!$B$17:$B$22,0),MATCH(BI52,'Annual Assumptions'!$B$17:$BZ$17,0))))),((1-$E$31)/$E$31*BI42)),\"\")","v":""},{"$f":"IF(BJ52<>\"\",IF('Project Background'!$H$25=100%,(Operation!$C$31*Operation!$G$31*((INDEX('Annual Assumptions'!$B$17:$BZ$22,MATCH('Project Background'!$D$24,'Annual Assumptions'!$B$17:$B$22,0),MATCH(BJ52,'Annual Assumptions'!$B$17:$BZ$17,0))))),((1-$E$31)/$E$31*BJ42)),\"\")","v":""},{"$f":"IF(BK52<>\"\",IF('Project Background'!$H$25=100%,(Operation!$C$31*Operation!$G$31*((INDEX('Annual Assumptions'!$B$17:$BZ$22,MATCH('Project Background'!$D$24,'Annual Assumptions'!$B$17:$B$22,0),MATCH(BK52,'Annual Assumptions'!$B$17:$BZ$17,0))))),((1-$E$31)/$E$31*BK42)),\"\")","v":""}]
[]
[null,"Coal Production"]
[]
[null,"Coal Type","Quantity",null,"Heat Content",null,"Unit Conversion",null,"Emission Factor",null,"Annual GHG Emissions"]
[null,null,"tons/year",null,"Btu/ton",null,"MMBtu/Btu",null,"kgCO2e/MMBtu",null,"kgCO2e/year"]
[null,"Mixed Coal",{"$f":"'User Inputs'!D165","v":0},"x",{"$f":"INDEX(Assumptions!$B$229:$F$251,MATCH(Operation!$B59,Assumptions!$B$229:$B$251,0),5)","v":19730000},"x",{"$f":"Constants!$F$23","v":9.9999999999999995E-7},"x",{"$f":"INDEX(Assumptions!$B$229:$F$251,MATCH(Operation!$B59,Assumptions!$B$229:$B$251,0),4)","v":102.0151379375573},"=",{"$f":"C59*E59*G59*I59","v":0}]
[null,"Anthracite Coal",{"$f":"'User Inputs'!D166","v":0},"x",{"$f":"INDEX(Assumptions!$B$229:$F$251,MATCH(Operation!B60,Assumptions!$B$229:$B$251,0),5)","v":25090000},"x",{"$f":"Constants!$F$23","v":9.9999999999999995E-7},"x",{"$f":"INDEX(Assumptions!$B$229:$F$251,MATCH(Operation!$B60,Assumptions!$B$229:$B$251,0),4)","v":110.1851379375573},"=",{"$f":"C60*E60*G60*I60","v":0}]
[null,"Bituminous Coal",{"$f":"'User Inputs'!D167","v":0},"x",{"$f":"INDEX(Assumptions!$B$229:$F$251,MATCH(Operation!B61,Assumptions!$B$229:$B$251,0),5)","v":24930000},"x",{"$f":"Constants!$F$23","v":9.9999999999999995E-7},"x",{"$f":"INDEX(Assumptions!$B$229:$F$251,MATCH(Operation!$B61,Assumptions!$B$229:$B$251,0),4)","v":99.775137937557304},"=",0]
[null,"Subbituminous Coal",{"$f":"'User Inputs'!D168","v":0},"x",{"$f":"INDEX(Assumptions!$B$229:$F$251,MATCH(Operation!B62,Assumptions!$B$229:$B$251,0),5)","v":17250000},"x",{"$f":"Constants!$F$23","v":9.9999999999999995E-7},"x",{"$f":"INDEX(Assumptions!$B$229:$F$251,MATCH(Operation!$B62,Assumptions!$B$229:$B$251,0),4)","v":103.6651379375573},"=",0]
[null,"Lignite Coal",{"$f":"'User Inputs'!D169","v":0},"x",{"$f":"INDEX(Assumptions!$B$229:$F$251,MATCH(Operation!B63,Assumptions!$B$229:$B$251,0),5)","v":14210000},"x",{"$f":"Constants!$F$23","v":9.9999999999999995E-7},"x",{"$f":"INDEX(Assumptions!$B$229:$F$251,MATCH(Operation!$B63,Assumptions!$B$229:$B$251,0),4)","v":104.2151379375573},"=",0]
[null,"Coal Coke",{"$f":"'User Inputs'!D170","v":0},"x",{"$f":"INDEX(Assumptions!$B$229:$F$251,MATCH(Operation!B64,Assumptions!$B$229:$B$251,0),5)","v":24800000},"x",{"$f":"Constants!$F$23","v":9.9999999999999995E-7},"x",{"$f":"INDEX(Assumptions!$B$229:$F$251,MATCH(Operation!$B64,Assumptions!$B$229:$B$251,0),4)","v":120.1651379375573},"=",0]
[]
[null,null,null,null,null,null,null,null,null,"Total",{"$f":"SUM(K59:K64)","v":0}]
[]
[null,"Natural Gas and Oil Products"]
[]
[null,"Annual GHG Emissions from Natural Gas Systems"]
[]
[null,"Fuel Type","Incremental Throughput ",null,"Heat Content",null,"Unit Conversion",null,"Emission Factor",null,"Annual GHG Emissions"]
[null,null,"cubic feet/year",null,"Btu/cubic feet",null,"MMBtu/Btu",null,"kgCO2e/MMBtu",null,"kgCO2e/year"]
[null,"Natural Gas",{"$f":"'User Inputs'!D176","v":0},"x",{"$f":"INDEX(Assumptions!$B$229:$F$251,MATCH(Operation!$B74,Assumptions!$B$229:$B$251,0),5)","v":1026},"x",{"$f":"Constants!$F$23","v":9.9999999999999995E-7},"x",{"$f":"INDEX(Assumptions!$B$229:$F$251,MATCH(Operation!$B74,Assumptions!$B$229:$B$251,0),4)-'User Inputs'!F196+'User Inputs'!E196","v":65.149456379705697},"=",{"$f":"C74*E74*G74*I74","v":0}]
[null,"Renewable Natural Gas",{"$f":"'User Inputs'!D177","v":0},"x",{"$f":"INDEX(Assumptions!$B$229:$F$251,MATCH(Operation!$B75,Assumptions!$B$229:$B$251,0),5)","v":1026},"x",{"$f":"Constants!$F$23","v":9.9999999999999995E-7},"x",{"$f":"INDEX(Assumptions!$B$229:$F$251,MATCH(Operation!$B75,Assumptions!$B$229:$B$251,0),4)","v":18.555201323532359},"=",{"$f":"C75*E75*G75*I75","v":0}]
[null,null,null,null,null,null,null,null,null,"Subtotal",{"$f":"SUM(K74:K75)","v":0}]
[null,"Annual GHG Emissions from Oil Products"]
[]
[null,"Fuel Type","Incremental Throughput ",null,"Heat Content",null,"Unit Conversion",null,"Emission Factor",null,"Annual GHG Emissions"]
[null,null,"gallons/year",null,"Btu/ton",null,"MMBtu/Btu",null,"kgCO2e/MMBtu",null,"kgCO2e/year"]
[null,"Propane",{"$f":"'User Inputs'!D178","v":0},"x",{"$f":"INDEX(Assumptions!$B$229:$F$251,MATCH(Operation!$B81,Assumptions!$B$229:$B$251,0),5)","v":91000},"x",{"$f":"Constants!$F$23","v":9.9999999999999995E-7},"x",{"$f":"INDEX(Assumptions!$B$229:$F$251,MATCH(Operation!$B81,Assumptions!$B$229:$B$251,0),4)","v":81.279043991959028},"=",{"$f":"C81*E81*G81*I81","v":0}]
[null,"Gasoline",{"$f":"'User Inputs'!D179","v":0},"x",{"$f":"INDEX(Assumptions!$B$229:$F$251,MATCH(Operation!$B82,Assumptions!$B$229:$B$251,0),5)","v":125000},"x",{"$f":"Constants!$F$23","v":9.9999999999999995E-7},"x",{"$f":"INDEX(Assumptions!$B$229:$F$251,MATCH(Operation!$B82,Assumptions!$B$229:$B$251,0),4)","v":93.326240499070678},"=",{"$f":"C82*E82*G82*I82","v":0}]
[null,"Distillate Fuel Oil No. 1",{"$f":"'User Inputs'!D180","v":0},"x",{"$f":"INDEX(Assumptions!$B$229:$F$251,MATCH(Operation!$B83,Assumptions!$B$229:$B$251,0),5)","v":139000},"x",{"$f":"Constants!$F$23","v":9.9999999999999995E-7},"x",{"$f":"INDEX(Assumptions!$B$229:$F$251,MATCH(Operation!$B83,Assumptions!$B$229:$B$251,0),4)","v":89.602621805630562},"=",0]
[null,"Distillate Fuel Oil No. 2",{"$f":"'User Inputs'!D181","v":0},"x",{"$f":"INDEX(Assumptions!$B$229:$F$251,MATCH(Operation!$B84,Assumptions!$B$229:$B$251,0),5)","v":138000},"x",{"$f":"Constants!$F$23","v":9.9999999999999995E-7},"x",{"$f":"INDEX(Assumptions!$B$229:$F$251,MATCH(Operation!$B84,Assumptions!$B$229:$B$251,0),4)","v":90.312621805630556},"=",0]
[null,"Distillate Fuel Oil No. 4",{"$f":"'User Inputs'!D182","v":0},"x",{"$f":"INDEX(Assumptions!$B$229:$F$251,MATCH(Operation!$B85,Assumptions!$B$229:$B$251,0),5)","v":146000},"x",{"$f":"Constants!$F$23","v":9.9999999999999995E-7},"x",{"$f":"INDEX(Assumptions!$B$229:$F$251,MATCH(Operation!$B85,Assumptions!$B$229:$B$251,0),4)","v":91.392621805630569},"=",0]
[null,"Residual Fuel Oil No. 5",{"$f":"'User Inputs'!D183","v":0},"x",{"$f":"INDEX(Assumptions!$B$229:$F$251,MATCH(Operation!$B86,Assumptions!$B$229:$B$251,0),5)","v":140000},"x",{"$f":"Constants!$F$23","v":9.9999999999999995E-7},"x",{"$f":"INDEX(Assumptions!$B$229:$F$251,MATCH(Operation!$B86,Assumptions!$B$229:$B$251,0),4)","v":85.972415286810417},"=",0]
[null,"Residual Fuel Oil No. 6",{"$f":"'User Inputs'!D184","v":0},"x",{"$f":"INDEX(Assumptions!$B$229:$F$251,MATCH(Operation!$B87,Assumptions!$B$229:$B$251,0),5)","v":150000},"x",{"$f":"Constants!$F$23","v":9.9999999999999995E-7},"x",{"$f":"INDEX(Assumptions!$B$229:$F$251,MATCH(Operation!$B87,Assumptions!$B$229:$B$251,0),4)","v":88.142415286810404},"=",0]
[null,"Liquified Petroleum Gas (LPG)",{"$f":"'User Inputs'!D185","v":0},"x",{"$f":"INDEX(Assumptions!$B$229:$F$251,MATCH(Operation!$B88,Assumptions!$B$229:$B$251,0),5)","v":92000},"x",{"$f":"Constants!$F$23","v":9.9999999999999995E-7},"x",{"$f":"INDEX(Assumptions!$B$229:$F$251,MATCH(Operation!$B88,Assumptions!$B$229:$B$251,0),4)","v":80.709078074637759},"=",0]
[null,"Kerosene",{"$f":"'User Inputs'!D186","v":0},"x",{"$f":"INDEX(Assumptions!$B$229:$F$251,MATCH(Operation!$B89,Assumptions!$B$229:$B$251,0),5)","v":135000},"x",{"$f":"Constants!$F$23","v":9.9999999999999995E-7},"x",{"$f":"INDEX(Assumptions!$B$229:$F$251,MATCH(Operation!$B89,Assumptions!$B$229:$B$251,0),4)","v":91.552621805630565},"=",0]
[null,"Kerosene Jet Fuel",{"$f":"'User Inputs'!D187","v":0},"x",{"$f":"INDEX(Assumptions!$B$229:$F$251,MATCH(Operation!$B90,Assumptions!$B$229:$B$251,0),5)","v":135000},"x",{"$f":"Constants!$F$23","v":9.9999999999999995E-7},"x",{"$f":"INDEX(Assumptions!$B$229:$F$251,MATCH(Operation!$B90,Assumptions!$B$229:$B$251,0),4)","v":84.311449925485192},"=",0]
[null,"Biodiesel 100",{"$f":"'User Inputs'!D188","v":0},"x",{"$f":"INDEX(Assumptions!$B$229:$F$251,MATCH(Operation!$B91,Assumptions!$B$229:$B$251,0),5)","v":128000},"x",{"$f":"Constants!$F$23","v":9.9999999999999995E-7},"x",{"$f":"INDEX(Assumptions!$B$229:$F$251,MATCH(Operation!$B91,Assumptions!$B$229:$B$251,0),4)","v":26.926332436339933},"=",{"$f":"C91*E91*G91*I91","v":0}]
[null,"Biodiesel 20",{"$f":"'User Inputs'!D189","v":0},"x",{"$f":"INDEX(Assumptions!$B$229:$F$251,MATCH(Operation!$B92,Assumptions!$B$229:$B$251,0),5)","v":128000},"x",{"$f":"Constants!$F$23","v":9.9999999999999995E-7},"x",{"$f":"INDEX(Assumptions!$B$229:$F$251,MATCH(Operation!$B92,Assumptions!$B$229:$B$251,0),4)","v":83.329107386486328},"=",{"$f":"C92*E92*G92*I92","v":0}]
[null,"Renewable Diesel",{"$f":"'User Inputs'!D190","v":0},"x",{"$f":"INDEX(Assumptions!$B$229:$F$251,MATCH(Operation!$B93,Assumptions!$B$229:$B$251,0),5)","v":122887},"x",{"$f":"Constants!$F$23","v":9.9999999999999995E-7},"x",{"$f":"INDEX(Assumptions!$B$229:$F$251,MATCH(Operation!$B93,Assumptions!$B$229:$B$251,0),4)","v":37.874215519050104},"=",0]
[null,null,null,null,null,null,null,null,null,"Subtotal",{"$f":"SUM(K81:K93)","v":0}]
[]
[null,null,null,null,null,null,null,null,null,"Total",{"$f":"K76+K94","v":0}]
[]
[null,"Industrial Processes"]
[]
[null,"Product Type","Quantity",null,"Emission Factor",null,"Annual GHG Emissions "]
[null,null,"tons/year",null,"kgCO2e/ton",null,"kgCO2e/year"]
[null,"Cement",{"$f":"'User Inputs'!D203","v":0},"x",{"$f":"'User Inputs'!E203","v":0},"=",{"$f":"C102*E102","v":0}]
[null,"Lime",{"$f":"'User Inputs'!D204","v":0},"x",{"$f":"'User Inputs'!E204","v":0},"=",{"$f":"C103*E103","v":0}]
[null,"Limestone Use",{"$f":"'User Inputs'!D205","v":0},"x",{"$f":"'User Inputs'!E205","v":0},"=",{"$f":"C104*E104","v":0}]
[null,"Magnesium",{"$f":"'User Inputs'!D206","v":0},"x",{"$f":"'User Inputs'!E206","v":0},"=",0]
[null,"Iron and Steel",{"$f":"'User Inputs'!D207","v":0},"x",{"$f":"'User Inputs'!E207","v":0},"=",0]
[null,"Ammonia",{"$f":"'User Inputs'!D208","v":0},"x",{"$f":"'User Inputs'!E208","v":0},"=",0]
[null,"Aluminum",{"$f":"'User Inputs'!D209","v":0},"x",{"$f":"'User Inputs'!E209","v":0},"=",0]
[null,"Nitric Acid",{"$f":"'User Inputs'!D210","v":0},"x",{"$f":"'User Inputs'!E210","v":0},"=",0]
[]
[null,null,null,null,null,"Total",{"$f":"SUM(G102:G109)","v":0}]
[]
[null,"HFC Leakage"]
[]
[null,"Building Type","Equipment Type",null,null,"HFC","Utilized Square Footage",null,"Capacity",null,"Unit Conversion",null,"Annual Leak Rate",null,"HFC GWP",null,"Annual GHG Emissions"]
[null,null,null,null,null,null,null,null," kg HFC/1000 ft2",null,"1000 ft2/ft2",null,null,null,null,null,"kgCO2e/year"]
[null,"Residential","Room A/C & Other residential A/C and heat pumps",null,null,{"$f":"IF('User Inputs'!G224=0,\"\",'User Inputs'!G224)","v":""},{"$f":"'Project Background'!D18*'User Inputs'!D218","v":0},"x",{"$f":"Assumptions!G270","v":2.25},"/",1000,"x",{"$f":"Assumptions!H270","v":8.6066666666666666E-2},"x",{"$f":"IFERROR(_xlfn.XLOOKUP(F117,Constants!$H$6:$H$28,Constants!$I$6:$I$28),\"No HFC selected\")","v":"No HFC selected"},"=",{"$f":"IFERROR((G117*I117/K117*M117*O117),0)","v":0}]
[null,"Commercial","Other commercial A/C and heat pumps",null,null,{"$f":"IF('User Inputs'!G225=0,\"\",'User Inputs'!G225)","v":""},{"$f":"'Project Background'!D19*'User Inputs'!D219","v":0},"x",{"$f":"Assumptions!G271","v":1.8},"/",1000,"x",{"$f":"Assumptions!H271","v":8.9599999999999999E-2},"x",{"$f":"IFERROR(_xlfn.XLOOKUP(F118,Constants!$H$6:$H$28,Constants!$I$6:$I$28),\"No HFC selected\")","v":"No HFC selected"},"=",0]
[null,"Institutional","Walk-in refrigerators and freezers",null,null,{"$f":"IF('User Inputs'!G226=0,\"\",'User Inputs'!G226)","v":""},{"$f":"'Project Background'!D21*'User Inputs'!D221","v":0},"x",{"$f":"Assumptions!G272","v":0.4},"/",1000,"x",{"$f":"Assumptions!H272","v":0.13450000000000001},"x",{"$f":"IFERROR(_xlfn.XLOOKUP(F119,Constants!$H$6:$H$28,Constants!$I$6:$I$28),\"No HFC selected\")","v":"No HFC selected"},"=",0]
[null,"Institutional","Other commercial A/C and heat pumps",null,null,{"$f":"IF('User Inputs'!G227=0,\"\",'User Inputs'!G227)","v":""},{"$f":"'Project Background'!D21*'User Inputs'!D221","v":0},"x",{"$f":"Assumptions!G273","v":1.8},"/",1000,"x",{"$f":"Assumptions!H273","v":8.9599999999999999E-2},"x",{"$f":"IFERROR(_xlfn.XLOOKUP(F120,Constants!$H$6:$H$28,Constants!$I$6:$I$28),\"No HFC selected\")","v":"No HFC selected"},"=",{"$f":"IFERROR((G120*I120/K120*M120*O120),0)","v":0}]
[null,"Industrial","Other commercial A/C and heat pumps",null,null,{"$f":"IF('User Inputs'!G228=0,\"\",'User Inputs'!G228)","v":""},{"$f":"'Project Background'!D20*'User Inputs'!D220","v":0},"x",{"$f":"Assumptions!G274","v":0.3},"/",1000,"x",{"$f":"Assumptions!H274","v":8.9599999999999999E-2},"x",{"$f":"IFERROR(_xlfn.XLOOKUP(F121,Constants!$H$6:$H$28,Constants!$I$6:$I$28),\"No HFC selected\")","v":"No HFC selected"},"=",{"$f":"IFERROR((G121*I121/K121*M121*O121),0)","v":0}]
[]
[null,null,null,null,null,null,null,null,null,null,null,null,null,null,null,"Total",{"$f":"SUM(Q117:Q121)","v":0}]
[]
[null,"Land Use Change"]
[]
[null,"Land Cover Type",null,null,"Post-Construction",null,"Post-Operation",null,"Carbon Stock ",null,"Conversion Factor",null,"GHG Emissions"]
[null,null,null,null,"acres",null,"acres",null,"MT C/acre",null,"C to CO2",null,"kgCO2e"]
["(","Wetlands: peatland, non forested",null,null,{"$f":"'User Inputs'!E236","v":0}," - ",{"$f":"'User Inputs'!F236","v":0},") x",{"$f":"Assumptions!D168","v":367.87088110131424},"x",{"$f":"Constants!$F$35","v":3.6666666666666665},"=",{"$f":"(E129-G129)*I129*K129","v":0}]
["(","Wetlands: peatland, forested",null,null,{"$f":"'User Inputs'!E237","v":0}," - ",{"$f":"'User Inputs'!F237","v":0},") x",{"$f":"Assumptions!D169","v":436.18048028678282},"x",{"$f":"Constants!$F$35","v":3.6666666666666665},"=",{"$f":"(E130-G130)*I130*K130","v":0}]
["(","Wetlands: mineral soil, non forested",null,null,{"$f":"'User Inputs'!E238","v":0}," - ",{"$f":"'User Inputs'!F238","v":0},") x",{"$f":"Assumptions!D170","v":55.564268739632432},"x",{"$f":"Constants!$F$35","v":3.6666666666666665},"=",{"$f":"(E131-G131)*I131*K131","v":0}]
["(","Wetlands: mineral soil, forested",null,null,{"$f":"'User Inputs'!E239","v":0}," - ",{"$f":"'User Inputs'!F239","v":0},") x",{"$f":"Assumptions!D171","v":77.153906384852476},"x",{"$f":"Constants!$F$35","v":3.6666666666666665},"=",0]
["(","Forest ",null,null,{"$f":"'User Inputs'!E240","v":0}," - ",{"$f":"'User Inputs'!F240","v":0},") x",{"$f":"Assumptions!D172","v":99},"x",{"$f":"Constants!$F$35","v":3.6666666666666665},"=",0]
["(","Rivers and streams",null,null,{"$f":"'User Inputs'!E241","v":0}," - ",{"$f":"'User Inputs'!F241","v":0},") x",{"$f":"Assumptions!D173","v":0},"x",{"$f":"Constants!$F$35","v":3.6666666666666665},"=",0]
["(","Brush and grassland",null,null,{"$f":"'User Inputs'!E242","v":0}," - ",{"$f":"'User Inputs'!F242","v":0},") x",{"$f":"Assumptions!D174","v":40.798506395373956},"x",{"$f":"Constants!$F$35","v":3.6666666666666665},"=",0]
["(","Cropland",null,null,{"$f":"'User Inputs'!E243","v":0}," - ",{"$f":"'User Inputs'!F243","v":0},") x",{"$f":"Assumptions!D175","v":32.490790157128821},"x",{"$f":"Constants!$F$35","v":3.6666666666666665},"=",0]
["(","Livestock rangeland/pastureland",null,null,{"$f":"'User Inputs'!E244","v":0}," - ",{"$f":"'User Inputs'!F244","v":0},") x",{"$f":"Assumptions!D176","v":40.798506395373956},"x",{"$f":"Constants!$F$35","v":3.6666666666666665},"=",0]
["(","Lawn/landscaping",null,null,{"$f":"'User Inputs'!E245","v":0}," - ",{"$f":"'User Inputs'!F245","v":0},") x",{"$f":"Assumptions!D177","v":19.060723174359076},"x",{"$f":"Constants!$F$35","v":3.6666666666666665},"=",0]
["(","Green Infrastructure: Constructed wetlands, paved",null,null,{"$f":"'User Inputs'!E246","v":0}," - ",{"$f":"'User Inputs'!F246","v":0},") x",{"$f":"Assumptions!D178","v":0},"x",{"$f":"Constants!$F$35","v":3.6666666666666665},"=",0]
["(","Green Infrastructure: Constructed wetlands, vegetated",null,null,{"$f":"'User Inputs'!E247","v":0}," - ",{"$f":"'User Inputs'!F247","v":0},") x",{"$f":"Assumptions!D179","v":43.402602132696629},"x",{"$f":"Constants!$F$35","v":3.6666666666666665},"=",0]
["(","Green Infrastructure: Constructed green roofs",null,null,{"$f":"'User Inputs'!E248","v":0}," - ",{"$f":"'User Inputs'!F248","v":0},") x",{"$f":"Assumptions!D180","v":19.060723174359076},"x",{"$f":"Constants!$F$35","v":3.6666666666666665},"=",0]
["(","Green Infrastructure: Constructed permeable pavements ",null,null,{"$f":"'User Inputs'!E249","v":0}," - ",{"$f":"'User Inputs'!F249","v":0},") x",{"$f":"Assumptions!D181","v":0},"x",{"$f":"Constants!$F$35","v":3.6666666666666665},"=",0]
["(","Impervious surface ",null,null,{"$f":"'User Inputs'!E250","v":0}," - ",{"$f":"'User Inputs'!F250","v":0},") x",{"$f":"Assumptions!D182","v":0},"x",{"$f":"Constants!$F$35","v":3.6666666666666665},"=",0]
["(","Stormwater pond (wet sedimentation basin) ",null,null,{"$f":"'User Inputs'!E251","v":0}," - ",{"$f":"'User Inputs'!F251","v":0},") x",{"$f":"Assumptions!D183","v":0},"x",{"$f":"Constants!$F$35","v":3.6666666666666665},"=",0]
[]
[null,null,null,null,null,null,null,null,null,null,null,"Total",{"$f":"SUM(M129:M144)","v":0}]
[]
[null,"On-Road Vehicles"]
[]
[null,"Annual GHG Emissions from On-Road Vehicles (Year 1)*"]
[]
[null,"Speed Bin","Additional VMT",null,"Emission Factor (Year 1) ",null,"Unit Conversion",null,"Annual GHG Emissions "]
[null,null,"miles/year",null," gCO2e/mile",null,"kg/g",null,"kgCO2e/year"]
[null,"Fleet Average",{"$f":"'User Inputs'!D258","v":0},"x",{"$f":"IFERROR(INDEX('Annual Assumptions'!$B$27:$BZ$31,MATCH(Operation!B154,'Annual Assumptions'!$B$27:$B$31,0),MATCH('Project Background'!$D$14,'Annual Assumptions'!$B$27:$BZ$27,0)),\"No operational year\")","v":"No operational year"},"x",{"$f":"1/Constants!$F$8","v":1E-3},"=",{"$f":"IFERROR(C154*E154*G154,0)","v":0}]
[null,"0-30",{"$f":"'User Inputs'!D259","v":0},"x",{"$f":"IFERROR(INDEX('Annual Assumptions'!$B$27:$BZ$31,MATCH(Operation!B155,'Annual Assumptions'!$B$27:$B$31,0),MATCH('Project Background'!$D$14,'Annual Assumptions'!$B$27:$BZ$27,0)),\"No operational year\")","v":"No operational year"},"x",{"$f":"1/Constants!$F$8","v":1E-3},"=",{"$f":"IFERROR(C155*E155*G155,0)","v":0}]
[null,"31-55",{"$f":"'User Inputs'!D260","v":0},"x",{"$f":"IFERROR(INDEX('Annual Assumptions'!$B$27:$BZ$31,MATCH(Operation!B156,'Annual Assumptions'!$B$27:$B$31,0),MATCH('Project Background'!$D$14,'Annual Assumptions'!$B$27:$BZ$27,0)),\"No operational year\")","v":"No operational year"},"x",{"$f":"1/Constants!$F$8","v":1E-3},"=",{"$f":"IFERROR(C156*E156*G156,0)","v":0}]
[null,"56-75",{"$f":"'User Inputs'!D261","v":0},"x",{"$f":"IFERROR(INDEX('Annual Assumptions'!$B$27:$BZ$31,MATCH(Operation!B157,'Annual Assumptions'!$B$27:$B$31,0),MATCH('Project Background'!$D$14,'Annual Assumptions'!$B$27:$BZ$27,0)),\"No operational year\")","v":"No operational year"},"x",{"$f":"1/Constants!$F$8","v":1E-3},"=",{"$f":"IFERROR(C157*E157*G157,0)","v":0}]
[null,"* The emissions factor for on-road vehicles is assumed to change over time."]
[null,null,null,null,null,null,null,"Total",{"$f":"SUM(I154:I157)","v":0}]
[null,"Annual GHG Emissions from On-Road Vehicles (kgCO2e)"]
[]
[null,"Speed Bin",{"$f":"'Project Background'!$D$14","v":0},{"$f":"IFERROR((IF(((C162+1)<('Project Background'!$D$14+'Project Background'!$D$15)),(C162+1),\"\")),\"\")","v":""},{"$f":"IFERROR((IF(((D162+1)<('Project Background'!$D$14+'Project Background'!$D$15)),(D162+1),\"\")),\"\")","v":""},{"$f":"IFERROR((IF(((E162+1)<('Project Background'!$D$14+'Project Background'!$D$15)),(E162+1),\"\")),\"\")","v":""},{"$f":"IFERROR((IF(((F162+1)<('Project Background'!$D$14+'Project Background'!$D$15)),(F162+1),\"\")),\"\")","v":""},{"$f":"IFERROR((IF(((G162+1)<('Project Background'!$D$14+'Project Background'!$D$15)),(G162+1),\"\")),\"\")","v":""},{"$f":"IFERROR((IF(((H162+1)<('Project Background'!$D$14+'Project Background'!$D$15)),(H162+1),\"\")),\"\")","v":""},{"$f":"IFERROR((IF(((I162+1)<('Project Background'!$D$14+'Project Background'!$D$15)),(I162+1),\"\")),\"\")","v":""},{"$f":"IFERROR((IF(((J162+1)<('Project Background'!$D$14+'Project Background'!$D$15)),(J162+1),\"\")),\"\")","v":""},{"$f":"IFERROR((IF(((K162+1)<('Project Background'!$D$14+'Project Background'!$D$15)),(K162+1),\"\")),\"\")","v":""},{"$f":"IFERROR((IF(((L162+1)<('Project Background'!$D$14+'Project Background'!$D$15)),(L162+1),\"\")),\"\")","v":""},{"$f":"IFERROR((IF(((M162+1)<('Project Background'!$D$14+'Project Background'!$D$15)),(M162+1),\"\")),\"\")","v":""},{"$f":"IFERROR((IF(((N162+1)<('Project Background'!$D$14+'Project Background'!$D$15)),(N162+1),\"\")),\"\")","v":""},{"$f":"IFERROR((IF(((O162+1)<('Project Background'!$D$14+'Project Background'!$D$15)),(O162+1),\"\")),\"\")","v":""},{"$f":"IFERROR((IF(((P162+1)<('Project Background'!$D$14+'Project Background'!$D$15)),(P162+1),\"\")),\"\")","v":""},{"$f":"IFERROR((IF(((Q162+1)<('Project Background'!$D$14+'Project Background'!$D$15)),(Q162+1),\"\")),\"\")","v":""},{"$f":"IFERROR((IF(((R162+1)<('Project Background'!$D$14+'Project Background'!$D$15)),(R162+1),\"\")),\"\")","v":""},{"$f":"IFERROR((IF(((S162+1)<('Project Background'!$D$14+'Project Background'!$D$15)),(S162+1),\"\")),\"\")","v":""},{"$f":"IFERROR((IF(((T162+1)<('Project Background'!$D$14+'Project Background'!$D$15)),(T162+1),\"\")),\"\")","v":""},{"$f":"IFERROR((IF(((U162+1)<('Project Background'!$D$14+'Project Background'!$D$15)),(U162+1),\"\")),\"\")","v":""},{"$f":"IFERROR((IF(((V162+1)<('Project Background'!$D$14+'Project Background'!$D$15)),(V162+1),\"\")),\"\")","v":""},{"$f":"IFERROR((IF(((W162+1)<('Project Background'!$D$14+'Project Background'!$D$15)),(W162+1),\"\")),\"\")","v":""},{"$f":"IFERROR((IF(((X162+1)<('Project Background'!$D$14+'Project Background'!$D$15)),(X162+1),\"\")),\"\")","v":""},{"$f":"IFERROR((IF(((Y162+1)<('Project Background'!$D$14+'Project Background'!$D$15)),(Y162+1),\"\")),\"\")","v":""},{"$f":"IFERROR((IF(((Z162+1)<('Project Background'!$D$14+'Project Background'!$D$15)),(Z162+1),\"\")),\"\")","v":""},{"$f":"IFERROR((IF(((AA162+1)<('Project Background'!$D$14+'Project Background'!$D$15)),(AA162+1),\"\")),\"\")","v":""},{"$f":"IFERROR((IF(((AB162+1)<('Project Background'!$D$14+'Project Background'!$D$15)),(AB162+1),\"\")),\"\")","v":""},{"$f":"IFERROR((IF(((AC162+1)<('Project Background'!$D$14+'Project Background'!$D$15)),(AC162+1),\"\")),\"\")","v":""},{"$f":"IFERROR((IF(((AD162+1)<('Project Background'!$D$14+'Project Background'!$D$15)),(AD162+1),\"\")),\"\")","v":""},{"$f":"IFERROR((IF(((AE162+1)<('Project Background'!$D$14+'Project Background'!$D$15)),(AE162+1),\"\")),\"\")","v":""},{"$f":"IFERROR((IF(((AF162+1)<('Project Background'!$D$14+'Project Background'!$D$15)),(AF162+1),\"\")),\"\")","v":""},{"$f":"IFERROR((IF(((AG162+1)<('Project Background'!$D$14+'Project Background'!$D$15)),(AG162+1),\"\")),\"\")","v":""},{"$f":"IFERROR((IF(((AH162+1)<('Project Background'!$D$14+'Project Background'!$D$15)),(AH162+1),\"\")),\"\")","v":""},{"$f":"IFERROR((IF(((AI162+1)<('Project Background'!$D$14+'Project Background'!$D$15)),(AI162+1),\"\")),\"\")","v":""},{"$f":"IFERROR((IF(((AJ162+1)<('Project Background'!$D$14+'Project Background'!$D$15)),(AJ162+1),\"\")),\"\")","v":""},{"$f":"IFERROR((IF(((AK162+1)<('Project Background'!$D$14+'Project Background'!$D$15)),(AK162+1),\"\")),\"\")","v":""},{"$f":"IFERROR((IF(((AL162+1)<('Project Background'!$D$14+'Project Background'!$D$15)),(AL162+1),\"\")),\"\")","v":""},{"$f":"IFERROR((IF(((AM162+1)<('Project Background'!$D$14+'Project Background'!$D$15)),(AM162+1),\"\")),\"\")","v":""},{"$f":"IFERROR((IF(((AN162+1)<('Project Background'!$D$14+'Project Background'!$D$15)),(AN162+1),\"\")),\"\")","v":""},{"$f":"IFERROR((IF(((AO162+1)<('Project Background'!$D$14+'Project Background'!$D$15)),(AO162+1),\"\")),\"\")","v":""},{"$f":"IFERROR((IF(((AP162+1)<('Project Background'!$D$14+'Project Background'!$D$15)),(AP162+1),\"\")),\"\")","v":""},{"$f":"IFERROR((IF(((AQ162+1)<('Project Background'!$D$14+'Project Background'!$D$15)),(AQ162+1),\"\")),\"\")","v":""},{"$f":"IFERROR((IF(((AR162+1)<('Project Background'!$D$14+'Project Background'!$D$15)),(AR162+1),\"\")),\"\")","v":""},{"$f":"IFERROR((IF(((AS162+1)<('Project Background'!$D$14+'Project Background'!$D$15)),(AS162+1),\"\")),\"\")","v":""},{"$f":"IFERROR((IF(((AT162+1)<('Project Background'!$D$14+'Project Background'!$D$15)),(AT162+1),\"\")),\"\")","v":""},{"$f":"IFERROR((IF(((AU162+1)<('Project Background'!$D$14+'Project Background'!$D$15)),(AU162+1),\"\")),\"\")","v":""},{"$f":"IFERROR((IF(((AV162+1)<('Project Background'!$D$14+'Project Background'!$D$15)),(AV162+1),\"\")),\"\")","v":""},{"$f":"IFERROR((IF(((AW162+1)<('Project Background'!$D$14+'Project Background'!$D$15)),(AW162+1),\"\")),\"\")","v":""},{"$f":"IFERROR((IF(((AX162+1)<('Project Background'!$D$14+'Project Background'!$D$15)),(AX162+1),\"\")),\"\")","v":""},{"$f":"IFERROR((IF(((AY162+1)<('Project Background'!$D$14+'Project Background'!$D$15)),(AY162+1),\"\")),\"\")","v":""},{"$f":"IFERROR((IF(((AZ162+1)<('Project Background'!$D$14+'Project Background'!$D$15)),(AZ162+1),\"\")),\"\")","v":""},{"$f":"IFERROR((IF(((BA162+1)<('Project Background'!$D$14+'Project Background'!$D$15)),(BA162+1),\"\")),\"\")","v":""},{"$f":"IFERROR((IF(((BB162+1)<('Project Background'!$D$14+'Project Background'!$D$15)),(BB162+1),\"\")),\"\")","v":""},{"$f":"IFERROR((IF(((BC162+1)<('Project Background'!$D$14+'Project Background'!$D$15)),(BC162+1),\"\")),\"\")","v":""},{"$f":"IFERROR((IF(((BD162+1)<('Project Background'!$D$14+'Project Background'!$D$15)),(BD162+1),\"\")),\"\")","v":""},{"$f":"IFERROR((IF(((BE162+1)<('Project Background'!$D$14+'Project Background'!$D$15)),(BE162+1),\"\")),\"\")","v":""},{"$f":"IFERROR((IF(((BF162+1)<('Project Background'!$D$14+'Project Background'!$D$15)),(BF162+1),\"\")),\"\")","v":""},{"$f":"IFERROR((IF(((BG162+1)<('Project Background'!$D$14+'Project Background'!$D$15)),(BG162+1),\"\")),\"\")","v":""},{"$f":"IFERROR((IF(((BH162+1)<('Project Background'!$D$14+'Project Background'!$D$15)),(BH162+1),\"\")),\"\")","v":""},{"$f":"IFERROR((IF(((BI162+1)<('Project Background'!$D$14+'Project Background'!$D$15)),(BI162+1),\"\")),\"\")","v":""},{"$f":"IFERROR((IF(((BJ162+1)<('Project Background'!$D$14+'Project Background'!$D$15)),(BJ162+1),\"\")),\"\")","v":""}]
[null,"Fleet Average",{"$f":"I154","v":0},{"$f":"IFERROR(($C$154*$G$154*INDEX('Annual Assumptions'!$B$27:$BZ$31,MATCH($B163,'Annual Assumptions'!$B$27:$B$31,0),MATCH(D$162,'Annual Assumptions'!$B$27:$BZ$27,0))),\"\")","v":""},{"$f":"IFERROR(($C$154*$G$154*INDEX('Annual Assumptions'!$B$27:$BZ$31,MATCH($B163,'Annual Assumptions'!$B$27:$B$31,0),MATCH(E$162,'Annual Assumptions'!$B$27:$BZ$27,0))),\"\")","v":""},{"$f":"IFERROR(($C$154*$G$154*INDEX('Annual Assumptions'!$B$27:$BZ$31,MATCH($B163,'Annual Assumptions'!$B$27:$B$31,0),MATCH(F$162,'Annual Assumptions'!$B$27:$BZ$27,0))),\"\")","v":""},{"$f":"IFERROR(($C$154*$G$154*INDEX('Annual Assumptions'!$B$27:$BZ$31,MATCH($B163,'Annual Assumptions'!$B$27:$B$31,0),MATCH(G$162,'Annual Assumptions'!$B$27:$BZ$27,0))),\"\")","v":""},{"$f":"IFERROR(($C$154*$G$154*INDEX('Annual Assumptions'!$B$27:$BZ$31,MATCH($B163,'Annual Assumptions'!$B$27:$B$31,0),MATCH(H$162,'Annual Assumptions'!$B$27:$BZ$27,0))),\"\")","v":""},{"$f":"IFERROR(($C$154*$G$154*INDEX('Annual Assumptions'!$B$27:$BZ$31,MATCH($B163,'Annual Assumptions'!$B$27:$B$31,0),MATCH(I$162,'Annual Assumptions'!$B$27:$BZ$27,0))),\"\")","v":""},{"$f":"IFERROR(($C$154*$G$154*INDEX('Annual Assumptions'!$B$27:$BZ$31,MATCH($B163,'Annual Assumptions'!$B$27:$B$31,0),MATCH(J$162,'Annual Assumptions'!$B$27:$BZ$27,0))),\"\")","v":""},{"$f":"IFERROR(($C$154*$G$154*INDEX('Annual Assumptions'!$B$27:$BZ$31,MATCH($B163,'Annual Assumptions'!$B$27:$B$31,0),MATCH(K$162,'Annual Assumptions'!$B$27:$BZ$27,0))),\"\")","v":""},{"$f":"IFERROR(($C$154*$G$154*INDEX('Annual Assumptions'!$B$27:$BZ$31,MATCH($B163,'Annual Assumptions'!$B$27:$B$31,0),MATCH(L$162,'Annual Assumptions'!$B$27:$BZ$27,0))),\"\")","v":""},{"$f":"IFERROR(($C$154*$G$154*INDEX('Annual Assumptions'!$B$27:$BZ$31,MATCH($B163,'Annual Assumptions'!$B$27:$B$31,0),MATCH(M$162,'Annual Assumptions'!$B$27:$BZ$27,0))),\"\")","v":""},{"$f":"IFERROR(($C$154*$G$154*INDEX('Annual Assumptions'!$B$27:$BZ$31,MATCH($B163,'Annual Assumptions'!$B$27:$B$31,0),MATCH(N$162,'Annual Assumptions'!$B$27:$BZ$27,0))),\"\")","v":""},{"$f":"IFERROR(($C$154*$G$154*INDEX('Annual Assumptions'!$B$27:$BZ$31,MATCH($B163,'Annual Assumptions'!$B$27:$B$31,0),MATCH(O$162,'Annual Assumptions'!$B$27:$BZ$27,0))),\"\")","v":""},{"$f":"IFERROR(($C$154*$G$154*INDEX('Annual Assumptions'!$B$27:$BZ$31,MATCH($B163,'Annual Assumptions'!$B$27:$B$31,0),MATCH(P$162,'Annual Assumptions'!$B$27:$BZ$27,0))),\"\")","v":""},{"$f":"IFERROR(($C$154*$G$154*INDEX('Annual Assumptions'!$B$27:$BZ$31,MATCH($B163,'Annual Assumptions'!$B$27:$B$31,0),MATCH(Q$162,'Annual Assumptions'!$B$27:$BZ$27,0))),\"\")","v":""},{"$f":"IFERROR(($C$154*$G$154*INDEX('Annual Assumptions'!$B$27:$BZ$31,MATCH($B163,'Annual Assumptions'!$B$27:$B$31,0),MATCH(R$162,'Annual Assumptions'!$B$27:$BZ$27,0))),\"\")","v":""},{"$f":"IFERROR(($C$154*$G$154*INDEX('Annual Assumptions'!$B$27:$BZ$31,MATCH($B163,'Annual Assumptions'!$B$27:$B$31,0),MATCH(S$162,'Annual Assumptions'!$B$27:$BZ$27,0))),\"\")","v":""},{"$f":"IFERROR(($C$154*$G$154*INDEX('Annual Assumptions'!$B$27:$BZ$31,MATCH($B163,'Annual Assumptions'!$B$27:$B$31,0),MATCH(T$162,'Annual Assumptions'!$B$27:$BZ$27,0))),\"\")","v":""},{"$f":"IFERROR(($C$154*$G$154*INDEX('Annual Assumptions'!$B$27:$BZ$31,MATCH($B163,'Annual Assumptions'!$B$27:$B$31,0),MATCH(U$162,'Annual Assumptions'!$B$27:$BZ$27,0))),\"\")","v":""},{"$f":"IFERROR(($C$154*$G$154*INDEX('Annual Assumptions'!$B$27:$BZ$31,MATCH($B163,'Annual Assumptions'!$B$27:$B$31,0),MATCH(V$162,'Annual Assumptions'!$B$27:$BZ$27,0))),\"\")","v":""},{"$f":"IFERROR(($C$154*$G$154*INDEX('Annual Assumptions'!$B$27:$BZ$31,MATCH($B163,'Annual Assumptions'!$B$27:$B$31,0),MATCH(W$162,'Annual Assumptions'!$B$27:$BZ$27,0))),\"\")","v":""},{"$f":"IFERROR(($C$154*$G$154*INDEX('Annual Assumptions'!$B$27:$BZ$31,MATCH($B163,'Annual Assumptions'!$B$27:$B$31,0),MATCH(X$162,'Annual Assumptions'!$B$27:$BZ$27,0))),\"\")","v":""},{"$f":"IFERROR(($C$154*$G$154*INDEX('Annual Assumptions'!$B$27:$BZ$31,MATCH($B163,'Annual Assumptions'!$B$27:$B$31,0),MATCH(Y$162,'Annual Assumptions'!$B$27:$BZ$27,0))),\"\")","v":""},{"$f":"IFERROR(($C$154*$G$154*INDEX('Annual Assumptions'!$B$27:$BZ$31,MATCH($B163,'Annual Assumptions'!$B$27:$B$31,0),MATCH(Z$162,'Annual Assumptions'!$B$27:$BZ$27,0))),\"\")","v":""},{"$f":"IFERROR(($C$154*$G$154*INDEX('Annual Assumptions'!$B$27:$BZ$31,MATCH($B163,'Annual Assumptions'!$B$27:$B$31,0),MATCH(AA$162,'Annual Assumptions'!$B$27:$BZ$27,0))),\"\")","v":""},{"$f":"IFERROR(($C$154*$G$154*INDEX('Annual Assumptions'!$B$27:$BZ$31,MATCH($B163,'Annual Assumptions'!$B$27:$B$31,0),MATCH(AB$162,'Annual Assumptions'!$B$27:$BZ$27,0))),\"\")","v":""},{"$f":"IFERROR(($C$154*$G$154*INDEX('Annual Assumptions'!$B$27:$BZ$31,MATCH($B163,'Annual Assumptions'!$B$27:$B$31,0),MATCH(AC$162,'Annual Assumptions'!$B$27:$BZ$27,0))),\"\")","v":""},{"$f":"IFERROR(($C$154*$G$154*INDEX('Annual Assumptions'!$B$27:$BZ$31,MATCH($B163,'Annual Assumptions'!$B$27:$B$31,0),MATCH(AD$162,'Annual Assumptions'!$B$27:$BZ$27,0))),\"\")","v":""},{"$f":"IFERROR(($C$154*$G$154*INDEX('Annual Assumptions'!$B$27:$BZ$31,MATCH($B163,'Annual Assumptions'!$B$27:$B$31,0),MATCH(AE$162,'Annual Assumptions'!$B$27:$BZ$27,0))),\"\")","v":""},{"$f":"IFERROR(($C$154*$G$154*INDEX('Annual Assumptions'!$B$27:$BZ$31,MATCH($B163,'Annual Assumptions'!$B$27:$B$31,0),MATCH(AF$162,'Annual Assumptions'!$B$27:$BZ$27,0))),\"\")","v":""},{"$f":"IFERROR(($C$154*$G$154*INDEX('Annual Assumptions'!$B$27:$BZ$31,MATCH($B163,'Annual Assumptions'!$B$27:$B$31,0),MATCH(AG$162,'Annual Assumptions'!$B$27:$BZ$27,0))),\"\")","v":""},{"$f":"IFERROR(($C$154*$G$154*INDEX('Annual Assumptions'!$B$27:$BZ$31,MATCH($B163,'Annual Assumptions'!$B$27:$B$31,0),MATCH(AH$162,'Annual Assumptions'!$B$27:$BZ$27,0))),\"\")","v":""},{"$f":"IFERROR(($C$154*$G$154*INDEX('Annual Assumptions'!$B$27:$BZ$31,MATCH($B163,'Annual Assumptions'!$B$27:$B$31,0),MATCH(AI$162,'Annual Assumptions'!$B$27:$BZ$27,0))),\"\")","v":""},{"$f":"IFERROR(($C$154*$G$154*INDEX('Annual Assumptions'!$B$27:$BZ$31,MATCH($B163,'Annual Assumptions'!$B$27:$B$31,0),MATCH(AJ$162,'Annual Assumptions'!$B$27:$BZ$27,0))),\"\")","v":""},{"$f":"IFERROR(($C$154*$G$154*INDEX('Annual Assumptions'!$B$27:$BZ$31,MATCH($B163,'Annual Assumptions'!$B$27:$B$31,0),MATCH(AK$162,'Annual Assumptions'!$B$27:$BZ$27,0))),\"\")","v":""},{"$f":"IFERROR(($C$154*$G$154*INDEX('Annual Assumptions'!$B$27:$BZ$31,MATCH($B163,'Annual Assumptions'!$B$27:$B$31,0),MATCH(AL$162,'Annual Assumptions'!$B$27:$BZ$27,0))),\"\")","v":""},{"$f":"IFERROR(($C$154*$G$154*INDEX('Annual Assumptions'!$B$27:$BZ$31,MATCH($B163,'Annual Assumptions'!$B$27:$B$31,0),MATCH(AM$162,'Annual Assumptions'!$B$27:$BZ$27,0))),\"\")","v":""},{"$f":"IFERROR(($C$154*$G$154*INDEX('Annual Assumptions'!$B$27:$BZ$31,MATCH($B163,'Annual Assumptions'!$B$27:$B$31,0),MATCH(AN$162,'Annual Assumptions'!$B$27:$BZ$27,0))),\"\")","v":""},{"$f":"IFERROR(($C$154*$G$154*INDEX('Annual Assumptions'!$B$27:$BZ$31,MATCH($B163,'Annual Assumptions'!$B$27:$B$31,0),MATCH(AO$162,'Annual Assumptions'!$B$27:$BZ$27,0))),\"\")","v":""},{"$f":"IFERROR(($C$154*$G$154*INDEX('Annual Assumptions'!$B$27:$BZ$31,MATCH($B163,'Annual Assumptions'!$B$27:$B$31,0),MATCH(AP$162,'Annual Assumptions'!$B$27:$BZ$27,0))),\"\")","v":""},{"$f":"IFERROR(($C$154*$G$154*INDEX('Annual Assumptions'!$B$27:$BZ$31,MATCH($B163,'Annual Assumptions'!$B$27:$B$31,0),MATCH(AQ$162,'Annual Assumptions'!$B$27:$BZ$27,0))),\"\")","v":""},{"$f":"IFERROR(($C$154*$G$154*INDEX('Annual Assumptions'!$B$27:$BZ$31,MATCH($B163,'Annual Assumptions'!$B$27:$B$31,0),MATCH(AR$162,'Annual Assumptions'!$B$27:$BZ$27,0))),\"\")","v":""},{"$f":"IFERROR(($C$154*$G$154*INDEX('Annual Assumptions'!$B$27:$BZ$31,MATCH($B163,'Annual Assumptions'!$B$27:$B$31,0),MATCH(AS$162,'Annual Assumptions'!$B$27:$BZ$27,0))),\"\")","v":""},{"$f":"IFERROR(($C$154*$G$154*INDEX('Annual Assumptions'!$B$27:$BZ$31,MATCH($B163,'Annual Assumptions'!$B$27:$B$31,0),MATCH(AT$162,'Annual Assumptions'!$B$27:$BZ$27,0))),\"\")","v":""},{"$f":"IFERROR(($C$154*$G$154*INDEX('Annual Assumptions'!$B$27:$BZ$31,MATCH($B163,'Annual Assumptions'!$B$27:$B$31,0),MATCH(AU$162,'Annual Assumptions'!$B$27:$BZ$27,0))),\"\")","v":""},{"$f":"IFERROR(($C$154*$G$154*INDEX('Annual Assumptions'!$B$27:$BZ$31,MATCH($B163,'Annual Assumptions'!$B$27:$B$31,0),MATCH(AV$162,'Annual Assumptions'!$B$27:$BZ$27,0))),\"\")","v":""},{"$f":"IFERROR(($C$154*$G$154*INDEX('Annual Assumptions'!$B$27:$BZ$31,MATCH($B163,'Annual Assumptions'!$B$27:$B$31,0),MATCH(AW$162,'Annual Assumptions'!$B$27:$BZ$27,0))),\"\")","v":""},{"$f":"IFERROR(($C$154*$G$154*INDEX('Annual Assumptions'!$B$27:$BZ$31,MATCH($B163,'Annual Assumptions'!$B$27:$B$31,0),MATCH(AX$162,'Annual Assumptions'!$B$27:$BZ$27,0))),\"\")","v":""},{"$f":"IFERROR(($C$154*$G$154*INDEX('Annual Assumptions'!$B$27:$BZ$31,MATCH($B163,'Annual Assumptions'!$B$27:$B$31,0),MATCH(AY$162,'Annual Assumptions'!$B$27:$BZ$27,0))),\"\")","v":""},{"$f":"IFERROR(($C$154*$G$154*INDEX('Annual Assumptions'!$B$27:$BZ$31,MATCH($B163,'Annual Assumptions'!$B$27:$B$31,0),MATCH(AZ$162,'Annual Assumptions'!$B$27:$BZ$27,0))),\"\")","v":""},{"$f":"IFERROR(($C$154*$G$154*INDEX('Annual Assumptions'!$B$27:$BZ$31,MATCH($B163,'Annual Assumptions'!$B$27:$B$31,0),MATCH(BA$162,'Annual Assumptions'!$B$27:$BZ$27,0))),\"\")","v":""},{"$f":"IFERROR(($C$154*$G$154*INDEX('Annual Assumptions'!$B$27:$BZ$31,MATCH($B163,'Annual Assumptions'!$B$27:$B$31,0),MATCH(BB$162,'Annual Assumptions'!$B$27:$BZ$27,0))),\"\")","v":""},{"$f":"IFERROR(($C$154*$G$154*INDEX('Annual Assumptions'!$B$27:$BZ$31,MATCH($B163,'Annual Assumptions'!$B$27:$B$31,0),MATCH(BC$162,'Annual Assumptions'!$B$27:$BZ$27,0))),\"\")","v":""},{"$f":"IFERROR(($C$154*$G$154*INDEX('Annual Assumptions'!$B$27:$BZ$31,MATCH($B163,'Annual Assumptions'!$B$27:$B$31,0),MATCH(BD$162,'Annual Assumptions'!$B$27:$BZ$27,0))),\"\")","v":""},{"$f":"IFERROR(($C$154*$G$154*INDEX('Annual Assumptions'!$B$27:$BZ$31,MATCH($B163,'Annual Assumptions'!$B$27:$B$31,0),MATCH(BE$162,'Annual Assumptions'!$B$27:$BZ$27,0))),\"\")","v":""},{"$f":"IFERROR(($C$154*$G$154*INDEX('Annual Assumptions'!$B$27:$BZ$31,MATCH($B163,'Annual Assumptions'!$B$27:$B$31,0),MATCH(BF$162,'Annual Assumptions'!$B$27:$BZ$27,0))),\"\")","v":""},{"$f":"IFERROR(($C$154*$G$154*INDEX('Annual Assumptions'!$B$27:$BZ$31,MATCH($B163,'Annual Assumptions'!$B$27:$B$31,0),MATCH(BG$162,'Annual Assumptions'!$B$27:$BZ$27,0))),\"\")","v":""},{"$f":"IFERROR(($C$154*$G$154*INDEX('Annual Assumptions'!$B$27:$BZ$31,MATCH($B163,'Annual Assumptions'!$B$27:$B$31,0),MATCH(BH$162,'Annual Assumptions'!$B$27:$BZ$27,0))),\"\")","v":""},{"$f":"IFERROR(($C$154*$G$154*INDEX('Annual Assumptions'!$B$27:$BZ$31,MATCH($B163,'Annual Assumptions'!$B$27:$B$31,0),MATCH(BI$162,'Annual Assumptions'!$B$27:$BZ$27,0))),\"\")","v":""},{"$f":"IFERROR(($C$154*$G$154*INDEX('Annual Assumptions'!$B$27:$BZ$31,MATCH($B163,'Annual Assumptions'!$B$27:$B$31,0),MATCH(BJ$162,'Annual Assumptions'!$B$27:$BZ$27,0))),\"\")","v":""},{"$f":"IFERROR(($C$154*$G$154*INDEX('Annual Assumptions'!$B$27:$BZ$31,MATCH($B163,'Annual Assumptions'!$B$27:$B$31,0),MATCH(BK$162,'Annual Assumptions'!$B$27:$BZ$27,0))),\"\")","v":""}]
[null,"0-30",{"$f":"I155","v":0},{"$f":"IFERROR(($C$155*$G$155*INDEX('Annual Assumptions'!$B$27:$BZ$31,MATCH($B164,'Annual Assumptions'!$B$27:$B$31,0),MATCH(D$162,'Annual Assumptions'!$B$27:$BZ$27,0))),\"\")","v":""},{"$f":"IFERROR(($C$155*$G$155*INDEX('Annual Assumptions'!$B$27:$BZ$31,MATCH($B164,'Annual Assumptions'!$B$27:$B$31,0),MATCH(E$162,'Annual Assumptions'!$B$27:$BZ$27,0))),\"\")","v":""},{"$f":"IFERROR(($C$155*$G$155*INDEX('Annual Assumptions'!$B$27:$BZ$31,MATCH($B164,'Annual Assumptions'!$B$27:$B$31,0),MATCH(F$162,'Annual Assumptions'!$B$27:$BZ$27,0))),\"\")","v":""},{"$f":"IFERROR(($C$155*$G$155*INDEX('Annual Assumptions'!$B$27:$BZ$31,MATCH($B164,'Annual Assumptions'!$B$27:$B$31,0),MATCH(G$162,'Annual Assumptions'!$B$27:$BZ$27,0))),\"\")","v":""},{"$f":"IFERROR(($C$155*$G$155*INDEX('Annual Assumptions'!$B$27:$BZ$31,MATCH($B164,'Annual Assumptions'!$B$27:$B$31,0),MATCH(H$162,'Annual Assumptions'!$B$27:$BZ$27,0))),\"\")","v":""},{"$f":"IFERROR(($C$155*$G$155*INDEX('Annual Assumptions'!$B$27:$BZ$31,MATCH($B164,'Annual Assumptions'!$B$27:$B$31,0),MATCH(I$162,'Annual Assumptions'!$B$27:$BZ$27,0))),\"\")","v":""},{"$f":"IFERROR(($C$155*$G$155*INDEX('Annual Assumptions'!$B$27:$BZ$31,MATCH($B164,'Annual Assumptions'!$B$27:$B$31,0),MATCH(J$162,'Annual Assumptions'!$B$27:$BZ$27,0))),\"\")","v":""},{"$f":"IFERROR(($C$155*$G$155*INDEX('Annual Assumptions'!$B$27:$BZ$31,MATCH($B164,'Annual Assumptions'!$B$27:$B$31,0),MATCH(K$162,'Annual Assumptions'!$B$27:$BZ$27,0))),\"\")","v":""},{"$f":"IFERROR(($C$155*$G$155*INDEX('Annual Assumptions'!$B$27:$BZ$31,MATCH($B164,'Annual Assumptions'!$B$27:$B$31,0),MATCH(L$162,'Annual Assumptions'!$B$27:$BZ$27,0))),\"\")","v":""},{"$f":"IFERROR(($C$155*$G$155*INDEX('Annual Assumptions'!$B$27:$BZ$31,MATCH($B164,'Annual Assumptions'!$B$27:$B$31,0),MATCH(M$162,'Annual Assumptions'!$B$27:$BZ$27,0))),\"\")","v":""},{"$f":"IFERROR(($C$155*$G$155*INDEX('Annual Assumptions'!$B$27:$BZ$31,MATCH($B164,'Annual Assumptions'!$B$27:$B$31,0),MATCH(N$162,'Annual Assumptions'!$B$27:$BZ$27,0))),\"\")","v":""},{"$f":"IFERROR(($C$155*$G$155*INDEX('Annual Assumptions'!$B$27:$BZ$31,MATCH($B164,'Annual Assumptions'!$B$27:$B$31,0),MATCH(O$162,'Annual Assumptions'!$B$27:$BZ$27,0))),\"\")","v":""},{"$f":"IFERROR(($C$155*$G$155*INDEX('Annual Assumptions'!$B$27:$BZ$31,MATCH($B164,'Annual Assumptions'!$B$27:$B$31,0),MATCH(P$162,'Annual Assumptions'!$B$27:$BZ$27,0))),\"\")","v":""},{"$f":"IFERROR(($C$155*$G$155*INDEX('Annual Assumptions'!$B$27:$BZ$31,MATCH($B164,'Annual Assumptions'!$B$27:$B$31,0),MATCH(Q$162,'Annual Assumptions'!$B$27:$BZ$27,0))),\"\")","v":""},{"$f":"IFERROR(($C$155*$G$155*INDEX('Annual Assumptions'!$B$27:$BZ$31,MATCH($B164,'Annual Assumptions'!$B$27:$B$31,0),MATCH(R$162,'Annual Assumptions'!$B$27:$BZ$27,0))),\"\")","v":""},{"$f":"IFERROR(($C$155*$G$155*INDEX('Annual Assumptions'!$B$27:$BZ$31,MATCH($B164,'Annual Assumptions'!$B$27:$B$31,0),MATCH(S$162,'Annual Assumptions'!$B$27:$BZ$27,0))),\"\")","v":""},{"$f":"IFERROR(($C$155*$G$155*INDEX('Annual Assumptions'!$B$27:$BZ$31,MATCH($B164,'Annual Assumptions'!$B$27:$B$31,0),MATCH(T$162,'Annual Assumptions'!$B$27:$BZ$27,0))),\"\")","v":""},{"$f":"IFERROR(($C$155*$G$155*INDEX('Annual Assumptions'!$B$27:$BZ$31,MATCH($B164,'Annual Assumptions'!$B$27:$B$31,0),MATCH(U$162,'Annual Assumptions'!$B$27:$BZ$27,0))),\"\")","v":""},{"$f":"IFERROR(($C$155*$G$155*INDEX('Annual Assumptions'!$B$27:$BZ$31,MATCH($B164,'Annual Assumptions'!$B$27:$B$31,0),MATCH(V$162,'Annual Assumptions'!$B$27:$BZ$27,0))),\"\")","v":""},{"$f":"IFERROR(($C$155*$G$155*INDEX('Annual Assumptions'!$B$27:$BZ$31,MATCH($B164,'Annual Assumptions'!$B$27:$B$31,0),MATCH(W$162,'Annual Assumptions'!$B$27:$BZ$27,0))),\"\")","v":""},{"$f":"IFERROR(($C$155*$G$155*INDEX('Annual Assumptions'!$B$27:$BZ$31,MATCH($B164,'Annual Assumptions'!$B$27:$B$31,0),MATCH(X$162,'Annual Assumptions'!$B$27:$BZ$27,0))),\"\")","v":""},{"$f":"IFERROR(($C$155*$G$155*INDEX('Annual Assumptions'!$B$27:$BZ$31,MATCH($B164,'Annual Assumptions'!$B$27:$B$31,0),MATCH(Y$162,'Annual Assumptions'!$B$27:$BZ$27,0))),\"\")","v":""},{"$f":"IFERROR(($C$155*$G$155*INDEX('Annual Assumptions'!$B$27:$BZ$31,MATCH($B164,'Annual Assumptions'!$B$27:$B$31,0),MATCH(Z$162,'Annual Assumptions'!$B$27:$BZ$27,0))),\"\")","v":""},{"$f":"IFERROR(($C$155*$G$155*INDEX('Annual Assumptions'!$B$27:$BZ$31,MATCH($B164,'Annual Assumptions'!$B$27:$B$31,0),MATCH(AA$162,'Annual Assumptions'!$B$27:$BZ$27,0))),\"\")","v":""},{"$f":"IFERROR(($C$155*$G$155*INDEX('Annual Assumptions'!$B$27:$BZ$31,MATCH($B164,'Annual Assumptions'!$B$27:$B$31,0),MATCH(AB$162,'Annual Assumptions'!$B$27:$BZ$27,0))),\"\")","v":""},{"$f":"IFERROR(($C$155*$G$155*INDEX('Annual Assumptions'!$B$27:$BZ$31,MATCH($B164,'Annual Assumptions'!$B$27:$B$31,0),MATCH(AC$162,'Annual Assumptions'!$B$27:$BZ$27,0))),\"\")","v":""},{"$f":"IFERROR(($C$155*$G$155*INDEX('Annual Assumptions'!$B$27:$BZ$31,MATCH($B164,'Annual Assumptions'!$B$27:$B$31,0),MATCH(AD$162,'Annual Assumptions'!$B$27:$BZ$27,0))),\"\")","v":""},{"$f":"IFERROR(($C$155*$G$155*INDEX('Annual Assumptions'!$B$27:$BZ$31,MATCH($B164,'Annual Assumptions'!$B$27:$B$31,0),MATCH(AE$162,'Annual Assumptions'!$B$27:$BZ$27,0))),\"\")","v":""},{"$f":"IFERROR(($C$155*$G$155*INDEX('Annual Assumptions'!$B$27:$BZ$31,MATCH($B164,'Annual Assumptions'!$B$27:$B$31,0),MATCH(AF$162,'Annual Assumptions'!$B$27:$BZ$27,0))),\"\")","v":""},{"$f":"IFERROR(($C$155*$G$155*INDEX('Annual Assumptions'!$B$27:$BZ$31,MATCH($B164,'Annual Assumptions'!$B$27:$B$31,0),MATCH(AG$162,'Annual Assumptions'!$B$27:$BZ$27,0))),\"\")","v":""},{"$f":"IFERROR(($C$155*$G$155*INDEX('Annual Assumptions'!$B$27:$BZ$31,MATCH($B164,'Annual Assumptions'!$B$27:$B$31,0),MATCH(AH$162,'Annual Assumptions'!$B$27:$BZ$27,0))),\"\")","v":""},{"$f":"IFERROR(($C$155*$G$155*INDEX('Annual Assumptions'!$B$27:$BZ$31,MATCH($B164,'Annual Assumptions'!$B$27:$B$31,0),MATCH(AI$162,'Annual Assumptions'!$B$27:$BZ$27,0))),\"\")","v":""},{"$f":"IFERROR(($C$155*$G$155*INDEX('Annual Assumptions'!$B$27:$BZ$31,MATCH($B164,'Annual Assumptions'!$B$27:$B$31,0),MATCH(AJ$162,'Annual Assumptions'!$B$27:$BZ$27,0))),\"\")","v":""},{"$f":"IFERROR(($C$155*$G$155*INDEX('Annual Assumptions'!$B$27:$BZ$31,MATCH($B164,'Annual Assumptions'!$B$27:$B$31,0),MATCH(AK$162,'Annual Assumptions'!$B$27:$BZ$27,0))),\"\")","v":""},{"$f":"IFERROR(($C$155*$G$155*INDEX('Annual Assumptions'!$B$27:$BZ$31,MATCH($B164,'Annual Assumptions'!$B$27:$B$31,0),MATCH(AL$162,'Annual Assumptions'!$B$27:$BZ$27,0))),\"\")","v":""},{"$f":"IFERROR(($C$155*$G$155*INDEX('Annual Assumptions'!$B$27:$BZ$31,MATCH($B164,'Annual Assumptions'!$B$27:$B$31,0),MATCH(AM$162,'Annual Assumptions'!$B$27:$BZ$27,0))),\"\")","v":""},{"$f":"IFERROR(($C$155*$G$155*INDEX('Annual Assumptions'!$B$27:$BZ$31,MATCH($B164,'Annual Assumptions'!$B$27:$B$31,0),MATCH(AN$162,'Annual Assumptions'!$B$27:$BZ$27,0))),\"\")","v":""},{"$f":"IFERROR(($C$155*$G$155*INDEX('Annual Assumptions'!$B$27:$BZ$31,MATCH($B164,'Annual Assumptions'!$B$27:$B$31,0),MATCH(AO$162,'Annual Assumptions'!$B$27:$BZ$27,0))),\"\")","v":""},{"$f":"IFERROR(($C$155*$G$155*INDEX('Annual Assumptions'!$B$27:$BZ$31,MATCH($B164,'Annual Assumptions'!$B$27:$B$31,0),MATCH(AP$162,'Annual Assumptions'!$B$27:$BZ$27,0))),\"\")","v":""},{"$f":"IFERROR(($C$155*$G$155*INDEX('Annual Assumptions'!$B$27:$BZ$31,MATCH($B164,'Annual Assumptions'!$B$27:$B$31,0),MATCH(AQ$162,'Annual Assumptions'!$B$27:$BZ$27,0))),\"\")","v":""},{"$f":"IFERROR(($C$155*$G$155*INDEX('Annual Assumptions'!$B$27:$BZ$31,MATCH($B164,'Annual Assumptions'!$B$27:$B$31,0),MATCH(AR$162,'Annual Assumptions'!$B$27:$BZ$27,0))),\"\")","v":""},{"$f":"IFERROR(($C$155*$G$155*INDEX('Annual Assumptions'!$B$27:$BZ$31,MATCH($B164,'Annual Assumptions'!$B$27:$B$31,0),MATCH(AS$162,'Annual Assumptions'!$B$27:$BZ$27,0))),\"\")","v":""},{"$f":"IFERROR(($C$155*$G$155*INDEX('Annual Assumptions'!$B$27:$BZ$31,MATCH($B164,'Annual Assumptions'!$B$27:$B$31,0),MATCH(AT$162,'Annual Assumptions'!$B$27:$BZ$27,0))),\"\")","v":""},{"$f":"IFERROR(($C$155*$G$155*INDEX('Annual Assumptions'!$B$27:$BZ$31,MATCH($B164,'Annual Assumptions'!$B$27:$B$31,0),MATCH(AU$162,'Annual Assumptions'!$B$27:$BZ$27,0))),\"\")","v":""},{"$f":"IFERROR(($C$155*$G$155*INDEX('Annual Assumptions'!$B$27:$BZ$31,MATCH($B164,'Annual Assumptions'!$B$27:$B$31,0),MATCH(AV$162,'Annual Assumptions'!$B$27:$BZ$27,0))),\"\")","v":""},{"$f":"IFERROR(($C$155*$G$155*INDEX('Annual Assumptions'!$B$27:$BZ$31,MATCH($B164,'Annual Assumptions'!$B$27:$B$31,0),MATCH(AW$162,'Annual Assumptions'!$B$27:$BZ$27,0))),\"\")","v":""},{"$f":"IFERROR(($C$155*$G$155*INDEX('Annual Assumptions'!$B$27:$BZ$31,MATCH($B164,'Annual Assumptions'!$B$27:$B$31,0),MATCH(AX$162,'Annual Assumptions'!$B$27:$BZ$27,0))),\"\")","v":""},{"$f":"IFERROR(($C$155*$G$155*INDEX('Annual Assumptions'!$B$27:$BZ$31,MATCH($B164,'Annual Assumptions'!$B$27:$B$31,0),MATCH(AY$162,'Annual Assumptions'!$B$27:$BZ$27,0))),\"\")","v":""},{"$f":"IFERROR(($C$155*$G$155*INDEX('Annual Assumptions'!$B$27:$BZ$31,MATCH($B164,'Annual Assumptions'!$B$27:$B$31,0),MATCH(AZ$162,'Annual Assumptions'!$B$27:$BZ$27,0))),\"\")","v":""},{"$f":"IFERROR(($C$155*$G$155*INDEX('Annual Assumptions'!$B$27:$BZ$31,MATCH($B164,'Annual Assumptions'!$B$27:$B$31,0),MATCH(BA$162,'Annual Assumptions'!$B$27:$BZ$27,0))),\"\")","v":""},{"$f":"IFERROR(($C$155*$G$155*INDEX('Annual Assumptions'!$B$27:$BZ$31,MATCH($B164,'Annual Assumptions'!$B$27:$B$31,0),MATCH(BB$162,'Annual Assumptions'!$B$27:$BZ$27,0))),\"\")","v":""},{"$f":"IFERROR(($C$155*$G$155*INDEX('Annual Assumptions'!$B$27:$BZ$31,MATCH($B164,'Annual Assumptions'!$B$27:$B$31,0),MATCH(BC$162,'Annual Assumptions'!$B$27:$BZ$27,0))),\"\")","v":""},{"$f":"IFERROR(($C$155*$G$155*INDEX('Annual Assumptions'!$B$27:$BZ$31,MATCH($B164,'Annual Assumptions'!$B$27:$B$31,0),MATCH(BD$162,'Annual Assumptions'!$B$27:$BZ$27,0))),\"\")","v":""},{"$f":"IFERROR(($C$155*$G$155*INDEX('Annual Assumptions'!$B$27:$BZ$31,MATCH($B164,'Annual Assumptions'!$B$27:$B$31,0),MATCH(BE$162,'Annual Assumptions'!$B$27:$BZ$27,0))),\"\")","v":""},{"$f":"IFERROR(($C$155*$G$155*INDEX('Annual Assumptions'!$B$27:$BZ$31,MATCH($B164,'Annual Assumptions'!$B$27:$B$31,0),MATCH(BF$162,'Annual Assumptions'!$B$27:$BZ$27,0))),\"\")","v":""},{"$f":"IFERROR(($C$155*$G$155*INDEX('Annual Assumptions'!$B$27:$BZ$31,MATCH($B164,'Annual Assumptions'!$B$27:$B$31,0),MATCH(BG$162,'Annual Assumptions'!$B$27:$BZ$27,0))),\"\")","v":""},{"$f":"IFERROR(($C$155*$G$155*INDEX('Annual Assumptions'!$B$27:$BZ$31,MATCH($B164,'Annual Assumptions'!$B$27:$B$31,0),MATCH(BH$162,'Annual Assumptions'!$B$27:$BZ$27,0))),\"\")","v":""},{"$f":"IFERROR(($C$155*$G$155*INDEX('Annual Assumptions'!$B$27:$BZ$31,MATCH($B164,'Annual Assumptions'!$B$27:$B$31,0),MATCH(BI$162,'Annual Assumptions'!$B$27:$BZ$27,0))),\"\")","v":""},{"$f":"IFERROR(($C$155*$G$155*INDEX('Annual Assumptions'!$B$27:$BZ$31,MATCH($B164,'Annual Assumptions'!$B$27:$B$31,0),MATCH(BJ$162,'Annual Assumptions'!$B$27:$BZ$27,0))),\"\")","v":""},{"$f":"IFERROR(($C$155*$G$155*INDEX('Annual Assumptions'!$B$27:$BZ$31,MATCH($B164,'Annual Assumptions'!$B$27:$B$31,0),MATCH(BK$162,'Annual Assumptions'!$B$27:$BZ$27,0))),\"\")","v":""}]
[null,"31-55",{"$f":"I156","v":0},{"$f":"IFERROR(($C$156*$G$156*INDEX('Annual Assumptions'!$B$27:$BZ$31,MATCH($B165,'Annual Assumptions'!$B$27:$B$31,0),MATCH(D$162,'Annual Assumptions'!$B$27:$BZ$27,0))),\"\")","v":""},{"$f":"IFERROR(($C$156*$G$156*INDEX('Annual Assumptions'!$B$27:$BZ$31,MATCH($B165,'Annual Assumptions'!$B$27:$B$31,0),MATCH(E$162,'Annual Assumptions'!$B$27:$BZ$27,0))),\"\")","v":""},{"$f":"IFERROR(($C$156*$G$156*INDEX('Annual Assumptions'!$B$27:$BZ$31,MATCH($B165,'Annual Assumptions'!$B$27:$B$31,0),MATCH(F$162,'Annual Assumptions'!$B$27:$BZ$27,0))),\"\")","v":""},{"$f":"IFERROR(($C$156*$G$156*INDEX('Annual Assumptions'!$B$27:$BZ$31,MATCH($B165,'Annual Assumptions'!$B$27:$B$31,0),MATCH(G$162,'Annual Assumptions'!$B$27:$BZ$27,0))),\"\")","v":""},{"$f":"IFERROR(($C$156*$G$156*INDEX('Annual Assumptions'!$B$27:$BZ$31,MATCH($B165,'Annual Assumptions'!$B$27:$B$31,0),MATCH(H$162,'Annual Assumptions'!$B$27:$BZ$27,0))),\"\")","v":""},{"$f":"IFERROR(($C$156*$G$156*INDEX('Annual Assumptions'!$B$27:$BZ$31,MATCH($B165,'Annual Assumptions'!$B$27:$B$31,0),MATCH(I$162,'Annual Assumptions'!$B$27:$BZ$27,0))),\"\")","v":""},{"$f":"IFERROR(($C$156*$G$156*INDEX('Annual Assumptions'!$B$27:$BZ$31,MATCH($B165,'Annual Assumptions'!$B$27:$B$31,0),MATCH(J$162,'Annual Assumptions'!$B$27:$BZ$27,0))),\"\")","v":""},{"$f":"IFERROR(($C$156*$G$156*INDEX('Annual Assumptions'!$B$27:$BZ$31,MATCH($B165,'Annual Assumptions'!$B$27:$B$31,0),MATCH(K$162,'Annual Assumptions'!$B$27:$BZ$27,0))),\"\")","v":""},{"$f":"IFERROR(($C$156*$G$156*INDEX('Annual Assumptions'!$B$27:$BZ$31,MATCH($B165,'Annual Assumptions'!$B$27:$B$31,0),MATCH(L$162,'Annual Assumptions'!$B$27:$BZ$27,0))),\"\")","v":""},{"$f":"IFERROR(($C$156*$G$156*INDEX('Annual Assumptions'!$B$27:$BZ$31,MATCH($B165,'Annual Assumptions'!$B$27:$B$31,0),MATCH(M$162,'Annual Assumptions'!$B$27:$BZ$27,0))),\"\")","v":""},{"$f":"IFERROR(($C$156*$G$156*INDEX('Annual Assumptions'!$B$27:$BZ$31,MATCH($B165,'Annual Assumptions'!$B$27:$B$31,0),MATCH(N$162,'Annual Assumptions'!$B$27:$BZ$27,0))),\"\")","v":""},{"$f":"IFERROR(($C$156*$G$156*INDEX('Annual Assumptions'!$B$27:$BZ$31,MATCH($B165,'Annual Assumptions'!$B$27:$B$31,0),MATCH(O$162,'Annual Assumptions'!$B$27:$BZ$27,0))),\"\")","v":""},{"$f":"IFERROR(($C$156*$G$156*INDEX('Annual Assumptions'!$B$27:$BZ$31,MATCH($B165,'Annual Assumptions'!$B$27:$B$31,0),MATCH(P$162,'Annual Assumptions'!$B$27:$BZ$27,0))),\"\")","v":""},{"$f":"IFERROR(($C$156*$G$156*INDEX('Annual Assumptions'!$B$27:$BZ$31,MATCH($B165,'Annual Assumptions'!$B$27:$B$31,0),MATCH(Q$162,'Annual Assumptions'!$B$27:$BZ$27,0))),\"\")","v":""},{"$f":"IFERROR(($C$156*$G$156*INDEX('Annual Assumptions'!$B$27:$BZ$31,MATCH($B165,'Annual Assumptions'!$B$27:$B$31,0),MATCH(R$162,'Annual Assumptions'!$B$27:$BZ$27,0))),\"\")","v":""},{"$f":"IFERROR(($C$156*$G$156*INDEX('Annual Assumptions'!$B$27:$BZ$31,MATCH($B165,'Annual Assumptions'!$B$27:$B$31,0),MATCH(S$162,'Annual Assumptions'!$B$27:$BZ$27,0))),\"\")","v":""},{"$f":"IFERROR(($C$156*$G$156*INDEX('Annual Assumptions'!$B$27:$BZ$31,MATCH($B165,'Annual Assumptions'!$B$27:$B$31,0),MATCH(T$162,'Annual Assumptions'!$B$27:$BZ$27,0))),\"\")","v":""},{"$f":"IFERROR(($C$156*$G$156*INDEX('Annual Assumptions'!$B$27:$BZ$31,MATCH($B165,'Annual Assumptions'!$B$27:$B$31,0),MATCH(U$162,'Annual Assumptions'!$B$27:$BZ$27,0))),\"\")","v":""},{"$f":"IFERROR(($C$156*$G$156*INDEX('Annual Assumptions'!$B$27:$BZ$31,MATCH($B165,'Annual Assumptions'!$B$27:$B$31,0),MATCH(V$162,'Annual Assumptions'!$B$27:$BZ$27,0))),\"\")","v":""},{"$f":"IFERROR(($C$156*$G$156*INDEX('Annual Assumptions'!$B$27:$BZ$31,MATCH($B165,'Annual Assumptions'!$B$27:$B$31,0),MATCH(W$162,'Annual Assumptions'!$B$27:$BZ$27,0))),\"\")","v":""},{"$f":"IFERROR(($C$156*$G$156*INDEX('Annual Assumptions'!$B$27:$BZ$31,MATCH($B165,'Annual Assumptions'!$B$27:$B$31,0),MATCH(X$162,'Annual Assumptions'!$B$27:$BZ$27,0))),\"\")","v":""},{"$f":"IFERROR(($C$156*$G$156*INDEX('Annual Assumptions'!$B$27:$BZ$31,MATCH($B165,'Annual Assumptions'!$B$27:$B$31,0),MATCH(Y$162,'Annual Assumptions'!$B$27:$BZ$27,0))),\"\")","v":""},{"$f":"IFERROR(($C$156*$G$156*INDEX('Annual Assumptions'!$B$27:$BZ$31,MATCH($B165,'Annual Assumptions'!$B$27:$B$31,0),MATCH(Z$162,'Annual Assumptions'!$B$27:$BZ$27,0))),\"\")","v":""},{"$f":"IFERROR(($C$156*$G$156*INDEX('Annual Assumptions'!$B$27:$BZ$31,MATCH($B165,'Annual Assumptions'!$B$27:$B$31,0),MATCH(AA$162,'Annual Assumptions'!$B$27:$BZ$27,0))),\"\")","v":""},{"$f":"IFERROR(($C$156*$G$156*INDEX('Annual Assumptions'!$B$27:$BZ$31,MATCH($B165,'Annual Assumptions'!$B$27:$B$31,0),MATCH(AB$162,'Annual Assumptions'!$B$27:$BZ$27,0))),\"\")","v":""},{"$f":"IFERROR(($C$156*$G$156*INDEX('Annual Assumptions'!$B$27:$BZ$31,MATCH($B165,'Annual Assumptions'!$B$27:$B$31,0),MATCH(AC$162,'Annual Assumptions'!$B$27:$BZ$27,0))),\"\")","v":""},{"$f":"IFERROR(($C$156*$G$156*INDEX('Annual Assumptions'!$B$27:$BZ$31,MATCH($B165,'Annual Assumptions'!$B$27:$B$31,0),MATCH(AD$162,'Annual Assumptions'!$B$27:$BZ$27,0))),\"\")","v":""},{"$f":"IFERROR(($C$156*$G$156*INDEX('Annual Assumptions'!$B$27:$BZ$31,MATCH($B165,'Annual Assumptions'!$B$27:$B$31,0),MATCH(AE$162,'Annual Assumptions'!$B$27:$BZ$27,0))),\"\")","v":""},{"$f":"IFERROR(($C$156*$G$156*INDEX('Annual Assumptions'!$B$27:$BZ$31,MATCH($B165,'Annual Assumptions'!$B$27:$B$31,0),MATCH(AF$162,'Annual Assumptions'!$B$27:$BZ$27,0))),\"\")","v":""},{"$f":"IFERROR(($C$156*$G$156*INDEX('Annual Assumptions'!$B$27:$BZ$31,MATCH($B165,'Annual Assumptions'!$B$27:$B$31,0),MATCH(AG$162,'Annual Assumptions'!$B$27:$BZ$27,0))),\"\")","v":""},{"$f":"IFERROR(($C$156*$G$156*INDEX('Annual Assumptions'!$B$27:$BZ$31,MATCH($B165,'Annual Assumptions'!$B$27:$B$31,0),MATCH(AH$162,'Annual Assumptions'!$B$27:$BZ$27,0))),\"\")","v":""},{"$f":"IFERROR(($C$156*$G$156*INDEX('Annual Assumptions'!$B$27:$BZ$31,MATCH($B165,'Annual Assumptions'!$B$27:$B$31,0),MATCH(AI$162,'Annual Assumptions'!$B$27:$BZ$27,0))),\"\")","v":""},{"$f":"IFERROR(($C$156*$G$156*INDEX('Annual Assumptions'!$B$27:$BZ$31,MATCH($B165,'Annual Assumptions'!$B$27:$B$31,0),MATCH(AJ$162,'Annual Assumptions'!$B$27:$BZ$27,0))),\"\")","v":""},{"$f":"IFERROR(($C$156*$G$156*INDEX('Annual Assumptions'!$B$27:$BZ$31,MATCH($B165,'Annual Assumptions'!$B$27:$B$31,0),MATCH(AK$162,'Annual Assumptions'!$B$27:$BZ$27,0))),\"\")","v":""},{"$f":"IFERROR(($C$156*$G$156*INDEX('Annual Assumptions'!$B$27:$BZ$31,MATCH($B165,'Annual Assumptions'!$B$27:$B$31,0),MATCH(AL$162,'Annual Assumptions'!$B$27:$BZ$27,0))),\"\")","v":""},{"$f":"IFERROR(($C$156*$G$156*INDEX('Annual Assumptions'!$B$27:$BZ$31,MATCH($B165,'Annual Assumptions'!$B$27:$B$31,0),MATCH(AM$162,'Annual Assumptions'!$B$27:$BZ$27,0))),\"\")","v":""},{"$f":"IFERROR(($C$156*$G$156*INDEX('Annual Assumptions'!$B$27:$BZ$31,MATCH($B165,'Annual Assumptions'!$B$27:$B$31,0),MATCH(AN$162,'Annual Assumptions'!$B$27:$BZ$27,0))),\"\")","v":""},{"$f":"IFERROR(($C$156*$G$156*INDEX('Annual Assumptions'!$B$27:$BZ$31,MATCH($B165,'Annual Assumptions'!$B$27:$B$31,0),MATCH(AO$162,'Annual Assumptions'!$B$27:$BZ$27,0))),\"\")","v":""},{"$f":"IFERROR(($C$156*$G$156*INDEX('Annual Assumptions'!$B$27:$BZ$31,MATCH($B165,'Annual Assumptions'!$B$27:$B$31,0),MATCH(AP$162,'Annual Assumptions'!$B$27:$BZ$27,0))),\"\")","v":""},{"$f":"IFERROR(($C$156*$G$156*INDEX('Annual Assumptions'!$B$27:$BZ$31,MATCH($B165,'Annual Assumptions'!$B$27:$B$31,0),MATCH(AQ$162,'Annual Assumptions'!$B$27:$BZ$27,0))),\"\")","v":""},{"$f":"IFERROR(($C$156*$G$156*INDEX('Annual Assumptions'!$B$27:$BZ$31,MATCH($B165,'Annual Assumptions'!$B$27:$B$31,0),MATCH(AR$162,'Annual Assumptions'!$B$27:$BZ$27,0))),\"\")","v":""},{"$f":"IFERROR(($C$156*$G$156*INDEX('Annual Assumptions'!$B$27:$BZ$31,MATCH($B165,'Annual Assumptions'!$B$27:$B$31,0),MATCH(AS$162,'Annual Assumptions'!$B$27:$BZ$27,0))),\"\")","v":""},{"$f":"IFERROR(($C$156*$G$156*INDEX('Annual Assumptions'!$B$27:$BZ$31,MATCH($B165,'Annual Assumptions'!$B$27:$B$31,0),MATCH(AT$162,'Annual Assumptions'!$B$27:$BZ$27,0))),\"\")","v":""},{"$f":"IFERROR(($C$156*$G$156*INDEX('Annual Assumptions'!$B$27:$BZ$31,MATCH($B165,'Annual Assumptions'!$B$27:$B$31,0),MATCH(AU$162,'Annual Assumptions'!$B$27:$BZ$27,0))),\"\")","v":""},{"$f":"IFERROR(($C$156*$G$156*INDEX('Annual Assumptions'!$B$27:$BZ$31,MATCH($B165,'Annual Assumptions'!$B$27:$B$31,0),MATCH(AV$162,'Annual Assumptions'!$B$27:$BZ$27,0))),\"\")","v":""},{"$f":"IFERROR(($C$156*$G$156*INDEX('Annual Assumptions'!$B$27:$BZ$31,MATCH($B165,'Annual Assumptions'!$B$27:$B$31,0),MATCH(AW$162,'Annual Assumptions'!$B$27:$BZ$27,0))),\"\")","v":""},{"$f":"IFERROR(($C$156*$G$156*INDEX('Annual Assumptions'!$B$27:$BZ$31,MATCH($B165,'Annual Assumptions'!$B$27:$B$31,0),MATCH(AX$162,'Annual Assumptions'!$B$27:$BZ$27,0))),\"\")","v":""},{"$f":"IFERROR(($C$156*$G$156*INDEX('Annual Assumptions'!$B$27:$BZ$31,MATCH($B165,'Annual Assumptions'!$B$27:$B$31,0),MATCH(AY$162,'Annual Assumptions'!$B$27:$BZ$27,0))),\"\")","v":""},{"$f":"IFERROR(($C$156*$G$156*INDEX('Annual Assumptions'!$B$27:$BZ$31,MATCH($B165,'Annual Assumptions'!$B$27:$B$31,0),MATCH(AZ$162,'Annual Assumptions'!$B$27:$BZ$27,0))),\"\")","v":""},{"$f":"IFERROR(($C$156*$G$156*INDEX('Annual Assumptions'!$B$27:$BZ$31,MATCH($B165,'Annual Assumptions'!$B$27:$B$31,0),MATCH(BA$162,'Annual Assumptions'!$B$27:$BZ$27,0))),\"\")","v":""},{"$f":"IFERROR(($C$156*$G$156*INDEX('Annual Assumptions'!$B$27:$BZ$31,MATCH($B165,'Annual Assumptions'!$B$27:$B$31,0),MATCH(BB$162,'Annual Assumptions'!$B$27:$BZ$27,0))),\"\")","v":""},{"$f":"IFERROR(($C$156*$G$156*INDEX('Annual Assumptions'!$B$27:$BZ$31,MATCH($B165,'Annual Assumptions'!$B$27:$B$31,0),MATCH(BC$162,'Annual Assumptions'!$B$27:$BZ$27,0))),\"\")","v":""},{"$f":"IFERROR(($C$156*$G$156*INDEX('Annual Assumptions'!$B$27:$BZ$31,MATCH($B165,'Annual Assumptions'!$B$27:$B$31,0),MATCH(BD$162,'Annual Assumptions'!$B$27:$BZ$27,0))),\"\")","v":""},{"$f":"IFERROR(($C$156*$G$156*INDEX('Annual Assumptions'!$B$27:$BZ$31,MATCH($B165,'Annual Assumptions'!$B$27:$B$31,0),MATCH(BE$162,'Annual Assumptions'!$B$27:$BZ$27,0))),\"\")","v":""},{"$f":"IFERROR(($C$156*$G$156*INDEX('Annual Assumptions'!$B$27:$BZ$31,MATCH($B165,'Annual Assumptions'!$B$27:$B$31,0),MATCH(BF$162,'Annual Assumptions'!$B$27:$BZ$27,0))),\"\")","v":""},{"$f":"IFERROR(($C$156*$G$156*INDEX('Annual Assumptions'!$B$27:$BZ$31,MATCH($B165,'Annual Assumptions'!$B$27:$B$31,0),MATCH(BG$162,'Annual Assumptions'!$B$27:$BZ$27,0))),\"\")","v":""},{"$f":"IFERROR(($C$156*$G$156*INDEX('Annual Assumptions'!$B$27:$BZ$31,MATCH($B165,'Annual Assumptions'!$B$27:$B$31,0),MATCH(BH$162,'Annual Assumptions'!$B$27:$BZ$27,0))),\"\")","v":""},{"$f":"IFERROR(($C$156*$G$156*INDEX('Annual Assumptions'!$B$27:$BZ$31,MATCH($B165,'Annual Assumptions'!$B$27:$B$31,0),MATCH(BI$162,'Annual Assumptions'!$B$27:$BZ$27,0))),\"\")","v":""},{"$f":"IFERROR(($C$156*$G$156*INDEX('Annual Assumptions'!$B$27:$BZ$31,MATCH($B165,'Annual Assumptions'!$B$27:$B$31,0),MATCH(BJ$162,'Annual Assumptions'!$B$27:$BZ$27,0))),\"\")","v":""},{"$f":"IFERROR(($C$156*$G$156*INDEX('Annual Assumptions'!$B$27:$BZ$31,MATCH($B165,'Annual Assumptions'!$B$27:$B$31,0),MATCH(BK$162,'Annual Assumptions'!$B$27:$BZ$27,0))),\"\")","v":""}]
[null,"56-75",{"$f":"I157","v":0},{"$f":"IFERROR(($C$157*$G$157*INDEX('Annual Assumptions'!$B$27:$BZ$31,MATCH($B166,'Annual Assumptions'!$B$27:$B$31,0),MATCH(D$162,'Annual Assumptions'!$B$27:$BZ$27,0))),\"\")","v":""},{"$f":"IFERROR(($C$157*$G$157*INDEX('Annual Assumptions'!$B$27:$BZ$31,MATCH($B166,'Annual Assumptions'!$B$27:$B$31,0),MATCH(E$162,'Annual Assumptions'!$B$27:$BZ$27,0))),\"\")","v":""},{"$f":"IFERROR(($C$157*$G$157*INDEX('Annual Assumptions'!$B$27:$BZ$31,MATCH($B166,'Annual Assumptions'!$B$27:$B$31,0),MATCH(F$162,'Annual Assumptions'!$B$27:$BZ$27,0))),\"\")","v":""},{"$f":"IFERROR(($C$157*$G$157*INDEX('Annual Assumptions'!$B$27:$BZ$31,MATCH($B166,'Annual Assumptions'!$B$27:$B$31,0),MATCH(G$162,'Annual Assumptions'!$B$27:$BZ$27,0))),\"\")","v":""},{"$f":"IFERROR(($C$157*$G$157*INDEX('Annual Assumptions'!$B$27:$BZ$31,MATCH($B166,'Annual Assumptions'!$B$27:$B$31,0),MATCH(H$162,'Annual Assumptions'!$B$27:$BZ$27,0))),\"\")","v":""},{"$f":"IFERROR(($C$157*$G$157*INDEX('Annual Assumptions'!$B$27:$BZ$31,MATCH($B166,'Annual Assumptions'!$B$27:$B$31,0),MATCH(I$162,'Annual Assumptions'!$B$27:$BZ$27,0))),\"\")","v":""},{"$f":"IFERROR(($C$157*$G$157*INDEX('Annual Assumptions'!$B$27:$BZ$31,MATCH($B166,'Annual Assumptions'!$B$27:$B$31,0),MATCH(J$162,'Annual Assumptions'!$B$27:$BZ$27,0))),\"\")","v":""},{"$f":"IFERROR(($C$157*$G$157*INDEX('Annual Assumptions'!$B$27:$BZ$31,MATCH($B166,'Annual Assumptions'!$B$27:$B$31,0),MATCH(K$162,'Annual Assumptions'!$B$27:$BZ$27,0))),\"\")","v":""},{"$f":"IFERROR(($C$157*$G$157*INDEX('Annual Assumptions'!$B$27:$BZ$31,MATCH($B166,'Annual Assumptions'!$B$27:$B$31,0),MATCH(L$162,'Annual Assumptions'!$B$27:$BZ$27,0))),\"\")","v":""},{"$f":"IFERROR(($C$157*$G$157*INDEX('Annual Assumptions'!$B$27:$BZ$31,MATCH($B166,'Annual Assumptions'!$B$27:$B$31,0),MATCH(M$162,'Annual Assumptions'!$B$27:$BZ$27,0))),\"\")","v":""},{"$f":"IFERROR(($C$157*$G$157*INDEX('Annual Assumptions'!$B$27:$BZ$31,MATCH($B166,'Annual Assumptions'!$B$27:$B$31,0),MATCH(N$162,'Annual Assumptions'!$B$27:$BZ$27,0))),\"\")","v":""},{"$f":"IFERROR(($C$157*$G$157*INDEX('Annual Assumptions'!$B$27:$BZ$31,MATCH($B166,'Annual Assumptions'!$B$27:$B$31,0),MATCH(O$162,'Annual Assumptions'!$B$27:$BZ$27,0))),\"\")","v":""},{"$f":"IFERROR(($C$157*$G$157*INDEX('Annual Assumptions'!$B$27:$BZ$31,MATCH($B166,'Annual Assumptions'!$B$27:$B$31,0),MATCH(P$162,'Annual Assumptions'!$B$27:$BZ$27,0))),\"\")","v":""},{"$f":"IFERROR(($C$157*$G$157*INDEX('Annual Assumptions'!$B$27:$BZ$31,MATCH($B166,'Annual Assumptions'!$B$27:$B$31,0),MATCH(Q$162,'Annual Assumptions'!$B$27:$BZ$27,0))),\"\")","v":""},{"$f":"IFERROR(($C$157*$G$157*INDEX('Annual Assumptions'!$B$27:$BZ$31,MATCH($B166,'Annual Assumptions'!$B$27:$B$31,0),MATCH(R$162,'Annual Assumptions'!$B$27:$BZ$27,0))),\"\")","v":""},{"$f":"IFERROR(($C$157*$G$157*INDEX('Annual Assumptions'!$B$27:$BZ$31,MATCH($B166,'Annual Assumptions'!$B$27:$B$31,0),MATCH(S$162,'Annual Assumptions'!$B$27:$BZ$27,0))),\"\")","v":""},{"$f":"IFERROR(($C$157*$G$157*INDEX('Annual Assumptions'!$B$27:$BZ$31,MATCH($B166,'Annual Assumptions'!$B$27:$B$31,0),MATCH(T$162,'Annual Assumptions'!$B$27:$BZ$27,0))),\"\")","v":""},{"$f":"IFERROR(($C$157*$G$157*INDEX('Annual Assumptions'!$B$27:$BZ$31,MATCH($B166,'Annual Assumptions'!$B$27:$B$31,0),MATCH(U$162,'Annual Assumptions'!$B$27:$BZ$27,0))),\"\")","v":""},{"$f":"IFERROR(($C$157*$G$157*INDEX('Annual Assumptions'!$B$27:$BZ$31,MATCH($B166,'Annual Assumptions'!$B$27:$B$31,0),MATCH(V$162,'Annual Assumptions'!$B$27:$BZ$27,0))),\"\")","v":""},{"$f":"IFERROR(($C$157*$G$157*INDEX('Annual Assumptions'!$B$27:$BZ$31,MATCH($B166,'Annual Assumptions'!$B$27:$B$31,0),MATCH(W$162,'Annual Assumptions'!$B$27:$BZ$27,0))),\"\")","v":""},{"$f":"IFERROR(($C$157*$G$157*INDEX('Annual Assumptions'!$B$27:$BZ$31,MATCH($B166,'Annual Assumptions'!$B$27:$B$31,0),MATCH(X$162,'Annual Assumptions'!$B$27:$BZ$27,0))),\"\")","v":""},{"$f":"IFERROR(($C$157*$G$157*INDEX('Annual Assumptions'!$B$27:$BZ$31,MATCH($B166,'Annual Assumptions'!$B$27:$B$31,0),MATCH(Y$162,'Annual Assumptions'!$B$27:$BZ$27,0))),\"\")","v":""},{"$f":"IFERROR(($C$157*$G$157*INDEX('Annual Assumptions'!$B$27:$BZ$31,MATCH($B166,'Annual Assumptions'!$B$27:$B$31,0),MATCH(Z$162,'Annual Assumptions'!$B$27:$BZ$27,0))),\"\")","v":""},{"$f":"IFERROR(($C$157*$G$157*INDEX('Annual Assumptions'!$B$27:$BZ$31,MATCH($B166,'Annual Assumptions'!$B$27:$B$31,0),MATCH(AA$162,'Annual Assumptions'!$B$27:$BZ$27,0))),\"\")","v":""},{"$f":"IFERROR(($C$157*$G$157*INDEX('Annual Assumptions'!$B$27:$BZ$31,MATCH($B166,'Annual Assumptions'!$B$27:$B$31,0),MATCH(AB$162,'Annual Assumptions'!$B$27:$BZ$27,0))),\"\")","v":""},{"$f":"IFERROR(($C$157*$G$157*INDEX('Annual Assumptions'!$B$27:$BZ$31,MATCH($B166,'Annual Assumptions'!$B$27:$B$31,0),MATCH(AC$162,'Annual Assumptions'!$B$27:$BZ$27,0))),\"\")","v":""},{"$f":"IFERROR(($C$157*$G$157*INDEX('Annual Assumptions'!$B$27:$BZ$31,MATCH($B166,'Annual Assumptions'!$B$27:$B$31,0),MATCH(AD$162,'Annual Assumptions'!$B$27:$BZ$27,0))),\"\")","v":""},{"$f":"IFERROR(($C$157*$G$157*INDEX('Annual Assumptions'!$B$27:$BZ$31,MATCH($B166,'Annual Assumptions'!$B$27:$B$31,0),MATCH(AE$162,'Annual Assumptions'!$B$27:$BZ$27,0))),\"\")","v":""},{"$f":"IFERROR(($C$157*$G$157*INDEX('Annual Assumptions'!$B$27:$BZ$31,MATCH($B166,'Annual Assumptions'!$B$27:$B$31,0),MATCH(AF$162,'Annual Assumptions'!$B$27:$BZ$27,0))),\"\")","v":""},{"$f":"IFERROR(($C$157*$G$157*INDEX('Annual Assumptions'!$B$27:$BZ$31,MATCH($B166,'Annual Assumptions'!$B$27:$B$31,0),MATCH(AG$162,'Annual Assumptions'!$B$27:$BZ$27,0))),\"\")","v":""},{"$f":"IFERROR(($C$157*$G$157*INDEX('Annual Assumptions'!$B$27:$BZ$31,MATCH($B166,'Annual Assumptions'!$B$27:$B$31,0),MATCH(AH$162,'Annual Assumptions'!$B$27:$BZ$27,0))),\"\")","v":""},{"$f":"IFERROR(($C$157*$G$157*INDEX('Annual Assumptions'!$B$27:$BZ$31,MATCH($B166,'Annual Assumptions'!$B$27:$B$31,0),MATCH(AI$162,'Annual Assumptions'!$B$27:$BZ$27,0))),\"\")","v":""},{"$f":"IFERROR(($C$157*$G$157*INDEX('Annual Assumptions'!$B$27:$BZ$31,MATCH($B166,'Annual Assumptions'!$B$27:$B$31,0),MATCH(AJ$162,'Annual Assumptions'!$B$27:$BZ$27,0))),\"\")","v":""},{"$f":"IFERROR(($C$157*$G$157*INDEX('Annual Assumptions'!$B$27:$BZ$31,MATCH($B166,'Annual Assumptions'!$B$27:$B$31,0),MATCH(AK$162,'Annual Assumptions'!$B$27:$BZ$27,0))),\"\")","v":""},{"$f":"IFERROR(($C$157*$G$157*INDEX('Annual Assumptions'!$B$27:$BZ$31,MATCH($B166,'Annual Assumptions'!$B$27:$B$31,0),MATCH(AL$162,'Annual Assumptions'!$B$27:$BZ$27,0))),\"\")","v":""},{"$f":"IFERROR(($C$157*$G$157*INDEX('Annual Assumptions'!$B$27:$BZ$31,MATCH($B166,'Annual Assumptions'!$B$27:$B$31,0),MATCH(AM$162,'Annual Assumptions'!$B$27:$BZ$27,0))),\"\")","v":""},{"$f":"IFERROR(($C$157*$G$157*INDEX('Annual Assumptions'!$B$27:$BZ$31,MATCH($B166,'Annual Assumptions'!$B$27:$B$31,0),MATCH(AN$162,'Annual Assumptions'!$B$27:$BZ$27,0))),\"\")","v":""},{"$f":"IFERROR(($C$157*$G$157*INDEX('Annual Assumptions'!$B$27:$BZ$31,MATCH($B166,'Annual Assumptions'!$B$27:$B$31,0),MATCH(AO$162,'Annual Assumptions'!$B$27:$BZ$27,0))),\"\")","v":""},{"$f":"IFERROR(($C$157*$G$157*INDEX('Annual Assumptions'!$B$27:$BZ$31,MATCH($B166,'Annual Assumptions'!$B$27:$B$31,0),MATCH(AP$162,'Annual Assumptions'!$B$27:$BZ$27,0))),\"\")","v":""},{"$f":"IFERROR(($C$157*$G$157*INDEX('Annual Assumptions'!$B$27:$BZ$31,MATCH($B166,'Annual Assumptions'!$B$27:$B$31,0),MATCH(AQ$162,'Annual Assumptions'!$B$27:$BZ$27,0))),\"\")","v":""},{"$f":"IFERROR(($C$157*$G$157*INDEX('Annual Assumptions'!$B$27:$BZ$31,MATCH($B166,'Annual Assumptions'!$B$27:$B$31,0),MATCH(AR$162,'Annual Assumptions'!$B$27:$BZ$27,0))),\"\")","v":""},{"$f":"IFERROR(($C$157*$G$157*INDEX('Annual Assumptions'!$B$27:$BZ$31,MATCH($B166,'Annual Assumptions'!$B$27:$B$31,0),MATCH(AS$162,'Annual Assumptions'!$B$27:$BZ$27,0))),\"\")","v":""},{"$f":"IFERROR(($C$157*$G$157*INDEX('Annual Assumptions'!$B$27:$BZ$31,MATCH($B166,'Annual Assumptions'!$B$27:$B$31,0),MATCH(AT$162,'Annual Assumptions'!$B$27:$BZ$27,0))),\"\")","v":""},{"$f":"IFERROR(($C$157*$G$157*INDEX('Annual Assumptions'!$B$27:$BZ$31,MATCH($B166,'Annual Assumptions'!$B$27:$B$31,0),MATCH(AU$162,'Annual Assumptions'!$B$27:$BZ$27,0))),\"\")","v":""},{"$f":"IFERROR(($C$157*$G$157*INDEX('Annual Assumptions'!$B$27:$BZ$31,MATCH($B166,'Annual Assumptions'!$B$27:$B$31,0),MATCH(AV$162,'Annual Assumptions'!$B$27:$BZ$27,0))),\"\")","v":""},{"$f":"IFERROR(($C$157*$G$157*INDEX('Annual Assumptions'!$B$27:$BZ$31,MATCH($B166,'Annual Assumptions'!$B$27:$B$31,0),MATCH(AW$162,'Annual Assumptions'!$B$27:$BZ$27,0))),\"\")","v":""},{"$f":"IFERROR(($C$157*$G$157*INDEX('Annual Assumptions'!$B$27:$BZ$31,MATCH($B166,'Annual Assumptions'!$B$27:$B$31,0),MATCH(AX$162,'Annual Assumptions'!$B$27:$BZ$27,0))),\"\")","v":""},{"$f":"IFERROR(($C$157*$G$157*INDEX('Annual Assumptions'!$B$27:$BZ$31,MATCH($B166,'Annual Assumptions'!$B$27:$B$31,0),MATCH(AY$162,'Annual Assumptions'!$B$27:$BZ$27,0))),\"\")","v":""},{"$f":"IFERROR(($C$157*$G$157*INDEX('Annual Assumptions'!$B$27:$BZ$31,MATCH($B166,'Annual Assumptions'!$B$27:$B$31,0),MATCH(AZ$162,'Annual Assumptions'!$B$27:$BZ$27,0))),\"\")","v":""},{"$f":"IFERROR(($C$157*$G$157*INDEX('Annual Assumptions'!$B$27:$BZ$31,MATCH($B166,'Annual Assumptions'!$B$27:$B$31,0),MATCH(BA$162,'Annual Assumptions'!$B$27:$BZ$27,0))),\"\")","v":""},{"$f":"IFERROR(($C$157*$G$157*INDEX('Annual Assumptions'!$B$27:$BZ$31,MATCH($B166,'Annual Assumptions'!$B$27:$B$31,0),MATCH(BB$162,'Annual Assumptions'!$B$27:$BZ$27,0))),\"\")","v":""},{"$f":"IFERROR(($C$157*$G$157*INDEX('Annual Assumptions'!$B$27:$BZ$31,MATCH($B166,'Annual Assumptions'!$B$27:$B$31,0),MATCH(BC$162,'Annual Assumptions'!$B$27:$BZ$27,0))),\"\")","v":""},{"$f":"IFERROR(($C$157*$G$157*INDEX('Annual Assumptions'!$B$27:$BZ$31,MATCH($B166,'Annual Assumptions'!$B$27:$B$31,0),MATCH(BD$162,'Annual Assumptions'!$B$27:$BZ$27,0))),\"\")","v":""},{"$f":"IFERROR(($C$157*$G$157*INDEX('Annual Assumptions'!$B$27:$BZ$31,MATCH($B166,'Annual Assumptions'!$B$27:$B$31,0),MATCH(BE$162,'Annual Assumptions'!$B$27:$BZ$27,0))),\"\")","v":""},{"$f":"IFERROR(($C$157*$G$157*INDEX('Annual Assumptions'!$B$27:$BZ$31,MATCH($B166,'Annual Assumptions'!$B$27:$B$31,0),MATCH(BF$162,'Annual Assumptions'!$B$27:$BZ$27,0))),\"\")","v":""},{"$f":"IFERROR(($C$157*$G$157*INDEX('Annual Assumptions'!$B$27:$BZ$31,MATCH($B166,'Annual Assumptions'!$B$27:$B$31,0),MATCH(BG$162,'Annual Assumptions'!$B$27:$BZ$27,0))),\"\")","v":""},{"$f":"IFERROR(($C$157*$G$157*INDEX('Annual Assumptions'!$B$27:$BZ$31,MATCH($B166,'Annual Assumptions'!$B$27:$B$31,0),MATCH(BH$162,'Annual Assumptions'!$B$27:$BZ$27,0))),\"\")","v":""},{"$f":"IFERROR(($C$157*$G$157*INDEX('Annual Assumptions'!$B$27:$BZ$31,MATCH($B166,'Annual Assumptions'!$B$27:$B$31,0),MATCH(BI$162,'Annual Assumptions'!$B$27:$BZ$27,0))),\"\")","v":""},{"$f":"IFERROR(($C$157*$G$157*INDEX('Annual Assumptions'!$B$27:$BZ$31,MATCH($B166,'Annual Assumptions'!$B$27:$B$31,0),MATCH(BJ$162,'Annual Assumptions'!$B$27:$BZ$27,0))),\"\")","v":""},{"$f":"IFERROR(($C$157*$G$157*INDEX('Annual Assumptions'!$B$27:$BZ$31,MATCH($B166,'Annual Assumptions'!$B$27:$B$31,0),MATCH(BK$162,'Annual Assumptions'!$B$27:$BZ$27,0))),\"\")","v":""}]
[]
[null,"Total",{"$f":"IF(C162=\"\",\"\",SUM(C163:C166))","v":0},{"$f":"IF(D162=\"\",\"\",SUM(D163:D166))","v":""},"","","","","","","","","","","","","","","","","","","","","","","","","","","","","","","","","","","","","","","","","","","","","","","","","","","","","","","","","","",""]
[]
[null,"Treatment of Waste On-Site"]
[]
[null,"Waste Treatment Practice","Quantity of Waste Treated ",null,"Emission Factor ",null,"Unit Conversion",null,"GHG Emissions "]
[null,null,"tons/year",null,"MTCO2e/ton",null,"kg/MT",null,"kgCO2e/year"]
[null,{"$f":"IF('User Inputs'!C267=0,\"\",'User Inputs'!C267)","v":""},{"$f":"IF('User Inputs'!D267=0,\"\",'User Inputs'!D267)","v":""},"x",{"$f":"IFERROR(INDEX(Assumptions!$B$285:$C$291,MATCH(B174,Assumptions!$B$285:$B$291,0),2),\"NA\")","v":"NA"},"x",{"$f":"Constants!$F$7","v":1000},"=",{"$f":"IFERROR(C174*E174*G174,0)","v":0}]
[null,{"$f":"IF('User Inputs'!C268=0,\"\",'User Inputs'!C268)","v":""},{"$f":"IF('User Inputs'!D268=0,\"\",'User Inputs'!D268)","v":""},"x",{"$f":"IFERROR(INDEX(Assumptions!$B$285:$C$291,MATCH(B175,Assumptions!$B$285:$B$291,0),2),\"NA\")","v":"NA"},"x",{"$f":"Constants!$F$7","v":1000},"=",{"$f":"IFERROR(C175*E175*G175,0)","v":0}]
[null,{"$f":"IF('User Inputs'!C269=0,\"\",'User Inputs'!C269)","v":""},{"$f":"IF('User Inputs'!D269=0,\"\",'User Inputs'!D269)","v":""},"x",{"$f":"IFERROR(INDEX(Assumptions!$B$285:$C$291,MATCH(B176,Assumptions!$B$285:$B$291,0),2),\"NA\")","v":"NA"},"x",{"$f":"Constants!$F$7","v":1000},"=",{"$f":"IFERROR(C176*E176*G176,0)","v":0}]
[]
[null,null,null,null,null,null,null,"Total",{"$f":"SUM(I174:I176)","v":0}]
[]
[null,"Treatment of Wastewater On-Site"]
[]
[null,"Annual Methane Emissions from Municipal Wastewater Treatment"]
[]
[null,"Population Served",null,"BOD",null,"Unit Conversion",null,"Emission Factor ",null,"Methane Correction Factor",null,"CH4 Emissions"]
[null,null,null,"kg/person/day",null,"days/year",null,"kg CH4/kg BOD",null,null,null,"kg CH4/year"]
[null,{"$f":"'User Inputs'!$D$274","v":0},"x",{"$f":"Assumptions!C295","v":0.09},"x",{"$f":"Constants!$F$31","v":365},"x",{"$f":"Assumptions!C296","v":0.6},"x",{"$f":"IFERROR((INDEX(Assumptions!$B$303:$D$307,MATCH('User Inputs'!$D$275,Assumptions!$B$303:$B$307,0),2)),\"No system selected\")","v":"No system selected"},"=",{"$f":"IFERROR(B186*D186*F186*H186*J186,0)","v":0}]
[]
[null,"Annual Direct Nitrous Oxide Emissions from Municipal Wastewater Treatment"]
[]
[null,"Population Served",null,"Protein Consumption ",null,"Nitrogen Content ",null,"Factor for Non-Consumed Protein",null,"Emission Factor ",null,"Conversion Factor",null,"Direct N2O Emissions"]
[null,null,null,"kg/person/year",null,"kg N/kg protein",null,null,null,"(kg N2O-N/kg N)",null,"N2O-N to N2O",null,"kg N2O/year"]
[null,{"$f":"'User Inputs'!$D$274","v":0},"x",{"$f":"Assumptions!C297","v":35.700000000000003},"x",{"$f":"Assumptions!C298","v":0.16},"x",{"$f":"Assumptions!C299","v":1.75},"x",{"$f":"IFERROR((INDEX(Assumptions!$B$303:$D$307,MATCH('User Inputs'!$D$275,Assumptions!$B$303:$B$307,0),3)),\"No system selected\")","v":"No system selected"},"x",{"$f":"Constants!$F$34","v":1.5714285714285714},"=",{"$f":"IFERROR(B192*D192*F192*H192*J192*L192,0)","v":0}]
[]
[null,"Annual Effluent Nitrous Oxide Emissions from Municipal Wastewater Treatment"]
[]
[null,"Population Served",null,"Protein Consumption ",null,"Nitrogen Content ",null,"Factor for Non-Consumed Protein",null,"Direct N2O Emissions",null,"Emission Factor ",null,"Conversion Factor",null,"Effluent N2O Emissions"]
[null,null,null,"kg/person/year",null,"kg N/kg protein",null,null,null,"kg N/year",null,"(kg N2O-N/kg N)",null,"N2O-N to N2O",null,"kg N2O/year"]
["((",{"$f":"'User Inputs'!$D$274","v":0},"x",{"$f":"Assumptions!C297","v":35.700000000000003},"x",{"$f":"Assumptions!C298","v":0.16},"x",{"$f":"Assumptions!C299","v":1.75}," -",{"$f":"N192/L192","v":0},") x",{"$f":"Assumptions!C300","v":5.0000000000000001E-3},"x",{"$f":"Constants!$F$34","v":1.5714285714285714},"=",{"$f":"((B198*D198*F198*H198)-J198)*L198*N198","v":0}]
[]
[null,"Total Annual Emissions from Municipal Wastewater Treatment"]
[]
[null,"CH4 Emissions",null,"CH4 GWP",null,"N2O Emissions",null,"N2O GWP",null,"GHG Emissions"]
[null,"kg CH4",null,null,null,"kg N2O",null,null,null,"kgCO2e/year"]
[null,{"$f":"L186","v":0},"x",{"$f":"Constants!$I$7","v":28},"+",{"$f":"N192+P198","v":0},"x",{"$f":"Constants!I8","v":265},"=",{"$f":"(B204*D204)+(F204*H204)","v":0}]
[]
[null,"Annual Emissions from Industrial Wastewater Treatment"]
[]
[null,"Product Type"," Product Produced",null,"Outflow",null,"Unit Conversion",null,"COD/BOD",null,"Emission Factor ",null,"Unit Conversion",null,"Fraction Anaerobically Digested",null,"CH4 GWP",null,"GHG Emissions"]
[null,null,"MT/year",null,"m3/MT",null,"L/m3",null,"g/L",null,"g CH4/g BOD/COD",null,"kg/g",null,null,null,null,null,"kgCO2e/year"]
[null,{"$f":"IF('User Inputs'!C280=0,\"\",'User Inputs'!C280)","v":""},{"$f":"'User Inputs'!D280","v":0},"x",{"$f":"IFERROR((INDEX(Assumptions!$B$310:$F$314,MATCH('User Inputs'!$C$280,Assumptions!$B$310:$B$314,0),2)),\"NA\")","v":"NA"},"x",{"$f":"Constants!$F$27","v":1000},"x",{"$f":"IFERROR((INDEX(Assumptions!$B$310:$F$314,MATCH('User Inputs'!$C$280,Assumptions!$B$310:$B$314,0),3)),\"NA\")","v":"NA"},"x",{"$f":"IFERROR((INDEX(Assumptions!$B$310:$F$314,MATCH('User Inputs'!$C$280,Assumptions!$B$310:$B$314,0),5)),\"NA\")","v":"NA"},"x",{"$f":"1/Constants!F8","v":1E-3},"x",{"$f":"IFERROR((INDEX(Assumptions!$B$310:$F$314,MATCH('User Inputs'!$C$280,Assumptions!$B$310:$B$314,0),4)),\"NA\")","v":"NA"},"x",{"$f":"Constants!$I$7","v":28},"=",{"$f":"IFERROR((C210*E210*G210*I210*K210*M210*O210*Q210),0)","v":0}]
[]
[null,"Treatment of Waste Off-Site"]
[]
[null,"Waste Generated"]
[]
[null,"Unit","Quantity",null,"Waste Generation Rate ",null,"Unit Conversion",null,"Waste Generated "]
[null,null,null,null,"lbs/unit/day",null,"days/year",null,"lbs/year"]
[null,"Households",{"$f":"'User Inputs'!D286","v":0},"x",{"$f":"'User Inputs'!E286","v":0},"x",{"$f":"Constants!$F$31","v":365},"=",{"$f":"C218*E218*G218","v":0}]
[null,"Commercial Employees",{"$f":"'User Inputs'!D287","v":0},"x",{"$f":"'User Inputs'!E287","v":0},"x",{"$f":"Constants!$F$31","v":365},"=",{"$f":"C219*E219*G219","v":0}]
[null,"Industrial Employees",{"$f":"'User Inputs'!D288","v":0},"x",{"$f":"'User Inputs'!E288","v":0},"x",{"$f":"Constants!$F$31","v":365},"=",0]
[null,"Institutional Employees",{"$f":"'User Inputs'!D289","v":0},"x",{"$f":"'User Inputs'!E289","v":0},"x",{"$f":"Constants!$F$31","v":365},"=",{"$f":"C221*E221*G221","v":0}]
[null,"Visitors (Public Venues)",{"$f":"'User Inputs'!D290","v":0},"x",{"$f":"'User Inputs'!E290","v":0},"x",{"$f":"Constants!$F$31","v":365},"=",0]
[]
[null,null,null,null,null,null,null,"Total",{"$f":"SUM(I218:I222)","v":0}]
[]
[null,"Annual Emissions from Waste Treatment"]
[]
[null,"Waste Treatment Practice","Percent of Waste",null,"Waste Generated ",null,"Unit Conversion",null,"Emission Factor ",null,"Unit Conversion",null,"GHG Emissions "]
[null,null,null,null,"lbs/year",null,"lbs/ton",null,"MTCO2e/ton",null,"kg/MT",null,"kgCO2e/year"]
[null,"Recycled",{"$f":"'User Inputs'!D297","v":0},"x",{"$f":"$I$224","v":0},"/",{"$f":"Constants!$F$11","v":2000},"x",{"$f":"Assumptions!C417","v":0.09},"x",{"$f":"Constants!$F$7","v":1000},"=",{"$f":"C230*E230/G230*I230*K230","v":0}]
[null,"Composted",{"$f":"'User Inputs'!D298","v":0},"x",{"$f":"$I$224","v":0},"/",{"$f":"Constants!$F$11","v":2000},"x",{"$f":"Assumptions!C418","v":0.13},"x",{"$f":"Constants!$F$7","v":1000},"=",{"$f":"C231*E231/G231*I231*K231","v":0}]
[null,"Landfilled",{"$f":"'User Inputs'!D299","v":0},"x",{"$f":"$I$224","v":0},"/",{"$f":"Constants!$F$11","v":2000},"x",{"$f":"Assumptions!C419","v":0.57999999999999996},"x",{"$f":"Constants!$F$7","v":1000},"=",{"$f":"IFERROR(C232*E232/G232*I232*K232,0)","v":0}]
[null,"Combusted",{"$f":"'User Inputs'!D300","v":0},"x",{"$f":"$I$224","v":0},"/",{"$f":"Constants!$F$11","v":2000},"x",{"$f":"Assumptions!C420","v":0.43},"x",{"$f":"Constants!$F$7","v":1000},"=",{"$f":"IFERROR(C233*E233/G233*I233*K233,0)","v":0}]
[null,null,{"$f":"IF(SUM(C230:C233)<>100%,\"Values do not sum to 100%\",\"\")","v":"Values do not sum to 100%"}]
[null,null,null,null,null,null,null,null,null,null,null,"Total",{"$f":"SUM(M230:M233)","v":0}]
[]
[null,"Enteric Fermentation"]
[]
[null,"Livestock Type","Population",null,"Emission Factor  ",null,"CH4 GWP",null,"GHG Emissions "]
[null,null,null,null,"kg CH4/head/year",null,null,null,"kgCO2e/year"]
[null,"Bulls",{"$f":"'User Inputs'!D311","v":0},"x",{"$f":"IFERROR((INDEX(Assumptions!$B$423:$C$436,MATCH(Operation!B241,Assumptions!$B$423:$B$436,0),2)),\"\")","v":95},"x",{"$f":"Constants!$I$7","v":28},"=",{"$f":"IFERROR((C241*E241*G241),0)","v":0}]
[null,"Beef cows",{"$f":"'User Inputs'!D312","v":0},"x",{"$f":"IFERROR((INDEX(Assumptions!$B$423:$C$436,MATCH(Operation!B242,Assumptions!$B$423:$B$436,0),2)),\"\")","v":92},"x",{"$f":"Constants!$I$7","v":28},"=",{"$f":"IFERROR((C242*E242*G242),0)","v":0}]
[null,"Beef heifers",{"$f":"'User Inputs'!D313","v":0},"x",{"$f":"IFERROR((INDEX(Assumptions!$B$423:$C$436,MATCH(Operation!B243,Assumptions!$B$423:$B$436,0),2)),\"\")","v":63},"x",{"$f":"Constants!$I$7","v":28},"=",0]
[null,"Steer stockers",{"$f":"'User Inputs'!D314","v":0},"x",{"$f":"IFERROR((INDEX(Assumptions!$B$423:$C$436,MATCH(Operation!B244,Assumptions!$B$423:$B$436,0),2)),\"\")","v":56},"x",{"$f":"Constants!$I$7","v":28},"=",0]
[null,"Heifer stockers",{"$f":"'User Inputs'!D315","v":0},"x",{"$f":"IFERROR((INDEX(Assumptions!$B$423:$C$436,MATCH(Operation!B245,Assumptions!$B$423:$B$436,0),2)),\"\")","v":58},"x",{"$f":"Constants!$I$7","v":28},"=",0]
[null,"Feedlot beef",{"$f":"'User Inputs'!D316","v":0},"x",{"$f":"IFERROR((INDEX(Assumptions!$B$423:$C$436,MATCH(Operation!B246,Assumptions!$B$423:$B$436,0),2)),\"\")","v":33},"x",{"$f":"Constants!$I$7","v":28},"=",0]
[null,"Beef calves",{"$f":"'User Inputs'!D317","v":0},"x",{"$f":"IFERROR((INDEX(Assumptions!$B$423:$C$436,MATCH(Operation!B247,Assumptions!$B$423:$B$436,0),2)),\"\")","v":10},"x",{"$f":"Constants!$I$7","v":28},"=",0]
[null,"Dairy heifers",{"$f":"'User Inputs'!D321","v":0},"x",{"$f":"IFERROR((INDEX(Assumptions!$B$423:$C$436,MATCH(Operation!B248,Assumptions!$B$423:$B$436,0),2)),\"\")","v":54},"x",{"$f":"Constants!$I$7","v":28},"=",0]
[null,"Dairy cows",{"$f":"'User Inputs'!D322","v":0},"x",{"$f":"IFERROR((INDEX(Assumptions!$B$423:$C$436,MATCH(Operation!B249,Assumptions!$B$423:$B$436,0),2)),\"\")","v":140},"x",{"$f":"Constants!$I$7","v":28},"=",0]
[null,"Dairy calves",{"$f":"'User Inputs'!D323","v":0},"x",{"$f":"IFERROR((INDEX(Assumptions!$B$423:$C$436,MATCH(Operation!B250,Assumptions!$B$423:$B$436,0),2)),\"\")","v":12},"x",{"$f":"Constants!$I$7","v":28},"=",0]
[null,"Swine, <55 lbs",{"$f":"'User Inputs'!D327","v":0},"x",{"$f":"IFERROR((INDEX(Assumptions!$B$423:$C$436,MATCH(Operation!B251,Assumptions!$B$423:$B$436,0),2)),\"\")","v":1.5},"x",{"$f":"Constants!$I$7","v":28},"=",0]
[null,"Swine 55-330 lbs",{"$f":"'User Inputs'!D328","v":0},"x",{"$f":"IFERROR((INDEX(Assumptions!$B$423:$C$436,MATCH(Operation!B252,Assumptions!$B$423:$B$436,0),2)),\"\")","v":1.5},"x",{"$f":"Constants!$I$7","v":28},"=",0]
[null,"Swine 330+ lbs",{"$f":"'User Inputs'!D329","v":0},"x",{"$f":"IFERROR((INDEX(Assumptions!$B$423:$C$436,MATCH(Operation!B253,Assumptions!$B$423:$B$436,0),2)),\"\")","v":1.5},"x",{"$f":"Constants!$I$7","v":28},"=",0]
[]
[null,null,null,null,null,null,null,"Total",{"$f":"SUM(I241:I253)","v":0}]
[]
[null,"Manure Management"]
[]
[null,"Annual Methane Emissions"]
[]
[null,"Livestock Type","Population",null,"Typical Animal Mass",null,"Volatile Solids",null,"Maximum CH4 producing capacity",null,"Weighted Manure Methane Conversion Factor",null,"Density of Methane at 25˚C",null,"CH4 Emissions"]
[null,null,null,null,"kg/head",null,"kg VS/kg animal mass/year",null,"m3 CH4/kg VS",null,"Percent",null,"kg CH4/ m3 CH4",null,"kg CH4/year"]
[null,"Bulls",{"$f":"'User Inputs'!D311","v":0},"x",{"$f":"IFERROR((INDEX(Assumptions!$B$439:$C$457,MATCH(Operation!B263,Assumptions!$B$439:$B$457,0),2)),\"\")","v":874},"x",{"$f":"INDEX(Assumptions!$B$439:$D$457,MATCH(Operation!B263,Assumptions!$B$439:$B$457,0),3)","v":1.8798627002288331},"x",{"$f":"INDEX(Assumptions!$B$439:$E$457,MATCH(Operation!B263,Assumptions!$B$439:$B$457,0),4)","v":0.17},"x",{"$f":"(('User Inputs'!E311*Assumptions!$C$460)+('User Inputs'!F311*Assumptions!$C$462)+('User Inputs'!G311*Assumptions!$C$463)+('User Inputs'!H311*Assumptions!$C$464)+('User Inputs'!I311*Assumptions!$C$465)+('User Inputs'!J311*Assumptions!$C$466)+('User Inputs'!K311*Assumptions!$C$467)+('User Inputs'!L311*Assumptions!$C$468)+('User Inputs'!M311*Assumptions!$C$471))","v":0},"x",{"$f":"Constants!$F$36","v":0.66200000000000003},"=",{"$f":"C263*E263*G263*I263*K263*M263","v":0}]
[null,"Beef cows",{"$f":"'User Inputs'!D312","v":0},"x",{"$f":"IFERROR((INDEX(Assumptions!$B$439:$C$457,MATCH(Operation!B264,Assumptions!$B$439:$B$457,0),2)),\"\")","v":582.5},"x",{"$f":"INDEX(Assumptions!$B$439:$D$457,MATCH(Operation!B264,Assumptions!$B$439:$B$457,0),3)","v":2.7278969957081545},"x",{"$f":"INDEX(Assumptions!$B$439:$E$457,MATCH(Operation!B264,Assumptions!$B$439:$B$457,0),4)","v":0.17},"x",{"$f":"(('User Inputs'!E312*Assumptions!$C$460)+('User Inputs'!F312*Assumptions!$C$462)+('User Inputs'!G312*Assumptions!$C$463)+('User Inputs'!H312*Assumptions!$C$464)+('User Inputs'!I312*Assumptions!$C$465)+('User Inputs'!J312*Assumptions!$C$466)+('User Inputs'!K312*Assumptions!$C$467)+('User Inputs'!L312*Assumptions!$C$468)+('User Inputs'!M312*Assumptions!$C$471))","v":0},"x",{"$f":"Constants!$F$36","v":0.66200000000000003},"=",{"$f":"C264*E264*G264*I264*K264*M264","v":0}]
[null,"Beef heifers",{"$f":"'User Inputs'!D313","v":0},"x",{"$f":"IFERROR((INDEX(Assumptions!$B$439:$C$457,MATCH(Operation!B265,Assumptions!$B$439:$B$457,0),2)),\"\")","v":351.5},"x",{"$f":"INDEX(Assumptions!$B$439:$D$457,MATCH(Operation!B265,Assumptions!$B$439:$B$457,0),3)","v":2.8819345661450924},"x",{"$f":"INDEX(Assumptions!$B$439:$E$457,MATCH(Operation!B265,Assumptions!$B$439:$B$457,0),4)","v":0.17},"x",{"$f":"(('User Inputs'!E313*Assumptions!$C$460)+('User Inputs'!F313*Assumptions!$C$462)+('User Inputs'!G313*Assumptions!$C$463)+('User Inputs'!H313*Assumptions!$C$464)+('User Inputs'!I313*Assumptions!$C$465)+('User Inputs'!J313*Assumptions!$C$466)+('User Inputs'!K313*Assumptions!$C$467)+('User Inputs'!L313*Assumptions!$C$468)+('User Inputs'!M313*Assumptions!$C$471))","v":0},"x",{"$f":"Constants!$F$36","v":0.66200000000000003},"=",0]
[null,"Steer stockers",{"$f":"'User Inputs'!D314","v":0},"x",{"$f":"IFERROR((INDEX(Assumptions!$B$439:$C$457,MATCH(Operation!B266,Assumptions!$B$439:$B$457,0),2)),\"\")","v":324.5},"x",{"$f":"INDEX(Assumptions!$B$439:$D$457,MATCH(Operation!B266,Assumptions!$B$439:$B$457,0),3)","v":2.856702619414484},"x",{"$f":"INDEX(Assumptions!$B$439:$E$457,MATCH(Operation!B266,Assumptions!$B$439:$B$457,0),4)","v":0.17},"x",{"$f":"(('User Inputs'!E314*Assumptions!$C$460)+('User Inputs'!F314*Assumptions!$C$462)+('User Inputs'!G314*Assumptions!$C$463)+('User Inputs'!H314*Assumptions!$C$464)+('User Inputs'!I314*Assumptions!$C$465)+('User Inputs'!J314*Assumptions!$C$466)+('User Inputs'!K314*Assumptions!$C$467)+('User Inputs'!L314*Assumptions!$C$468)+('User Inputs'!M314*Assumptions!$C$471))","v":0},"x",{"$f":"Constants!$F$36","v":0.66200000000000003},"=",{"$f":"C266*E266*G266*I266*K266*M266","v":0}]
[null,"Heifer stockers",{"$f":"'User Inputs'!D315","v":0},"x",{"$f":"IFERROR((INDEX(Assumptions!$B$439:$C$457,MATCH(Operation!B267,Assumptions!$B$439:$B$457,0),2)),\"\")","v":351.5},"x",{"$f":"INDEX(Assumptions!$B$439:$D$457,MATCH(Operation!B267,Assumptions!$B$439:$B$457,0),3)","v":2.8819345661450924},"x",{"$f":"INDEX(Assumptions!$B$439:$E$457,MATCH(Operation!B267,Assumptions!$B$439:$B$457,0),4)","v":0.17},"x",{"$f":"(('User Inputs'!E315*Assumptions!$C$460)+('User Inputs'!F315*Assumptions!$C$462)+('User Inputs'!G315*Assumptions!$C$463)+('User Inputs'!H315*Assumptions!$C$464)+('User Inputs'!I315*Assumptions!$C$465)+('User Inputs'!J315*Assumptions!$C$466)+('User Inputs'!K315*Assumptions!$C$467)+('User Inputs'!L315*Assumptions!$C$468)+('User Inputs'!M315*Assumptions!$C$471))","v":0},"x",{"$f":"Constants!$F$36","v":0.66200000000000003},"=",0]
[null,"Feedlot beef",{"$f":"'User Inputs'!D316","v":0},"x",{"$f":"IFERROR((INDEX(Assumptions!$B$439:$C$457,MATCH(Operation!B268,Assumptions!$B$439:$B$457,0),2)),\"\")","v":422.5},"x",{"$f":"INDEX(Assumptions!$B$439:$D$457,MATCH(Operation!B268,Assumptions!$B$439:$B$457,0),3)","v":1.489940828402367},"x",{"$f":"INDEX(Assumptions!$B$439:$E$457,MATCH(Operation!B268,Assumptions!$B$439:$B$457,0),4)","v":0.33},"x",{"$f":"(('User Inputs'!E316*Assumptions!$C$460)+('User Inputs'!F316*Assumptions!$C$462)+('User Inputs'!G316*Assumptions!$C$463)+('User Inputs'!H316*Assumptions!$C$464)+('User Inputs'!I316*Assumptions!$C$465)+('User Inputs'!J316*Assumptions!$C$466)+('User Inputs'!K316*Assumptions!$C$467)+('User Inputs'!L316*Assumptions!$C$468)+('User Inputs'!M316*Assumptions!$C$471))","v":0},"x",{"$f":"Constants!$F$36","v":0.66200000000000003},"=",0]
[null,"Beef calves",{"$f":"'User Inputs'!D317","v":0},"x",{"$f":"IFERROR((INDEX(Assumptions!$B$439:$C$457,MATCH(Operation!B269,Assumptions!$B$439:$B$457,0),2)),\"\")","v":122.5},"x",{"$f":"INDEX(Assumptions!$B$439:$D$457,MATCH(Operation!B269,Assumptions!$B$439:$B$457,0),3)","v":2.8104999999999998},"x",{"$f":"INDEX(Assumptions!$B$439:$E$457,MATCH(Operation!B269,Assumptions!$B$439:$B$457,0),4)","v":0.17},"x",{"$f":"(('User Inputs'!E317*Assumptions!$C$460)+('User Inputs'!F317*Assumptions!$C$462)+('User Inputs'!G317*Assumptions!$C$463)+('User Inputs'!H317*Assumptions!$C$464)+('User Inputs'!I317*Assumptions!$C$465)+('User Inputs'!J317*Assumptions!$C$466)+('User Inputs'!K317*Assumptions!$C$467)+('User Inputs'!L317*Assumptions!$C$468)+('User Inputs'!M317*Assumptions!$C$471))","v":0},"x",{"$f":"Constants!$F$36","v":0.66200000000000003},"=",0]
[null,null,null,null,null,null,null,null,null,null,null,null,null,"Subtotal",{"$f":"SUM(O263:O269)","v":0}]
[]
[null,"Dairy heifers",{"$f":"'User Inputs'!D321","v":0},"x",{"$f":"IFERROR((INDEX(Assumptions!$B$439:$C$457,MATCH(Operation!B272,Assumptions!$B$439:$B$457,0),2)),\"\")","v":407},"x",{"$f":"INDEX(Assumptions!$B$439:$D$457,MATCH(Operation!B272,Assumptions!$B$439:$B$457,0),3)","v":3.0835380835380835},"x",{"$f":"INDEX(Assumptions!$B$439:$E$457,MATCH(Operation!B272,Assumptions!$B$439:$B$457,0),4)","v":0.17},"x",{"$f":"(('User Inputs'!E321*Assumptions!$C$460)+('User Inputs'!F321*Assumptions!$C$461)+('User Inputs'!G321*Assumptions!$C$464)+('User Inputs'!H321*Assumptions!$C$465)+('User Inputs'!I321*Assumptions!$C$466)+('User Inputs'!J321*Assumptions!$C$467)+('User Inputs'!K321*Assumptions!$C$468)+('User Inputs'!L321*Assumptions!$C$471))","v":0},"x",{"$f":"Constants!$F$36","v":0.66200000000000003},"=",{"$f":"C272*E272*G272*I272*K272*M272","v":0}]
[null,"Dairy cows",{"$f":"'User Inputs'!D322","v":0},"x",{"$f":"IFERROR((INDEX(Assumptions!$B$439:$C$457,MATCH(Operation!B273,Assumptions!$B$439:$B$457,0),2)),\"\")","v":680},"x",{"$f":"INDEX(Assumptions!$B$439:$D$457,MATCH(Operation!B273,Assumptions!$B$439:$B$457,0),3)","v":4.1602941176470587},"x",{"$f":"INDEX(Assumptions!$B$439:$E$457,MATCH(Operation!B273,Assumptions!$B$439:$B$457,0),4)","v":0.24},"x",{"$f":"(('User Inputs'!E322*Assumptions!$C$460)+('User Inputs'!F322*Assumptions!$C$461)+('User Inputs'!G322*Assumptions!$C$464)+('User Inputs'!H322*Assumptions!$C$465)+('User Inputs'!I322*Assumptions!$C$466)+('User Inputs'!J322*Assumptions!$C$467)+('User Inputs'!K322*Assumptions!$C$468)+('User Inputs'!L322*Assumptions!$C$471))","v":0},"x",{"$f":"Constants!$F$36","v":0.66200000000000003},"=",{"$f":"C273*E273*G273*I273*K273*M273","v":0}]
[null,"Dairy calves",{"$f":"'User Inputs'!D323","v":0},"x",{"$f":"IFERROR((INDEX(Assumptions!$B$439:$C$457,MATCH(Operation!B274,Assumptions!$B$439:$B$457,0),2)),\"\")","v":122.5},"x",{"$f":"INDEX(Assumptions!$B$439:$D$457,MATCH(Operation!B274,Assumptions!$B$439:$B$457,0),3)","v":2.8104999999999998},"x",{"$f":"INDEX(Assumptions!$B$439:$E$457,MATCH(Operation!B274,Assumptions!$B$439:$B$457,0),4)","v":0.17},"x",{"$f":"(('User Inputs'!E323*Assumptions!$C$460)+('User Inputs'!F323*Assumptions!$C$461)+('User Inputs'!G323*Assumptions!$C$464)+('User Inputs'!H323*Assumptions!$C$465)+('User Inputs'!I323*Assumptions!$C$466)+('User Inputs'!J323*Assumptions!$C$467)+('User Inputs'!K323*Assumptions!$C$468)+('User Inputs'!L323*Assumptions!$C$471))","v":0},"x",{"$f":"Constants!$F$36","v":0.66200000000000003},"=",{"$f":"C274*E274*G274*I274*K274*M274","v":0}]
[null,null,null,null,null,null,null,null,null,null,null,null,null,"Subtotal",{"$f":"SUM(O272:O274)","v":0}]
[]
[null,"Swine, <55 lbs",{"$f":"'User Inputs'!D327","v":0},"x",{"$f":"IFERROR((INDEX(Assumptions!$B$439:$C$457,MATCH(Operation!B277,Assumptions!$B$439:$B$457,0),2)),\"\")","v":13},"x",{"$f":"INDEX(Assumptions!$B$439:$D$457,MATCH(Operation!B277,Assumptions!$B$439:$B$457,0),3)","v":3.2120000000000002},"x",{"$f":"INDEX(Assumptions!$B$439:$E$457,MATCH(Operation!B277,Assumptions!$B$439:$B$457,0),4)","v":0.48},"x",{"$f":"(('User Inputs'!E327*Assumptions!$C$460)+('User Inputs'!F327*Assumptions!$C$461)+('User Inputs'!G327*Assumptions!$C$465)+('User Inputs'!H327*Assumptions!$C$467)+('User Inputs'!I327*Assumptions!$C$468)+('User Inputs'!J327*Assumptions!$C$471))","v":0},"x",{"$f":"Constants!$F$36","v":0.66200000000000003},"=",{"$f":"C277*E277*G277*I277*K277*M277","v":0}]
[null,"Swine 55-330 lbs",{"$f":"'User Inputs'!D328","v":0},"x",{"$f":"IFERROR((INDEX(Assumptions!$B$439:$C$457,MATCH(Operation!B278,Assumptions!$B$439:$B$457,0),2)),\"\")","v":41},"x",{"$f":"INDEX(Assumptions!$B$439:$D$457,MATCH(Operation!B278,Assumptions!$B$439:$B$457,0),3)","v":1.9710000000000001},"x",{"$f":"INDEX(Assumptions!$B$439:$E$457,MATCH(Operation!B278,Assumptions!$B$439:$B$457,0),4)","v":0.48},"x",{"$f":"(('User Inputs'!E328*Assumptions!$C$460)+('User Inputs'!F328*Assumptions!$C$461)+('User Inputs'!G328*Assumptions!$C$465)+('User Inputs'!H328*Assumptions!$C$467)+('User Inputs'!I328*Assumptions!$C$468)+('User Inputs'!J328*Assumptions!$C$471))","v":0},"x",{"$f":"Constants!$F$36","v":0.66200000000000003},"=",{"$f":"C278*E278*G278*I278*K278*M278","v":0}]
[null,"Swine 330+ lbs",{"$f":"'User Inputs'!D329","v":0},"x",{"$f":"IFERROR((INDEX(Assumptions!$B$439:$C$457,MATCH(Operation!B279,Assumptions!$B$439:$B$457,0),2)),\"\")","v":91},"x",{"$f":"INDEX(Assumptions!$B$439:$D$457,MATCH(Operation!B279,Assumptions!$B$439:$B$457,0),3)","v":1.9710000000000001},"x",{"$f":"INDEX(Assumptions!$B$439:$E$457,MATCH(Operation!B279,Assumptions!$B$439:$B$457,0),4)","v":0.48},"x",{"$f":"(('User Inputs'!E329*Assumptions!$C$460)+('User Inputs'!F329*Assumptions!$C$461)+('User Inputs'!G329*Assumptions!$C$465)+('User Inputs'!H329*Assumptions!$C$467)+('User Inputs'!I329*Assumptions!$C$468)+('User Inputs'!J329*Assumptions!$C$471))","v":0},"x",{"$f":"Constants!$F$36","v":0.66200000000000003},"=",{"$f":"C279*E279*G279*I279*K279*M279","v":0}]
[null,null,null,null,null,null,null,null,null,null,null,null,null,"Subtotal",{"$f":"SUM(O277:O279)","v":0}]
[]
[null,"Poultry, layers",{"$f":"'User Inputs'!D333","v":0},"x",{"$f":"IFERROR((INDEX(Assumptions!$B$439:$C$457,MATCH(Operation!B282,Assumptions!$B$439:$B$457,0),2)),\"\")","v":1.8},"x",{"$f":"INDEX(Assumptions!$B$439:$D$457,MATCH(Operation!B282,Assumptions!$B$439:$B$457,0),3)","v":3.7229999999999999},"x",{"$f":"INDEX(Assumptions!$B$439:$E$457,MATCH(Operation!B282,Assumptions!$B$439:$B$457,0),4)","v":0.39},"x",{"$f":"(('User Inputs'!E333*Assumptions!$C$460)+('User Inputs'!F333*Assumptions!$C$461)+('User Inputs'!G333*Assumptions!$C$463)+('User Inputs'!H333*Assumptions!$C$467)+('User Inputs'!I333*Assumptions!$C$468)+('User Inputs'!J333*Assumptions!$C$469)+('User Inputs'!K333*Assumptions!$C$470)+('User Inputs'!L333*Assumptions!$C$471))","v":0},"x",{"$f":"Constants!$F$36","v":0.66200000000000003},"=",{"$f":"C282*E282*G282*I282*K282*M282","v":0}]
[null,"Poultry, pullets",{"$f":"'User Inputs'!D334","v":0},"x",{"$f":"IFERROR((INDEX(Assumptions!$B$439:$C$457,MATCH(Operation!B283,Assumptions!$B$439:$B$457,0),2)),\"\")","v":1.8},"x",{"$f":"INDEX(Assumptions!$B$439:$D$457,MATCH(Operation!B283,Assumptions!$B$439:$B$457,0),3)","v":3.7229999999999999},"x",{"$f":"INDEX(Assumptions!$B$439:$E$457,MATCH(Operation!B283,Assumptions!$B$439:$B$457,0),4)","v":0.39},"x",{"$f":"(('User Inputs'!E334*Assumptions!$C$460)+('User Inputs'!F334*Assumptions!$C$461)+('User Inputs'!G334*Assumptions!$C$463)+('User Inputs'!H334*Assumptions!$C$467)+('User Inputs'!I334*Assumptions!$C$468)+('User Inputs'!J334*Assumptions!$C$469)+('User Inputs'!K334*Assumptions!$C$470)+('User Inputs'!L334*Assumptions!$C$471))","v":0},"x",{"$f":"Constants!$F$36","v":0.66200000000000003},"=",{"$f":"C283*E283*G283*I283*K283*M283","v":0}]
[null,"Poultry, chickens",{"$f":"'User Inputs'!D335","v":0},"x",{"$f":"IFERROR((INDEX(Assumptions!$B$439:$C$457,MATCH(Operation!B284,Assumptions!$B$439:$B$457,0),2)),\"\")","v":1.8},"x",{"$f":"INDEX(Assumptions!$B$439:$D$457,MATCH(Operation!B284,Assumptions!$B$439:$B$457,0),3)","v":4.0149999999999997},"x",{"$f":"INDEX(Assumptions!$B$439:$E$457,MATCH(Operation!B284,Assumptions!$B$439:$B$457,0),4)","v":0.39},"x",{"$f":"(('User Inputs'!E335*Assumptions!$C$460)+('User Inputs'!F335*Assumptions!$C$461)+('User Inputs'!G335*Assumptions!$C$463)+('User Inputs'!H335*Assumptions!$C$467)+('User Inputs'!I335*Assumptions!$C$468)+('User Inputs'!J335*Assumptions!$C$469)+('User Inputs'!K335*Assumptions!$C$470)+('User Inputs'!L335*Assumptions!$C$471))","v":0},"x",{"$f":"Constants!$F$36","v":0.66200000000000003},"=",{"$f":"C284*E284*G284*I284*K284*M284","v":0}]
[null,"Poultry, broilers",{"$f":"'User Inputs'!D336","v":0},"x",{"$f":"IFERROR((INDEX(Assumptions!$B$439:$C$457,MATCH(Operation!B285,Assumptions!$B$439:$B$457,0),2)),\"\")","v":0.9},"x",{"$f":"INDEX(Assumptions!$B$439:$D$457,MATCH(Operation!B285,Assumptions!$B$439:$B$457,0),3)","v":6.2050000000000001},"x",{"$f":"INDEX(Assumptions!$B$439:$E$457,MATCH(Operation!B285,Assumptions!$B$439:$B$457,0),4)","v":0.36},"x",{"$f":"(('User Inputs'!E336*Assumptions!$C$460)+('User Inputs'!F336*Assumptions!$C$461)+('User Inputs'!G336*Assumptions!$C$463)+('User Inputs'!H336*Assumptions!$C$467)+('User Inputs'!I336*Assumptions!$C$468)+('User Inputs'!J336*Assumptions!$C$469)+('User Inputs'!K336*Assumptions!$C$470)+('User Inputs'!L336*Assumptions!$C$471))","v":0},"x",{"$f":"Constants!$F$36","v":0.66200000000000003},"=",{"$f":"C285*E285*G285*I285*K285*M285","v":0}]
[null,"Turkeys",{"$f":"'User Inputs'!D337","v":0},"x",{"$f":"IFERROR((INDEX(Assumptions!$B$439:$C$457,MATCH(Operation!B286,Assumptions!$B$439:$B$457,0),2)),\"\")","v":6.8},"x",{"$f":"INDEX(Assumptions!$B$439:$D$457,MATCH(Operation!B286,Assumptions!$B$439:$B$457,0),3)","v":3.1025},"x",{"$f":"INDEX(Assumptions!$B$439:$E$457,MATCH(Operation!B286,Assumptions!$B$439:$B$457,0),4)","v":0.36},"x",{"$f":"(('User Inputs'!E337*Assumptions!$C$460)+('User Inputs'!F337*Assumptions!$C$461)+('User Inputs'!G337*Assumptions!$C$463)+('User Inputs'!H337*Assumptions!$C$467)+('User Inputs'!I337*Assumptions!$C$468)+('User Inputs'!J337*Assumptions!$C$469)+('User Inputs'!K337*Assumptions!$C$470)+('User Inputs'!L337*Assumptions!$C$471))","v":0},"x",{"$f":"Constants!$F$36","v":0.66200000000000003},"=",{"$f":"C286*E286*G286*I286*K286*M286","v":0}]
[null,null,null,null,null,null,null,null,null,null,{"$f":"IF(OR('User Inputs'!$N$311=\"System percents must equal 100%\",'User Inputs'!$N$312=\"System percents must equal 100%\",'User Inputs'!$N$313=\"System percents must equal 100%\",'User Inputs'!$N$314=\"System percents must equal 100%\",'User Inputs'!$C$306=\"System percents must equal 100%\",'User Inputs'!$N$316=\"System percents must equal 100%\",'User Inputs'!$N$317=\"System percents must equal 100%\",'User Inputs'!$C$318=\"System percents must equal 100%\",'User Inputs'!$M$322=\"System percents must equal 100%\",'User Inputs'!$M$323=\"System percents must equal 100%\",'User Inputs'!$K$327=\"System percents must equal 100%\",'User Inputs'!$C$324=\"System percents must equal 100%\",'User Inputs'!$K$329=\"System percents must equal 100%\",'User Inputs'!$M$333=\"System percents must equal 100%\",'User Inputs'!$M$334=\"System percents must equal 100%\",'User Inputs'!$M$335=\"System percents must equal 100%\",'User Inputs'!$C$330=\"System percents must equal 100%\",'User Inputs'!$M$337=\"System percents must equal 100%\"),\"Data are incomplete\",\"\")","v":""},null,null,"Subtotal",{"$f":"SUM(O282:O286)","v":0}]
[]
[null,"Annual Direct Nitrous Oxide Emissions - Managed Manure and Pasture"]
[]
[null,"Livestock Type","Population",null,"Typical Animal Mass",null,"Nitrogen Excretion Rate",null,"Emission Factor ",null,"Conversion Factor",null,"Direct N2O Emissions  - Managed Manure and Pasture"]
[null,null,null,null,"kg/head",null,"kg N/kg animal mass/year",null,"kg N2O-N/kg N",null,"N2O-N to N2O",null,"kg N2O"]
[null,"Bulls",{"$f":"C263","v":0},"x",{"$f":"IFERROR((INDEX(Assumptions!$B$439:$C$457,MATCH(Operation!B293,Assumptions!$B$439:$B$457,0),2)),\"\")","v":874},"x",{"$f":"(INDEX(Assumptions!$B$439:$F$457,MATCH(B293,Assumptions!$B$439:$B$457,0),5))","v":9.7254004576659045E-2},"x",{"$f":"(('User Inputs'!E311*Assumptions!$D$460)+('User Inputs'!F311*Assumptions!$D$462)+('User Inputs'!G311*Assumptions!$D$463)+('User Inputs'!H311*Assumptions!$D$464)+('User Inputs'!I311*Assumptions!$D$465)+('User Inputs'!J311*Assumptions!$D$466)+('User Inputs'!K311*Assumptions!$D$467)+('User Inputs'!L311*Assumptions!$D$468)+('User Inputs'!M311*Assumptions!$D$471))","v":0},"x",{"$f":"Constants!$F$34","v":1.5714285714285714},"=",{"$f":"C293*E293*G293*I293*K293","v":0}]
[null,"Beef cows",0,"x",{"$f":"IFERROR((INDEX(Assumptions!$B$439:$C$457,MATCH(Operation!B294,Assumptions!$B$439:$B$457,0),2)),\"\")","v":582.5},"x",{"$f":"(INDEX(Assumptions!$B$439:$F$457,MATCH(B294,Assumptions!$B$439:$B$457,0),5))","v":0.12875536480686695},"x",{"$f":"(('User Inputs'!E312*Assumptions!$D$460)+('User Inputs'!F312*Assumptions!$D$462)+('User Inputs'!G312*Assumptions!$D$463)+('User Inputs'!H312*Assumptions!$D$464)+('User Inputs'!I312*Assumptions!$D$465)+('User Inputs'!J312*Assumptions!$D$466)+('User Inputs'!K312*Assumptions!$D$467)+('User Inputs'!L312*Assumptions!$D$468)+('User Inputs'!M312*Assumptions!$D$471))","v":0},"x",{"$f":"Constants!$F$34","v":1.5714285714285714},"=",{"$f":"C294*E294*G294*I294*K294","v":0}]
[null,"Beef heifers",0,"x",{"$f":"IFERROR((INDEX(Assumptions!$B$439:$C$457,MATCH(Operation!B295,Assumptions!$B$439:$B$457,0),2)),\"\")","v":351.5},"x",{"$f":"(INDEX(Assumptions!$B$439:$F$457,MATCH(B295,Assumptions!$B$439:$B$457,0),5))","v":0.13940256045519203},"x",{"$f":"(('User Inputs'!E313*Assumptions!$D$460)+('User Inputs'!F313*Assumptions!$D$462)+('User Inputs'!G313*Assumptions!$D$463)+('User Inputs'!H313*Assumptions!$D$464)+('User Inputs'!I313*Assumptions!$D$465)+('User Inputs'!J313*Assumptions!$D$466)+('User Inputs'!K313*Assumptions!$D$467)+('User Inputs'!L313*Assumptions!$D$468)+('User Inputs'!M313*Assumptions!$D$471))","v":0},"x",{"$f":"Constants!$F$34","v":1.5714285714285714},"=",0]
[null,"Steer stockers",0,"x",{"$f":"IFERROR((INDEX(Assumptions!$B$439:$C$457,MATCH(Operation!B296,Assumptions!$B$439:$B$457,0),2)),\"\")","v":324.5},"x",{"$f":"(INDEX(Assumptions!$B$439:$F$457,MATCH(B296,Assumptions!$B$439:$B$457,0),5))","v":0.13251155624036981},"x",{"$f":"(('User Inputs'!E314*Assumptions!$D$460)+('User Inputs'!F314*Assumptions!$D$462)+('User Inputs'!G314*Assumptions!$D$463)+('User Inputs'!H314*Assumptions!$D$464)+('User Inputs'!I314*Assumptions!$D$465)+('User Inputs'!J314*Assumptions!$D$466)+('User Inputs'!K314*Assumptions!$D$467)+('User Inputs'!L314*Assumptions!$D$468)+('User Inputs'!M314*Assumptions!$D$471))","v":0},"x",{"$f":"Constants!$F$34","v":1.5714285714285714},"=",0]
[null,"Heifer stockers",0,"x",{"$f":"IFERROR((INDEX(Assumptions!$B$439:$C$457,MATCH(Operation!B297,Assumptions!$B$439:$B$457,0),2)),\"\")","v":351.5},"x",{"$f":"(INDEX(Assumptions!$B$439:$F$457,MATCH(B297,Assumptions!$B$439:$B$457,0),5))","v":0.13940256045519203},"x",{"$f":"(('User Inputs'!E315*Assumptions!$D$460)+('User Inputs'!F315*Assumptions!$D$462)+('User Inputs'!G315*Assumptions!$D$463)+('User Inputs'!H315*Assumptions!$D$464)+('User Inputs'!I315*Assumptions!$D$465)+('User Inputs'!J315*Assumptions!$D$466)+('User Inputs'!K315*Assumptions!$D$467)+('User Inputs'!L315*Assumptions!$D$468)+('User Inputs'!M315*Assumptions!$D$471))","v":0},"x",{"$f":"Constants!$F$34","v":1.5714285714285714},"=",0]
[null,"Feedlot beef",0,"x",{"$f":"IFERROR((INDEX(Assumptions!$B$439:$C$457,MATCH(Operation!B298,Assumptions!$B$439:$B$457,0),2)),\"\")","v":422.5},"x",{"$f":"(INDEX(Assumptions!$B$439:$F$457,MATCH(B298,Assumptions!$B$439:$B$457,0),5))","v":0.14201183431952663},"x",{"$f":"(('User Inputs'!E316*Assumptions!$D$460)+('User Inputs'!F316*Assumptions!$D$462)+('User Inputs'!G316*Assumptions!$D$463)+('User Inputs'!H316*Assumptions!$D$464)+('User Inputs'!I316*Assumptions!$D$465)+('User Inputs'!J316*Assumptions!$D$466)+('User Inputs'!K316*Assumptions!$D$467)+('User Inputs'!L316*Assumptions!$D$468)+('User Inputs'!M316*Assumptions!$D$471))","v":0},"x",{"$f":"Constants!$F$34","v":1.5714285714285714},"=",0]
[null,"Beef calves",0,"x",{"$f":"IFERROR((INDEX(Assumptions!$B$439:$C$457,MATCH(Operation!B299,Assumptions!$B$439:$B$457,0),2)),\"\")","v":122.5},"x",{"$f":"(INDEX(Assumptions!$B$439:$F$457,MATCH(B299,Assumptions!$B$439:$B$457,0),5))","v":0.16425000000000001},"x",{"$f":"(('User Inputs'!E317*Assumptions!$D$460)+('User Inputs'!F317*Assumptions!$D$462)+('User Inputs'!G317*Assumptions!$D$463)+('User Inputs'!H317*Assumptions!$D$464)+('User Inputs'!I317*Assumptions!$D$465)+('User Inputs'!J317*Assumptions!$D$466)+('User Inputs'!K317*Assumptions!$D$467)+('User Inputs'!L317*Assumptions!$D$468)+('User Inputs'!M317*Assumptions!$D$471))","v":0},"x",{"$f":"Constants!$F$34","v":1.5714285714285714},"=",0]
[null,null,null,null,null,null,null,null,null,null,null,"Subtotal",{"$f":"SUM(M293:M299)","v":0}]
[]
[null,"Dairy heifers",{"$f":"C272","v":0},"x",{"$f":"IFERROR((INDEX(Assumptions!$B$439:$C$457,MATCH(Operation!B302,Assumptions!$B$439:$B$457,0),2)),\"\")","v":407},"x",{"$f":"(INDEX(Assumptions!$B$439:$F$457,MATCH(B302,Assumptions!$B$439:$B$457,0),5))","v":0.16953316953316952},"x",{"$f":"(('User Inputs'!E321*Assumptions!$D$460)+('User Inputs'!F321*Assumptions!$D$461)+('User Inputs'!G321*Assumptions!$D$464)+('User Inputs'!H321*Assumptions!$D$465)+('User Inputs'!I321*Assumptions!$D$466)+('User Inputs'!J321*Assumptions!$D$467)+('User Inputs'!K321*Assumptions!$D$468)+('User Inputs'!L321*Assumptions!$D$471))","v":0},"x",{"$f":"Constants!$F$34","v":1.5714285714285714},"=",0]
[null,"Dairy cows",{"$f":"C273","v":0},"x",{"$f":"IFERROR((INDEX(Assumptions!$B$439:$C$457,MATCH(Operation!B303,Assumptions!$B$439:$B$457,0),2)),\"\")","v":680},"x",{"$f":"(INDEX(Assumptions!$B$439:$F$457,MATCH(B303,Assumptions!$B$439:$B$457,0),5))","v":0.2323529411764706},"x",{"$f":"(('User Inputs'!E322*Assumptions!$D$460)+('User Inputs'!F322*Assumptions!$D$461)+('User Inputs'!G322*Assumptions!$D$464)+('User Inputs'!H322*Assumptions!$D$465)+('User Inputs'!I322*Assumptions!$D$466)+('User Inputs'!J322*Assumptions!$D$467)+('User Inputs'!K322*Assumptions!$D$468)+('User Inputs'!L322*Assumptions!$D$471))","v":0},"x",{"$f":"Constants!$F$34","v":1.5714285714285714},"=",0]
[null,"Dairy calves",{"$f":"C274","v":0},"x",{"$f":"IFERROR((INDEX(Assumptions!$B$439:$C$457,MATCH(Operation!B304,Assumptions!$B$439:$B$457,0),2)),\"\")","v":122.5},"x",{"$f":"(INDEX(Assumptions!$B$439:$F$457,MATCH(B304,Assumptions!$B$439:$B$457,0),5))","v":0.16425000000000001},"x",{"$f":"(('User Inputs'!E323*Assumptions!$D$460)+('User Inputs'!F323*Assumptions!$D$461)+('User Inputs'!G323*Assumptions!$D$464)+('User Inputs'!H323*Assumptions!$D$465)+('User Inputs'!I323*Assumptions!$D$466)+('User Inputs'!J323*Assumptions!$D$467)+('User Inputs'!K323*Assumptions!$D$468)+('User Inputs'!L323*Assumptions!$D$471))","v":0},"x",{"$f":"Constants!$F$34","v":1.5714285714285714},"=",{"$f":"C304*E304*G304*I304*K304","v":0}]
[null,null,null,null,null,null,null,null,null,null,null,"Subtotal",{"$f":"SUM(M302:M304)","v":0}]
[]
[null,"Swine, <55 lbs",{"$f":"C277","v":0},"x",{"$f":"IFERROR((INDEX(Assumptions!$B$439:$C$457,MATCH(Operation!B307,Assumptions!$B$439:$B$457,0),2)),\"\")","v":13},"x",{"$f":"(INDEX(Assumptions!$B$439:$F$457,MATCH(B307,Assumptions!$B$439:$B$457,0),5))","v":0.33579999999999999},"x",{"$f":"(('User Inputs'!E327*Assumptions!$D$460)+('User Inputs'!F327*Assumptions!$D$461)+('User Inputs'!G327*Assumptions!$D$465)+('User Inputs'!H327*Assumptions!$D$467)+('User Inputs'!I327*Assumptions!$D$468)+('User Inputs'!J327*Assumptions!$D$471))","v":0},"x",{"$f":"Constants!$F$34","v":1.5714285714285714},"=",0]
[null,"Swine 55-330 lbs",{"$f":"C278","v":0},"x",{"$f":"IFERROR((INDEX(Assumptions!$B$439:$C$457,MATCH(Operation!B308,Assumptions!$B$439:$B$457,0),2)),\"\")","v":41},"x",{"$f":"(INDEX(Assumptions!$B$439:$F$457,MATCH(B308,Assumptions!$B$439:$B$457,0),5))","v":0.1971},"x",{"$f":"(('User Inputs'!E328*Assumptions!$D$460)+('User Inputs'!F328*Assumptions!$D$461)+('User Inputs'!G328*Assumptions!$D$465)+('User Inputs'!H328*Assumptions!$D$467)+('User Inputs'!I328*Assumptions!$D$468)+('User Inputs'!J328*Assumptions!$D$471))","v":0},"x",{"$f":"Constants!$F$34","v":1.5714285714285714},"=",0]
[null,"Swine 330+ lbs",{"$f":"C279","v":0},"x",{"$f":"IFERROR((INDEX(Assumptions!$B$439:$C$457,MATCH(Operation!B309,Assumptions!$B$439:$B$457,0),2)),\"\")","v":91},"x",{"$f":"(INDEX(Assumptions!$B$439:$F$457,MATCH(B309,Assumptions!$B$439:$B$457,0),5))","v":0.1971},"x",{"$f":"(('User Inputs'!E329*Assumptions!$D$460)+('User Inputs'!F329*Assumptions!$D$461)+('User Inputs'!G329*Assumptions!$D$465)+('User Inputs'!H329*Assumptions!$D$467)+('User Inputs'!I329*Assumptions!$D$468)+('User Inputs'!J329*Assumptions!$D$471))","v":0},"x",{"$f":"Constants!$F$34","v":1.5714285714285714},"=",0]
[null,null,null,null,null,null,null,null,null,null,null,"Subtotal",{"$f":"SUM(M307:M309)","v":0}]
[]
[null,"Poultry, layers",{"$f":"C282","v":0},"x",{"$f":"IFERROR((INDEX(Assumptions!$B$439:$C$457,MATCH(Operation!B312,Assumptions!$B$439:$B$457,0),2)),\"\")","v":1.8},"x",{"$f":"(INDEX(Assumptions!$B$439:$F$457,MATCH(B312,Assumptions!$B$439:$B$457,0),5))","v":0.28835},"x",{"$f":"(('User Inputs'!E333*Assumptions!$D$460)+('User Inputs'!F333*Assumptions!$D$461)+('User Inputs'!G333*Assumptions!$D$463)+('User Inputs'!H333*Assumptions!$D$467)+('User Inputs'!I333*Assumptions!$D$468)+('User Inputs'!J333*Assumptions!$D$469)+('User Inputs'!K333*Assumptions!$D$470)+('User Inputs'!L333*Assumptions!$D$471))","v":0},"x",{"$f":"Constants!$F$34","v":1.5714285714285714},"=",0]
[null,"Poultry, pullets",{"$f":"C283","v":0},"x",{"$f":"IFERROR((INDEX(Assumptions!$B$439:$C$457,MATCH(Operation!B313,Assumptions!$B$439:$B$457,0),2)),\"\")","v":1.8},"x",{"$f":"(INDEX(Assumptions!$B$439:$F$457,MATCH(B313,Assumptions!$B$439:$B$457,0),5))","v":0.28835},"x",{"$f":"(('User Inputs'!E334*Assumptions!$D$460)+('User Inputs'!F334*Assumptions!$D$461)+('User Inputs'!G334*Assumptions!$D$463)+('User Inputs'!H334*Assumptions!$D$467)+('User Inputs'!I334*Assumptions!$D$468)+('User Inputs'!J334*Assumptions!$D$469)+('User Inputs'!K334*Assumptions!$D$470)+('User Inputs'!L334*Assumptions!$D$471))","v":0},"x",{"$f":"Constants!$F$34","v":1.5714285714285714},"=",0]
[null,"Poultry, chickens",{"$f":"C284","v":0},"x",{"$f":"IFERROR((INDEX(Assumptions!$B$439:$C$457,MATCH(Operation!B314,Assumptions!$B$439:$B$457,0),2)),\"\")","v":1.8},"x",{"$f":"(INDEX(Assumptions!$B$439:$F$457,MATCH(B314,Assumptions!$B$439:$B$457,0),5))","v":0.40150000000000002},"x",{"$f":"(('User Inputs'!E335*Assumptions!$D$460)+('User Inputs'!F335*Assumptions!$D$461)+('User Inputs'!G335*Assumptions!$D$463)+('User Inputs'!H335*Assumptions!$D$467)+('User Inputs'!I335*Assumptions!$D$468)+('User Inputs'!J335*Assumptions!$D$469)+('User Inputs'!K335*Assumptions!$D$470)+('User Inputs'!L335*Assumptions!$D$471))","v":0},"x",{"$f":"Constants!$F$34","v":1.5714285714285714},"=",0]
[null,"Poultry, broilers",{"$f":"C285","v":0},"x",{"$f":"IFERROR((INDEX(Assumptions!$B$439:$C$457,MATCH(Operation!B315,Assumptions!$B$439:$B$457,0),2)),\"\")","v":0.9},"x",{"$f":"(INDEX(Assumptions!$B$439:$F$457,MATCH(B315,Assumptions!$B$439:$B$457,0),5))","v":0.35039999999999999},"x",{"$f":"(('User Inputs'!E336*Assumptions!$D$460)+('User Inputs'!F336*Assumptions!$D$461)+('User Inputs'!G336*Assumptions!$D$463)+('User Inputs'!H336*Assumptions!$D$467)+('User Inputs'!I336*Assumptions!$D$468)+('User Inputs'!J336*Assumptions!$D$469)+('User Inputs'!K336*Assumptions!$D$470)+('User Inputs'!L336*Assumptions!$D$471))","v":0},"x",{"$f":"Constants!$F$34","v":1.5714285714285714},"=",0]
[null,"Turkeys",{"$f":"C286","v":0},"x",{"$f":"IFERROR((INDEX(Assumptions!$B$439:$C$457,MATCH(Operation!B316,Assumptions!$B$439:$B$457,0),2)),\"\")","v":6.8},"x",{"$f":"(INDEX(Assumptions!$B$439:$F$457,MATCH(B316,Assumptions!$B$439:$B$457,0),5))","v":0.22994999999999999},"x",{"$f":"(('User Inputs'!E337*Assumptions!$D$460)+('User Inputs'!F337*Assumptions!$D$461)+('User Inputs'!G337*Assumptions!$D$463)+('User Inputs'!H337*Assumptions!$D$467)+('User Inputs'!I337*Assumptions!$D$468)+('User Inputs'!J337*Assumptions!$D$469)+('User Inputs'!K337*Assumptions!$D$470)+('User Inputs'!L337*Assumptions!$D$471))","v":0},"x",{"$f":"Constants!$F$34","v":1.5714285714285714},"=",0]
[null,null,null,null,null,null,null,null,{"$f":"IF(OR('User Inputs'!$N$311=\"System percents must equal 100%\",'User Inputs'!$N$312=\"System percents must equal 100%\",'User Inputs'!$N$313=\"System percents must equal 100%\",'User Inputs'!$N$314=\"System percents must equal 100%\",'User Inputs'!$C$306=\"System percents must equal 100%\",'User Inputs'!$N$316=\"System percents must equal 100%\",'User Inputs'!$N$317=\"System percents must equal 100%\",'User Inputs'!$C$318=\"System percents must equal 100%\",'User Inputs'!$M$322=\"System percents must equal 100%\",'User Inputs'!$M$323=\"System percents must equal 100%\",'User Inputs'!$K$327=\"System percents must equal 100%\",'User Inputs'!$C$324=\"System percents must equal 100%\",'User Inputs'!$K$329=\"System percents must equal 100%\",'User Inputs'!$M$333=\"System percents must equal 100%\",'User Inputs'!$M$334=\"System percents must equal 100%\",'User Inputs'!$M$335=\"System percents must equal 100%\",'User Inputs'!$C$330=\"System percents must equal 100%\",'User Inputs'!$M$337=\"System percents must equal 100%\"),\"Data are incomplete\",\"\")","v":""},null,null,"Subtotal",{"$f":"SUM(M312:M316)","v":0}]
[]
[null,"Annual Indirect Nitrous Oxide Emissions - Managed Manure and Pasture"]
[]
[null,"Livestock Type","Nitrogen Excreted",null,"Nitrogen lost to Volatilization",null,"Volatilization EF",null,"Conversion Factor",null,"Nitrogen Excreted",null,"Nitrogen lost to runoff/leaching",null,"Leaching and runoff EF",null,"Conversion Factor",null,"Indirect N2O Emissions  - Managed Manure and Pasture"]
[null,null,"kg N/year",null,"%",null,"kg N2O-N/kg N",null,"N2O-N to N2O",null,"kg N/year",null,"Percent",null,"kg N2O-N/kg N",null,"N2O-N to N2O",null,"kg N2O"]
["(","Bulls",{"$f":"C293*E293*G293","v":0},"x",{"$f":"(('User Inputs'!E311*Assumptions!$C$482)+('User Inputs'!F311*Assumptions!$C$484)+('User Inputs'!G311*Assumptions!$C$485)+('User Inputs'!H311*Assumptions!$C$486)+('User Inputs'!I311*Assumptions!$C$487)+('User Inputs'!J311*Assumptions!$C$488)+('User Inputs'!K311*Assumptions!$C$489)+('User Inputs'!L311*Assumptions!$C$490)+('User Inputs'!M311*Assumptions!$C$493))","v":0},"x",{"$f":"Assumptions!$C$477","v":0.01},"x",{"$f":"Constants!$F$34","v":1.5714285714285714},") + (",{"$f":"C293*E293*G293","v":0},"x",{"$f":"(('User Inputs'!E311*Assumptions!$C$498)+('User Inputs'!F311*Assumptions!$C$500)+('User Inputs'!G311*Assumptions!$C$501)+('User Inputs'!H311*Assumptions!$C$502)+('User Inputs'!I311*Assumptions!$C$503)+('User Inputs'!J311*Assumptions!$C$504)+('User Inputs'!K311*Assumptions!$C$505)+('User Inputs'!L311*Assumptions!$C$506)+('User Inputs'!M311*Assumptions!$C$509))","v":0},"x",{"$f":"Assumptions!$C$478","v":1.0999999999999999E-2},"x",{"$f":"Constants!$F$34","v":1.5714285714285714},") =",{"$f":"IFERROR(((C323*E323*G323*I323)+(K323*M323*O323*Q323)),0)","v":0}]
["(","Beef cows",{"$f":"C294*E294*G294","v":0},"x",{"$f":"(('User Inputs'!E312*Assumptions!$C$482)+('User Inputs'!F312*Assumptions!$C$484)+('User Inputs'!G312*Assumptions!$C$485)+('User Inputs'!H312*Assumptions!$C$486)+('User Inputs'!I312*Assumptions!$C$487)+('User Inputs'!J312*Assumptions!$C$488)+('User Inputs'!K312*Assumptions!$C$489)+('User Inputs'!L312*Assumptions!$C$490)+('User Inputs'!M312*Assumptions!$C$493))","v":0},"x",{"$f":"Assumptions!$C$477","v":0.01},"x",{"$f":"Constants!$F$34","v":1.5714285714285714},") + (",{"$f":"C294*E294*G294","v":0},"x",{"$f":"(('User Inputs'!E312*Assumptions!$C$498)+('User Inputs'!F312*Assumptions!$C$500)+('User Inputs'!G312*Assumptions!$C$501)+('User Inputs'!H312*Assumptions!$C$502)+('User Inputs'!I312*Assumptions!$C$503)+('User Inputs'!J312*Assumptions!$C$504)+('User Inputs'!K312*Assumptions!$C$505)+('User Inputs'!L312*Assumptions!$C$506)+('User Inputs'!M312*Assumptions!$C$509))","v":0},"x",{"$f":"Assumptions!$C$478","v":1.0999999999999999E-2},"x",{"$f":"Constants!$F$34","v":1.5714285714285714},") =",{"$f":"IFERROR(((C324*E324*G324*I324)+(K324*M324*O324*Q324)),0)","v":0}]
["(","Beef heifers",0,"x",{"$f":"(('User Inputs'!E313*Assumptions!$C$482)+('User Inputs'!F313*Assumptions!$C$484)+('User Inputs'!G313*Assumptions!$C$485)+('User Inputs'!H313*Assumptions!$C$486)+('User Inputs'!I313*Assumptions!$C$487)+('User Inputs'!J313*Assumptions!$C$488)+('User Inputs'!K313*Assumptions!$C$489)+('User Inputs'!L313*Assumptions!$C$490)+('User Inputs'!M313*Assumptions!$C$493))","v":0},"x",{"$f":"Assumptions!$C$477","v":0.01},"x",{"$f":"Constants!$F$34","v":1.5714285714285714},") + (",0,"x",{"$f":"(('User Inputs'!E313*Assumptions!$C$498)+('User Inputs'!F313*Assumptions!$C$500)+('User Inputs'!G313*Assumptions!$C$501)+('User Inputs'!H313*Assumptions!$C$502)+('User Inputs'!I313*Assumptions!$C$503)+('User Inputs'!J313*Assumptions!$C$504)+('User Inputs'!K313*Assumptions!$C$505)+('User Inputs'!L313*Assumptions!$C$506)+('User Inputs'!M313*Assumptions!$C$509))","v":0},"x",{"$f":"Assumptions!$C$478","v":1.0999999999999999E-2},"x",{"$f":"Constants!$F$34","v":1.5714285714285714},") =",0]
["(","Steer stockers",0,"x",{"$f":"(('User Inputs'!E314*Assumptions!$C$482)+('User Inputs'!F314*Assumptions!$C$484)+('User Inputs'!G314*Assumptions!$C$485)+('User Inputs'!H314*Assumptions!$C$486)+('User Inputs'!I314*Assumptions!$C$487)+('User Inputs'!J314*Assumptions!$C$488)+('User Inputs'!K314*Assumptions!$C$489)+('User Inputs'!L314*Assumptions!$C$490)+('User Inputs'!M314*Assumptions!$C$493))","v":0},"x",{"$f":"Assumptions!$C$477","v":0.01},"x",{"$f":"Constants!$F$34","v":1.5714285714285714},") + (",0,"x",{"$f":"(('User Inputs'!E314*Assumptions!$C$498)+('User Inputs'!F314*Assumptions!$C$500)+('User Inputs'!G314*Assumptions!$C$501)+('User Inputs'!H314*Assumptions!$C$502)+('User Inputs'!I314*Assumptions!$C$503)+('User Inputs'!J314*Assumptions!$C$504)+('User Inputs'!K314*Assumptions!$C$505)+('User Inputs'!L314*Assumptions!$C$506)+('User Inputs'!M314*Assumptions!$C$509))","v":0},"x",{"$f":"Assumptions!$C$478","v":1.0999999999999999E-2},"x",{"$f":"Constants!$F$34","v":1.5714285714285714},") =",0]
["(","Heifer stockers",0,"x",{"$f":"(('User Inputs'!E315*Assumptions!$C$482)+('User Inputs'!F315*Assumptions!$C$484)+('User Inputs'!G315*Assumptions!$C$485)+('User Inputs'!H315*Assumptions!$C$486)+('User Inputs'!I315*Assumptions!$C$487)+('User Inputs'!J315*Assumptions!$C$488)+('User Inputs'!K315*Assumptions!$C$489)+('User Inputs'!L315*Assumptions!$C$490)+('User Inputs'!M315*Assumptions!$C$493))","v":0},"x",{"$f":"Assumptions!$C$477","v":0.01},"x",{"$f":"Constants!$F$34","v":1.5714285714285714},") + (",0,"x",{"$f":"(('User Inputs'!E315*Assumptions!$C$498)+('User Inputs'!F315*Assumptions!$C$500)+('User Inputs'!G315*Assumptions!$C$501)+('User Inputs'!H315*Assumptions!$C$502)+('User Inputs'!I315*Assumptions!$C$503)+('User Inputs'!J315*Assumptions!$C$504)+('User Inputs'!K315*Assumptions!$C$505)+('User Inputs'!L315*Assumptions!$C$506)+('User Inputs'!M315*Assumptions!$C$509))","v":0},"x",{"$f":"Assumptions!$C$478","v":1.0999999999999999E-2},"x",{"$f":"Constants!$F$34","v":1.5714285714285714},") =",0]
["(","Feedlot beef",0,"x",{"$f":"(('User Inputs'!E316*Assumptions!$C$482)+('User Inputs'!F316*Assumptions!$C$484)+('User Inputs'!G316*Assumptions!$C$485)+('User Inputs'!H316*Assumptions!$C$486)+('User Inputs'!I316*Assumptions!$C$487)+('User Inputs'!J316*Assumptions!$C$488)+('User Inputs'!K316*Assumptions!$C$489)+('User Inputs'!L316*Assumptions!$C$490)+('User Inputs'!M316*Assumptions!$C$493))","v":0},"x",{"$f":"Assumptions!$C$477","v":0.01},"x",{"$f":"Constants!$F$34","v":1.5714285714285714},") + (",0,"x",{"$f":"(('User Inputs'!E316*Assumptions!$C$498)+('User Inputs'!F316*Assumptions!$C$500)+('User Inputs'!G316*Assumptions!$C$501)+('User Inputs'!H316*Assumptions!$C$502)+('User Inputs'!I316*Assumptions!$C$503)+('User Inputs'!J316*Assumptions!$C$504)+('User Inputs'!K316*Assumptions!$C$505)+('User Inputs'!L316*Assumptions!$C$506)+('User Inputs'!M316*Assumptions!$C$509))","v":0},"x",{"$f":"Assumptions!$C$478","v":1.0999999999999999E-2},"x",{"$f":"Constants!$F$34","v":1.5714285714285714},") =",0]
["(","Beef calves",0,"x",{"$f":"(('User Inputs'!E317*Assumptions!$C$482)+('User Inputs'!F317*Assumptions!$C$484)+('User Inputs'!G317*Assumptions!$C$485)+('User Inputs'!H317*Assumptions!$C$486)+('User Inputs'!I317*Assumptions!$C$487)+('User Inputs'!J317*Assumptions!$C$488)+('User Inputs'!K317*Assumptions!$C$489)+('User Inputs'!L317*Assumptions!$C$490)+('User Inputs'!M317*Assumptions!$C$493))","v":0},"x",{"$f":"Assumptions!$C$477","v":0.01},"x",{"$f":"Constants!$F$34","v":1.5714285714285714},") + (",0,"x",{"$f":"(('User Inputs'!E317*Assumptions!$C$498)+('User Inputs'!F317*Assumptions!$C$500)+('User Inputs'!G317*Assumptions!$C$501)+('User Inputs'!H317*Assumptions!$C$502)+('User Inputs'!I317*Assumptions!$C$503)+('User Inputs'!J317*Assumptions!$C$504)+('User Inputs'!K317*Assumptions!$C$505)+('User Inputs'!L317*Assumptions!$C$506)+('User Inputs'!M317*Assumptions!$C$509))","v":0},"x",{"$f":"Assumptions!$C$478","v":1.0999999999999999E-2},"x",{"$f":"Constants!$F$34","v":1.5714285714285714},") =",0]
[null,null,null,null,null,null,null,null,null,null,null,null,null,null,null,null,null,"Subtotal",{"$f":"SUM(S323:S329)","v":0}]
[]
["(","Dairy heifers",{"$f":"C302*E302*G302","v":0},"x",{"$f":"(('User Inputs'!E321*Assumptions!$D$482)+('User Inputs'!F321*Assumptions!$D$483)+('User Inputs'!G321*Assumptions!$D$486)+('User Inputs'!H321*Assumptions!$D$487)+('User Inputs'!I321*Assumptions!$D$488)+('User Inputs'!J321*Assumptions!$D$489)+('User Inputs'!K321*Assumptions!$D$490)+('User Inputs'!L321*Assumptions!$D$493))","v":0},"x",{"$f":"Assumptions!$C$477","v":0.01},"x",{"$f":"Constants!$F$34","v":1.5714285714285714},") + (",{"$f":"C302*E302*G302","v":0},"x",{"$f":"(('User Inputs'!E321*Assumptions!$D$498)+('User Inputs'!F321*Assumptions!$D$499)+('User Inputs'!G321*Assumptions!$D$502)+('User Inputs'!H321*Assumptions!$D$503)+('User Inputs'!I321*Assumptions!$D$504)+('User Inputs'!J321*Assumptions!$D$505)+('User Inputs'!K321*Assumptions!$D$506)+('User Inputs'!L321*Assumptions!$D$509))","v":0},"x",{"$f":"Assumptions!$C$478","v":1.0999999999999999E-2},"x",{"$f":"Constants!$F$34","v":1.5714285714285714},") =",{"$f":"IFERROR(((C332*E332*G332*I332)+(K332*M332*O332*Q332)),0)","v":0}]
["(","Dairy cows",0,"x",{"$f":"(('User Inputs'!E322*Assumptions!$D$482)+('User Inputs'!F322*Assumptions!$D$483)+('User Inputs'!G322*Assumptions!$D$486)+('User Inputs'!H322*Assumptions!$D$487)+('User Inputs'!I322*Assumptions!$D$488)+('User Inputs'!J322*Assumptions!$D$489)+('User Inputs'!K322*Assumptions!$D$490)+('User Inputs'!L322*Assumptions!$D$493))","v":0},"x",{"$f":"Assumptions!$C$477","v":0.01},"x",{"$f":"Constants!$F$34","v":1.5714285714285714},") + (",0,"x",{"$f":"(('User Inputs'!E322*Assumptions!$D$498)+('User Inputs'!F322*Assumptions!$D$499)+('User Inputs'!G322*Assumptions!$D$502)+('User Inputs'!H322*Assumptions!$D$503)+('User Inputs'!I322*Assumptions!$D$504)+('User Inputs'!J322*Assumptions!$D$505)+('User Inputs'!K322*Assumptions!$D$506)+('User Inputs'!L322*Assumptions!$D$509))","v":0},"x",{"$f":"Assumptions!$C$478","v":1.0999999999999999E-2},"x",{"$f":"Constants!$F$34","v":1.5714285714285714},") =",0]
["(","Dairy calves",0,"x",{"$f":"(('User Inputs'!E323*Assumptions!$D$482)+('User Inputs'!F323*Assumptions!$D$483)+('User Inputs'!G323*Assumptions!$D$486)+('User Inputs'!H323*Assumptions!$D$487)+('User Inputs'!I323*Assumptions!$D$488)+('User Inputs'!J323*Assumptions!$D$489)+('User Inputs'!K323*Assumptions!$D$490)+('User Inputs'!L323*Assumptions!$D$493))","v":0},"x",{"$f":"Assumptions!$C$477","v":0.01},"x",{"$f":"Constants!$F$34","v":1.5714285714285714},") + (",0,"x",{"$f":"(('User Inputs'!E323*Assumptions!$D$498)+('User Inputs'!F323*Assumptions!$D$499)+('User Inputs'!G323*Assumptions!$D$502)+('User Inputs'!H323*Assumptions!$D$503)+('User Inputs'!I323*Assumptions!$D$504)+('User Inputs'!J323*Assumptions!$D$505)+('User Inputs'!K323*Assumptions!$D$506)+('User Inputs'!L323*Assumptions!$D$509))","v":0},"x",{"$f":"Assumptions!$C$478","v":1.0999999999999999E-2},"x",{"$f":"Constants!$F$34","v":1.5714285714285714},") =",0]
[null,null,null,null,null,null,null,null,null,null,null,null,null,null,null,null,null,"Subtotal",{"$f":"SUM(S332:S334)","v":0}]
[]
["(","Swine, <55 lbs",{"$f":"C307*E307*G307","v":0},"x",{"$f":"(('User Inputs'!E327*Assumptions!$E$482)+('User Inputs'!F327*Assumptions!$E$483)+('User Inputs'!G327*Assumptions!$E$487)+('User Inputs'!H327*Assumptions!$E$489)+('User Inputs'!I327*Assumptions!$E$490)+('User Inputs'!J327*Assumptions!$E$493))","v":0},"x",{"$f":"Assumptions!$C$477","v":0.01},"x",{"$f":"Constants!$F$34","v":1.5714285714285714},") + (",{"$f":"C307*E307*G307","v":0},"x",{"$f":"(('User Inputs'!E327*Assumptions!$E$498)+('User Inputs'!F327*Assumptions!$E$499)+('User Inputs'!G327*Assumptions!$E$503)+('User Inputs'!H327*Assumptions!$E$505)+('User Inputs'!I327*Assumptions!$E$506)+('User Inputs'!J327*Assumptions!$E$509))","v":0},"x",{"$f":"Assumptions!$C$478","v":1.0999999999999999E-2},"x",{"$f":"Constants!$F$34","v":1.5714285714285714},") =",{"$f":"IFERROR(((C337*E337*G337*I337)+(K337*M337*O337*Q337)),0)","v":0}]
["(","Swine 55-330 lbs",0,"x",{"$f":"(('User Inputs'!E328*Assumptions!$E$482)+('User Inputs'!F328*Assumptions!$E$483)+('User Inputs'!G328*Assumptions!$E$487)+('User Inputs'!H328*Assumptions!$E$489)+('User Inputs'!I328*Assumptions!$E$490)+('User Inputs'!J328*Assumptions!$E$493))","v":0},"x",{"$f":"Assumptions!$C$477","v":0.01},"x",{"$f":"Constants!$F$34","v":1.5714285714285714},") + (",0,"x",{"$f":"(('User Inputs'!E328*Assumptions!$E$498)+('User Inputs'!F328*Assumptions!$E$499)+('User Inputs'!G328*Assumptions!$E$503)+('User Inputs'!H328*Assumptions!$E$505)+('User Inputs'!I328*Assumptions!$E$506)+('User Inputs'!J328*Assumptions!$E$509))","v":0},"x",{"$f":"Assumptions!$C$478","v":1.0999999999999999E-2},"x",{"$f":"Constants!$F$34","v":1.5714285714285714},") =",0]
["(","Swine 330+ lbs",0,"x",{"$f":"(('User Inputs'!E329*Assumptions!$E$482)+('User Inputs'!F329*Assumptions!$E$483)+('User Inputs'!G329*Assumptions!$E$487)+('User Inputs'!H329*Assumptions!$E$489)+('User Inputs'!I329*Assumptions!$E$490)+('User Inputs'!J329*Assumptions!$E$493))","v":0},"x",{"$f":"Assumptions!$C$477","v":0.01},"x",{"$f":"Constants!$F$34","v":1.5714285714285714},") + (",0,"x",{"$f":"(('User Inputs'!E329*Assumptions!$E$498)+('User Inputs'!F329*Assumptions!$E$499)+('User Inputs'!G329*Assumptions!$E$503)+('User Inputs'!H329*Assumptions!$E$505)+('User Inputs'!I329*Assumptions!$E$506)+('User Inputs'!J329*Assumptions!$E$509))","v":0},"x",{"$f":"Assumptions!$C$478","v":1.0999999999999999E-2},"x",{"$f":"Constants!$F$34","v":1.5714285714285714},") =",0]
[null,null,null,null,null,null,null,null,null,null,null,null,null,null,null,null,null,"Subtotal",{"$f":"SUM(S337:S339)","v":0}]
[]
["(","Poultry, layers",{"$f":"C312*E312*G312","v":0},"x",{"$f":"(('User Inputs'!E333*Assumptions!$F$482)+('User Inputs'!F333*Assumptions!$F$483)+('User Inputs'!G333*Assumptions!$F$485)+('User Inputs'!H333*Assumptions!$F$489)+('User Inputs'!I333*Assumptions!$F$490)+('User Inputs'!J333*Assumptions!$F$491)+('User Inputs'!K333*Assumptions!$F$492)+('User Inputs'!L333*Assumptions!$F$493))","v":0},"x",{"$f":"Assumptions!$C$477","v":0.01},"x",{"$f":"Constants!$F$34","v":1.5714285714285714},") + (",{"$f":"C312*E312*G312","v":0},"x",{"$f":"(('User Inputs'!E333*Assumptions!$F$498)+('User Inputs'!F333*Assumptions!$F$499)+('User Inputs'!G333*Assumptions!$F$501)+('User Inputs'!H333*Assumptions!$F$505)+('User Inputs'!I333*Assumptions!$F$506)+('User Inputs'!J333*Assumptions!$F$507)+('User Inputs'!K333*Assumptions!$F$508)+('User Inputs'!L333*Assumptions!$F$509))","v":0},"x",{"$f":"Assumptions!$C$478","v":1.0999999999999999E-2},"x",{"$f":"Constants!$F$34","v":1.5714285714285714},") =",{"$f":"IFERROR(((C342*E342*G342*I342)+(K342*M342*O342*Q342)),0)","v":0}]
["(","Poultry, pullets",0,"x",{"$f":"(('User Inputs'!E334*Assumptions!$F$482)+('User Inputs'!F334*Assumptions!$F$483)+('User Inputs'!G334*Assumptions!$F$485)+('User Inputs'!H334*Assumptions!$F$489)+('User Inputs'!I334*Assumptions!$F$490)+('User Inputs'!J334*Assumptions!$F$491)+('User Inputs'!K334*Assumptions!$F$492)+('User Inputs'!L334*Assumptions!$F$493))","v":0},"x",{"$f":"Assumptions!$C$477","v":0.01},"x",{"$f":"Constants!$F$34","v":1.5714285714285714},") + (",0,"x",{"$f":"(('User Inputs'!E334*Assumptions!$F$498)+('User Inputs'!F334*Assumptions!$F$499)+('User Inputs'!G334*Assumptions!$F$501)+('User Inputs'!H334*Assumptions!$F$505)+('User Inputs'!I334*Assumptions!$F$506)+('User Inputs'!J334*Assumptions!$F$507)+('User Inputs'!K334*Assumptions!$F$508)+('User Inputs'!L334*Assumptions!$F$509))","v":0},"x",{"$f":"Assumptions!$C$478","v":1.0999999999999999E-2},"x",{"$f":"Constants!$F$34","v":1.5714285714285714},") =",0]
["(","Poultry, chickens",0,"x",{"$f":"(('User Inputs'!E335*Assumptions!$F$482)+('User Inputs'!F335*Assumptions!$F$483)+('User Inputs'!G335*Assumptions!$F$485)+('User Inputs'!H335*Assumptions!$F$489)+('User Inputs'!I335*Assumptions!$F$490)+('User Inputs'!J335*Assumptions!$F$491)+('User Inputs'!K335*Assumptions!$F$492)+('User Inputs'!L335*Assumptions!$F$493))","v":0},"x",{"$f":"Assumptions!$C$477","v":0.01},"x",{"$f":"Constants!$F$34","v":1.5714285714285714},") + (",0,"x",{"$f":"(('User Inputs'!E335*Assumptions!$F$498)+('User Inputs'!F335*Assumptions!$F$499)+('User Inputs'!G335*Assumptions!$F$501)+('User Inputs'!H335*Assumptions!$F$505)+('User Inputs'!I335*Assumptions!$F$506)+('User Inputs'!J335*Assumptions!$F$507)+('User Inputs'!K335*Assumptions!$F$508)+('User Inputs'!L335*Assumptions!$F$509))","v":0},"x",{"$f":"Assumptions!$C$478","v":1.0999999999999999E-2},"x",{"$f":"Constants!$F$34","v":1.5714285714285714},") =",0]
["(","Poultry, broilers",0,"x",{"$f":"(('User Inputs'!E336*Assumptions!$F$482)+('User Inputs'!F336*Assumptions!$F$483)+('User Inputs'!G336*Assumptions!$F$485)+('User Inputs'!H336*Assumptions!$F$489)+('User Inputs'!I336*Assumptions!$F$490)+('User Inputs'!J336*Assumptions!$F$491)+('User Inputs'!K336*Assumptions!$F$492)+('User Inputs'!L336*Assumptions!$F$493))","v":0},"x",{"$f":"Assumptions!$C$477","v":0.01},"x",{"$f":"Constants!$F$34","v":1.5714285714285714},") + (",0,"x",{"$f":"(('User Inputs'!E336*Assumptions!$F$498)+('User Inputs'!F336*Assumptions!$F$499)+('User Inputs'!G336*Assumptions!$F$501)+('User Inputs'!H336*Assumptions!$F$505)+('User Inputs'!I336*Assumptions!$F$506)+('User Inputs'!J336*Assumptions!$F$507)+('User Inputs'!K336*Assumptions!$F$508)+('User Inputs'!L336*Assumptions!$F$509))","v":0},"x",{"$f":"Assumptions!$C$478","v":1.0999999999999999E-2},"x",{"$f":"Constants!$F$34","v":1.5714285714285714},") =",0]
["(","Turkeys",0,"x",{"$f":"(('User Inputs'!E337*Assumptions!$F$482)+('User Inputs'!F337*Assumptions!$F$483)+('User Inputs'!G337*Assumptions!$F$485)+('User Inputs'!H337*Assumptions!$F$489)+('User Inputs'!I337*Assumptions!$F$490)+('User Inputs'!J337*Assumptions!$F$491)+('User Inputs'!K337*Assumptions!$F$492)+('User Inputs'!L337*Assumptions!$F$493))","v":0},"x",{"$f":"Assumptions!$C$477","v":0.01},"x",{"$f":"Constants!$F$34","v":1.5714285714285714},") + (",0,"x",{"$f":"(('User Inputs'!E337*Assumptions!$F$498)+('User Inputs'!F337*Assumptions!$F$499)+('User Inputs'!G337*Assumptions!$F$501)+('User Inputs'!H337*Assumptions!$F$505)+('User Inputs'!I337*Assumptions!$F$506)+('User Inputs'!J337*Assumptions!$F$507)+('User Inputs'!K337*Assumptions!$F$508)+('User Inputs'!L337*Assumptions!$F$509))","v":0},"x",{"$f":"Assumptions!$C$478","v":1.0999999999999999E-2},"x",{"$f":"Constants!$F$34","v":1.5714285714285714},") =",0]
[null,null,null,null,null,null,null,null,{"$f":"IF(OR('User Inputs'!$N$311=\"System percents must equal 100%\",'User Inputs'!$N$312=\"System percents must equal 100%\",'User Inputs'!$N$313=\"System percents must equal 100%\",'User Inputs'!$N$314=\"System percents must equal 100%\",'User Inputs'!$C$306=\"System percents must equal 100%\",'User Inputs'!$N$316=\"System percents must equal 100%\",'User Inputs'!$N$317=\"System percents must equal 100%\",'User Inputs'!$C$318=\"System percents must equal 100%\",'User Inputs'!$M$322=\"System percents must equal 100%\",'User Inputs'!$M$323=\"System percents must equal 100%\",'User Inputs'!$K$327=\"System percents must equal 100%\",'User Inputs'!$C$324=\"System percents must equal 100%\",'User Inputs'!$K$329=\"System percents must equal 100%\",'User Inputs'!$M$333=\"System percents must equal 100%\",'User Inputs'!$M$334=\"System percents must equal 100%\",'User Inputs'!$M$335=\"System percents must equal 100%\",'User Inputs'!$C$330=\"System percents must equal 100%\",'User Inputs'!$M$337=\"System percents must equal 100%\"),\"Data are incomplete\",\"\")","v":""},null,null,null,null,null,null,null,{"$f":"IF(OR('User Inputs'!$N$311=\"System percents must equal 100%\",'User Inputs'!$N$312=\"System percents must equal 100%\",'User Inputs'!$N$313=\"System percents must equal 100%\",'User Inputs'!$N$314=\"System percents must equal 100%\",'User Inputs'!$C$306=\"System percents must equal 100%\",'User Inputs'!$N$316=\"System percents must equal 100%\",'User Inputs'!$N$317=\"System percents must equal 100%\",'User Inputs'!$C$318=\"System percents must equal 100%\",'User Inputs'!$M$322=\"System percents must equal 100%\",'User Inputs'!$M$323=\"System percents must equal 100%\",'User Inputs'!$K$327=\"System percents must equal 100%\",'User Inputs'!$C$324=\"System percents must equal 100%\",'User Inputs'!$K$329=\"System percents must equal 100%\",'User Inputs'!$M$333=\"System percents must equal 100%\",'User Inputs'!$M$334=\"System percents must equal 100%\",'User Inputs'!$M$335=\"System percents must equal 100%\",'User Inputs'!$C$330=\"System percents must equal 100%\",'User Inputs'!$M$337=\"System percents must equal 100%\"),\"Data are incomplete\",\"\")","v":""},"Subtotal",{"$f":"SUM(S342:S346)","v":0}]
[null,"Annual Direct Nitrous Oxide Emissions - Land Application"]
[]
[null,"Livestock Type","Nitrogen Excreted",null,"Proportion N Remaining in Manure",null,"Manure Applied to Land as Fertilizer",null,"Emission Factor ",null,"Conversion Factor",null,"Direct N2O Emissions - Land Application"]
[null,null,"kg N/year",null,"%",null,"%",null,"kg N2O-N/kg N",null,"N2O-N to N2O",null,"kg N2O"]
[null,"Bulls",{"$f":"C293*E293*G293","v":0},"x",{"$f":"1-(I293+E323+M323)","v":1},"x",{"$f":"'User Inputs'!$H$307","v":0},"x",{"$f":"Assumptions!$C$474","v":0.01},"x",{"$f":"Constants!$F$34","v":1.5714285714285714},"=",{"$f":"C352*E352*G352*I352*K352","v":0}]
[null,"Beef cows",{"$f":"C294*E294*G294","v":0},"x",{"$f":"1-(I294+E324+M324)","v":1},"x",{"$f":"'User Inputs'!$H$307","v":0},"x",{"$f":"Assumptions!$C$474","v":0.01},"x",{"$f":"Constants!$F$34","v":1.5714285714285714},"=",{"$f":"C353*E353*G353*I353*K353","v":0}]
[null,"Beef heifers",0,"x",1,"x",{"$f":"'User Inputs'!$H$307","v":0},"x",{"$f":"Assumptions!$C$474","v":0.01},"x",{"$f":"Constants!$F$34","v":1.5714285714285714},"=",0]
[null,"Steer stockers",0,"x",1,"x",{"$f":"'User Inputs'!$H$307","v":0},"x",{"$f":"Assumptions!$C$474","v":0.01},"x",{"$f":"Constants!$F$34","v":1.5714285714285714},"=",0]
[null,"Heifer stockers",0,"x",1,"x",{"$f":"'User Inputs'!$H$307","v":0},"x",{"$f":"Assumptions!$C$474","v":0.01},"x",{"$f":"Constants!$F$34","v":1.5714285714285714},"=",0]
[null,"Feedlot beef",0,"x",1,"x",{"$f":"'User Inputs'!$H$307","v":0},"x",{"$f":"Assumptions!$C$474","v":0.01},"x",{"$f":"Constants!$F$34","v":1.5714285714285714},"=",0]
[null,"Beef calves",0,"x",1,"x",{"$f":"'User Inputs'!$H$307","v":0},"x",{"$f":"Assumptions!$C$474","v":0.01},"x",{"$f":"Constants!$F$34","v":1.5714285714285714},"=",0]
[null,null,null,null,null,null,null,null,null,null,null,"Subtotal",{"$f":"SUM(M352:M358)","v":0}]
[]
[null,"Dairy heifers",{"$f":"C302*E302*G302","v":0},"x",{"$f":"1-(I302+E332+M332)","v":1},"x",{"$f":"'User Inputs'!$H$307","v":0},"x",{"$f":"Assumptions!$C$474","v":0.01},"x",{"$f":"Constants!$F$34","v":1.5714285714285714},"=",{"$f":"C361*E361*G361*I361*K361","v":0}]
[null,"Dairy cows",0,"x",1,"x",{"$f":"'User Inputs'!$H$307","v":0},"x",{"$f":"Assumptions!$C$474","v":0.01},"x",{"$f":"Constants!$F$34","v":1.5714285714285714},"=",0]
[null,"Dairy calves",0,"x",1,"x",{"$f":"'User Inputs'!$H$307","v":0},"x",{"$f":"Assumptions!$C$474","v":0.01},"x",{"$f":"Constants!$F$34","v":1.5714285714285714},"=",0]
[null,null,null,null,null,null,null,null,null,null,null,"Subtotal",{"$f":"SUM(M361:M363)","v":0}]
[]
[null,"Swine, <55 lbs",{"$f":"C307*E307*G307","v":0},"x",{"$f":"1-(I307+E337+M337)","v":1},"x",{"$f":"'User Inputs'!$H$307","v":0},"x",{"$f":"Assumptions!$C$474","v":0.01},"x",{"$f":"Constants!$F$34","v":1.5714285714285714},"=",{"$f":"C366*E366*G366*I366*K366","v":0}]
[null,"Swine 55-330 lbs",0,"x",1,"x",{"$f":"'User Inputs'!$H$307","v":0},"x",{"$f":"Assumptions!$C$474","v":0.01},"x",{"$f":"Constants!$F$34","v":1.5714285714285714},"=",0]
[null,"Swine 330+ lbs",0,"x",1,"x",{"$f":"'User Inputs'!$H$307","v":0},"x",{"$f":"Assumptions!$C$474","v":0.01},"x",{"$f":"Constants!$F$34","v":1.5714285714285714},"=",0]
[null,null,null,null,null,null,null,null,null,null,null,"Subtotal",{"$f":"SUM(M366:M368)","v":0}]
[]
[null,"Poultry, layers",{"$f":"C312*E312*G312","v":0},"x",{"$f":"1-(I312+E342+M342)","v":1},"x",{"$f":"'User Inputs'!$H$307","v":0},"x",{"$f":"Assumptions!$C$474","v":0.01},"x",{"$f":"Constants!$F$34","v":1.5714285714285714},"=",{"$f":"C371*E371*G371*I371*K371","v":0}]
[null,"Poultry, pullets",0,"x",1,"x",{"$f":"'User Inputs'!$H$307","v":0},"x",{"$f":"Assumptions!$C$474","v":0.01},"x",{"$f":"Constants!$F$34","v":1.5714285714285714},"=",0]
[null,"Poultry, chickens",0,"x",1,"x",{"$f":"'User Inputs'!$H$307","v":0},"x",{"$f":"Assumptions!$C$474","v":0.01},"x",{"$f":"Constants!$F$34","v":1.5714285714285714},"=",0]
[null,"Poultry, broilers",0,"x",1,"x",{"$f":"'User Inputs'!$H$307","v":0},"x",{"$f":"Assumptions!$C$474","v":0.01},"x",{"$f":"Constants!$F$34","v":1.5714285714285714},"=",0]
[null,"Turkeys",0,"x",1,"x",{"$f":"'User Inputs'!$H$307","v":0},"x",{"$f":"Assumptions!$C$474","v":0.01},"x",{"$f":"Constants!$F$34","v":1.5714285714285714},"=",0]
[null,null,null,null,null,null,null,null,{"$f":"IF(OR('User Inputs'!$N$311=\"System percents must equal 100%\",'User Inputs'!$N$312=\"System percents must equal 100%\",'User Inputs'!$N$313=\"System percents must equal 100%\",'User Inputs'!$N$314=\"System percents must equal 100%\",'User Inputs'!$C$306=\"System percents must equal 100%\",'User Inputs'!$N$316=\"System percents must equal 100%\",'User Inputs'!$N$317=\"System percents must equal 100%\",'User Inputs'!$C$318=\"System percents must equal 100%\",'User Inputs'!$M$322=\"System percents must equal 100%\",'User Inputs'!$M$323=\"System percents must equal 100%\",'User Inputs'!$K$327=\"System percents must equal 100%\",'User Inputs'!$C$324=\"System percents must equal 100%\",'User Inputs'!$K$329=\"System percents must equal 100%\",'User Inputs'!$M$333=\"System percents must equal 100%\",'User Inputs'!$M$334=\"System percents must equal 100%\",'User Inputs'!$M$335=\"System percents must equal 100%\",'User Inputs'!$C$330=\"System percents must equal 100%\",'User Inputs'!$M$337=\"System percents must equal 100%\"),\"Data are incomplete\",\"\")","v":""},null,null,"Subtotal",{"$f":"SUM(M371:M375)","v":0}]
[null,"Annual Indirect Nitrous Oxide Emissions - Land Application"]
[]
[null,"Livestock Type","Nitrogen Excreted",null,"Proportion N Remaining in Manure",null,"Manure Applied to Land as Fertilizer",null,"Nitrogen lost to Volatilization",null,"Volatilization EF",null,"Nitrogen Excreted",null,"Proportion N Remaining in Manure",null,"Manure Applied to Land as Fertilizer",null,"Nitrogen lost to runoff/leaching",null,"Leaching and runoff EF",null,"Conversion Factor",null,"Indirect N2O Emissions - Land Application"]
[null,null,"kg N/year",null,"%",null,"%",null,"Percent",null,"kg N2O-N/kg N",null,"kg N/year",null,"%",null,"%",null,"Percent",null,"kg N2O-N/kg N",null,"N2O-N to N2O",null,"kg N2O"]
["(","Bulls",{"$f":"C293*E293*G293","v":0},"x",{"$f":"E352","v":1},"x",{"$f":"'User Inputs'!$H$307","v":0},"x",{"$f":"Assumptions!$D$477","v":0.21},"x",{"$f":"Assumptions!$C$477","v":0.01},") + (",{"$f":"C293*E293*G293","v":0},"x",{"$f":"E352","v":1},"x",{"$f":"'User Inputs'!$H$307","v":0},"x",{"$f":"Assumptions!$D$478","v":0.24},"x",{"$f":"Assumptions!$C$478","v":1.0999999999999999E-2},") x",{"$f":"Constants!$F$34","v":1.5714285714285714},"=",{"$f":"IFERROR(((C381*E381*G381*I381*K381)+(M381*O381*Q381*S381*U381))*W381,0)","v":0}]
["(","Beef cows",{"$f":"C294*E294*G294","v":0},"x",{"$f":"E353","v":1},"x",{"$f":"'User Inputs'!$H$307","v":0},"x",{"$f":"Assumptions!$D$477","v":0.21},"x",{"$f":"Assumptions!$C$477","v":0.01},") + (",{"$f":"C294*E294*G294","v":0},"x",{"$f":"E353","v":1},"x",{"$f":"'User Inputs'!$H$307","v":0},"x",{"$f":"Assumptions!$D$478","v":0.24},"x",{"$f":"Assumptions!$C$478","v":1.0999999999999999E-2},") x",{"$f":"Constants!$F$34","v":1.5714285714285714},"=",{"$f":"IFERROR(((C382*E382*G382*I382*K382)+(M382*O382*Q382*S382*U382))*W382,0)","v":0}]
["(","Beef heifers",0,"x",1,"x",{"$f":"'User Inputs'!$H$307","v":0},"x",{"$f":"Assumptions!$D$477","v":0.21},"x",{"$f":"Assumptions!$C$477","v":0.01},") + (",0,"x",1,"x",{"$f":"'User Inputs'!$H$307","v":0},"x",{"$f":"Assumptions!$D$478","v":0.24},"x",{"$f":"Assumptions!$C$478","v":1.0999999999999999E-2},") x",{"$f":"Constants!$F$34","v":1.5714285714285714},"=",{"$f":"IFERROR(((C383*E383*G383*I383*K383)+(M383*O383*Q383*S383*U383))*W383,0)","v":0}]
["(","Steer stockers",0,"x",1,"x",{"$f":"'User Inputs'!$H$307","v":0},"x",{"$f":"Assumptions!$D$477","v":0.21},"x",{"$f":"Assumptions!$C$477","v":0.01},") + (",0,"x",1,"x",{"$f":"'User Inputs'!$H$307","v":0},"x",{"$f":"Assumptions!$D$478","v":0.24},"x",{"$f":"Assumptions!$C$478","v":1.0999999999999999E-2},") x",{"$f":"Constants!$F$34","v":1.5714285714285714},"=",0]
["(","Heifer stockers",0,"x",1,"x",{"$f":"'User Inputs'!$H$307","v":0},"x",{"$f":"Assumptions!$D$477","v":0.21},"x",{"$f":"Assumptions!$C$477","v":0.01},") + (",0,"x",1,"x",{"$f":"'User Inputs'!$H$307","v":0},"x",{"$f":"Assumptions!$D$478","v":0.24},"x",{"$f":"Assumptions!$C$478","v":1.0999999999999999E-2},") x",{"$f":"Constants!$F$34","v":1.5714285714285714},"=",0]
["(","Feedlot beef",0,"x",1,"x",{"$f":"'User Inputs'!$H$307","v":0},"x",{"$f":"Assumptions!$D$477","v":0.21},"x",{"$f":"Assumptions!$C$477","v":0.01},") + (",0,"x",1,"x",{"$f":"'User Inputs'!$H$307","v":0},"x",{"$f":"Assumptions!$D$478","v":0.24},"x",{"$f":"Assumptions!$C$478","v":1.0999999999999999E-2},") x",{"$f":"Constants!$F$34","v":1.5714285714285714},"=",0]
["(","Beef calves",0,"x",1,"x",{"$f":"'User Inputs'!$H$307","v":0},"x",{"$f":"Assumptions!$D$477","v":0.21},"x",{"$f":"Assumptions!$C$477","v":0.01},") + (",0,"x",1,"x",{"$f":"'User Inputs'!$H$307","v":0},"x",{"$f":"Assumptions!$D$478","v":0.24},"x",{"$f":"Assumptions!$C$478","v":1.0999999999999999E-2},") x",{"$f":"Constants!$F$34","v":1.5714285714285714},"=",0]
[null,null,null,null,null,null,null,null,null,null,null,null,null,null,null,null,null,null,null,null,null,null,null,"Subtotal",{"$f":"SUM(Y381:Y387)","v":0}]
[]
["(","Dairy heifers",{"$f":"C302*E302*G302","v":0},"x",{"$f":"E361","v":1},"x",{"$f":"'User Inputs'!$H$307","v":0},"x",{"$f":"Assumptions!$D$477","v":0.21},"x",{"$f":"Assumptions!$C$477","v":0.01},") + (",{"$f":"C302*E302*G302","v":0},"x",{"$f":"E361","v":1},"x",{"$f":"'User Inputs'!$H$307","v":0},"x",{"$f":"Assumptions!$D$478","v":0.24},"x",{"$f":"Assumptions!$C$478","v":1.0999999999999999E-2},") x",{"$f":"Constants!$F$34","v":1.5714285714285714},"=",{"$f":"IFERROR(((C390*E390*G390*I390*K390)+(M390*O390*Q390*S390*U390))*W390,0)","v":0}]
["(","Dairy cows",0,"x",1,"x",{"$f":"'User Inputs'!$H$307","v":0},"x",{"$f":"Assumptions!$D$477","v":0.21},"x",{"$f":"Assumptions!$C$477","v":0.01},") + (",0,"x",1,"x",{"$f":"'User Inputs'!$H$307","v":0},"x",{"$f":"Assumptions!$D$478","v":0.24},"x",{"$f":"Assumptions!$C$478","v":1.0999999999999999E-2},") x",{"$f":"Constants!$F$34","v":1.5714285714285714},"=",0]
["(","Dairy calves",0,"x",1,"x",{"$f":"'User Inputs'!$H$307","v":0},"x",{"$f":"Assumptions!$D$477","v":0.21},"x",{"$f":"Assumptions!$C$477","v":0.01},") + (",0,"x",1,"x",{"$f":"'User Inputs'!$H$307","v":0},"x",{"$f":"Assumptions!$D$478","v":0.24},"x",{"$f":"Assumptions!$C$478","v":1.0999999999999999E-2},") x",{"$f":"Constants!$F$34","v":1.5714285714285714},"=",0]
[null,null,null,null,null,null,null,null,null,null,null,null,null,null,null,null,null,null,null,null,null,null,null,"Subtotal",{"$f":"SUM(Y390:Y392)","v":0}]
[]
["(","Swine, <55 lbs",{"$f":"C307*E307*G307","v":0},"x",{"$f":"E366","v":1},"x",{"$f":"'User Inputs'!$H$307","v":0},"x",{"$f":"Assumptions!$D$477","v":0.21},"x",{"$f":"Assumptions!$C$477","v":0.01},") + (",{"$f":"C307*E307*G307","v":0},"x",{"$f":"E366","v":1},"x",{"$f":"'User Inputs'!$H$307","v":0},"x",{"$f":"Assumptions!$D$478","v":0.24},"x",{"$f":"Assumptions!$C$478","v":1.0999999999999999E-2},") x",{"$f":"Constants!$F$34","v":1.5714285714285714},"=",{"$f":"IFERROR(((C395*E395*G395*I395*K395)+(M395*O395*Q395*S395*U395))*W395,0)","v":0}]
["(","Swine 55-330 lbs",0,"x",1,"x",{"$f":"'User Inputs'!$H$307","v":0},"x",{"$f":"Assumptions!$D$477","v":0.21},"x",{"$f":"Assumptions!$C$477","v":0.01},") + (",0,"x",1,"x",{"$f":"'User Inputs'!$H$307","v":0},"x",{"$f":"Assumptions!$D$478","v":0.24},"x",{"$f":"Assumptions!$C$478","v":1.0999999999999999E-2},") x",{"$f":"Constants!$F$34","v":1.5714285714285714},"=",0]
["(","Swine 330+ lbs",0,"x",1,"x",{"$f":"'User Inputs'!$H$307","v":0},"x",{"$f":"Assumptions!$D$477","v":0.21},"x",{"$f":"Assumptions!$C$477","v":0.01},") + (",0,"x",1,"x",{"$f":"'User Inputs'!$H$307","v":0},"x",{"$f":"Assumptions!$D$478","v":0.24},"x",{"$f":"Assumptions!$C$478","v":1.0999999999999999E-2},") x",{"$f":"Constants!$F$34","v":1.5714285714285714},"=",0]
[null,null,null,null,null,null,null,null,null,null,null,null,null,null,null,null,null,null,null,null,null,null,null,"Subtotal",{"$f":"SUM(Y395:Y397)","v":0}]
[]
["(","Poultry, layers",{"$f":"C312*E312*G312","v":0},"x",{"$f":"E371","v":1},"x",{"$f":"'User Inputs'!$H$307","v":0},"x",{"$f":"Assumptions!$D$477","v":0.21},"x",{"$f":"Assumptions!$C$477","v":0.01},") + (",{"$f":"C312*E312*G312","v":0},"x",{"$f":"E371","v":1},"x",{"$f":"'User Inputs'!$H$307","v":0},"x",{"$f":"Assumptions!$D$478","v":0.24},"x",{"$f":"Assumptions!$C$478","v":1.0999999999999999E-2},") x",{"$f":"Constants!$F$34","v":1.5714285714285714},"=",{"$f":"IFERROR(((C400*E400*G400*I400*K400)+(M400*O400*Q400*S400*U400))*W400,0)","v":0}]
["(","Poultry, pullets",0,"x",1,"x",{"$f":"'User Inputs'!$H$307","v":0},"x",{"$f":"Assumptions!$D$477","v":0.21},"x",{"$f":"Assumptions!$C$477","v":0.01},") + (",0,"x",1,"x",{"$f":"'User Inputs'!$H$307","v":0},"x",{"$f":"Assumptions!$D$478","v":0.24},"x",{"$f":"Assumptions!$C$478","v":1.0999999999999999E-2},") x",{"$f":"Constants!$F$34","v":1.5714285714285714},"=",0]
["(","Poultry, chickens",0,"x",1,"x",{"$f":"'User Inputs'!$H$307","v":0},"x",{"$f":"Assumptions!$D$477","v":0.21},"x",{"$f":"Assumptions!$C$477","v":0.01},") + (",0,"x",1,"x",{"$f":"'User Inputs'!$H$307","v":0},"x",{"$f":"Assumptions!$D$478","v":0.24},"x",{"$f":"Assumptions!$C$478","v":1.0999999999999999E-2},") x",{"$f":"Constants!$F$34","v":1.5714285714285714},"=",0]
["(","Poultry, broilers",0,"x",1,"x",{"$f":"'User Inputs'!$H$307","v":0},"x",{"$f":"Assumptions!$D$477","v":0.21},"x",{"$f":"Assumptions!$C$477","v":0.01},") + (",0,"x",1,"x",{"$f":"'User Inputs'!$H$307","v":0},"x",{"$f":"Assumptions!$D$478","v":0.24},"x",{"$f":"Assumptions!$C$478","v":1.0999999999999999E-2},") x",{"$f":"Constants!$F$34","v":1.5714285714285714},"=",0]
["(","Turkeys",0,"x",1,"x",{"$f":"'User Inputs'!$H$307","v":0},"x",{"$f":"Assumptions!$D$477","v":0.21},"x",{"$f":"Assumptions!$C$477","v":0.01},") + (",0,"x",1,"x",{"$f":"'User Inputs'!$H$307","v":0},"x",{"$f":"Assumptions!$D$478","v":0.24},"x",{"$f":"Assumptions!$C$478","v":1.0999999999999999E-2},") x",{"$f":"Constants!$F$34","v":1.5714285714285714},"=",0]
[null,null,null,null,null,null,null,null,null,null,{"$f":"IF(OR('User Inputs'!$N$311=\"System percents must equal 100%\",'User Inputs'!$N$312=\"System percents must equal 100%\",'User Inputs'!$N$313=\"System percents must equal 100%\",'User Inputs'!$N$314=\"System percents must equal 100%\",'User Inputs'!$C$306=\"System percents must equal 100%\",'User Inputs'!$N$316=\"System percents must equal 100%\",'User Inputs'!$N$317=\"System percents must equal 100%\",'User Inputs'!$C$318=\"System percents must equal 100%\",'User Inputs'!$M$322=\"System percents must equal 100%\",'User Inputs'!$M$323=\"System percents must equal 100%\",'User Inputs'!$K$327=\"System percents must equal 100%\",'User Inputs'!$C$324=\"System percents must equal 100%\",'User Inputs'!$K$329=\"System percents must equal 100%\",'User Inputs'!$M$333=\"System percents must equal 100%\",'User Inputs'!$M$334=\"System percents must equal 100%\",'User Inputs'!$M$335=\"System percents must equal 100%\",'User Inputs'!$C$330=\"System percents must equal 100%\",'User Inputs'!$M$337=\"System percents must equal 100%\"),\"Data are incomplete\",\"\")","v":""},null,null,null,null,null,null,null,null,null,null,null,{"$f":"IF(OR('User Inputs'!$N$311=\"System percents must equal 100%\",'User Inputs'!$N$312=\"System percents must equal 100%\",'User Inputs'!$N$313=\"System percents must equal 100%\",'User Inputs'!$N$314=\"System percents must equal 100%\",'User Inputs'!$C$306=\"System percents must equal 100%\",'User Inputs'!$N$316=\"System percents must equal 100%\",'User Inputs'!$N$317=\"System percents must equal 100%\",'User Inputs'!$C$318=\"System percents must equal 100%\",'User Inputs'!$M$322=\"System percents must equal 100%\",'User Inputs'!$M$323=\"System percents must equal 100%\",'User Inputs'!$K$327=\"System percents must equal 100%\",'User Inputs'!$C$324=\"System percents must equal 100%\",'User Inputs'!$K$329=\"System percents must equal 100%\",'User Inputs'!$M$333=\"System percents must equal 100%\",'User Inputs'!$M$334=\"System percents must equal 100%\",'User Inputs'!$M$335=\"System percents must equal 100%\",'User Inputs'!$C$330=\"System percents must equal 100%\",'User Inputs'!$M$337=\"System percents must equal 100%\"),\"Data are incomplete\",\"\")","v":""},"Subtotal",{"$f":"SUM(Y400:Y404)","v":0}]
[]
[null,"Total Annual Emissions from Manure Management, Manure Deposited onto Pasture, and Manure Land Application"]
[]
[null,"Animal Type","CH4 Emissions",null,"CH4 GWP",null,"Direct N2O Emissions - Managed Manure and Pasture",null,"Indirect N2O Emissions - Managed Manure and Pasture",null,"Direct N2O Emissions - Land Application",null,"Indirect N2O Emissions - Land Application",null,"N2O GWP",null,"GHG Emissions"]
[null,null,"kg CH4",null,null,null,"kg N2O",null,"kg N2O",null,"kg N2O",null,"kg N2O",null,null,null,"kgCO2e/year"]
["(","Beef Cattle",{"$f":"SUM(O263:O269)","v":0},"x",{"$f":"Constants!$I$7","v":28},") + (",{"$f":"SUM(M293:M299)","v":0},"+",{"$f":"SUM(S323:S329)","v":0},"+",{"$f":"M359","v":0},"+",{"$f":"Y388","v":0},") x",{"$f":"Constants!$I$8","v":265},"=",{"$f":"(C411*E411)+((G411+I411+K411+M411)*O411)","v":0}]
["(","Total Dairy Cattle",{"$f":"SUM(O272:O274)","v":0},"x",{"$f":"Constants!$I$7","v":28},") + (",{"$f":"SUM(M302:M304)","v":0},"+",{"$f":"SUM(S332:S334)","v":0},"+",{"$f":"M364","v":0},"+",{"$f":"Y393","v":0},") x",{"$f":"Constants!$I$8","v":265},"=",{"$f":"(C412*E412)+((G412+I412+K412+M412)*O412)","v":0}]
["(","Total Swine",{"$f":"SUM(O277:O279)","v":0},"x",{"$f":"Constants!$I$7","v":28},") + (",{"$f":"SUM(M307:M309)","v":0},"+",{"$f":"SUM(S337:S339)","v":0},"+",{"$f":"M369","v":0},"+",{"$f":"Y398","v":0},") x",{"$f":"Constants!$I$8","v":265},"=",{"$f":"(C413*E413)+((G413+I413+K413+M413)*O413)","v":0}]
["(","Total Poultry",{"$f":"SUM(O282:O286)","v":0},"x",{"$f":"Constants!$I$7","v":28},") + (",{"$f":"SUM(M312:M316)","v":0},"+",{"$f":"SUM(S342:S346)","v":0},"+",{"$f":"M376","v":0},"+",{"$f":"Y405","v":0},") x",{"$f":"Constants!$I$8","v":265},"=",{"$f":"(C414*E414)+((G414+I414+K414+M414)*O414)","v":0}]
[]
[null,null,null,null,null,null,null,null,null,null,null,null,null,null,null,"Total",{"$f":"SUM(Q411:Q414)","v":0}]

{"sheet":"Results","index":7,"n_rows":51,"n_cols":24,"rows_kept":51,"cut":false,"hidden":false,"merged":[[34,1,35,14],[3,1,3,4],[3,5,3,14],[2,1,2,14],[20,9,20,10],[9,7,9,8],[18,7,18,8],[19,7,19,8],[10,9,10,10],[9,9,9,10],[11,7,11,8],[13,7,13,8],[14,7,14,8],[15,7,15,8],[16,7,16,8],[18,9,18,10],[13,9,13,10],[14,9,14,10],[19,9,19,10],[7,4,7,5],[11,9,11,10],[12,9,12,10],[15,9,15,10],[16,9,16,10],[17,9,17,10],[22,9,22,10],[24,9,24,10],[20,7,20,8],[21,7,21,8],[22,7,22,8],[23,7,23,8],[24,7,24,8],[21,9,21,10],[25,7,25,8],[10,7,10,8],[12,7,12,8],[29,9,29,10],[30,9,30,10],[26,9,26,10],[27,9,27,10],[28,9,28,10],[30,7,30,8],[26,7,26,8],[27,7,27,8],[28,7,28,8],[29,7,29,8],[25,9,25,10],[23,9,23,10],[17,7,17,8]]}
["x","Summary Results (Step 4b)",null,null,null,null,null,null,null,null,null,null,null,null,null,null,null,null,null,null,null,"Completeness Checks"]
["x"]
["x","Cumulative and annualized GHG emissions are shown for all applicable emission sources in the table below. Results are calculated using AR5 global warming potentials and are shown in short tons, metric tons, or kilograms based on the unit selected in the Project Background tab. Emission sources indicated as not applicable in the Project Background tab that are excluded from the calculations are listed below."]
["x","Emission sources excluded from calculations and hidden below:",null,null,null,{"$f":"_xlfn.TEXTJOIN(\n  \", \",\n  TRUE,\n  _xlfn._xlws.FILTER('Project Background'!C40:C53,'Project Background'!G40:G53=\"No\",\"\"),\n  IF('Project Background'!G38=\"No\",\"Material inputs, Transportation of material inputs\",\"\"),\n  IF('Project Background'!G54=\"No\",\"Enteric fermentation, Manure management\",\"\")\n)","v":""}]
["x"]
["x","Lifetime Emissions"]
["x",null,null,null,null,null,null,null,null,null,null,null,null,null,null,null,null,null,null,null,null,"Project Lifetime",null,"Inputs missing?"]
["x","Unit:",{"$f":"'Project Background'!C32","v":"tons"},null,"Project Lifetime:",null,{"$f":"'Project Background'!$D$15+('Project Background'!$D$14-IF(ISBLANK('Project Background'!D13)=TRUE,0,_xlfn.NUMBERVALUE(TEXT('Project Background'!$D$13,\"yyyy\"))))","v":0},{"$f":"IF(OR(ISBLANK('Project Background'!D13)=TRUE,ISBLANK('Project Background'!D14)=TRUE,ISBLANK('Project Background'!D15=TRUE)),\"Construction Start Date, Operational Year, or Operational Lifetime is missing. Return to Project Background tab to enter missing data.\",\"\")","v":"Construction Start Date, Operational Year, or Operational Lifetime is missing. Return to Project Background tab to enter missing data."},null,null,null,null,null,null,null,null,null,null,null,null,null,{"$f":"IF(OR(ISBLANK('Project Background'!D13)=TRUE,ISBLANK('Project Background'!D14)=TRUE,ISBLANK('Project Background'!D15=TRUE)),1,0)","v":1},null,{"$f":"SUM(V8,V12:X30)","v":47}]
["x",null,null,null,null,null,null,null,null,null,null,null,null,null,null,null,null,null,null,null,null,null,null,{"$f":"IF(X8>0,\"True\",\"False\")","v":"True"}]
["x","Phase",null,null,null,null,null,"Cumulative CO2e Emissions ",null,"Annualized CO2e Emissions "]
["x","Construction",null,null,null,null,null,{"$f":"SUM(H12:H17)","v":0},null,{"$f":"SUM(J12:J17)","v":0},null,null,null,null,null,null,null,null,null,null,null,"Applicability","User Inputs","Project Background"]
[{"$f":"IF('Project Background'!G38=\"No\",\"\",\"x\")","v":"x"},"Material inputs",null,null,null,null,null,{"$f":"IF('Project Background'!G38=\"Yes\",IF('Project Background'!$C$32=\"kg\",Construction!G23,IF('Project Background'!$C$32=\"tons\",Construction!G23/Constants!$F$10,IF('Project Background'!$C$32=\"MT\",Construction!G23*Constants!$F$6))),0)","v":0},null,{"$f":"IFERROR(H12/$G$8,0)","v":0},null,"Emission source applicability not selected and/or user inputs are incomplete",null,null,null,null,null,null,null,null,null,{"$f":"IF(ISBLANK('Project Background'!G38),1,0)","v":1},{"$f":"IF('User Inputs'!R14=1,1,0)","v":1}]
[{"$f":"IF('Project Background'!G38=\"No\",\"\",\"x\")","v":"x"},"Transportation of material inputs ",null,null,null,null,null,{"$f":"IF('Project Background'!G38=\"Yes\",IF('Project Background'!$C$32=\"kg\",Construction!T39,IF('Project Background'!$C$32=\"tons\",Construction!T39/Constants!$F$10,IF('Project Background'!$C$32=\"MT\",Construction!T39*Constants!$F$6))),0)","v":0},null,0,null,"Emission source applicability not selected and/or user inputs are incomplete",null,null,null,null,null,null,null,null,null,{"$f":"IF(ISBLANK('Project Background'!G38),1,0)","v":1},{"$f":"W12","v":1}]
[{"$f":"IF('Project Background'!G40=\"No\",\"\",\"x\")","v":"x"},"Employee commuting",null,null,null,null,null,{"$f":"IF('Project Background'!G40=\"Yes\",IF('Project Background'!$C$32=\"kg\",Construction!I63,IF('Project Background'!$C$32=\"tons\",Construction!I63/Constants!$F$10,IF('Project Background'!$C$32=\"MT\",Construction!I63*Constants!$F$6))),0)","v":0},null,0,null,"Emission source applicability not selected and/or user inputs are incomplete",null,null,null,null,null,null,null,null,null,{"$f":"IF(ISBLANK('Project Background'!G40),1,0)","v":1},{"$f":"IF('User Inputs'!R29=1,1,0)+IF('User Inputs'!R37=1,1,0)+IF('User Inputs'!R40=1,1,0)","v":3},{"$f":"IF('Project Background'!G40=\"No\",0,'Project Background'!N19)","v":1}]
[{"$f":"IF('Project Background'!G41=\"No\",\"\",\"x\")","v":"x"},"Construction equipment",null,null,null,null,null,{"$f":"IF('Project Background'!G41=\"Yes\",IF('Project Background'!$C$32=\"kg\",Construction!O105+Construction!L116,IF('Project Background'!$C$32=\"tons\",(Construction!O105+Construction!L116)/Constants!$F$10,IF('Project Background'!$C$32=\"MT\",(Construction!O105+Construction!L116)*Constants!$F$6))),0)","v":0},null,0,null,"Emission source applicability not selected and/or user inputs are incomplete",null,null,null,null,null,null,null,null,null,{"$f":"IF(ISBLANK('Project Background'!G41),1,0)","v":1},{"$f":"IF('User Inputs'!R59=1,1,0)","v":1},{"$f":"IF('Project Background'!G41=\"No\",0,'Project Background'!N19)","v":1}]
[{"$f":"IF('Project Background'!G42=\"No\",\"\",\"x\")","v":"x"},"Land use change (construction)",null,null,null,null,null,{"$f":"IF('Project Background'!G42=\"Yes\",IF('Project Background'!$C$32=\"kg\",Construction!M144,IF('Project Background'!$C$32=\"tons\",Construction!M144/Constants!$F$10,IF('Project Background'!$C$32=\"MT\",Construction!M144*Constants!$F$6))),0)","v":0},null,0,null,"Emission source applicability not selected and/or user inputs are incomplete",null,null,null,null,null,null,null,null,null,{"$f":"IF(ISBLANK('Project Background'!G42),1,0)","v":1},{"$f":"IF('User Inputs'!R93=1,1,0)","v":1}]
[{"$f":"IF('Project Background'!G43=\"No\",\"\",\"x\")","v":"x"},"Construction waste",null,null,null,null,null,{"$f":"IF('Project Background'!G43=\"Yes\",IF('Project Background'!$C$32=\"kg\",Construction!I160,IF('Project Background'!$C$32=\"tons\",Construction!I160/Constants!$F$10,IF('Project Background'!$C$32=\"MT\",Construction!I160*Constants!$F$6))),0)","v":0},null,0,null,"Emission source applicability not selected and/or user inputs are incomplete",null,null,null,null,null,null,null,null,null,{"$f":"IF(ISBLANK('Project Background'!G43),1,0)","v":1},{"$f":"IF('User Inputs'!R121=1,1,0)","v":1}]
["x","Operation",null,null,null,null,null,{"$f":"SUM(H19:H30)","v":0},null,{"$f":"SUM(J19:J30)","v":0}]
[{"$f":"IF('Project Background'!G44=\"No\",\"\",\"x\")","v":"x"},"Building energy consumption",null,null,null,null,null,{"$f":"IF('Project Background'!G44=\"Yes\",IF('Project Background'!$C$32=\"kg\",SUM(Operation!C48:XFD48),IF('Project Background'!$C$32=\"tons\",SUM(Operation!C48:XFD48)/Constants!$F$10,IF('Project Background'!$C$32=\"MT\",SUM(Operation!C48:XFD48)*Constants!$F$6))),0)","v":0},null,{"$f":"IFERROR(H19/$G$8,0)","v":0},null,"Emission source applicability not selected and/or user inputs are incomplete",null,null,null,null,null,null,null,null,null,{"$f":"IF(ISBLANK('Project Background'!G44),1,0)","v":1},{"$f":"IF('User Inputs'!R143=1,1,0)","v":1},{"$f":"IF('Project Background'!G44=\"No\",0,'Project Background'!N18)","v":1}]
[{"$f":"IF('Project Background'!G45=\"No\",\"\",\"x\")","v":"x"},"Coal production",null,null,null,null,null,{"$f":"IF('Project Background'!G45=\"Yes\",IF('Project Background'!$C$32=\"kg\",(Operation!K66*'Project Background'!$D$15),IF('Project Background'!$C$32=\"tons\",(Operation!K66*'Project Background'!$D$15)/Constants!$F$10,IF('Project Background'!$C$32=\"MT\",(Operation!K66*'Project Background'!$D$15)*Constants!$F$6))),0)","v":0},null,0,null,"Emission source applicability not selected and/or user inputs are incomplete",null,null,null,null,null,null,null,null,null,{"$f":"IF(ISBLANK('Project Background'!G45),1,0)","v":1},{"$f":"IF('User Inputs'!R164=1,1,0)","v":1}]
[{"$f":"IF('Project Background'!G46=\"No\",\"\",\"x\")","v":"x"},"Natural gas and oil products",null,null,null,null,null,{"$f":"IF('Project Background'!G46=\"Yes\",IF('Project Background'!$C$32=\"kg\",(Operation!K96*'Project Background'!$D$15),IF('Project Background'!$C$32=\"tons\",(Operation!K96*'Project Background'!$D$15)/Constants!$F$10,IF('Project Background'!$C$32=\"MT\",(Operation!K96*'Project Background'!$D$15)*Constants!$F$6))),0)","v":0},null,0,null,"Emission source applicability not selected and/or user inputs are incomplete",null,null,null,null,null,null,null,null,null,{"$f":"IF(ISBLANK('Project Background'!G46),1,0)","v":1},{"$f":"IF('User Inputs'!R175=1,1,0)","v":1}]
[{"$f":"IF('Project Background'!G47=\"No\",\"\",\"x\")","v":"x"},"Industrial processes",null,null,null,null,null,{"$f":"IF('Project Background'!G47=\"Yes\",IF('Project Background'!$C$32=\"kg\",(Operation!G111*'Project Background'!$D$15),IF('Project Background'!$C$32=\"tons\",(Operation!G111*'Project Background'!$D$15)/Constants!$F$10,IF('Project Background'!$C$32=\"MT\",(Operation!G111*'Project Background'!$D$15)*Constants!$F$6))),0)","v":0},null,0,null,"Emission source applicability not selected and/or user inputs are incomplete",null,null,null,null,null,null,null,null,null,{"$f":"IF(ISBLANK('Project Background'!G47),1,0)","v":1},{"$f":"IF('User Inputs'!R202=1,1,0)","v":1}]
[{"$f":"IF('Project Background'!G48=\"No\",\"\",\"x\")","v":"x"},"HFC leakage",null,null,null,null,null,{"$f":"IF('Project Background'!G48=\"Yes\",IF('Project Background'!$C$32=\"kg\",(Operation!Q123*'Project Background'!$D$15),IF('Project Background'!$C$32=\"tons\",(Operation!Q123*'Project Background'!$D$15)/Constants!$F$10,IF('Project Background'!$C$32=\"MT\",(Operation!Q123*'Project Background'!$D$15)*Constants!$F$6))),0)","v":0},null,0,null,"Emission source applicability not selected and/or user inputs are incomplete",null,null,null,null,null,null,null,null,null,{"$f":"IF(ISBLANK('Project Background'!G48),1,0)","v":1},{"$f":"IF('User Inputs'!R215=1,1,0)","v":1},{"$f":"IF('Project Background'!G48=\"No\",0,'Project Background'!N18)","v":1}]
[{"$f":"IF('Project Background'!G49=\"No\",\"\",\"x\")","v":"x"},"Land use change (operations)",null,null,null,null,null,{"$f":"IF('Project Background'!G49=\"Yes\",IF('Project Background'!$C$32=\"kg\",(Operation!M146),IF('Project Background'!$C$32=\"tons\",(Operation!M146)/Constants!$F$10,IF('Project Background'!$C$32=\"MT\",(Operation!M146)*Constants!$F$6))),0)","v":0},null,0,null,"Emission source applicability not selected and/or user inputs are incomplete",null,null,null,null,null,null,null,null,null,{"$f":"IF(ISBLANK('Project Background'!G49),1,0)","v":1},{"$f":"IF('User Inputs'!R235=1,1,0)","v":1}]
[{"$f":"IF('Project Background'!G50=\"No\",\"\",\"x\")","v":"x"},"On-road vehicles",null,null,null,null,null,{"$f":"IF('Project Background'!G50=\"Yes\",IF('Project Background'!$C$32=\"kg\",SUM(Operation!C168:XFD168),IF('Project Background'!$C$32=\"tons\",SUM(Operation!C168:XFD168)/Constants!$F$10,IF('Project Background'!$C$32=\"MT\",SUM(Operation!C168:XFD168)*Constants!$F$6))),0)","v":0},null,0,null,"Emission source applicability not selected and/or user inputs are incomplete",null,null,null,null,null,null,null,null,null,{"$f":"IF(ISBLANK('Project Background'!G50),1,0)","v":1},{"$f":"IF('User Inputs'!R257=1,1,0)","v":1}]
[{"$f":"IF('Project Background'!G51=\"No\",\"\",\"x\")","v":"x"},"Treatment of waste on-site",null,null,null,null,null,{"$f":"IF('Project Background'!G51=\"Yes\",IF('Project Background'!$C$32=\"kg\",(Operation!I178*'Project Background'!$D$15),IF('Project Background'!$C$32=\"tons\",(Operation!I178*'Project Background'!$D$15)/Constants!$F$10,IF('Project Background'!$C$32=\"MT\",(Operation!I178*'Project Background'!$D$15)*Constants!$F$6))),0)","v":0},null,0,null,"Emission source applicability not selected and/or user inputs are incomplete",null,null,null,null,null,null,null,null,null,{"$f":"IF(ISBLANK('Project Background'!G51),1,0)","v":1},{"$f":"IF('User Inputs'!R266=1,1,0)","v":1}]
[{"$f":"IF('Project Background'!G52=\"No\",\"\",\"x\")","v":"x"},"Treatment of wastewater on-site",null,null,null,null,null,{"$f":"IF('Project Background'!G52=\"Yes\",IF('Project Background'!$C$32=\"kg\",((Operation!J204+Operation!S210)*'Project Background'!$D$15),IF('Project Background'!$C$32=\"tons\",((Operation!J204+Operation!S210)*'Project Background'!$D$15)/Constants!$F$10,IF('Project Background'!$C$32=\"MT\",((Operation!J204+Operation!S210)*'Project Background'!$D$15)*Constants!$F$6))),0)","v":0},null,0,null,"Emission source applicability not selected and/or user inputs are incomplete",null,null,null,null,null,null,null,null,null,{"$f":"IF(ISBLANK('Project Background'!G52),1,0)","v":1},{"$f":"IF('User Inputs'!R274=1,1,0)+IF('User Inputs'!R279=1,1,0)","v":2}]
[{"$f":"IF('Project Background'!G53=\"No\",\"\",\"x\")","v":"x"},"Treatment of waste off-site",null,null,null,null,null,{"$f":"IF('Project Background'!G53=\"Yes\",IF('Project Background'!$C$32=\"kg\",(Operation!M235*'Project Background'!$D$15),IF('Project Background'!$C$32=\"tons\",(Operation!M235*'Project Background'!$D$15)/Constants!$F$10,IF('Project Background'!$C$32=\"MT\",(Operation!M235*'Project Background'!$D$15)*Constants!$F$6))),0)","v":0},null,0,null,"Emission source applicability not selected and/or user inputs are incomplete",null,null,null,null,null,null,null,null,null,{"$f":"IF(ISBLANK('Project Background'!G53),1,0)","v":1},{"$f":"IF('User Inputs'!R285=1,1,0)+IF('User Inputs'!R296=1,1,0)","v":2}]
[{"$f":"IF('Project Background'!G54=\"No\",\"\",\"x\")","v":"x"},"Enteric fermentation",null,null,null,null,null,{"$f":"IF('Project Background'!G54=\"Yes\",IF('Project Background'!$C$32=\"kg\",(Operation!I255*'Project Background'!$D$15),IF('Project Background'!$C$32=\"tons\",(Operation!I255*'Project Background'!$D$15)/Constants!$F$10,IF('Project Background'!$C$32=\"MT\",(Operation!I255*'Project Background'!$D$15)*Constants!$F$6))),0)","v":0},null,0,null,"Emission source applicability not selected and/or user inputs are incomplete",null,null,null,null,null,null,null,null,null,{"$f":"IF(ISBLANK('Project Background'!G54),1,0)","v":1},{"$f":"IF('User Inputs'!R310=1,1,0)+IF('User Inputs'!R307=1,1,0)","v":2}]
[{"$f":"IF('Project Background'!G54=\"No\",\"\",\"x\")","v":"x"},"Manure management",null,null,null,null,null,{"$f":"IF('Project Background'!G54=\"Yes\",IF('Project Background'!$C$32=\"kg\",(Operation!Q416*'Project Background'!$D$15),IF('Project Background'!$C$32=\"tons\",(Operation!Q416*'Project Background'!$D$15)/Constants!$F$10,IF('Project Background'!$C$32=\"MT\",(Operation!Q416*'Project Background'!$D$15)*Constants!$F$6))),0)","v":0},null,0,null,"Emission source applicability not selected and/or user inputs are incomplete",null,null,null,null,null,null,null,null,null,{"$f":"IF(ISBLANK('Project Background'!G54),1,0)","v":1},{"$f":"W29","v":2}]
["x","Total",null,null,null,null,null,{"$f":"H11+H18","v":0},null,{"$f":"J11+J18","v":0}]
["x"]
["x","Emissions Equivalencies"]
["x"]
["x","To contextualize emissions, input emissions data into the EPA GHG Equivalencies Calculator (using corresponding units) to convert emissions into equivalent measures for communication purposes. Below are some example equivalencies for both cumulative and annualized emissions."]
["x"]
["x"]
["x","Cumulative emissions are equivalent to…"]
["x"]
["x","Emissions from ",null,{"$f":"IF($C$8=\"MT\",($H$31/Constants!$L$7),IF($C$8=\"tons\",(($H$31/Constants!$F$25)/Constants!$L$7),IF(Results!$C$8=\"kg\",(($H$31*Constants!$F$6)/Constants!$L$7))))","v":0},null,"miles driven by an average gasoline-powered passenger vehicle"]
["x","Emissions from ",null,{"$f":"IF($C$8=\"MT\",($H$31/Constants!$L$8),IF($C$8=\"tons\",(($H$31/Constants!$F$25)/Constants!$L$8),IF(Results!$C$8=\"kg\",(($H$31*Constants!$F$6)/Constants!$L$8))))","v":0},null,"gallons of gasoline consumed"]
["x","Emissions avoided by",null,{"$f":"IF($C$8=\"MT\",($H$31/Constants!$L$11),IF($C$8=\"tons\",(($H$31/Constants!$F$25)/Constants!$L$11),IF(Results!$C$8=\"kg\",(($H$31*Constants!$F$6)/Constants!$L$11))))","v":0},null,"tons of waste recycled instead of landfilled"]
["x"]
["x","Annualized emissions are equivalent to…"]
["x"]
["x","Emissions from ",null,{"$f":"IF($C$8=\"MT\",($J$31/Constants!$L$6),IF($C$8=\"tons\",(($J$31/Constants!$F$25)/Constants!$L$6),IF(Results!$C$8=\"kg\",(($J$31*Constants!$F$6)/Constants!$L$6))))","v":0},null,"gasoline-powered passenger vehicles driven for one year"]
["x","Emissions from ",null,{"$f":"IF($C$8=\"MT\",($J$31/Constants!$L$9),IF($C$8=\"tons\",(($J$31/Constants!$F$25)/Constants!$L$9),IF(Results!$C$8=\"kg\",(($J$31*Constants!$F$6)/Constants!$L$9))))","v":0},null,"homes' energy use for one year"]
["x","Carbon sequestered by",null,{"$f":"IF($C$8=\"MT\",($J$31/Constants!$L$10),IF($C$8=\"tons\",(($J$31/Constants!$F$25)/Constants!$L$10),IF(Results!$C$8=\"kg\",(($J$31*Constants!$F$6)/Constants!$L$10))))","v":0},null,"acres of U.S. forests in one year"]
["x"]
["x"]
["x"]

{"sheet":"Charts","index":8,"n_rows":40,"n_cols":2,"rows_kept":40,"cut":false,"hidden":false,"merged":[[2,1,2,18]]}
["@","Summary Charts (Step 4b)"]
[]
[null,"Cumulative and annualized GHG emissions are shown for all applicable emission sources in the charts below. Results are calculated using AR5 global warming potentials and are shown in short tons, metric tons, or kilograms based on the unit selected in the Project Background tab. "]
["x","Charts"]
["x",{"$f":"CONCATENATE('Project Background'!$C$32,\" \",\"CO₂e\")","v":"tons CO₂e"}]
["x","Lifetime Emissions"]
["x"]
["x"]
["x"]
["x"]
["x"]
["x"]
["x"]
["x"]
["x"]
["x"]
["x"]
["x"]
["x"]
["x"]
["x"]
["x"]
["x"]
["x"]
["x"]
["x"]
["x"]
["x"]
["x"]
["x"]
["x"]
["x"]
["x"]
["x"]
["x"]
["x"]
["x"]
["x"]
["x","Emissions by Project Phase"]
["x"]

{"sheet":"Summary Report","index":9,"n_rows":289,"n_cols":15,"rows_kept":289,"cut":false,"hidden":true,"merged":[[113,5,113,6],[120,5,120,6],[120,7,120,8],[120,9,120,10],[121,5,121,6],[121,7,121,8],[121,9,121,10],[107,1,108,2],[107,3,108,4],[109,1,109,2],[109,3,109,4],[110,1,110,2],[110,3,110,4],[111,1,111,2],[111,3,111,4],[112,1,112,2],[112,3,112,4],[113,1,113,2],[113,3,113,4],[107,5,108,6],[109,5,109,6],[110,5,110,6],[111,5,111,6],[112,5,112,6],[69,6,69,7],[70,6,70,7],[54,1,54,2],[53,1,53,2],[73,1,73,2],[74,1,74,2],[71,6,71,7],[80,3,80,6],[81,3,81,6],[69,4,69,5],[83,1,83,2],[80,1,80,2],[81,1,81,2],[82,1,82,2],[77,3,77,6],[78,3,78,6],[79,3,79,6],[78,1,78,2],[79,1,79,2],[82,3,82,6],[35,5,35,6],[36,5,36,6],[37,5,37,6],[38,5,38,6],[35,1,35,2],[52,1,52,2],[66,4,66,5],[67,4,67,5],[68,4,68,5],[50,1,50,2],[48,1,48,2],[49,1,49,2],[49,3,49,4],[36,3,36,4],[37,3,37,4],[38,3,38,4],[39,5,39,6],[39,3,39,4],[40,3,40,4],[40,5,40,6],[67,6,67,7],[51,3,51,4],[52,3,52,4],[53,3,53,4],[19,10,19,11],[19,7,19,9],[20,7,20,9],[21,7,21,9],[22,7,22,9],[23,7,23,9],[24,7,24,9],[20,10,20,11],[21,10,21,11],[22,10,22,11],[23,10,23,11],[24,10,24,11],[32,3,32,6],[34,1,34,6],[41,1,41,6],[33,3,33,4],[33,5,33,6],[35,3,35,4],[46,1,46,2],[47,1,47,2],[196,4,196,6],[96,3,96,4],[97,3,97,4],[91,3,91,4],[89,5,89,10],[89,3,90,4],[118,9,118,10],[119,7,119,8],[119,9,119,10],[116,5,116,10],[117,5,117,6],[117,7,117,8],[117,9,117,10],[118,5,118,6],[124,7,124,8],[124,9,124,10],[98,3,98,4],[99,3,99,4],[100,3,100,4],[193,5,193,6],[151,5,151,6],[161,1,162,2],[161,3,162,4],[161,5,162,6],[105,3,105,4],[169,1,169,2],[128,5,128,6],[132,5,132,6],[155,5,155,6],[179,1,179,2],[180,1,180,2],[181,1,181,2],[101,3,101,4],[153,3,153,10],[154,5,154,6],[118,7,118,8],[151,3,151,4],[153,1,154,2],[154,3,154,4],[125,5,125,6],[125,7,125,8],[125,9,125,10],[92,3,92,4],[93,3,93,4],[94,3,94,4],[135,1,135,2],[119,5,119,6],[122,5,122,6],[122,7,122,8],[122,9,122,10],[123,5,123,6],[123,7,123,8],[123,9,123,10],[124,5,124,6],[104,3,104,4],[128,7,128,8],[128,9,128,10],[129,5,129,6],[129,7,129,8],[129,9,129,10],[126,5,126,6],[126,7,126,8],[126,9,126,10],[127,5,127,6],[37,1,37,2],[38,1,38,2],[39,1,39,2],[40,1,40,2],[116,1,117,4],[70,4,70,5],[71,4,71,5],[72,4,72,5],[73,4,73,5],[74,4,74,5],[83,3,83,6],[51,1,51,2],[89,1,90,2],[51,5,51,6],[52,5,52,6],[53,5,53,6],[54,5,54,6],[54,3,54,4],[65,6,65,7],[66,6,66,7],[85,1,85,3],[95,3,95,4],[102,3,102,4],[103,3,103,4],[170,3,170,5],[171,3,171,5],[172,3,172,5],[173,3,173,5],[174,3,174,5],[175,3,175,5],[193,1,193,2],[178,1,178,2],[178,3,178,4],[188,3,188,4],[189,3,189,4],[184,5,184,6],[185,5,185,6],[182,1,182,2],[179,5,179,6],[180,5,180,6],[181,5,181,6],[182,5,182,6],[183,5,183,6],[183,3,183,4],[187,3,187,4],[127,7,127,8],[127,9,127,10],[132,7,132,8],[132,9,132,10],[133,5,133,6],[133,7,133,8],[133,9,133,10],[130,5,130,6],[130,7,130,8],[130,9,130,10],[131,5,131,6],[131,7,131,8],[131,9,131,10],[78,10,78,11],[79,10,79,11],[80,10,80,11],[81,10,81,11],[82,10,82,11],[83,10,83,11],[77,10,77,11],[78,8,78,9],[79,8,79,9],[80,8,80,9],[81,8,81,9],[82,8,82,9],[83,8,83,9],[77,8,77,9],[5,1,5,2],[6,1,6,2],[7,1,7,2],[8,1,8,2],[9,1,9,2],[77,1,77,2],[72,6,72,7],[73,6,73,7],[74,6,74,7],[65,1,65,2],[66,1,66,2],[67,1,67,2],[68,1,68,2],[69,1,69,2],[70,1,70,2],[71,1,71,2],[72,1,72,2],[65,4,65,5],[10,1,10,2],[11,1,11,2],[13,1,13,2],[25,1,25,2],[20,1,20,2],[21,1,21,2],[22,1,22,2],[23,1,23,2],[24,1,24,2],[19,1,19,2],[17,1,17,3],[19,3,19,4],[20,3,20,4],[21,3,21,4],[22,3,22,4],[23,3,23,4],[24,3,24,4],[25,3,25,4],[42,1,42,2],[43,1,43,2],[44,1,44,2],[45,1,45,2],[32,1,33,2],[68,6,68,7],[42,3,42,4],[43,3,43,4],[44,3,44,4],[46,5,46,6],[47,5,47,6],[48,5,48,6],[49,5,49,6],[50,5,50,6],[42,5,42,6],[43,5,43,6],[44,5,44,6],[45,5,45,6],[50,3,50,4],[45,3,45,4],[46,3,46,4],[47,3,47,4],[48,3,48,4],[36,1,36,2],[287,1,287,2],[288,1,288,2],[280,1,280,2],[281,1,281,2],[282,1,282,2],[283,1,283,2],[284,1,284,2],[275,1,275,2],[276,1,276,2],[277,1,277,2],[278,1,278,2],[279,1,279,2],[285,1,285,2],[286,1,286,2],[218,1,218,2],[208,2,208,4],[198,4,198,6],[199,4,199,6],[200,4,200,6],[201,4,201,6],[184,3,184,4],[185,3,185,4],[186,3,186,4],[208,5,208,8],[209,5,209,8],[211,5,211,8],[212,5,212,8],[210,5,210,8],[211,1,212,1],[211,2,212,4],[203,2,203,3],[204,2,204,3],[210,2,210,4],[209,2,209,4],[207,2,207,4],[204,4,204,6],[202,2,202,3],[182,3,182,4],[179,3,179,4],[180,3,180,4],[181,3,181,4],[207,5,207,8],[200,2,200,3],[201,2,201,3],[196,2,196,3],[197,2,197,3],[198,2,198,3],[199,2,199,3],[192,3,192,4],[193,3,193,4],[197,4,197,6],[232,3,232,4],[219,1,219,2],[235,1,235,3],[223,3,223,5],[224,3,224,5],[225,3,225,5],[231,1,231,2],[238,13,238,14],[236,5,236,6],[237,5,237,6],[235,5,235,6],[235,7,235,8],[219,3,219,5],[228,1,228,3],[222,1,222,2],[222,3,222,5],[231,3,231,4],[229,1,229,3],[229,4,229,5],[228,4,228,5],[238,10,238,12],[238,5,238,6],[287,3,287,14],[288,3,288,14],[279,3,279,14],[280,3,280,14],[281,3,281,14],[282,3,282,14],[283,3,283,14],[274,3,274,14],[275,3,275,14],[276,3,276,14],[277,3,277,14],[278,3,278,14],[285,3,285,14],[286,3,286,14],[284,3,284,14],[239,10,239,12],[239,13,239,14],[264,1,264,7],[274,1,274,2],[268,1,268,2],[270,1,270,2],[271,1,271,2],[272,1,272,2],[273,1,273,2],[269,1,269,2],[239,5,239,6],[240,5,240,6],[243,3,243,14],[269,3,269,14],[270,3,270,14],[271,3,271,14],[272,3,272,14],[273,3,273,14],[268,3,268,14],[243,1,244,1],[243,2,244,2],[155,9,155,10],[156,9,156,10],[157,5,157,6],[178,5,178,6],[166,5,166,6],[163,1,163,2],[164,1,164,2],[165,1,165,2],[166,1,166,2],[158,5,158,6],[158,7,158,8],[155,7,155,8],[158,3,158,4],[169,3,169,5],[156,5,156,6],[156,7,156,8],[163,3,163,4],[163,5,163,6],[164,3,164,4],[164,5,164,6],[165,3,165,4],[165,5,165,6],[166,3,166,4],[159,3,159,4],[215,1,215,2],[216,1,216,2],[217,1,217,2],[154,7,154,8],[188,1,188,2],[189,1,189,2],[190,1,190,2],[191,1,191,2],[155,3,155,4],[156,3,156,4],[157,3,157,4],[192,1,192,2],[183,1,183,2],[184,1,184,2],[185,1,185,2],[186,1,186,2],[187,1,187,2],[180,8,180,11],[179,8,179,11],[190,3,190,4],[191,3,191,4],[190,5,190,6],[191,5,191,6],[192,5,192,6],[215,3,215,5],[216,3,216,5],[217,3,217,5],[2,1,2,13],[235,13,235,14],[236,13,236,14],[237,13,237,14],[236,10,236,12],[235,10,235,12],[158,9,158,10],[159,5,159,6],[159,7,159,8],[159,9,159,10],[202,4,202,6],[203,4,203,6],[237,10,237,12],[186,5,186,6],[187,5,187,6],[188,5,188,6],[189,5,189,6],[157,7,157,8],[157,9,157,10],[154,9,154,10],[218,3,218,5]]}
[null,"Minnesota Climate Calculator: Project Summary Report",null,null,null,null,null,null,null,null,null,null,"Date Prepared:",{"$f":"TODAY()","v":"2026-02-23"}]
[]
[null,"The results shown below were generated using the Minnesota Climate Calculator. The emissions quantified account for the full greenhouse gas impact of a potential project throughout the construction and operational phases of the project. This includes emissions from project activities that occur on-site as well as emissions that occur upstream and downstream of the project. The results are based on user inputs and assumptions; actual project emissions may vary."]
["x","Background Information"]
[]
[null,"Project Name",null,{"$f":"IF(ISBLANK('Project Background'!D8),\"\",'Project Background'!D8)","v":""}]
[null,"Project Category (primary)",null,{"$f":"IF(ISBLANK('Project Background'!D9),\"\",'Project Background'!D9)","v":""}]
[null,"Project Category (secondary)",null,{"$f":"IF(ISBLANK('Project Background'!D10),\"\",'Project Background'!D10)","v":""}]
[null,"Location (County)",null,{"$f":"IF(ISBLANK('Project Background'!D11),\"\",'Project Background'!D11)","v":""}]
[null,"Construction Start Date",null,{"$f":"IF(ISBLANK('Project Background'!D13),\"\",'Project Background'!D13)","v":""}]
[null,"Operational Year ",null,{"$f":"IF(ISBLANK('Project Background'!D14),\"\",'Project Background'!D14)","v":""}]
[null,"Operational Lifetime (Years) ",null,{"$f":"IF(ISBLANK('Project Background'!D15),\"\",'Project Background'!D15)","v":""}]
[]
[null,"Electricity Provider",null,{"$f":"'Project Background'!D24","v":"Grid Average"}]
[null,"Portion of Building Electricity Consumption to be Generated On-Site via Renewables or Supplied through the Purchase of Renewable Energy Credits (RECs)",null,null,null,null,null,null,null,null,null,null,null,{"$f":"'Project Background'!H25","v":0}]
[null,"Portion of Building Natural Gas Consumption to be Supplied from Renewable Sources",null,null,null,null,null,null,null,null,null,null,null,{"$f":"'Project Background'!H27","v":0}]
[]
[null,"Building Construction Project?",null,null,{"$f":"'Project Background'!H13","v":0}]
[]
[null,"Construction Stage",null,"Duration (Days)",null,null,null,"Total Project Acreage",null,null,{"$f":"'Project Background'!D17","v":0}]
[null,"Demolition",null,{"$f":"'Project Background'!G16","v":0},null,null,null,"Residential Building Area (sq ft)",null,null,{"$f":"'Project Background'!D18","v":0}]
[null,"Site Preparation",null,{"$f":"'Project Background'!G17","v":0},null,null,null,"Commercial Building Area (sq ft)",null,null,{"$f":"'Project Background'!D19","v":0}]
[null,"Grading",null,{"$f":"'Project Background'!G18","v":0},null,null,null,"Industrial Building Area (sq ft)",null,null,{"$f":"'Project Background'!D20","v":0}]
[null,"Building Construction",null,{"$f":"'Project Background'!G19","v":0},null,null,null,"Institutional Building Area (sq ft)",null,null,{"$f":"'Project Background'!D21","v":0}]
[null,"Architectural Coatings",null,{"$f":"'Project Background'!G20","v":0},null,null,null,"Other Building Area (sq ft)",null,null,{"$f":"'Project Background'!D22","v":0}]
[null,"Paving and Landscaping",null,{"$f":"'Project Background'!G21","v":0}]
[]
["x","Summary Results",null,"**Results may be incomplete due to missing user inputs**"]
[]
[null,"Project Lifetime",{"$f":"Results!G8","v":0}]
[null,"Unit",{"$f":"Results!C8","v":"tons"}]
[]
[null,"Phase",null,"CO2e Emissions "]
[null,null,null,"Cumulative",null,"Annualized"]
[null,{"$f":"Results!B11","v":"Construction"}]
[null,{"$f":"Results!B12","v":"Material inputs"},null,{"$f":"IF('Project Background'!G38=\"No\",\"NA\",Results!H12)","v":0},null,{"$f":"IF('Project Background'!G38=\"No\",\"NA\",Results!J12)","v":0}]
[null,{"$f":"Results!B13","v":"Transportation of material inputs "},null,{"$f":"IF('Project Background'!G38=\"No\",\"NA\",Results!H13)","v":0},null,{"$f":"IF('Project Background'!G38=\"No\",\"NA\",Results!J13)","v":0}]
[null,{"$f":"Results!B14","v":"Employee commuting"},null,{"$f":"IF('Project Background'!G40=\"No\",\"NA\",Results!H14)","v":0},null,{"$f":"IF('Project Background'!G40=\"No\",\"NA\",Results!J14)","v":0}]
[null,{"$f":"Results!B15","v":"Construction equipment"},null,{"$f":"IF('Project Background'!G41=\"No\",\"NA\",Results!H15)","v":0},null,{"$f":"IF('Project Background'!G41=\"No\",\"NA\",Results!J15)","v":0}]
[null,{"$f":"Results!B16","v":"Land use change (construction)"},null,{"$f":"IF('Project Background'!G42=\"No\",\"NA\",Results!H16)","v":0},null,{"$f":"IF('Project Background'!G42=\"No\",\"NA\",Results!J16)","v":0}]
[null,{"$f":"Results!B17","v":"Construction waste"},null,{"$f":"IF('Project Background'!G43=\"No\",\"NA\",Results!H17)","v":0},null,{"$f":"IF('Project Background'!G43=\"No\",\"NA\",Results!J17)","v":0}]
[null,{"$f":"Results!B18","v":"Operation"}]
[null,{"$f":"Results!B19","v":"Building energy consumption"},null,{"$f":"IF('Project Background'!G44=\"No\",\"NA\",Results!H19)","v":0},null,{"$f":"IF('Project Background'!G44=\"No\",\"NA\",Results!J19)","v":0}]
[null,{"$f":"Results!B20","v":"Coal production"},null,{"$f":"IF('Project Background'!G45=\"No\",\"NA\",Results!H20)","v":0},null,{"$f":"IF('Project Background'!G45=\"No\",\"NA\",Results!J20)","v":0}]
[null,{"$f":"Results!B21","v":"Natural gas and oil products"},null,{"$f":"IF('Project Background'!G46=\"No\",\"NA\",Results!H21)","v":0},null,{"$f":"IF('Project Background'!G46=\"No\",\"NA\",Results!J21)","v":0}]
[null,{"$f":"Results!B22","v":"Industrial processes"},null,{"$f":"IF('Project Background'!G47=\"No\",\"NA\",Results!H22)","v":0},null,{"$f":"IF('Project Background'!G47=\"No\",\"NA\",Results!J22)","v":0}]
[null,{"$f":"Results!B23","v":"HFC leakage"},null,{"$f":"IF('Project Background'!G48=\"No\",\"NA\",Results!H23)","v":0},null,{"$f":"IF('Project Background'!G48=\"No\",\"NA\",Results!J23)","v":0}]
[null,{"$f":"Results!B24","v":"Land use change (operations)"},null,{"$f":"IF('Project Background'!G49=\"No\",\"NA\",Results!H24)","v":0},null,{"$f":"IF('Project Background'!G49=\"No\",\"NA\",Results!J24)","v":0}]
[null,{"$f":"Results!B25","v":"On-road vehicles"},null,{"$f":"IF('Project Background'!G50=\"No\",\"NA\",Results!H25)","v":0},null,{"$f":"IF('Project Background'!G50=\"No\",\"NA\",Results!J25)","v":0}]
[null,{"$f":"Results!B26","v":"Treatment of waste on-site"},null,{"$f":"IF('Project Background'!G51=\"No\",\"NA\",Results!H26)","v":0},null,{"$f":"IF('Project Background'!G51=\"No\",\"NA\",Results!J26)","v":0}]
[null,{"$f":"Results!B27","v":"Treatment of wastewater on-site"},null,{"$f":"IF('Project Background'!G52=\"No\",\"NA\",Results!H27)","v":0},null,{"$f":"IF('Project Background'!G52=\"No\",\"NA\",Results!J27)","v":0}]
[null,{"$f":"Results!B28","v":"Treatment of waste off-site"},null,{"$f":"IF('Project Background'!G53=\"No\",\"NA\",Results!H28)","v":0},null,{"$f":"IF('Project Background'!G53=\"No\",\"NA\",Results!J28)","v":0}]
[null,{"$f":"Results!B29","v":"Enteric fermentation"},null,{"$f":"IF('Project Background'!G54=\"No\",\"NA\",Results!H29)","v":0},null,{"$f":"IF('Project Background'!G54=\"No\",\"NA\",Results!J29)","v":0}]
[null,{"$f":"Results!B30","v":"Manure management"},null,{"$f":"IF('Project Background'!G54=\"No\",\"NA\",Results!H30)","v":0},null,{"$f":"IF('Project Background'!G54=\"No\",\"NA\",Results!J30)","v":0}]
[null,{"$f":"Results!B31","v":"Total"},null,{"$f":"Results!H31","v":0},null,{"$f":"Results!J31","v":0}]
[null,"Note: NA indicates that emissions were not quantified and/or are not applicable."]
[]
[]
[]
[]
["x","User Inputs"]
[]
[null,"Note: NA indicates that emissions were not quantified and/or activity is not applicable."]
[]
[null,"Material Inputs"]
[null,"Material Type",null,"Quantity","Unit",null,"Geographical Sourcing"]
[null,"Aluminum",null,{"$f":"IF('Project Background'!$G$38=\"No\",\"NA\",'User Inputs'!D15)","v":0},{"$f":"'User Inputs'!E15","v":"Tons"},null,{"$f":"'User Inputs'!F15","v":"Unknown"}]
[null,"Asphalt",null,{"$f":"IF('Project Background'!$G$38=\"No\",\"NA\",'User Inputs'!D16)","v":0},{"$f":"'User Inputs'!E16","v":"Tons"},null,{"$f":"'User Inputs'!F16","v":"Domestic"}]
[null,"Brick",null,{"$f":"IF('Project Background'!$G$38=\"No\",\"NA\",'User Inputs'!D17)","v":0},{"$f":"'User Inputs'!E17","v":"Tons"},null,{"$f":"'User Inputs'!F17","v":"Unknown"}]
[null,"Concrete",null,{"$f":"IF('Project Background'!$G$38=\"No\",\"NA\",'User Inputs'!D18)","v":0},{"$f":"'User Inputs'!E18","v":"Tons"},null,{"$f":"'User Inputs'!F18","v":"Domestic"}]
[null,"Glass",null,{"$f":"IF('Project Background'!$G$38=\"No\",\"NA\",'User Inputs'!D19)","v":0},{"$f":"'User Inputs'!E19","v":"Tons"},null,{"$f":"'User Inputs'!F19","v":"Unknown"}]
[null,"Insulation (residential)",null,{"$f":"IF('Project Background'!$G$38=\"No\",\"NA\",'User Inputs'!D20)","v":0},{"$f":"'User Inputs'!E20","v":"Tons"},null,{"$f":"'User Inputs'!F20","v":"Unknown"}]
[null,"Insulation (commercial)",null,{"$f":"IF('Project Background'!$G$38=\"No\",\"NA\",'User Inputs'!D21)","v":0},{"$f":"'User Inputs'!E21","v":"Tons"},null,{"$f":"'User Inputs'!F21","v":"Unknown"}]
[null,"Steel",null,{"$f":"IF('Project Background'!$G$38=\"No\",\"NA\",'User Inputs'!D22)","v":0},{"$f":"'User Inputs'!E22","v":"Tons"},null,{"$f":"'User Inputs'!F22","v":"Unknown"}]
[null,"Wood Products",null,{"$f":"IF('Project Background'!$G$38=\"No\",\"NA\",'User Inputs'!D23)","v":0},{"$f":"'User Inputs'!E23","v":"Tons"},null,{"$f":"'User Inputs'!F23","v":"Unknown"}]
[]
[null,"Employee Commuting"]
[null,"Construction Stage",null,"Daily Average Number of Employees Commuting",null,null,null,null,"Transportation Mode",null,"Percent of Employees"]
[null,"Demolition",null,{"$f":"IF('Project Background'!$G$40=\"No\",\"NA\",'User Inputs'!D30)","v":0},null,null,null,null,"Single Occupancy Vehicle",null,{"$f":"IF('Project Background'!$G$40=\"No\",\"NA\",'User Inputs'!D41)","v":0}]
[null,"Site Preparation",null,{"$f":"IF('Project Background'!$G$40=\"No\",\"NA\",'User Inputs'!D31)","v":0},null,null,null,null,"Carpool",null,{"$f":"IF('Project Background'!$G$40=\"No\",\"NA\",'User Inputs'!D42)","v":0}]
[null,"Grading",null,{"$f":"IF('Project Background'!$G$40=\"No\",\"NA\",'User Inputs'!D32)","v":0},null,null,null,null,"Motorcycle",null,{"$f":"IF('Project Background'!$G$40=\"No\",\"NA\",'User Inputs'!D43)","v":0}]
[null,"Building Construction",null,{"$f":"IF('Project Background'!$G$40=\"No\",\"NA\",'User Inputs'!D33)","v":0},null,null,null,null,"Bus",null,{"$f":"IF('Project Background'!$G$40=\"No\",\"NA\",'User Inputs'!D44)","v":0}]
[null,"Architectural Coatings",null,{"$f":"IF('Project Background'!$G$40=\"No\",\"NA\",'User Inputs'!D34)","v":0},null,null,null,null,"Transit Rail",null,{"$f":"IF('Project Background'!$G$40=\"No\",\"NA\",'User Inputs'!D45)","v":0}]
[null,"Paving and Landscaping",null,{"$f":"IF('Project Background'!$G$40=\"No\",\"NA\",'User Inputs'!D35)","v":0},null,null,null,null,"Bike/Walk",null,{"$f":"IF('Project Background'!$G$40=\"No\",\"NA\",'User Inputs'!D46)","v":0}]
[]
[null,"Average One-Way Commute Length (miles)",null,null,{"$f":"IF('Project Background'!$G$40=\"No\",\"NA\",'User Inputs'!D38)","v":0}]
[]
[null,"Construction Equipment",null,"Approach:",{"$f":"IF('Project Background'!$G$41=\"No\",\"NA\",'User Inputs'!D52)","v":"Fuel Consumption"}]
[]
[null,"Equipment Type",null,"Fuel Type",null,"Number of Hours per Day by Construction Stage"]
[null,null,null,null,null,"Demolition","Site Preparation","Grading","Building Construction","Architectural Coatings","Paving and Landscaping"]
[null,"Air Compressors",null,{"$f":"'User Inputs'!D61","v":"Diesel"},null,{"$f":"IF(OR(('Project Background'!$G$41=\"No\"),('User Inputs'!$D$52=\"Fuel Consumption\")),\"NA\",'User Inputs'!E61)","v":"NA"},{"$f":"IF(OR(('Project Background'!$G$41=\"No\"),('User Inputs'!$D$52=\"Fuel Consumption\")),\"NA\",'User Inputs'!F61)","v":"NA"},{"$f":"IF(OR(('Project Background'!$G$41=\"No\"),('User Inputs'!$D$52=\"Fuel Consumption\")),\"NA\",'User Inputs'!G61)","v":"NA"},{"$f":"IF(OR(('Project Background'!$G$41=\"No\"),('User Inputs'!$D$52=\"Fuel Consumption\")),\"NA\",'User Inputs'!H61)","v":"NA"},{"$f":"IF(OR(('Project Background'!$G$41=\"No\"),('User Inputs'!$D$52=\"Fuel Consumption\")),\"NA\",'User Inputs'!I61)","v":"NA"},{"$f":"IF(OR(('Project Background'!$G$41=\"No\"),('User Inputs'!$D$52=\"Fuel Consumption\")),\"NA\",'User Inputs'!J61)","v":"NA"}]
[null,"Cement and Mortar Mixers",null,{"$f":"'User Inputs'!D62","v":"Diesel"},null,{"$f":"IF(OR(('Project Background'!$G$41=\"No\"),('User Inputs'!$D$52=\"Fuel Consumption\")),\"NA\",'User Inputs'!E62)","v":"NA"},{"$f":"IF(OR(('Project Background'!$G$41=\"No\"),('User Inputs'!$D$52=\"Fuel Consumption\")),\"NA\",'User Inputs'!F62)","v":"NA"},{"$f":"IF(OR(('Project Background'!$G$41=\"No\"),('User Inputs'!$D$52=\"Fuel Consumption\")),\"NA\",'User Inputs'!G62)","v":"NA"},{"$f":"IF(OR(('Project Background'!$G$41=\"No\"),('User Inputs'!$D$52=\"Fuel Consumption\")),\"NA\",'User Inputs'!H62)","v":"NA"},{"$f":"IF(OR(('Project Background'!$G$41=\"No\"),('User Inputs'!$D$52=\"Fuel Consumption\")),\"NA\",'User Inputs'!I62)","v":"NA"},{"$f":"IF(OR(('Project Background'!$G$41=\"No\"),('User Inputs'!$D$52=\"Fuel Consumption\")),\"NA\",'User Inputs'!J62)","v":"NA"}]
[null,"Concrete/Industrial Saws",null,{"$f":"'User Inputs'!D63","v":"Diesel"},null,{"$f":"IF(OR(('Project Background'!$G$41=\"No\"),('User Inputs'!$D$52=\"Fuel Consumption\")),\"NA\",'User Inputs'!E63)","v":"NA"},{"$f":"IF(OR(('Project Background'!$G$41=\"No\"),('User Inputs'!$D$52=\"Fuel Consumption\")),\"NA\",'User Inputs'!F63)","v":"NA"},{"$f":"IF(OR(('Project Background'!$G$41=\"No\"),('User Inputs'!$D$52=\"Fuel Consumption\")),\"NA\",'User Inputs'!G63)","v":"NA"},{"$f":"IF(OR(('Project Background'!$G$41=\"No\"),('User Inputs'!$D$52=\"Fuel Consumption\")),\"NA\",'User Inputs'!H63)","v":"NA"},{"$f":"IF(OR(('Project Background'!$G$41=\"No\"),('User Inputs'!$D$52=\"Fuel Consumption\")),\"NA\",'User Inputs'!I63)","v":"NA"},{"$f":"IF(OR(('Project Background'!$G$41=\"No\"),('User Inputs'!$D$52=\"Fuel Consumption\")),\"NA\",'User Inputs'!J63)","v":"NA"}]
[null,"Cranes",null,{"$f":"'User Inputs'!D64","v":"Diesel"},null,{"$f":"IF(OR(('Project Background'!$G$41=\"No\"),('User Inputs'!$D$52=\"Fuel Consumption\")),\"NA\",'User Inputs'!E64)","v":"NA"},{"$f":"IF(OR(('Project Background'!$G$41=\"No\"),('User Inputs'!$D$52=\"Fuel Consumption\")),\"NA\",'User Inputs'!F64)","v":"NA"},{"$f":"IF(OR(('Project Background'!$G$41=\"No\"),('User Inputs'!$D$52=\"Fuel Consumption\")),\"NA\",'User Inputs'!G64)","v":"NA"},{"$f":"IF(OR(('Project Background'!$G$41=\"No\"),('User Inputs'!$D$52=\"Fuel Consumption\")),\"NA\",'User Inputs'!H64)","v":"NA"},{"$f":"IF(OR(('Project Background'!$G$41=\"No\"),('User Inputs'!$D$52=\"Fuel Consumption\")),\"NA\",'User Inputs'!I64)","v":"NA"},{"$f":"IF(OR(('Project Background'!$G$41=\"No\"),('User Inputs'!$D$52=\"Fuel Consumption\")),\"NA\",'User Inputs'!J64)","v":"NA"}]
[null,"Excavators",null,{"$f":"'User Inputs'!D65","v":"Diesel"},null,{"$f":"IF(OR(('Project Background'!$G$41=\"No\"),('User Inputs'!$D$52=\"Fuel Consumption\")),\"NA\",'User Inputs'!E65)","v":"NA"},{"$f":"IF(OR(('Project Background'!$G$41=\"No\"),('User Inputs'!$D$52=\"Fuel Consumption\")),\"NA\",'User Inputs'!F65)","v":"NA"},{"$f":"IF(OR(('Project Background'!$G$41=\"No\"),('User Inputs'!$D$52=\"Fuel Consumption\")),\"NA\",'User Inputs'!G65)","v":"NA"},{"$f":"IF(OR(('Project Background'!$G$41=\"No\"),('User Inputs'!$D$52=\"Fuel Consumption\")),\"NA\",'User Inputs'!H65)","v":"NA"},{"$f":"IF(OR(('Project Background'!$G$41=\"No\"),('User Inputs'!$D$52=\"Fuel Consumption\")),\"NA\",'User Inputs'!I65)","v":"NA"},{"$f":"IF(OR(('Project Background'!$G$41=\"No\"),('User Inputs'!$D$52=\"Fuel Consumption\")),\"NA\",'User Inputs'!J65)","v":"NA"}]
[null,"Forklifts",null,{"$f":"'User Inputs'!D66","v":"Diesel"},null,{"$f":"IF(OR(('Project Background'!$G$41=\"No\"),('User Inputs'!$D$52=\"Fuel Consumption\")),\"NA\",'User Inputs'!E66)","v":"NA"},{"$f":"IF(OR(('Project Background'!$G$41=\"No\"),('User Inputs'!$D$52=\"Fuel Consumption\")),\"NA\",'User Inputs'!F66)","v":"NA"},{"$f":"IF(OR(('Project Background'!$G$41=\"No\"),('User Inputs'!$D$52=\"Fuel Consumption\")),\"NA\",'User Inputs'!G66)","v":"NA"},{"$f":"IF(OR(('Project Background'!$G$41=\"No\"),('User Inputs'!$D$52=\"Fuel Consumption\")),\"NA\",'User Inputs'!H66)","v":"NA"},{"$f":"IF(OR(('Project Background'!$G$41=\"No\"),('User Inputs'!$D$52=\"Fuel Consumption\")),\"NA\",'User Inputs'!I66)","v":"NA"},{"$f":"IF(OR(('Project Background'!$G$41=\"No\"),('User Inputs'!$D$52=\"Fuel Consumption\")),\"NA\",'User Inputs'!J66)","v":"NA"}]
[null,"Generator Sets",null,{"$f":"'User Inputs'!D67","v":"Diesel"},null,{"$f":"IF(OR(('Project Background'!$G$41=\"No\"),('User Inputs'!$D$52=\"Fuel Consumption\")),\"NA\",'User Inputs'!E67)","v":"NA"},{"$f":"IF(OR(('Project Background'!$G$41=\"No\"),('User Inputs'!$D$52=\"Fuel Consumption\")),\"NA\",'User Inputs'!F67)","v":"NA"},{"$f":"IF(OR(('Project Background'!$G$41=\"No\"),('User Inputs'!$D$52=\"Fuel Consumption\")),\"NA\",'User Inputs'!G67)","v":"NA"},{"$f":"IF(OR(('Project Background'!$G$41=\"No\"),('User Inputs'!$D$52=\"Fuel Consumption\")),\"NA\",'User Inputs'!H67)","v":"NA"},{"$f":"IF(OR(('Project Background'!$G$41=\"No\"),('User Inputs'!$D$52=\"Fuel Consumption\")),\"NA\",'User Inputs'!I67)","v":"NA"},{"$f":"IF(OR(('Project Background'!$G$41=\"No\"),('User Inputs'!$D$52=\"Fuel Consumption\")),\"NA\",'User Inputs'!J67)","v":"NA"}]
[null,"Graders",null,{"$f":"'User Inputs'!D68","v":"Diesel"},null,{"$f":"IF(OR(('Project Background'!$G$41=\"No\"),('User Inputs'!$D$52=\"Fuel Consumption\")),\"NA\",'User Inputs'!E68)","v":"NA"},{"$f":"IF(OR(('Project Background'!$G$41=\"No\"),('User Inputs'!$D$52=\"Fuel Consumption\")),\"NA\",'User Inputs'!F68)","v":"NA"},{"$f":"IF(OR(('Project Background'!$G$41=\"No\"),('User Inputs'!$D$52=\"Fuel Consumption\")),\"NA\",'User Inputs'!G68)","v":"NA"},{"$f":"IF(OR(('Project Background'!$G$41=\"No\"),('User Inputs'!$D$52=\"Fuel Consumption\")),\"NA\",'User Inputs'!H68)","v":"NA"},{"$f":"IF(OR(('Project Background'!$G$41=\"No\"),('User Inputs'!$D$52=\"Fuel Consumption\")),\"NA\",'User Inputs'!I68)","v":"NA"},{"$f":"IF(OR(('Project Background'!$G$41=\"No\"),('User Inputs'!$D$52=\"Fuel Consumption\")),\"NA\",'User Inputs'!J68)","v":"NA"}]
[null,"Pavers",null,{"$f":"'User Inputs'!D69","v":"Diesel"},null,{"$f":"IF(OR(('Project Background'!$G$41=\"No\"),('User Inputs'!$D$52=\"Fuel Consumption\")),\"NA\",'User Inputs'!E69)","v":"NA"},{"$f":"IF(OR(('Project Background'!$G$41=\"No\"),('User Inputs'!$D$52=\"Fuel Consumption\")),\"NA\",'User Inputs'!F69)","v":"NA"},{"$f":"IF(OR(('Project Background'!$G$41=\"No\"),('User Inputs'!$D$52=\"Fuel Consumption\")),\"NA\",'User Inputs'!G69)","v":"NA"},{"$f":"IF(OR(('Project Background'!$G$41=\"No\"),('User Inputs'!$D$52=\"Fuel Consumption\")),\"NA\",'User Inputs'!H69)","v":"NA"},{"$f":"IF(OR(('Project Background'!$G$41=\"No\"),('User Inputs'!$D$52=\"Fuel Consumption\")),\"NA\",'User Inputs'!I69)","v":"NA"},{"$f":"IF(OR(('Project Background'!$G$41=\"No\"),('User Inputs'!$D$52=\"Fuel Consumption\")),\"NA\",'User Inputs'!J69)","v":"NA"}]
[null,"Paving Equipment",null,{"$f":"'User Inputs'!D70","v":"Diesel"},null,{"$f":"IF(OR(('Project Background'!$G$41=\"No\"),('User Inputs'!$D$52=\"Fuel Consumption\")),\"NA\",'User Inputs'!E70)","v":"NA"},{"$f":"IF(OR(('Project Background'!$G$41=\"No\"),('User Inputs'!$D$52=\"Fuel Consumption\")),\"NA\",'User Inputs'!F70)","v":"NA"},{"$f":"IF(OR(('Project Background'!$G$41=\"No\"),('User Inputs'!$D$52=\"Fuel Consumption\")),\"NA\",'User Inputs'!G70)","v":"NA"},{"$f":"IF(OR(('Project Background'!$G$41=\"No\"),('User Inputs'!$D$52=\"Fuel Consumption\")),\"NA\",'User Inputs'!H70)","v":"NA"},{"$f":"IF(OR(('Project Background'!$G$41=\"No\"),('User Inputs'!$D$52=\"Fuel Consumption\")),\"NA\",'User Inputs'!I70)","v":"NA"},{"$f":"IF(OR(('Project Background'!$G$41=\"No\"),('User Inputs'!$D$52=\"Fuel Consumption\")),\"NA\",'User Inputs'!J70)","v":"NA"}]
[null,"Rollers",null,{"$f":"'User Inputs'!D71","v":"Diesel"},null,{"$f":"IF(OR(('Project Background'!$G$41=\"No\"),('User Inputs'!$D$52=\"Fuel Consumption\")),\"NA\",'User Inputs'!E71)","v":"NA"},{"$f":"IF(OR(('Project Background'!$G$41=\"No\"),('User Inputs'!$D$52=\"Fuel Consumption\")),\"NA\",'User Inputs'!F71)","v":"NA"},{"$f":"IF(OR(('Project Background'!$G$41=\"No\"),('User Inputs'!$D$52=\"Fuel Consumption\")),\"NA\",'User Inputs'!G71)","v":"NA"},{"$f":"IF(OR(('Project Background'!$G$41=\"No\"),('User Inputs'!$D$52=\"Fuel Consumption\")),\"NA\",'User Inputs'!H71)","v":"NA"},{"$f":"IF(OR(('Project Background'!$G$41=\"No\"),('User Inputs'!$D$52=\"Fuel Consumption\")),\"NA\",'User Inputs'!I71)","v":"NA"},{"$f":"IF(OR(('Project Background'!$G$41=\"No\"),('User Inputs'!$D$52=\"Fuel Consumption\")),\"NA\",'User Inputs'!J71)","v":"NA"}]
[null,"Rubber Tired Dozers",null,{"$f":"'User Inputs'!D72","v":"Diesel"},null,{"$f":"IF(OR(('Project Background'!$G$41=\"No\"),('User Inputs'!$D$52=\"Fuel Consumption\")),\"NA\",'User Inputs'!E72)","v":"NA"},{"$f":"IF(OR(('Project Background'!$G$41=\"No\"),('User Inputs'!$D$52=\"Fuel Consumption\")),\"NA\",'User Inputs'!F72)","v":"NA"},{"$f":"IF(OR(('Project Background'!$G$41=\"No\"),('User Inputs'!$D$52=\"Fuel Consumption\")),\"NA\",'User Inputs'!G72)","v":"NA"},{"$f":"IF(OR(('Project Background'!$G$41=\"No\"),('User Inputs'!$D$52=\"Fuel Consumption\")),\"NA\",'User Inputs'!H72)","v":"NA"},{"$f":"IF(OR(('Project Background'!$G$41=\"No\"),('User Inputs'!$D$52=\"Fuel Consumption\")),\"NA\",'User Inputs'!I72)","v":"NA"},{"$f":"IF(OR(('Project Background'!$G$41=\"No\"),('User Inputs'!$D$52=\"Fuel Consumption\")),\"NA\",'User Inputs'!J72)","v":"NA"}]
[null,"Scrapers",null,{"$f":"'User Inputs'!D73","v":"Diesel"},null,{"$f":"IF(OR(('Project Background'!$G$41=\"No\"),('User Inputs'!$D$52=\"Fuel Consumption\")),\"NA\",'User Inputs'!E73)","v":"NA"},{"$f":"IF(OR(('Project Background'!$G$41=\"No\"),('User Inputs'!$D$52=\"Fuel Consumption\")),\"NA\",'User Inputs'!F73)","v":"NA"},{"$f":"IF(OR(('Project Background'!$G$41=\"No\"),('User Inputs'!$D$52=\"Fuel Consumption\")),\"NA\",'User Inputs'!G73)","v":"NA"},{"$f":"IF(OR(('Project Background'!$G$41=\"No\"),('User Inputs'!$D$52=\"Fuel Consumption\")),\"NA\",'User Inputs'!H73)","v":"NA"},{"$f":"IF(OR(('Project Background'!$G$41=\"No\"),('User Inputs'!$D$52=\"Fuel Consumption\")),\"NA\",'User Inputs'!I73)","v":"NA"},{"$f":"IF(OR(('Project Background'!$G$41=\"No\"),('User Inputs'!$D$52=\"Fuel Consumption\")),\"NA\",'User Inputs'!J73)","v":"NA"}]
[null,"Tractors/Loaders/Backhoes",null,{"$f":"'User Inputs'!D74","v":"Diesel"},null,{"$f":"IF(OR(('Project Background'!$G$41=\"No\"),('User Inputs'!$D$52=\"Fuel Consumption\")),\"NA\",'User Inputs'!E74)","v":"NA"},{"$f":"IF(OR(('Project Background'!$G$41=\"No\"),('User Inputs'!$D$52=\"Fuel Consumption\")),\"NA\",'User Inputs'!F74)","v":"NA"},{"$f":"IF(OR(('Project Background'!$G$41=\"No\"),('User Inputs'!$D$52=\"Fuel Consumption\")),\"NA\",'User Inputs'!G74)","v":"NA"},{"$f":"IF(OR(('Project Background'!$G$41=\"No\"),('User Inputs'!$D$52=\"Fuel Consumption\")),\"NA\",'User Inputs'!H74)","v":"NA"},{"$f":"IF(OR(('Project Background'!$G$41=\"No\"),('User Inputs'!$D$52=\"Fuel Consumption\")),\"NA\",'User Inputs'!I74)","v":"NA"},{"$f":"IF(OR(('Project Background'!$G$41=\"No\"),('User Inputs'!$D$52=\"Fuel Consumption\")),\"NA\",'User Inputs'!J74)","v":"NA"}]
[null,"Welders",null,{"$f":"'User Inputs'!D75","v":"Diesel"},null,{"$f":"IF(OR(('Project Background'!$G$41=\"No\"),('User Inputs'!$D$52=\"Fuel Consumption\")),\"NA\",'User Inputs'!E75)","v":"NA"},{"$f":"IF(OR(('Project Background'!$G$41=\"No\"),('User Inputs'!$D$52=\"Fuel Consumption\")),\"NA\",'User Inputs'!F75)","v":"NA"},{"$f":"IF(OR(('Project Background'!$G$41=\"No\"),('User Inputs'!$D$52=\"Fuel Consumption\")),\"NA\",'User Inputs'!G75)","v":"NA"},{"$f":"IF(OR(('Project Background'!$G$41=\"No\"),('User Inputs'!$D$52=\"Fuel Consumption\")),\"NA\",'User Inputs'!H75)","v":"NA"},{"$f":"IF(OR(('Project Background'!$G$41=\"No\"),('User Inputs'!$D$52=\"Fuel Consumption\")),\"NA\",'User Inputs'!I75)","v":"NA"},{"$f":"IF(OR(('Project Background'!$G$41=\"No\"),('User Inputs'!$D$52=\"Fuel Consumption\")),\"NA\",'User Inputs'!J75)","v":"NA"}]
[]
[null,"Fuel Type",null,"Total Consumption",null,"Units"]
[]
[null,"Diesel",null,{"$f":"IF(OR(('Project Background'!$G$41=\"No\"),('User Inputs'!$D$52=\"Equipment Use\")),\"NA\",'User Inputs'!D82)","v":0},null,"Gallons"]
[null,"Electricity",null,{"$f":"IF(OR(('Project Background'!$G$41=\"No\"),('User Inputs'!$D$52=\"Equipment Use\")),\"NA\",'User Inputs'!D83)","v":0},null,"kWh"]
[null,"Biodiesel 100",null,{"$f":"IF(OR(('Project Background'!$G$41=\"No\"),('User Inputs'!$D$52=\"Equipment Use\")),\"NA\",'User Inputs'!D84)","v":0},null,"Gallons"]
[null,"Biodiesel 20",null,{"$f":"IF(OR(('Project Background'!$G$41=\"No\"),('User Inputs'!$D$52=\"Equipment Use\")),\"NA\",'User Inputs'!D85)","v":0},null,"Gallons"]
[null,"Renewable Diesel",null,{"$f":"IF(OR(('Project Background'!$G$41=\"No\"),('User Inputs'!$D$52=\"Equipment Use\")),\"NA\",'User Inputs'!D86)","v":0},null,"Gallons"]
[]
[null,"Land Use Change"]
[null,"Land Use Type",null,null,null,"Acres"]
[null,null,null,null,null,"Pre-Construction ",null,"Post-Construction ",null,"Post-Operation"]
[null,"Wetlands: peatland, non forested",null,null,null,{"$f":"IF('Project Background'!$G$42=\"No\",\"NA\",'User Inputs'!E94)","v":0},null,{"$f":"IF(AND('Project Background'!$G$42=\"No\",'Project Background'!$G$49=\"No\"),\"NA\",'User Inputs'!F94)","v":0},null,{"$f":"IF('Project Background'!$G$49=\"No\",\"NA\",'User Inputs'!F236)","v":0}]
[null,"Wetlands: peatland, forested",null,null,null,{"$f":"IF('Project Background'!$G$42=\"No\",\"NA\",'User Inputs'!E95)","v":0},null,{"$f":"IF(AND('Project Background'!$G$42=\"No\",'Project Background'!$G$49=\"No\"),\"NA\",'User Inputs'!F95)","v":0},null,{"$f":"IF('Project Background'!$G$49=\"No\",\"NA\",'User Inputs'!F237)","v":0}]
[null,"Wetlands: mineral soil, non forested",null,null,null,{"$f":"IF('Project Background'!$G$42=\"No\",\"NA\",'User Inputs'!E96)","v":0},null,{"$f":"IF(AND('Project Background'!$G$42=\"No\",'Project Background'!$G$49=\"No\"),\"NA\",'User Inputs'!F96)","v":0},null,{"$f":"IF('Project Background'!$G$49=\"No\",\"NA\",'User Inputs'!F238)","v":0}]
[null,"Wetlands: mineral soil, forested",null,null,null,{"$f":"IF('Project Background'!$G$42=\"No\",\"NA\",'User Inputs'!E97)","v":0},null,{"$f":"IF(AND('Project Background'!$G$42=\"No\",'Project Background'!$G$49=\"No\"),\"NA\",'User Inputs'!F97)","v":0},null,{"$f":"IF('Project Background'!$G$49=\"No\",\"NA\",'User Inputs'!F239)","v":0}]
[null,"Forest ",null,null,null,{"$f":"IF('Project Background'!$G$42=\"No\",\"NA\",'User Inputs'!E98)","v":0},null,{"$f":"IF(AND('Project Background'!$G$42=\"No\",'Project Background'!$G$49=\"No\"),\"NA\",'User Inputs'!F98)","v":0},null,{"$f":"IF('Project Background'!$G$49=\"No\",\"NA\",'User Inputs'!F240)","v":0}]
[null,"Rivers and streams",null,null,null,{"$f":"IF('Project Background'!$G$42=\"No\",\"NA\",'User Inputs'!E99)","v":0},null,{"$f":"IF(AND('Project Background'!$G$42=\"No\",'Project Background'!$G$49=\"No\"),\"NA\",'User Inputs'!F99)","v":0},null,{"$f":"IF('Project Background'!$G$49=\"No\",\"NA\",'User Inputs'!F241)","v":0}]
[null,"Brush and grassland",null,null,null,{"$f":"IF('Project Background'!$G$42=\"No\",\"NA\",'User Inputs'!E100)","v":0},null,{"$f":"IF(AND('Project Background'!$G$42=\"No\",'Project Background'!$G$49=\"No\"),\"NA\",'User Inputs'!F100)","v":0},null,{"$f":"IF('Project Background'!$G$49=\"No\",\"NA\",'User Inputs'!F242)","v":0}]
[null,"Cropland",null,null,null,{"$f":"IF('Project Background'!$G$42=\"No\",\"NA\",'User Inputs'!E101)","v":0},null,{"$f":"IF(AND('Project Background'!$G$42=\"No\",'Project Background'!$G$49=\"No\"),\"NA\",'User Inputs'!F101)","v":0},null,{"$f":"IF('Project Background'!$G$49=\"No\",\"NA\",'User Inputs'!F243)","v":0}]
[null,"Livestock rangeland/pastureland",null,null,null,{"$f":"IF('Project Background'!$G$42=\"No\",\"NA\",'User Inputs'!E102)","v":0},null,{"$f":"IF(AND('Project Background'!$G$42=\"No\",'Project Background'!$G$49=\"No\"),\"NA\",'User Inputs'!F102)","v":0},null,{"$f":"IF('Project Background'!$G$49=\"No\",\"NA\",'User Inputs'!F244)","v":0}]
[null,"Lawn/landscaping",null,null,null,{"$f":"IF('Project Background'!$G$42=\"No\",\"NA\",'User Inputs'!E103)","v":0},null,{"$f":"IF(AND('Project Background'!$G$42=\"No\",'Project Background'!$G$49=\"No\"),\"NA\",'User Inputs'!F103)","v":0},null,{"$f":"IF('Project Background'!$G$49=\"No\",\"NA\",'User Inputs'!F245)","v":0}]
[null,"Green Infrastructure: Constructed wetlands, paved",null,null,null,{"$f":"IF('Project Background'!$G$42=\"No\",\"NA\",'User Inputs'!E104)","v":0},null,{"$f":"IF(AND('Project Background'!$G$42=\"No\",'Project Background'!$G$49=\"No\"),\"NA\",'User Inputs'!F104)","v":0},null,{"$f":"IF('Project Background'!$G$49=\"No\",\"NA\",'User Inputs'!F246)","v":0}]
[null,"Green Infrastructure: Constructed wetlands, vegetated",null,null,null,{"$f":"IF('Project Background'!$G$42=\"No\",\"NA\",'User Inputs'!E105)","v":0},null,{"$f":"IF(AND('Project Background'!$G$42=\"No\",'Project Background'!$G$49=\"No\"),\"NA\",'User Inputs'!F105)","v":0},null,{"$f":"IF('Project Background'!$G$49=\"No\",\"NA\",'User Inputs'!F247)","v":0}]
[null,"Green Infrastructure: Constructed green roofs",null,null,null,{"$f":"IF('Project Background'!$G$42=\"No\",\"NA\",'User Inputs'!E106)","v":0},null,{"$f":"IF(AND('Project Background'!$G$42=\"No\",'Project Background'!$G$49=\"No\"),\"NA\",'User Inputs'!F106)","v":0},null,{"$f":"IF('Project Background'!$G$49=\"No\",\"NA\",'User Inputs'!F248)","v":0}]
[null,"Green Infrastructure: Constructed permeable pavements ",null,null,null,{"$f":"IF('Project Background'!$G$42=\"No\",\"NA\",'User Inputs'!E107)","v":0},null,{"$f":"IF(AND('Project Background'!$G$42=\"No\",'Project Background'!$G$49=\"No\"),\"NA\",'User Inputs'!F107)","v":0},null,{"$f":"IF('Project Background'!$G$49=\"No\",\"NA\",'User Inputs'!F249)","v":0}]
[null,"Impervious surface ",null,null,null,{"$f":"IF('Project Background'!$G$42=\"No\",\"NA\",'User Inputs'!E108)","v":0},null,{"$f":"IF(AND('Project Background'!$G$42=\"No\",'Project Background'!$G$49=\"No\"),\"NA\",'User Inputs'!F108)","v":0},null,{"$f":"IF('Project Background'!$G$49=\"No\",\"NA\",'User Inputs'!F250)","v":0}]
[null,"Stormwater pond (wet sedimentation basin) ",null,null,null,{"$f":"IF('Project Background'!$G$42=\"No\",\"NA\",'User Inputs'!E109)","v":0},null,{"$f":"IF(AND('Project Background'!$G$42=\"No\",'Project Background'!$G$49=\"No\"),\"NA\",'User Inputs'!F109)","v":0},null,{"$f":"IF('Project Background'!$G$49=\"No\",\"NA\",'User Inputs'!F251)","v":0}]
[]
[null,"Trees",null,"Number"]
[null,"Number of mature trees removed",null,{"$f":"IF('Project Background'!$G$42=\"No\",\"NA\",'User Inputs'!E113)","v":0}]
[null,"Number of new trees planted",null,{"$f":"IF('Project Background'!$G$42=\"No\",\"NA\",'User Inputs'!E114)","v":0}]
[]
[null,"Construction Waste"]
[null,"Material Type","Quantity (tons)"]
[null,"Aluminum",{"$f":"IF('Project Background'!$G$43=\"No\",\"NA\",'User Inputs'!D122)","v":0}]
[null,"Asphalt",{"$f":"IF('Project Background'!$G$43=\"No\",\"NA\",'User Inputs'!D123)","v":0}]
[null,"Brick",{"$f":"IF('Project Background'!$G$43=\"No\",\"NA\",'User Inputs'!D124)","v":0}]
[null,"Concrete",{"$f":"IF('Project Background'!$G$43=\"No\",\"NA\",'User Inputs'!D125)","v":0}]
[null,"Glass",{"$f":"IF('Project Background'!$G$43=\"No\",\"NA\",'User Inputs'!D126)","v":0}]
[null,"Insulation",{"$f":"IF('Project Background'!$G$43=\"No\",\"NA\",'User Inputs'!D127)","v":0}]
[null,"Steel",{"$f":"IF('Project Background'!$G$43=\"No\",\"NA\",'User Inputs'!D128)","v":0}]
[null,"Wood Products",{"$f":"IF('Project Background'!$G$43=\"No\",\"NA\",'User Inputs'!D129)","v":0}]
[null,"Mixed Waste",{"$f":"IF('Project Background'!$G$43=\"No\",\"NA\",'User Inputs'!D130)","v":0}]
[]
[null,"Building Energy Consumption",null,"Approach:",null,{"$f":"IF('Project Background'!$G$44=\"No\",\"NA\",'User Inputs'!D137)","v":"Fuel Consumption"}]
[]
[null,"Building Type",null,"Energy Intensity (Btu/sq ft/year)"]
[null,null,null,"Electricity",null,"Natural Gas ",null,"Propane",null,"Kerosene or Fuel Oil"]
[null,"Residential",null,{"$f":"IF(OR(('Project Background'!$G$44=\"No\"),('User Inputs'!$D$137=\"Fuel Consumption\")),\"NA\",'User Inputs'!D145)","v":"NA"},null,{"$f":"IF(OR(('Project Background'!$G$44=\"No\"),('User Inputs'!$D$137=\"Fuel Consumption\")),\"NA\",'User Inputs'!E145)","v":"NA"},null,{"$f":"IF(OR(('Project Background'!$G$44=\"No\"),('User Inputs'!$D$137=\"Fuel Consumption\")),\"NA\",'User Inputs'!F145)","v":"NA"},null,{"$f":"IF(OR(('Project Background'!$G$44=\"No\"),('User Inputs'!$D$137=\"Fuel Consumption\")),\"NA\",'User Inputs'!G145)","v":"NA"}]
[null,"Commercial",null,{"$f":"IF(OR(('Project Background'!$G$44=\"No\"),('User Inputs'!$D$137=\"Fuel Consumption\")),\"NA\",'User Inputs'!D146)","v":"NA"},null,{"$f":"IF(OR(('Project Background'!$G$44=\"No\"),('User Inputs'!$D$137=\"Fuel Consumption\")),\"NA\",'User Inputs'!E146)","v":"NA"},null,{"$f":"IF(OR(('Project Background'!$G$44=\"No\"),('User Inputs'!$D$137=\"Fuel Consumption\")),\"NA\",'User Inputs'!F146)","v":"NA"},null,{"$f":"IF(OR(('Project Background'!$G$44=\"No\"),('User Inputs'!$D$137=\"Fuel Consumption\")),\"NA\",'User Inputs'!G146)","v":"NA"}]
[null,"Industrial",null,{"$f":"IF(OR(('Project Background'!$G$44=\"No\"),('User Inputs'!$D$137=\"Fuel Consumption\")),\"NA\",'User Inputs'!D147)","v":"NA"},null,{"$f":"IF(OR(('Project Background'!$G$44=\"No\"),('User Inputs'!$D$137=\"Fuel Consumption\")),\"NA\",'User Inputs'!E147)","v":"NA"},null,{"$f":"IF(OR(('Project Background'!$G$44=\"No\"),('User Inputs'!$D$137=\"Fuel Consumption\")),\"NA\",'User Inputs'!F147)","v":"NA"},null,{"$f":"IF(OR(('Project Background'!$G$44=\"No\"),('User Inputs'!$D$137=\"Fuel Consumption\")),\"NA\",'User Inputs'!G147)","v":"NA"}]
[null,"Institutional",null,{"$f":"IF(OR(('Project Background'!$G$44=\"No\"),('User Inputs'!$D$137=\"Fuel Consumption\")),\"NA\",'User Inputs'!D148)","v":"NA"},null,{"$f":"IF(OR(('Project Background'!$G$44=\"No\"),('User Inputs'!$D$137=\"Fuel Consumption\")),\"NA\",'User Inputs'!E148)","v":"NA"},null,{"$f":"IF(OR(('Project Background'!$G$44=\"No\"),('User Inputs'!$D$137=\"Fuel Consumption\")),\"NA\",'User Inputs'!F148)","v":"NA"},null,{"$f":"IF(OR(('Project Background'!$G$44=\"No\"),('User Inputs'!$D$137=\"Fuel Consumption\")),\"NA\",'User Inputs'!G148)","v":"NA"}]
[null,"Other",null,{"$f":"IF(OR(('Project Background'!$G$44=\"No\"),('User Inputs'!$D$137=\"Fuel Consumption\")),\"NA\",'User Inputs'!D149)","v":"NA"},null,{"$f":"IF(OR(('Project Background'!$G$44=\"No\"),('User Inputs'!$D$137=\"Fuel Consumption\")),\"NA\",'User Inputs'!E149)","v":"NA"},null,{"$f":"IF(OR(('Project Background'!$G$44=\"No\"),('User Inputs'!$D$137=\"Fuel Consumption\")),\"NA\",'User Inputs'!F149)","v":"NA"},null,{"$f":"IF(OR(('Project Background'!$G$44=\"No\"),('User Inputs'!$D$137=\"Fuel Consumption\")),\"NA\",'User Inputs'!G149)","v":"NA"}]
[]
[null,"Fuel Type",null,"Fuel Consumption\n(units/year)",null,"Unit"]
[]
[null,"Electricity",null,{"$f":"IF(OR(('Project Background'!$G$44=\"No\"),('User Inputs'!$D$137=\"Energy Intensity\")),\"NA\",'User Inputs'!D156)","v":0},null,"kWh"]
[null,"Natural Gas ",null,{"$f":"IF(OR(('Project Background'!$G$44=\"No\"),('User Inputs'!$D$137=\"Energy Intensity\")),\"NA\",'User Inputs'!D157)","v":0},null,"Cubic feet"]
[null,"Propane",null,{"$f":"IF(OR(('Project Background'!$G$44=\"No\"),('User Inputs'!$D$137=\"Energy Intensity\")),\"NA\",'User Inputs'!D158)","v":0},null,"Gallons"]
[null,"Kerosene or Fuel Oil",null,{"$f":"IF(OR(('Project Background'!$G$44=\"No\"),('User Inputs'!$D$137=\"Energy Intensity\")),\"NA\",'User Inputs'!D159)","v":0},null,"Gallons"]
[]
[null,"Emissions from Coal Production"]
[null,"Coal Type",null,"Incremental Production (tons/year)"]
[null,{"$f":"'User Inputs'!C165","v":"Mixed Coal"},null,{"$f":"IF('Project Background'!$G$45=\"No\",\"NA\",'User Inputs'!D165)","v":0}]
[null,{"$f":"'User Inputs'!C166","v":"Anthracite Coal"},null,{"$f":"IF('Project Background'!$G$45=\"No\",\"NA\",'User Inputs'!D166)","v":0}]
[null,{"$f":"'User Inputs'!C167","v":"Bituminous Coal"},null,{"$f":"IF('Project Background'!$G$45=\"No\",\"NA\",'User Inputs'!D167)","v":0}]
[null,{"$f":"'User Inputs'!C168","v":"Subbituminous Coal"},null,{"$f":"IF('Project Background'!$G$45=\"No\",\"NA\",'User Inputs'!D168)","v":0}]
[null,{"$f":"'User Inputs'!C169","v":"Lignite Coal"},null,{"$f":"IF('Project Background'!$G$45=\"No\",\"NA\",'User Inputs'!D169)","v":0}]
[null,{"$f":"'User Inputs'!C170","v":"Coal Coke"},null,{"$f":"IF('Project Background'!$G$45=\"No\",\"NA\",'User Inputs'!D170)","v":0}]
[]
[null,"Emissions from Natural Gas and Oil Products"]
[null,"Fuel Type",null,"Incremental Throughput ",null,"Unit",null,null,"Natural Gas Assumptions"]
[null,{"$f":"'User Inputs'!C176","v":"Natural Gas"},null,{"$f":"IF('Project Background'!$G$46=\"No\",\"NA\",'User Inputs'!D176)","v":0},null,{"$f":"'User Inputs'!E176","v":"Cubic Feet/year"},null,null,"Percent Reduction in Leakage and Venting Emissions",null,null,null,{"$f":"IF('Project Background'!$G$46=\"No\",\"NA\",'User Inputs'!D196)","v":0}]
[null,{"$f":"'User Inputs'!C177","v":"Renewable Natural Gas"},null,{"$f":"IF('Project Background'!$G$46=\"No\",\"NA\",'User Inputs'!D177)","v":0},null,{"$f":"'User Inputs'!E177","v":"Cubic Feet/year"},null,null,"Leakage and Venting Emissions (kgCO2e/MMBtu)",null,null,null,{"$f":"IF('Project Background'!$G$46=\"No\",\"NA\",'User Inputs'!E196)","v":4.2813020597097582}]
[null,{"$f":"'User Inputs'!C178","v":"Propane"},null,{"$f":"IF('Project Background'!$G$46=\"No\",\"NA\",'User Inputs'!D178)","v":0},null,{"$f":"'User Inputs'!E178","v":"Gallons/year"}]
[null,{"$f":"'User Inputs'!C179","v":"Gasoline"},null,{"$f":"IF('Project Background'!$G$46=\"No\",\"NA\",'User Inputs'!D179)","v":0},null,{"$f":"'User Inputs'!E179","v":"Gallons/year"}]
[null,{"$f":"'User Inputs'!C180","v":"Distillate Fuel Oil No. 1"},null,{"$f":"IF('Project Background'!$G$46=\"No\",\"NA\",'User Inputs'!D180)","v":0},null,{"$f":"'User Inputs'!E180","v":"Gallons/year"}]
[null,{"$f":"'User Inputs'!C181","v":"Distillate Fuel Oil No. 2"},null,{"$f":"IF('Project Background'!$G$46=\"No\",\"NA\",'User Inputs'!D181)","v":0},null,{"$f":"'User Inputs'!E181","v":"Gallons/year"}]
[null,{"$f":"'User Inputs'!C182","v":"Distillate Fuel Oil No. 4"},null,{"$f":"IF('Project Background'!$G$46=\"No\",\"NA\",'User Inputs'!D182)","v":0},null,{"$f":"'User Inputs'!E182","v":"Gallons/year"}]
[null,{"$f":"'User Inputs'!C183","v":"Residual Fuel Oil No. 5"},null,{"$f":"IF('Project Background'!$G$46=\"No\",\"NA\",'User Inputs'!D183)","v":0},null,{"$f":"'User Inputs'!E183","v":"Gallons/year"}]
[null,{"$f":"'User Inputs'!C184","v":"Residual Fuel Oil No. 6"},null,{"$f":"IF('Project Background'!$G$46=\"No\",\"NA\",'User Inputs'!D184)","v":0},null,{"$f":"'User Inputs'!E184","v":"Gallons/year"}]
[null,{"$f":"'User Inputs'!C185","v":"Liquified Petroleum Gas (LPG)"},null,{"$f":"IF('Project Background'!$G$46=\"No\",\"NA\",'User Inputs'!D185)","v":0},null,{"$f":"'User Inputs'!E185","v":"Gallons/year"}]
[null,{"$f":"'User Inputs'!C186","v":"Kerosene"},null,{"$f":"IF('Project Background'!$G$46=\"No\",\"NA\",'User Inputs'!D186)","v":0},null,{"$f":"'User Inputs'!E186","v":"Gallons/year"}]
[null,{"$f":"'User Inputs'!C187","v":"Kerosene Jet Fuel"},null,{"$f":"IF('Project Background'!$G$46=\"No\",\"NA\",'User Inputs'!D187)","v":0},null,{"$f":"'User Inputs'!E187","v":"Gallons/year"}]
[null,{"$f":"'User Inputs'!C188","v":"Biodiesel 100"},null,{"$f":"IF('Project Background'!$G$46=\"No\",\"NA\",'User Inputs'!D188)","v":0},null,{"$f":"'User Inputs'!E188","v":"Gallons/year"}]
[null,{"$f":"'User Inputs'!C189","v":"Biodiesel 20"},null,{"$f":"IF('Project Background'!$G$46=\"No\",\"NA\",'User Inputs'!D189)","v":0},null,{"$f":"'User Inputs'!E189","v":"Gallons/year"}]
[null,{"$f":"'User Inputs'!C190","v":"Renewable Diesel"},null,{"$f":"IF('Project Background'!$G$46=\"No\",\"NA\",'User Inputs'!D190)","v":0},null,{"$f":"'User Inputs'!E190","v":"Gallons/year"}]
[]
[null,"Industrial Processes"]
[null,"Product Type"," Quantity (tons/year)",null,"Emission Factor (kgCO2e/ton)"]
[null,"Cement",{"$f":"IF('Project Background'!$G$47=\"No\",\"NA\",'User Inputs'!D203)","v":0},null,{"$f":"IF('Project Background'!$G$47=\"No\",\"NA\",'User Inputs'!E203)","v":0}]
[null,"Lime",{"$f":"IF('Project Background'!$G$47=\"No\",\"NA\",'User Inputs'!D204)","v":0},null,{"$f":"IF('Project Background'!$G$47=\"No\",\"NA\",'User Inputs'!E204)","v":0}]
[null,"Limestone Use",{"$f":"IF('Project Background'!$G$47=\"No\",\"NA\",'User Inputs'!D205)","v":0},null,{"$f":"IF('Project Background'!$G$47=\"No\",\"NA\",'User Inputs'!E205)","v":0}]
[null,"Magnesium",{"$f":"IF('Project Background'!$G$47=\"No\",\"NA\",'User Inputs'!D206)","v":0},null,{"$f":"IF('Project Background'!$G$47=\"No\",\"NA\",'User Inputs'!E206)","v":0}]
[null,"Iron and Steel",{"$f":"IF('Project Background'!$G$47=\"No\",\"NA\",'User Inputs'!D207)","v":0},null,{"$f":"IF('Project Background'!$G$47=\"No\",\"NA\",'User Inputs'!E207)","v":0}]
[null,"Ammonia",{"$f":"IF('Project Background'!$G$47=\"No\",\"NA\",'User Inputs'!D208)","v":0},null,{"$f":"IF('Project Background'!$G$47=\"No\",\"NA\",'User Inputs'!E208)","v":0}]
[null,"Aluminum",{"$f":"IF('Project Background'!$G$47=\"No\",\"NA\",'User Inputs'!D209)","v":0},null,{"$f":"IF('Project Background'!$G$47=\"No\",\"NA\",'User Inputs'!E209)","v":0}]
[null,"Nitric Acid",{"$f":"IF('Project Background'!$G$47=\"No\",\"NA\",'User Inputs'!D210)","v":0},null,{"$f":"IF('Project Background'!$G$47=\"No\",\"NA\",'User Inputs'!E210)","v":0}]
[]
[null,"HFC Leakage"]
[null,"Building Type","Percent of Building Area Utilized ",null,null,"Equipment Type",null,null,null,"HFC"]
[null,"Residential",{"$f":"IF('Project Background'!$G$48=\"No\",\"NA\",'User Inputs'!D218)","v":0},null,null,"Room A/C & Other residential A/C and heat pumps",null,null,null,{"$f":"IF('Project Background'!$G$48=\"No\",\"NA\",'User Inputs'!G224)","v":0}]
[null,"Commercial",{"$f":"IF('Project Background'!$G$48=\"No\",\"NA\",'User Inputs'!D219)","v":0},null,null,"Other commercial A/C and heat pumps",null,null,null,{"$f":"IF('Project Background'!$G$48=\"No\",\"NA\",'User Inputs'!G225)","v":0}]
[null,"Industrial",{"$f":"IF('Project Background'!$G$48=\"No\",\"NA\",'User Inputs'!D220)","v":0},null,null,"Other commercial A/C and heat pumps",null,null,null,{"$f":"IF('Project Background'!$G$48=\"No\",\"NA\",'User Inputs'!G228)","v":0}]
[null,"Institutional",{"$f":"IF('Project Background'!$G$48=\"No\",\"NA\",'User Inputs'!D221)","v":0},null,null,"Walk-in refrigerators and freezers",null,null,null,{"$f":"IF('Project Background'!$G$48=\"No\",\"NA\",'User Inputs'!G226)","v":0}]
[null,null,null,null,null,"Other commercial A/C and heat pumps",null,null,null,{"$f":"IF('Project Background'!$G$48=\"No\",\"NA\",'User Inputs'!G227)","v":0}]
[]
[null,"On-Road Vehicles"]
[null,"Speed Bin (miles/hr)",null,"Additional VMT (miles/year)"]
[null,"Fleet Average",null,{"$f":"IF('Project Background'!$G$50=\"No\",\"NA\",'User Inputs'!D258)","v":0}]
[null,"0-30",null,{"$f":"IF('Project Background'!$G$50=\"No\",\"NA\",'User Inputs'!D259)","v":0}]
[null,"31-55",null,{"$f":"IF('Project Background'!$G$50=\"No\",\"NA\",'User Inputs'!D260)","v":0}]
[null,"56-75",null,{"$f":"IF('Project Background'!$G$50=\"No\",\"NA\",'User Inputs'!D261)","v":0}]
[]
[null,"Treatment of Waste On-Site"]
[null,"Waste Treatment Practice",null,"Quantity of Waste Treated (tons/year)"]
[null,{"$f":"IF(ISBLANK('User Inputs'!C267),\"\",'User Inputs'!C267)","v":""},null,{"$f":"IF('Project Background'!$G$51=\"No\",\"NA\",'User Inputs'!D267)","v":0}]
[null,{"$f":"IF(ISBLANK('User Inputs'!C268),\"\",'User Inputs'!C268)","v":""},null,{"$f":"IF('Project Background'!$G$51=\"No\",\"NA\",'User Inputs'!D268)","v":0}]
[null,{"$f":"IF(ISBLANK('User Inputs'!C269),\"\",'User Inputs'!C269)","v":""},null,{"$f":"IF('Project Background'!$G$51=\"No\",\"NA\",'User Inputs'!D269)","v":0}]
[]
[null,"Treatment of Wastewater On-Site"]
[null,"Population Served by Treatment Plant",null,null,{"$f":"IF('Project Background'!$G$52=\"No\",\"NA\",'User Inputs'!D274)","v":0}]
[null,"Wastewater Treatment System Type",null,null,{"$f":"IF(ISBLANK('User Inputs'!D275),\"\",'User Inputs'!D275)","v":""}]
[]
[null,"Product Type",null," Production (MT/year)"]
[null,{"$f":"IF(ISBLANK('User Inputs'!C280),\"\",'User Inputs'!C280)","v":""},null,{"$f":"IF('Project Background'!$G$52=\"No\",\"NA\",'User Inputs'!D280)","v":0}]
[]
[null,"Treatment of Waste Off-Site"]
[null,"Activity",null,null,"Quantity","Waste Generation Rate",null,"Unit",null,null,"Waste Treatment Practice",null,null,"Percent of Waste"]
[null,"Number of single family households",null,null,{"$f":"IF('Project Background'!$G$53=\"No\",\"NA\",'User Inputs'!D286)","v":0},{"$f":"IF('Project Background'!$G$53=\"No\",\"NA\",'User Inputs'!E286)","v":0},null,{"$f":"'User Inputs'!G286","v":"lb/household/day"},null,null,"Recycled",null,null,{"$f":"IF('Project Background'!$G$53=\"No\",\"NA\",'User Inputs'!D297)","v":0}]
[null,"Number of employees (commercial)",null,null,{"$f":"IF('Project Background'!$G$53=\"No\",\"NA\",'User Inputs'!D287)","v":0},{"$f":"IF('Project Background'!$G$53=\"No\",\"NA\",'User Inputs'!E287)","v":0},null,{"$f":"'User Inputs'!G287","v":"lb/employee/day"},null,null,"Composted",null,null,{"$f":"IF('Project Background'!$G$53=\"No\",\"NA\",'User Inputs'!D298)","v":0}]
[null,"Number of employees (industrial)",null,null,{"$f":"IF('Project Background'!$G$53=\"No\",\"NA\",'User Inputs'!D288)","v":0},{"$f":"IF('Project Background'!$G$53=\"No\",\"NA\",'User Inputs'!E288)","v":0},null,{"$f":"'User Inputs'!G288","v":"lb/employee/day"},null,null,"Landfilled",null,null,{"$f":"IF('Project Background'!$G$53=\"No\",\"NA\",'User Inputs'!D299)","v":0}]
[null,"Number of employees (institutional)",null,null,{"$f":"IF('Project Background'!$G$53=\"No\",\"NA\",'User Inputs'!D289)","v":0},{"$f":"IF('Project Background'!$G$53=\"No\",\"NA\",'User Inputs'!E289)","v":0},null,{"$f":"'User Inputs'!G289","v":"lb/employee/day"},null,null,"Combusted",null,null,{"$f":"IF('Project Background'!$G$53=\"No\",\"NA\",'User Inputs'!D300)","v":0}]
[null,"Visitors per year (public venues)",null,null,{"$f":"IF('Project Background'!$G$53=\"No\",\"NA\",'User Inputs'!D290)","v":0},{"$f":"IF('Project Background'!$G$53=\"No\",\"NA\",'User Inputs'!E290)","v":0},null,{"$f":"'User Inputs'!G290","v":"lb/visitor"}]
[]
[null,"Enteric Fermentation and Manure Management"]
[null,"Livestock Type","Population","Percentage of Manure Management System"]
[null,null,null,"Anaerobic digester","Anaerobic lagoon - liquid","Cattle deep litter","Composting","Daily spread","Deep pit","Dry lot","Liquid/ slurry","Pasture, range, paddock","Poultry with litter","Poultry without litter ","Solid storage"]
[null,"Bulls",{"$f":"IF('Project Background'!$G$54=\"No\",\"NA\",'User Inputs'!D311)","v":0},{"$f":"IF('Project Background'!$G$54=\"No\",\"NA\",'User Inputs'!E311)","v":0},"NA",{"$f":"IF('Project Background'!$G$54=\"No\",\"NA\",'User Inputs'!F311)","v":0},{"$f":"IF('Project Background'!$G$54=\"No\",\"NA\",'User Inputs'!G311)","v":0},{"$f":"IF('Project Background'!$G$54=\"No\",\"NA\",'User Inputs'!H311)","v":0},{"$f":"IF('Project Background'!$G$54=\"No\",\"NA\",'User Inputs'!I311)","v":0},{"$f":"IF('Project Background'!$G$54=\"No\",\"NA\",'User Inputs'!J311)","v":0},{"$f":"IF('Project Background'!$G$54=\"No\",\"NA\",'User Inputs'!K311)","v":0},{"$f":"IF('Project Background'!$G$54=\"No\",\"NA\",'User Inputs'!L311)","v":0},"NA","NA",{"$f":"IF('Project Background'!$G$54=\"No\",\"NA\",'User Inputs'!M311)","v":0}]
[null,"Beef cows",{"$f":"IF('Project Background'!$G$54=\"No\",\"NA\",'User Inputs'!D312)","v":0},{"$f":"IF('Project Background'!$G$54=\"No\",\"NA\",'User Inputs'!E312)","v":0},"NA",{"$f":"IF('Project Background'!$G$54=\"No\",\"NA\",'User Inputs'!F312)","v":0},{"$f":"IF('Project Background'!$G$54=\"No\",\"NA\",'User Inputs'!G312)","v":0},{"$f":"IF('Project Background'!$G$54=\"No\",\"NA\",'User Inputs'!H312)","v":0},{"$f":"IF('Project Background'!$G$54=\"No\",\"NA\",'User Inputs'!I312)","v":0},{"$f":"IF('Project Background'!$G$54=\"No\",\"NA\",'User Inputs'!J312)","v":0},{"$f":"IF('Project Background'!$G$54=\"No\",\"NA\",'User Inputs'!K312)","v":0},{"$f":"IF('Project Background'!$G$54=\"No\",\"NA\",'User Inputs'!L312)","v":0},"NA","NA",{"$f":"IF('Project Background'!$G$54=\"No\",\"NA\",'User Inputs'!P312)","v":0}]
[null,"Beef heifers",{"$f":"IF('Project Background'!$G$54=\"No\",\"NA\",'User Inputs'!D313)","v":0},{"$f":"IF('Project Background'!$G$54=\"No\",\"NA\",'User Inputs'!E313)","v":0},"NA",{"$f":"IF('Project Background'!$G$54=\"No\",\"NA\",'User Inputs'!F313)","v":0},{"$f":"IF('Project Background'!$G$54=\"No\",\"NA\",'User Inputs'!G313)","v":0},{"$f":"IF('Project Background'!$G$54=\"No\",\"NA\",'User Inputs'!H313)","v":0},{"$f":"IF('Project Background'!$G$54=\"No\",\"NA\",'User Inputs'!I313)","v":0},{"$f":"IF('Project Background'!$G$54=\"No\",\"NA\",'User Inputs'!J313)","v":0},{"$f":"IF('Project Background'!$G$54=\"No\",\"NA\",'User Inputs'!K313)","v":0},{"$f":"IF('Project Background'!$G$54=\"No\",\"NA\",'User Inputs'!L313)","v":0},"NA","NA",{"$f":"IF('Project Background'!$G$54=\"No\",\"NA\",'User Inputs'!P313)","v":0}]
[null,"Steer stockers",{"$f":"IF('Project Background'!$G$54=\"No\",\"NA\",'User Inputs'!D314)","v":0},{"$f":"IF('Project Background'!$G$54=\"No\",\"NA\",'User Inputs'!E314)","v":0},"NA",{"$f":"IF('Project Background'!$G$54=\"No\",\"NA\",'User Inputs'!F314)","v":0},{"$f":"IF('Project Background'!$G$54=\"No\",\"NA\",'User Inputs'!G314)","v":0},{"$f":"IF('Project Background'!$G$54=\"No\",\"NA\",'User Inputs'!H314)","v":0},{"$f":"IF('Project Background'!$G$54=\"No\",\"NA\",'User Inputs'!I314)","v":0},{"$f":"IF('Project Background'!$G$54=\"No\",\"NA\",'User Inputs'!J314)","v":0},{"$f":"IF('Project Background'!$G$54=\"No\",\"NA\",'User Inputs'!K314)","v":0},{"$f":"IF('Project Background'!$G$54=\"No\",\"NA\",'User Inputs'!L314)","v":0},"NA","NA",{"$f":"IF('Project Background'!$G$54=\"No\",\"NA\",'User Inputs'!P314)","v":0}]
[null,"Heifer stockers",{"$f":"IF('Project Background'!$G$54=\"No\",\"NA\",'User Inputs'!D315)","v":0},{"$f":"IF('Project Background'!$G$54=\"No\",\"NA\",'User Inputs'!E315)","v":0},"NA",{"$f":"IF('Project Background'!$G$54=\"No\",\"NA\",'User Inputs'!F315)","v":0},{"$f":"IF('Project Background'!$G$54=\"No\",\"NA\",'User Inputs'!G315)","v":0},{"$f":"IF('Project Background'!$G$54=\"No\",\"NA\",'User Inputs'!H315)","v":0},{"$f":"IF('Project Background'!$G$54=\"No\",\"NA\",'User Inputs'!I315)","v":0},{"$f":"IF('Project Background'!$G$54=\"No\",\"NA\",'User Inputs'!J315)","v":0},{"$f":"IF('Project Background'!$G$54=\"No\",\"NA\",'User Inputs'!K315)","v":0},{"$f":"IF('Project Background'!$G$54=\"No\",\"NA\",'User Inputs'!L315)","v":0},"NA","NA",{"$f":"IF('Project Background'!$G$54=\"No\",\"NA\",'User Inputs'!P315)","v":0}]
[null,"Feedlot beef",{"$f":"IF('Project Background'!$G$54=\"No\",\"NA\",'User Inputs'!D316)","v":0},{"$f":"IF('Project Background'!$G$54=\"No\",\"NA\",'User Inputs'!E316)","v":0},"NA",{"$f":"IF('Project Background'!$G$54=\"No\",\"NA\",'User Inputs'!F316)","v":0},{"$f":"IF('Project Background'!$G$54=\"No\",\"NA\",'User Inputs'!G316)","v":0},{"$f":"IF('Project Background'!$G$54=\"No\",\"NA\",'User Inputs'!H316)","v":0},{"$f":"IF('Project Background'!$G$54=\"No\",\"NA\",'User Inputs'!I316)","v":0},{"$f":"IF('Project Background'!$G$54=\"No\",\"NA\",'User Inputs'!J316)","v":0},{"$f":"IF('Project Background'!$G$54=\"No\",\"NA\",'User Inputs'!K316)","v":0},{"$f":"IF('Project Background'!$G$54=\"No\",\"NA\",'User Inputs'!L316)","v":0},"NA","NA",{"$f":"IF('Project Background'!$G$54=\"No\",\"NA\",'User Inputs'!P316)","v":0}]
[null,"Beef calves",{"$f":"IF('Project Background'!$G$54=\"No\",\"NA\",'User Inputs'!D317)","v":0},{"$f":"IF('Project Background'!$G$54=\"No\",\"NA\",'User Inputs'!E317)","v":0},"NA",{"$f":"IF('Project Background'!$G$54=\"No\",\"NA\",'User Inputs'!F317)","v":0},{"$f":"IF('Project Background'!$G$54=\"No\",\"NA\",'User Inputs'!G317)","v":0},{"$f":"IF('Project Background'!$G$54=\"No\",\"NA\",'User Inputs'!H317)","v":0},{"$f":"IF('Project Background'!$G$54=\"No\",\"NA\",'User Inputs'!I317)","v":0},{"$f":"IF('Project Background'!$G$54=\"No\",\"NA\",'User Inputs'!J317)","v":0},{"$f":"IF('Project Background'!$G$54=\"No\",\"NA\",'User Inputs'!K317)","v":0},{"$f":"IF('Project Background'!$G$54=\"No\",\"NA\",'User Inputs'!L317)","v":0},"NA","NA",{"$f":"IF('Project Background'!$G$54=\"No\",\"NA\",'User Inputs'!P317)","v":0}]
[null,"Dairy heifers",{"$f":"IF('Project Background'!$G$54=\"No\",\"NA\",'User Inputs'!D321)","v":0},{"$f":"IF('Project Background'!$G$54=\"No\",\"NA\",'User Inputs'!E321)","v":0},{"$f":"IF('Project Background'!$G$54=\"No\",\"NA\",'User Inputs'!F321)","v":0},"NA","NA",{"$f":"IF('Project Background'!$G$54=\"No\",\"NA\",'User Inputs'!G321)","v":0},{"$f":"IF('Project Background'!$G$54=\"No\",\"NA\",'User Inputs'!H321)","v":0},{"$f":"IF('Project Background'!$G$54=\"No\",\"NA\",'User Inputs'!I321)","v":0},{"$f":"IF('Project Background'!$G$54=\"No\",\"NA\",'User Inputs'!J321)","v":0},{"$f":"IF('Project Background'!$G$54=\"No\",\"NA\",'User Inputs'!K321)","v":0},"NA","NA",{"$f":"IF('Project Background'!$G$54=\"No\",\"NA\",'User Inputs'!L321)","v":0}]
[null,"Dairy cows",{"$f":"IF('Project Background'!$G$54=\"No\",\"NA\",'User Inputs'!D322)","v":0},{"$f":"IF('Project Background'!$G$54=\"No\",\"NA\",'User Inputs'!E322)","v":0},{"$f":"IF('Project Background'!$G$54=\"No\",\"NA\",'User Inputs'!F322)","v":0},"NA","NA",{"$f":"IF('Project Background'!$G$54=\"No\",\"NA\",'User Inputs'!G322)","v":0},{"$f":"IF('Project Background'!$G$54=\"No\",\"NA\",'User Inputs'!H322)","v":0},{"$f":"IF('Project Background'!$G$54=\"No\",\"NA\",'User Inputs'!I322)","v":0},{"$f":"IF('Project Background'!$G$54=\"No\",\"NA\",'User Inputs'!J322)","v":0},{"$f":"IF('Project Background'!$G$54=\"No\",\"NA\",'User Inputs'!K322)","v":0},"NA","NA",{"$f":"IF('Project Background'!$G$54=\"No\",\"NA\",'User Inputs'!L322)","v":0}]
[null,"Dairy calves",{"$f":"IF('Project Background'!$G$54=\"No\",\"NA\",'User Inputs'!D323)","v":0},{"$f":"IF('Project Background'!$G$54=\"No\",\"NA\",'User Inputs'!E323)","v":0},{"$f":"IF('Project Background'!$G$54=\"No\",\"NA\",'User Inputs'!F323)","v":0},"NA","NA",{"$f":"IF('Project Background'!$G$54=\"No\",\"NA\",'User Inputs'!G323)","v":0},{"$f":"IF('Project Background'!$G$54=\"No\",\"NA\",'User Inputs'!H323)","v":0},{"$f":"IF('Project Background'!$G$54=\"No\",\"NA\",'User Inputs'!I323)","v":0},{"$f":"IF('Project Background'!$G$54=\"No\",\"NA\",'User Inputs'!J323)","v":0},{"$f":"IF('Project Background'!$G$54=\"No\",\"NA\",'User Inputs'!K323)","v":0},"NA","NA",{"$f":"IF('Project Background'!$G$54=\"No\",\"NA\",'User Inputs'!L323)","v":0}]
[null,"Swine, <55 lbs",{"$f":"IF('Project Background'!$G$54=\"No\",\"NA\",'User Inputs'!D327)","v":0},{"$f":"IF('Project Background'!$G$54=\"No\",\"NA\",'User Inputs'!E327)","v":0},{"$f":"IF('Project Background'!$G$54=\"No\",\"NA\",'User Inputs'!F327)","v":0},"NA","NA","NA",{"$f":"IF('Project Background'!$G$54=\"No\",\"NA\",'User Inputs'!G327)","v":0},"NA",{"$f":"IF('Project Background'!$G$54=\"No\",\"NA\",'User Inputs'!H327)","v":0},{"$f":"IF('Project Background'!$G$54=\"No\",\"NA\",'User Inputs'!I327)","v":0},"NA","NA",{"$f":"IF('Project Background'!$G$54=\"No\",\"NA\",'User Inputs'!J327)","v":0}]
[null,"Swine 55-330 lbs",{"$f":"IF('Project Background'!$G$54=\"No\",\"NA\",'User Inputs'!D328)","v":0},{"$f":"IF('Project Background'!$G$54=\"No\",\"NA\",'User Inputs'!E328)","v":0},{"$f":"IF('Project Background'!$G$54=\"No\",\"NA\",'User Inputs'!F328)","v":0},"NA","NA","NA",{"$f":"IF('Project Background'!$G$54=\"No\",\"NA\",'User Inputs'!G328)","v":0},"NA",{"$f":"IF('Project Background'!$G$54=\"No\",\"NA\",'User Inputs'!H328)","v":0},{"$f":"IF('Project Background'!$G$54=\"No\",\"NA\",'User Inputs'!I328)","v":0},"NA","NA",{"$f":"IF('Project Background'!$G$54=\"No\",\"NA\",'User Inputs'!J328)","v":0}]
[null,"Swine 330+ lbs",{"$f":"IF('Project Background'!$G$54=\"No\",\"NA\",'User Inputs'!D329)","v":0},{"$f":"IF('Project Background'!$G$54=\"No\",\"NA\",'User Inputs'!E329)","v":0},{"$f":"IF('Project Background'!$G$54=\"No\",\"NA\",'User Inputs'!F329)","v":0},"NA","NA","NA",{"$f":"IF('Project Background'!$G$54=\"No\",\"NA\",'User Inputs'!G329)","v":0},"NA",{"$f":"IF('Project Background'!$G$54=\"No\",\"NA\",'User Inputs'!H329)","v":0},{"$f":"IF('Project Background'!$G$54=\"No\",\"NA\",'User Inputs'!I329)","v":0},"NA","NA",{"$f":"IF('Project Background'!$G$54=\"No\",\"NA\",'User Inputs'!J329)","v":0}]
[null,"Poultry, layers",{"$f":"IF('Project Background'!$G$54=\"No\",\"NA\",'User Inputs'!D333)","v":0},{"$f":"IF('Project Background'!$G$54=\"No\",\"NA\",'User Inputs'!E333)","v":0},{"$f":"IF('Project Background'!$G$54=\"No\",\"NA\",'User Inputs'!F333)","v":0},"NA",{"$f":"IF('Project Background'!$G$54=\"No\",\"NA\",'User Inputs'!G333)","v":0},"NA","NA","NA",{"$f":"IF('Project Background'!$G$54=\"No\",\"NA\",'User Inputs'!H333)","v":0},{"$f":"IF('Project Background'!$G$54=\"No\",\"NA\",'User Inputs'!I333)","v":0},{"$f":"IF('Project Background'!$G$54=\"No\",\"NA\",'User Inputs'!J333)","v":0},{"$f":"IF('Project Background'!$G$54=\"No\",\"NA\",'User Inputs'!K333)","v":0},{"$f":"IF('Project Background'!$G$54=\"No\",\"NA\",'User Inputs'!L333)","v":0}]
[null,"Poultry, pullets",{"$f":"IF('Project Background'!$G$54=\"No\",\"NA\",'User Inputs'!D334)","v":0},{"$f":"IF('Project Background'!$G$54=\"No\",\"NA\",'User Inputs'!E334)","v":0},{"$f":"IF('Project Background'!$G$54=\"No\",\"NA\",'User Inputs'!F334)","v":0},"NA",{"$f":"IF('Project Background'!$G$54=\"No\",\"NA\",'User Inputs'!G334)","v":0},"NA","NA","NA",{"$f":"IF('Project Background'!$G$54=\"No\",\"NA\",'User Inputs'!H334)","v":0},{"$f":"IF('Project Background'!$G$54=\"No\",\"NA\",'User Inputs'!I334)","v":0},{"$f":"IF('Project Background'!$G$54=\"No\",\"NA\",'User Inputs'!J334)","v":0},{"$f":"IF('Project Background'!$G$54=\"No\",\"NA\",'User Inputs'!K334)","v":0},{"$f":"IF('Project Background'!$G$54=\"No\",\"NA\",'User Inputs'!L334)","v":0}]
[null,"Poultry, chickens",{"$f":"IF('Project Background'!$G$54=\"No\",\"NA\",'User Inputs'!D335)","v":0},{"$f":"IF('Project Background'!$G$54=\"No\",\"NA\",'User Inputs'!E335)","v":0},{"$f":"IF('Project Background'!$G$54=\"No\",\"NA\",'User Inputs'!F335)","v":0},"NA",{"$f":"IF('Project Background'!$G$54=\"No\",\"NA\",'User Inputs'!G335)","v":0},"NA","NA","NA",{"$f":"IF('Project Background'!$G$54=\"No\",\"NA\",'User Inputs'!H335)","v":0},{"$f":"IF('Project Background'!$G$54=\"No\",\"NA\",'User Inputs'!I335)","v":0},{"$f":"IF('Project Background'!$G$54=\"No\",\"NA\",'User Inputs'!J335)","v":0},{"$f":"IF('Project Background'!$G$54=\"No\",\"NA\",'User Inputs'!K335)","v":0},{"$f":"IF('Project Background'!$G$54=\"No\",\"NA\",'User Inputs'!L335)","v":0}]
[null,"Poultry, broilers",{"$f":"IF('Project Background'!$G$54=\"No\",\"NA\",'User Inputs'!D336)","v":0},{"$f":"IF('Project Background'!$G$54=\"No\",\"NA\",'User Inputs'!E336)","v":0},{"$f":"IF('Project Background'!$G$54=\"No\",\"NA\",'User Inputs'!F336)","v":0},"NA",{"$f":"IF('Project Background'!$G$54=\"No\",\"NA\",'User Inputs'!G336)","v":0},"NA","NA","NA",{"$f":"IF('Project Background'!$G$54=\"No\",\"NA\",'User Inputs'!H336)","v":0},{"$f":"IF('Project Background'!$G$54=\"No\",\"NA\",'User Inputs'!I336)","v":0},{"$f":"IF('Project Background'!$G$54=\"No\",\"NA\",'User Inputs'!J336)","v":0},{"$f":"IF('Project Background'!$G$54=\"No\",\"NA\",'User Inputs'!K336)","v":0},{"$f":"IF('Project Background'!$G$54=\"No\",\"NA\",'User Inputs'!L336)","v":0}]
[null,"Turkeys",{"$f":"IF('Project Background'!$G$54=\"No\",\"NA\",'User Inputs'!D337)","v":0},{"$f":"IF('Project Background'!$G$54=\"No\",\"NA\",'User Inputs'!E337)","v":0},{"$f":"IF('Project Background'!$G$54=\"No\",\"NA\",'User Inputs'!F337)","v":0},"NA",{"$f":"IF('Project Background'!$G$54=\"No\",\"NA\",'User Inputs'!G337)","v":0},"NA","NA","NA",{"$f":"IF('Project Background'!$G$54=\"No\",\"NA\",'User Inputs'!H337)","v":0},{"$f":"IF('Project Background'!$G$54=\"No\",\"NA\",'User Inputs'!I337)","v":0},{"$f":"IF('Project Background'!$G$54=\"No\",\"NA\",'User Inputs'!J337)","v":0},{"$f":"IF('Project Background'!$G$54=\"No\",\"NA\",'User Inputs'!K337)","v":0},{"$f":"IF('Project Background'!$G$54=\"No\",\"NA\",'User Inputs'!L337)","v":0}]
[]
[null,"Percent of manure applied or sold for application to agricultural soils (pasture or cropland) as fertilizer",null,null,null,null,null,null,{"$f":"'User Inputs'!H307","v":0}]
[]
["x","Notes"]
[]
[null,"General Notes",null,{"$f":"IF(ISBLANK(Notes!C5),\"\",Notes!C5)","v":""}]
[null,"Material inputs",null,{"$f":"IF(ISBLANK(Notes!C8),\"\",Notes!C8)","v":""}]
[null,"Transportation of material inputs ",null,{"$f":"IF(ISBLANK(Notes!C9),\"\",Notes!C9)","v":""}]
[null,"Employee commuting",null,{"$f":"IF(ISBLANK(Notes!C10),\"\",Notes!C10)","v":""}]
[null,"Construction equipment",null,{"$f":"IF(ISBLANK(Notes!C11),\"\",Notes!C11)","v":""}]
[null,"Land use change (construction)",null,{"$f":"IF(ISBLANK(Notes!C12),\"\",Notes!C12)","v":""}]
[null,"Construction waste",null,{"$f":"IF(ISBLANK(Notes!C13),\"\",Notes!C13)","v":""}]
[null,"Building energy consumption",null,{"$f":"IF(ISBLANK(Notes!C16),\"\",Notes!C16)","v":""}]
[null,"Coal production",null,{"$f":"IF(ISBLANK(Notes!C17),\"\",Notes!C17)","v":""}]
[null,"Natural gas and oil products",null,{"$f":"IF(ISBLANK(Notes!C18),\"\",Notes!C18)","v":""}]
[null,"Industrial processes",null,{"$f":"IF(ISBLANK(Notes!C19),\"\",Notes!C19)","v":""}]
[null,"HFC leakage",null,{"$f":"IF(ISBLANK(Notes!C20),\"\",Notes!C20)","v":""}]
[null,"Land use change (operations)",null,{"$f":"IF(ISBLANK(Notes!C21),\"\",Notes!C21)","v":""}]
[null,"On-road vehicles",null,{"$f":"IF(ISBLANK(Notes!C22),\"\",Notes!C22)","v":""}]
[null,"Treatment of waste on-site",null,{"$f":"IF(ISBLANK(Notes!C23),\"\",Notes!C23)","v":""}]
[null,"Treatment of wastewater on-site",null,{"$f":"IF(ISBLANK(Notes!C24),\"\",Notes!C24)","v":""}]
[null,"Treatment of waste off-site",null,{"$f":"IF(ISBLANK(Notes!C25),\"\",Notes!C25)","v":""}]
[null,"Enteric fermentation",null,{"$f":"IF(ISBLANK(Notes!C26),\"\",Notes!C26)","v":""}]
[null,"Manure management",null,{"$f":"IF(ISBLANK(Notes!C27),\"\",Notes!C27)","v":""}]
[null,"Mitigation Measures and Quantified Reductions",null,{"$f":"IF(ISBLANK(Notes!C29),\"\",Notes!C29)","v":""}]
[null,"Adaptation Strategies",null,{"$f":"IF(ISBLANK(Notes!C31),\"\",Notes!C31)","v":""}]

{"sheet":"Mitigation","index":10,"n_rows":151,"n_cols":11,"rows_kept":151,"cut":false,"hidden":false,"merged":[[2,1,2,7]]}
[null,"Mitigation Measures (Step 5a)",null,null,null,null,null,null,null,"HIDE","HIDE"]
[]
[null,"Use the filters in the table below to identify potential mitigation measures to reduce GHG emissions from the proposed project. Use the column on the far left to select measures you plan to implement.\nMeasures marked as 'Yes' in column F are available for quantification in the Quantified Reductions tab. Click the 'Select Applicable Quantifiable Measures' button to select quantifiable mitigation measures that are deemed applicable based on entered user inputs. Select the 'Generate PDF' button once you've made your desired selections to export the list.",null,null,null,null,null,null,null,"Checker column "]
[null,null,null,null,null,null,null,null,null,"(applicable quantifiable measures)","Justification"]
["Q?","Select","Emissions Source","Phase","ID","Quantifiable?","Measure Title","Measure Description"]
[null,null,"Material inputs","Construction","M-1A-01","No","Use Sustainable Building Materials","Ensure sustainable building materials comprise at least 20% of total construction materials by volume weight. Sustainable building materials have a less carbon-intensive production process compared to their non-sustainable counterparts. This strategy could include the use of Environmental Product Declarations in bid decisions to ensure the most sustainable materials are procured. This strategy is general to any building material. See 1A-2 through 1A-6 for measures specific to wood, pavement, and cement. "]
[null,null,"Material inputs","Construction","M-1A-02","No","Source Wood Materials from Urban Wood Re-Use Program","Source wood materials from urban wood re-use programs. In areas where removed trees are sent to landfills, they decompose and contribute to methane emissions. Wood re-use programs extend a tree’s lifetime by converting it into a range of products and prolonging the sequestration benefit. Re-uses range from logs, lumber, woodchips, mulch, compost, biochar, animal fuel, paper products, engineered wood, furniture, and cellulosic ethanol."]
[null,null,"Material inputs","Construction","M-1A-03","No","Sustainable Pavements","Use lower-impact materials specially designed for roadway surfaces without compromising the pavement’s ability to meet its engineering purposes. For example, warm-mix asphalt (WMA) production methods use temperatures that are 30 to 120 degrees Fahrenheit lower than those of traditional hot-mix asphalt. Because less energy is needed to heat the asphalt mix, less fuel is needed to produce WMA. Fuel consumption during WMA manufacturing is typically reduced by 20%. Sustainable pavements can also result in extended pavement life thereby reducing the need for energy-intensive maintenance. "]
[null,null,"Material inputs","Construction","M-1A-04","No","Purchase Cement from Manufacturers using Low-Carbon Mix Design for Calcination","Purchase cement from manufactures that use low-carbon mix design. Using a low-carbon mix design in addition to renewable power sources and carbon capture can significantly reduce emissions from calcination. The seven most impactful low-carbon mix alternatives, listed from smallest to largest carbon footprint, are  1) granulated blast furnace slag; 2) limestone calcined clay cement;  3) fly ash;  4) Portland limestone cement; 5) biochar; 6) early-stage carbon curing; and 7) recycled concrete aggregate."]
[null,null,"Material inputs","Construction","M-1A-05","No","Purchase Cement from Efficient Cement Manufacturers","Purchase cement from manufacturers that have implemented measures to improve their production efficiency. Efficiency measures for cement manufacturing can reduce the demand for fuel by addressing the production process itself (such as switching from inefficient wet kilns to dry ones) or through technical and mechanical improvements (such as preventive maintenance to repair kiln leaks)."]
[null,null,"Material inputs","Construction","M-1A-06","No","Purchase Cement from Manufacturers Using Alternative Fuels","Purchase cement from manufacturers that use alternative fuels in their production method. Indirect emissions from burning fossil fuels to heat the kiln can be reduced by switching to alternative fuels, including natural gas, biomass, and waste-derived fuels such as tires, sewage sludge, and municipal solid wastes. "]
[null,null,"Material inputs","Construction","M-1A-07","No","Require Environmentally Responsible Purchasing","Implement an environmentally responsible purchasing plan. Examples of environmentally responsible purchases include but are not limited to: purchasing products made from recycled materials or with sustainable packaging; purchasing post-consumer recycled paper, paper towels, and stationery; purchasing and stocking communal kitchens with reusable dishes and utensils; choosing sustainable cleaning supplies; purchasing products from restaurants, farms, or ranches that source materials or goods from locations that use soil conservation practices; and leasing equipment from manufacturers who will recycle the components at their end of life. "]
[null,null,"Material inputs","Construction","M-1A-08","No","Use Recycled Asphalt Pavement","Use recycled concrete aggregate (RCA) or recycled asphalt pavement (RAP) in place of traditional asphalt. RCA and RAP help reduce energy consumption and thus GHGs of a project by displacing the volume of new asphalt."]
[null,null,"Transportation of material inputs","Construction","M-1B-01","No","Use Local Building Materials","Ensure locally sourced or recycled construction materials comprise at least 20% of total construction materials by volume weight. Choosing locally made and distributed products reduces the distance required to transport the products from the distribution or manufacturing center to the project, thus reducing GHG emissions associated with transportation."]
[null,null,"Transportation of material inputs","Construction","M-1B-02","No","Use SmartWay Certified Trucks","Use U.S. Environmental Protection Agency SmartWay certified trucks for deliveries and equipment transport. The SmartWay truck and trailer certification program sets voluntary standards for trucks and trailers that exhibit the highest fuel efficiency and emissions reductions. These tractors and trailers are outfitted at point of sale or retrofitted with equipment that significantly reduces fuel use and emissions including idle reduction technologies, improved aerodynamics, automatic tire inflation systems, advanced lubricants, advanced powertrain technologies, and low rolling resistance tires. "]
[null,null,"Transportation of material inputs","Construction","M-1B-03","No","Limit Delivery Windows","Limit deliveries of materials and equipment to the site to off-peak traffic congestion hours. This will avoid congested vehicle travel, which generates more emissions per mile than travel at free-flow speeds."]
[null,null,"Transportation of material inputs","Construction","M-1B-04","No","Evaluate Efficient Delivery Options","Evaluate the feasibility of using freight locomotives and other more efficient modes of transportation to deliver construction equipment and vehicles instead of on-road haul trucks. More efficient modes of transportation will reduce delivery emissions and may reduce transportation costs."]
[null,null,"Employee commuting","Construction","M-1C-01","No","Use Local Construction Contractors ","Maximize use of local construction contractors. Contracting construction work with a local company reduces vehicle miles traveled associated with construction employee commute distances and, therefore, reduces emissions from vehicle fuel combustion. Local hire provisions may cover the entire workforce, or a percentage of the workforce based on the project size or employment type."]
[null,null,"Employee commuting","Construction","M-1C-02","Yes","Develop a Ride Share Program for Construction Contractors","Develop a project specific ride share program to encourage carpools, shuttle vans, transit passes and/or secure bicycle parking for construction worker commutes. Ride share programs reduce employee commute vehicle miles traveled, which in turn reduces emissions from fuel combustion. ",null,{"$f":"IF('Project Background'!G40=\"Yes\",\"Yes\",\"No\")","v":"No"},{"$f":"IF(J19=\"Yes\",\"Emission source selected\",\"N/A\")","v":"N/A"}]
[null,null,"Construction equipment","Construction","M-1D-01","Yes","Use Renewable Diesel","Use renewable diesel in construction equipment and vehicles in lieu of similar vehicles powered by gasoline or diesel fuel. Tailpipe GHG emissions from renewable diesel are identical to tailpipe GHG emissions from conventional diesel; thus, the GHG benefits of renewable diesel come from the fact that it is produced from biomass. ",null,{"$f":"IF(\n   OR(\n      AND(\n         'Project Background'!$G$41=\"Yes\",\n         SUM('User Inputs'!D84:D86)<>0\n      ),\n      AND(\n         'Project Background'!$G$41=\"Yes\",\n         OR(\n            COUNTIF('User Inputs'!D61:D75,\"Biodiesel 100\")>0,\n            COUNTIF('User Inputs'!D61:D75,\"Biodiesel 20\")>0,\n            COUNTIF('User Inputs'!D61:D75,\"Renewable Diesel\")>0\n         ),\n         SUM('User Inputs'!E61:J75)<>0\n      )\n   ),\n   \"Yes\",\n   \"No\"\n)","v":"No"},{"$f":"IF(J20=\"Yes\",\"Renewable diesel and/or biodiesel consumed AND construction equipment is an applicable source\",\"N/A\")","v":"N/A"}]
[null,null,"Construction equipment","Construction","M-1D-02","Yes","Use Electric or Hybrid Powered Equipment","Use electric- or hybrid-powered construction equipment over conventional diesel-fueled counterparts. Replacing diesel-powered equipment with electric or hybrid-electric equipment reduces fossil fuel combustion and thus GHG emissions. However, all-electric equipment results in GHG emissions from the electricity used to charge the equipment. The indirect GHG emissions increase from electricity must be calculated in addition to the GHG emissions reduction from displaced fossil fuel combustion to estimate the total net GHG emissions reduction achieved by this measure if using all electric equipment.",null,{"$f":"IF(\n   OR(\n      AND(\n         'Project Background'!$G$41=\"Yes\",\n         'User Inputs'!D83<>0\n      ),\n      AND(\n         'Project Background'!$G$41=\"Yes\",\n         OR(\n            COUNTIF('User Inputs'!D61:D75,\"Electric\")>0\n         ),\n         SUM('User Inputs'!E61:J75)<>0\n      )\n   ),\n   \"Yes\",\n   \"No\"\n)","v":"No"},{"$f":"IF(J21=\"Yes\",\"Electricity consumed AND construction equipment is an applicable source\",\"N/A\")","v":"N/A"}]
[null,null,"Construction equipment","Construction","M-1D-03","No","Limit Heavy-Duty Diesel Vehicle Idling ","Minimize idling time by requiring that equipment be shut down after five minutes when not in use. Provide clear signage that posts this requirement for workers at the entrances to the site and provide a plan for the enforcement of this requirement. Reducing idling time will reduce emissions from fuel combustion."]
[null,null,"Construction equipment","Construction","M-1D-04","No","Maintain All Equipment in Proper Condition","Maintain all construction equipment in proper working condition and perform all preventative maintenance. Required maintenance includes compliance with all manufacturer’s recommendations, proper upkeep and replacement of filters and mufflers, and maintenance of all engine and emissions systems in proper operating condition. Maintenance schedules should be detailed in an Air Quality Control Plan prior to commencement of construction."]
[null,null,"Construction equipment","Construction","M-1D-05","No","Implement a Tire Inflation Program","Implement a tire inflation program on jobsites to confirm that equipment tires are correctly inflated. Check tire inflation when equipment arrives on site and every two weeks for equipment that remains on site. Check vehicles used for hauling materials off site weekly for correct tire inflation. Procedures for the tire inflation program should be documented in an Air Quality Management Plan prior to commencement of construction."]
[null,null,"Construction equipment","Construction","M-1D-06","No","Use Conveyors Instead of Trucks","Move material onsite using electric conveyors instead of diesel trucks. While electric conveyors result in GHG emissions from the electricity used to charge the equipment, these indirect emissions are likely much less than emissions from diesel combustion. The indirect GHG emissions increase from electricity must be calculated in addition to the GHG emissions reduction from displaced fossil fuel combustion to estimate the total net GHG emissions reduction achieved by this measure."]
[null,null,"Construction equipment","Construction","M-1D-07","No","Use Vehicles with Onroad Engines","Perform on-site material hauling during construction with trucks equipped with on-road engines. On-road certified engines often generate fewer GHG emissions per mile traveled when compared to off-road counterparts. "]
[null,null,"Construction equipment","Construction","M-1D-08","No","Evaluate Potential for On-Site Electrical Service","Confirm all feasible avenues have been explored for providing an electrical service drop to the construction site for temporary construction power. When generators must be used, use alternative fuels, such as propane, or solar power, to power generators to the maximum extent feasible."]
[null,null,"Construction equipment","Construction","M-1D-09","No","Use High Efficiency Lighting","Reduce electricity use in temporary construction offices by using high efficiency lighting and requiring that heating and cooling units be Energy Star compliant. Require that all contractors develop and implement procedures for turning off computers, lights, air conditioners, heaters, and other equipment each day at close of business."]
[null,null,"Construction equipment","Construction","M-1D-10","No","Develop a Water Efficiency Plan for Dust Control","Develop a plan to efficiently use water for adequate dust control since substantial amounts of energy can be consumed during the pumping or transporting of water."]
[null,null,"Land use change","Construction","M-1E-01","Yes","Create New Open Space with Native Vegetation and Habitat","Convert previously developed areas to vegetated open spaces. By creating new vegetated areas from previously settled land, the project would sequester carbon dioxide that would not have been captured without the land conversion. Trees and other vegetation also incorporate carbon into their biomass during their growth phase (stored carbon). Prior to establishing new vegetation, conduct information gathering to assess the site history, soil type, hydrology, topography, and wildlife populations to determine appropriate native vegetation that will be well adapted to the local environment. Establish project goals, including GHG emission reduction and restoration native pollinator and/or native habitat. Other important goals may include expanding contiguous habitat and wildlife corridors for threatened or endangered species or increasing biodiversity. Create a detailed planting and management plan that describes actions for site preparation, planting, habitat enhancement, water management, and invasive species control. Maximize long-term establishment success by conducting regular monitoring. This may involve tracking plant growth, soil conditions, and wildlife movement. Utilize the monitoring data to perform regular maintenance. Adjust the management plan as needed to keep the site healthy and ensure attainment of project goal(s).  ",null,{"$f":"IF(ISBLANK('User Inputs'!F100),\"No\",\"Yes\")","v":"No"},{"$f":"IF(J30=\"Yes\",\"Post-construction brush and grassland acres entered\",\"N/A\")","v":"N/A"}]
[null,null,"Land use change","Construction","M-1E-02","Yes","Expand Urban Tree Planting","Require tree planting in urban areas. Planting trees sequesters carbon dioxide while the trees are actively growing, thereby reducing GHGs. The amount of carbon dioxide sequestered depends on the type of tree and the duration of the active growing period. Urban trees may also provide shade, which can reduce the urban heat island effect and building cooling demands. Buildings that use less electricity for air conditioning reduce energy consumption and associated indirect GHG emission. The selection of tree type is critical to minimize the use of additional water. Trees that have high water demands that are met through GHG-intensive water (such as water transported over long distances) can impact the amount of GHG reductions achieved by this measure.",null,{"$f":"IF(ISBLANK('User Inputs'!E114),\"No\",\"Yes\")","v":"No"},{"$f":"IF(J31=\"Yes\",\"New trees planted entered\",\"N/A\")","v":"N/A"}]
[null,null,"Land use change","Construction","M-1E-03","No","Clear Vegetation from Area to be Flooded","Reduce the amount of organic material flooded during construction. Flooded areas can result in organic decomposition, which can contribute to methane emissions. "]
[null,null,"Land use change","Construction","M-1E-04","No","Land Agreements for Tree Removal ","Engage landowners to develop a strategy for composting, chipping, processing, or reusing trees removed from their properties. The strategy should prioritize cost-effective options that minimize GHG emissions from stored tree carbon. If appropriate, consider retaining stumps or logs on the project site to improve soil health and support wildlife habitat.   "]
[null,null,"Land use change","Construction","M-1E-05","No","Wetland Restoration","Restore wetlands to improve their function and ability to sequester GHG emissions. For example, rewet drained wetlands, remove non-native plans, exclude livestock, and plant native wetland species. Because wetlands can also represent a GHG source, ensure the restored wetland and selected restoration strategies will effectively reduce GHG emissions. "]
[null,null,"Land use change","Construction","M-1E-06","Yes","Afforestation","Plant trees on previously deforested land.",null,{"$f":"IF(ISBLANK('User Inputs'!F98),\"No\",\"Yes\")","v":"No"},{"$f":"IF(J35=\"Yes\",\"Post-construction forested acres entered\",\"N/A\")","v":"N/A"}]
[null,null,"Land use change","Construction","M-1E-07","No","Establish a Carbon Sequestration Project","Establish a carbon sequestration project. Carbon emissions are sequestered by embedding the carbon in a structure that will hold the emissions and keep them out of the atmosphere. Sequestration can happen through biological, chemical, or physical processes."]
[null,null,"Construction waste","Construction","M-1F-01","No","Maximize Deconstruction during Site Preparation","Minimize energy used during site preparation by deconstructing existing structures to the greatest extent feasible. This can also reduce transportation trips required to transport waste products, which in turn reduces vehicle fuel combustion and associated emissions. "]
[null,null,"Construction waste","Construction","M-1F-02","No","Recycle Waste Paint ","Recycle waste paint during construction. Recycling waste paint reduces GHG emissions from raw material sourcing and paint production. If the process of recycling waste paint is less carbon-intensive than the processes required to harvest and produce new paint, recycling results in a net reduction in GHG emissions."]
[null,null,"Construction waste","Construction","M-1F-03","No","Recycle Demolished Construction Material","Recycle general construction waste. Recycling demolished construction material reduces GHGs by displacing new construction materials, thereby reducing the need for new raw material acquisition and manufacturing. If the process of recycling construction materials is less carbon-intensive than the processes required to harvest and produce new construction materials, recycling results in a net reduction in GHG emissions. Using local recycled construction material would also reduce emissions associated with the transportation of new construction materials, which are typically manufactured farther away from a project site. Finally, recycling avoids sending materials to landfills. Wood-based materials decompose in landfills and contribute to methane emissions. "]
[null,null,"Building energy consumption","Operation","M-2A-01","No","Require Energy Efficient Appliances","Install ENERGY STAR-certified appliances that exceed the energy efficiency of conventional appliances. By committing to more efficient appliances, the building’s energy use is reduced, thereby reducing GHG emissions."]
[null,null,"Building energy consumption","Operation","M-2A-02","No","Install Alternative Type of Water Heater in Place of Gas Storage Tank Heater","Install water heaters that are less emissions intensive than a natural gas conventional storage tank water heater. Alternatives may include electric conventional storage tanks, solar water heaters with natural gas backup, or solar water heaters with electric backup. Each alternative reduces GHG emissions in a slightly different way. An electric storage tank heater displaces natural gas consumption with electricity use, replacing more emissions-intensive natural gas with less emissions-intensive electricity. A solar water heater with electric backup reduces GHG emissions by displacing natural gas with zero-emission solar energy when water is heated by the system’s solar collectors and grid electricity when the back-up function is utilized. A solar water heater with natural gas backup reduces emissions by displacing natural gas with solar energy when water is heated by the solar collectors. "]
[null,null,"Building energy consumption","Operation","M-2A-03","No","Limit Wood Burning Devices and Natural Gas/Propane Fireplaces","Prohibit installation of any wood burning devices (i.e., woodstoves and fireplaces) or natural gas or propane fireplaces. This avoids the combustion of biomass, natural gas, and propane, thereby reducing associated biogenic and non-biogenic GHG emissions. The most efficient alternatives to wood burning devices or gas fireplaces are electric fireplace inserts and electric heat pumps."]
[null,null,"Building energy consumption","Operation","M-2A-04","No","Install Electric Ranges in Place of Gas Ranges","Install electric ranges (i.e., cooktop plus oven) in place of gas ranges. An electric range displaces natural gas consumption with electricity use, replacing a more emissions-intensive fossil fuel-based source of energy with electricity from the grid that is increasingly transitioning to renewable sources. "]
[null,null,"Building energy consumption","Operation","M-2A-05","No","Install Electric Heat Pumps","Install electric heat pumps as alternatives to conventional furnaces or air conditioners. Electric heat pumps use electricity to transfer heat between cool and warm spaces to either provide cooling or heating. When cooling is needed during the summer months, the pumps move warmer inside air to outside. The pumps operate in reverse during the winter, moving warmer outdoor air into the building to provide heat. Because heat pumps move warm air instead of generating heat, they are more efficient than conventional heating and cooling systems. When electric heat pumps replace fossil-fuel heating or cooling sources, they achieve a dual efficiency and decarbonization benefit. The most common types of heat pumps collect heat from the air (are air-to-air), water (water-to-air), or ground (geothermal-to-air). The performance and emissions reductions achieved by electric heat pumps depend heavily on the system type, cooling and heating loads, climate zone, season, and other project-specific variables. "]
[null,null,"Building energy consumption","Operation","M-2A-06","No","Require Energy Efficient Boilers","Install boilers with higher energy efficiencies than what is required by regulation. Improving boiler efficiency decreases fuel consumption for the same amount of energy output, thereby reducing associated GHG emissions"]
[null,null,"Building energy consumption","Operation","M-2A-07","No","Install Whole-House Fans","Install whole-house fans in new construction. Whole-house fans draw cooler outdoor air through open windows, exhaust the warmer air into the attic, and then expel the air outside through attic vents. Whole-house cooling using a whole house fan can substitute for an air conditioner most of the year in most climates, resulting in a reduction in emissions associated with building energy use. Whole-house fans may be inappropriate in locations near sources that generate air pollutants during the evening hours, such as major roads and freeways."]
[null,null,"Building energy consumption","Operation","M-2A-08","No","Install Cool Roofs and/or Cool Walls","Install cool roofs and/or walls in place of dark roofs and/or conventional walls. Cool roofs have been designed to reflect more sunlight and absorb less heat than a standard roof, keeping buildings cooler in the summertime and thus reducing air-conditioning loads. Complementary to cool roofs, cool walls achieve a similar result through using more reflective paints or materials. This reduces the electricity needed to provide cooling but can potentially increase the energy needed to provide winter heating, thereby reducing associated GHG emissions depending on the project parameters (e.g., climate, level of implementation, carbon intensity of local electricity provider). However, the winter heating penalty may be small with lower levels of winter sunlight due to shorter daylight hours and more overcast skies."]
[null,null,"Building energy consumption","Operation","M-2A-09","No","Install Green Roofs in Place of Dark Roofs","Install green roofs in place of dark roofs. Green roofs consist of a layer of vegetation on top of buildings, which provides natural insulation and climate control benefits. This reduces the electricity and natural gas needed to provide cooling and heating, thereby reducing associated GHG emissions."]
[null,null,"Building energy consumption","Operation","M-2A-10","No","Install Cool Pavements","Install cool pavement in place of dark pavement. Cool pavement helps to lower ambient outdoor air temperatures when compared to dark-colored, heat-absorbent pavement such as asphalt. This reduces the electricity needed to provide cooling, thereby reducing associated GHG emissions, depending on the project parameters (e.g., climate, carbon intensity of local utility).  "]
[null,null,"Building energy consumption","Operation","M-2A-11","No","Improve Insulation Standards ","Use building insulation that exceeds minimum code standards. Improving insulation reduces energy demand for both heating and cooling and thus reduces GHG emissions from reduced energy consumption. Adequate insulation improves buildings’ thermal regulation as it helps avoid extreme heat gains and losses."]
[null,null,"Building energy consumption","Operation","M-2A-12","No","Limit Window-To-Wall Ratio","Limit the window-to-wall ratio (WWR) of new buildings. Buildings with fully glazed façades are dependent on heating, ventilation, and air conditioning and tend to be highly exposed to solar. The optimal WWR for energy efficiency depends on the climate and orientation of the building. "]
[null,null,"Building energy consumption","Operation","M-2A-13","No","Maximize Solar Shading","Maximize building shade during the summer months. Shading is a passive and inexpensive way to reduce summer heat loads, and thus the need for air conditioning. Examples include vegetation with seasonal variation and envelope elements that reflect natural light."]
[null,null,"Building energy consumption","Operation","M-2A-14","No","Optimize Natural Ventilation","Maximize natural building ventilation in new construction. Façade design allows natural ventilation at night to cool the building and reduce peak daytime temperatures in summer. This in turn reduces the need for air conditioning, which reduces building electricity consumption and associated emissions. "]
[null,null,"Building energy consumption","Operation","M-2A-15","No","Obtain Third-party HVAC Commissioning and Veriﬁcation of Energy Savings","Require third-party review of heating ventilation and air conditioning (HVAC) systems to ensure proper installation and construction of energy reduction features.  HVAC commissioning and third-party verification of energy savings may be obtained for thermal efficiency components including HVAC systems, insulation, windows, and water heating."]
[null,null,"Building energy consumption","Operation","M-2A-16","No","Require Higher Efficacy Public Street and Area Lighting","Install higher efficacy public street and area lighting in place of typical or existing lamps. Installing more efficacious lamps, such as light-emitting diodes, will use less electricity while producing the same amount of light, thereby reducing the associated indirect GHG emissions. "]
[null,null,"Building energy consumption","Operation","M-2A-17","No","Replace Incandescent Traffic Lights with LED Traffic Lights","Replace incandescent traffic lights with more energy-efficient light-emitting diode (LED) traffic lights. Installing LEDs reduces electricity demand and thus results in a reduction in indirect GHG emissions. "]
[null,null,"Building energy consumption","Operation","M-2A-18","No","Procure Electricity from Lower Carbon Intensity Power Supply","Procure electricity with a lower carbon intensity than the primary product offered by the local provider (often an investor-owned utility). This would displace the electricity demand that would ordinarily be supplied by the local electricity provider’s energy mix. Electricity provided by local electricity providers has varying carbon intensities based on the portfolio of energy sources. Procurement of electricity of a lower carbon intensity would displace the emissions that would have been produced had the electricity been supplied by the default energy mix and thus results in a reduction in GHG emissions. Green power supply options include utility green power products, community choice aggregation, shared renewables (e.g., community solar), and power purchase agreements. "]
[null,null,"Building energy consumption","Operation","M-2A-19","No","Require All-Electric Development","Install all-electric appliances and end uses. Using electric instead of natural gas-powered appliances and end uses replaces a more emissions-intensive fossil fuel source of energy with a less emissions-intensive source of energy, electricity from the grid that is increasingly transitioning to renewable sources. "]
[null,null,"Building energy consumption","Operation","M-2A-20","No","Require Zero Net Energy Buildings","Design and construct zero net energy (ZNE) buildings. A ZNE building foremost reduces GHG emissions by reducing energy use through more efficient design. Further, the building avoids GHG emissions either by using no emissions-generating energy sources or offsetting the building energy emissions by exporting emission-free energy (typically from onsite renewables)."]
[null,null,"Building energy consumption","Operation","M-2A-21","No","Require Renewable-Surplus Buildings","Install onsite renewable energy in an amount that offsets more emissions than the amount generated from the development’s electricity use and onsite fuel consumption. Installing zero-emission renewable energy displaces emissions from grid electricity that would otherwise be used, thereby reducing GHG emissions. Implementation of this measure would result in buildings that reduce more GHG emissions than they generate through surplus generation of energy from renewables, sometimes known as carbon-negative buildings. The amount of renewable energy required for a building to have net negative GHG emissions is largely determined by the number of emissions from onsite fuel consumption and the carbon intensity of the local electricity provider."]
[null,null,"Building energy consumption","Operation","M-2A-22","Yes","Establish Onsite Renewable Energy Systems","Generate electricity from an onsite renewable or zero-emission power system. This displaces the electricity demand that would ordinarily be supplied by the local electricity provider. Electricity generation provided by local electricity providers have varying carbon intensities based on the portfolio of energy sources. Some renewable energy systems, such as fuel cells, may not be completely GHG emissions-free, but may still have lower emissions than the electricity provided by the local electricity provider (unless the electricity provider has a relatively high renewable portfolio), thereby reducing GHG emissions. Zero-emissions power systems, such as solar panels, result in the greatest magnitude of emissions reductions. Onsite renewable systems can also provide back-up power as an alternative to diesel generators in the event of grid power outages or demand response events.",null,{"$f":"IF('Project Background'!H25=0,\"No\",\"Yes\")","v":"No"},{"$f":"IF(J61=\"Yes\",\"Portion of building energy consumption is generated on-site via renewable or through RECs\",\"N/A\")","v":"N/A"}]
[null,null,"Building energy consumption","Operation","M-2A-23","Yes","Use Renewable Natural Gas or Green Hydrogen Fuel","Use renewable natural gas (RNG) in buildings instead of traditional natural gas. RNG has much lower carbon emissions and can be used in standard gas appliances like furnaces and water heaters. Alternatively, consider green hydrogen as a primary fuel source. Use of hydrogen would likely require some buildings retrofits or updates to appliances.",null,{"$f":"IF('Project Background'!H27=0,\"No\",\"Yes\")","v":"No"},{"$f":"IF(J62=\"Yes\",\"Portion of Building Natural Gas Consumption is Supplied from Renewable Sources\",\"N/A\")","v":"N/A"}]
[null,null,"Building energy consumption","Operation","M-2A-24","No","Encourage Residential Participation in Existing Demand Response Program(s)","Market and promote the local utility’s manual (i.e., behavioral) demand response program(s) to encourage participation from residents in the project area. During demand response events, program users shift or conserve electricity, thereby reducing the associated indirect GHG emissions. Methods of engaging customers in demand response efforts include offering time-based rates, such as time-of-use pricing, critical peak pricing, variable peak pricing, real-time pricing, and critical peak rebates. Users are encouraged to respond to time-based rates or other forms of financial incentives with smart phone app, email, phone call, and/or text notifications."]
[null,null,"Building energy consumption","Operation","M-2A-25","No","Use Microgrids and Energy Storage","Design, install, and manage a microgrid. Microgrids offer the opportunity to deploy more zero-emission electricity sources, thereby reducing GHG emissions. The microgrid manager (e.g., local energy management system) can balance generation from non-controllable renewable power sources, such as solar, with distributed, controllable generation, such as natural gas-fueled combustion turbines. They can also use energy storage and batteries in electric vehicles to balance energy distribution and usage within the microgrid. "]
[null,null,"Building energy consumption","Operation","M-2A-26","No","Provide Battery Storage","Strategically deploy battery storage. While energy storage has no direct emissions effect, when deployed strategically, energy storage can make the grid more flexible, unlocking renewable energy and reducing GHG emissions. When deployed non-strategically, owners of energy storage assets are more likely to charge their facilities during off-peak periods when power prices are lower, in order to supply power during more expensive peak hours. Off-peak generation times such as nighttime hours are more likely to be dominated by conventional power sources, which, except for nuclear and hydropower, are likely to be more emissions intensive."]
[null,null,"Building energy consumption","Operation","M-2A-27","No","Utilize a Combined Heat and Power System","Use combined heat and power (CHP) systems in place of separate heat and power (SHP) systems. For the same level of power output, CHP systems use less input energy than traditional SHP generation, resulting in lower GHG emissions. In traditional SHP systems, heat created as a by-product is wasted as it is released into the surrounding environment. CHP systems harvest thermal energy and use it to heat onsite uses or for processes in proximity, which reduces the amount of natural gas or other fuel that would otherwise be combusted for heating or for use in those processes. CHP systems also result in a reduced demand for electricity from the grid, which displaces the GHG emissions from the production of electricity from the grid."]
[null,null,"Building energy consumption","Operation","M-2A-28","No","Utilize Biomass Energy","Install new biomass or biofuel electricity generation (or cogeneration). Although the direct combustion emissions for biofuels are generally on-par with other forms of fossil fuel energy, biofuels have a lower life-cycle carbon intensity due to the uptake of carbon from plants used to produce that fuel. A reasonable reference point for this carbon intensity would be the average carbon intensity of the electricity in the utility that would receive power from this new biomass plant. "]
[null,null,"Natural gas and petroleum systems","Operation","M-2C-01","Yes","Conduct Regular Maintenance","Implement a preventative maintenance schedule to replace worn-out components like gaskets, seals, and packing on valves and fittings. Regularly tighten all connections on pipelines, tanks, and equipment. Proper maintenance can avoid leaks, which in turn reduces fugitive emissions. ",null,{"$f":"IF('Project Background'!$G$46=\"No\",\"No\",IF('User Inputs'!$D$196=0,\"No\",\"Yes\"))","v":"No"},{"$f":"IF(J68=\"Yes\",\"Reduction in natural gas leakage and venting\",\"N/A\")","v":"N/A"}]
[null,null,"Natural gas and petroleum systems","Operation","M-2C-02","Yes","Ensure Proper Systemwide Management","Develop a plan to properly and efficiently maintain systemwide performance. For example, ensure proper pressure management, optimize maintenance schedules with preventative maintenance procedures, and implement procedures for proper valve operation and isolation. ",null,{"$f":"IF('Project Background'!$G$46=\"No\",\"No\",IF('User Inputs'!$D$196=0,\"No\",\"Yes\"))","v":"No"},{"$f":"IF(J69=\"Yes\",\"Reduction in natural gas leakage and venting\",\"N/A\")","v":"N/A"}]
[null,null,"Natural gas and petroleum systems","Operation","M-2C-03","Yes","Design New Pipelines to Minimize Leaks","Use advanced materials during pipeline construction, such as high-performance polymers. Consider using advanced materials for gaskets and seals with enhanced leak resistance.",null,{"$f":"IF('Project Background'!$G$46=\"No\",\"No\",IF('User Inputs'!$D$196=0,\"No\",\"Yes\"))","v":"No"},"N/A"]
[null,null,"Natural gas and petroleum systems","Operation","M-2C-04","Yes","Install Low-Bleed Pneumatic Controllers","Install low-bleed pneumatic controllers instead of high-bleed ones to reduce fugitive leaks.",null,{"$f":"IF('Project Background'!$G$46=\"No\",\"No\",IF('User Inputs'!$D$196=0,\"No\",\"Yes\"))","v":"No"},"N/A"]
[null,null,"Natural gas and petroleum systems","Operation","M-2C-05","Yes","Use Vapor Recovery Units","Use vapor recovery units to capture fugitive emissions during tank loading/unloading.",null,{"$f":"IF('Project Background'!$G$46=\"No\",\"No\",IF('User Inputs'!$D$196=0,\"No\",\"Yes\"))","v":"No"},"N/A"]
[null,null,"Industrial processes","Operation","M-2D-01","No","Implement Measures to Improve Industrial Electrification, Decarbonization, and Efficiency","While industrial processes vary significantly across types of industry, nearly all industrial processes have opportunities to enhance their thermal or electrical efficiency. Some industrial operations can be cost-effectively decarbonized through electrification tools from heat pumps for low to medium temperature ranges to thermal storage for high temperature processes, and by changing industrial processes that generate GHG emissions. Suitability for electrification might differ by use case, and such efforts are well complemented by further changes to chemical processes, production techniques to reduce process emissions, and/or carbon capture storage (see Measure 1E-4). Deploying industrial electrification, decarbonizing, and improving efficiency can take many forms including: \n• Build more efficient plants and reduce the amount of electricity purchased.\n• Use natural gas or waste-derived fuels.\n• Replace coal burning production facilities with biomass or hydrogen powered facilities.\n• Expand onsite renewable energy production to supply a portion of onsite electrical demand.\n• Recover and use waste heat."]
[null,null,"Industrial processes","Operation","M-2D-02","No","Implement Measures to Reduce GHG Emissions from Cement Production","Implement Measure 2D-1 and consider the following actions specific to the cement industry to further reduce GHG emissions. \n• Use less clinker in the cement mix.\n• Use alternative materials to reduce the amount of high-emission clinker.\n• Use carbonation by cement systems under appropriate conditions."]
[null,null,"Industrial processes","Operation","M-2D-03","No","Implement Measures to Reduce GHG Emissions from Lime Production","Implement Measure 2D-1 and consider the following actions specific to the lime industry to further reduce GHG emissions.\n• Use more efficient kilns with direct emission separation technologies.\n• Increase the commercial use of lime kiln dust, a byproduct of lime manufacturing, as a soil stabilizing agent.\n• Use alternative fuels, like hydrogen or oxyfuel, in new kiln technologies."]
[null,null,"Industrial processes","Operation","M-2D-04","No","Implement Measures to Reduce GHG Emissions from Glass Production","Implement Measure 2D-1 and consider the following actions specific to the glass industry to further reduce GHG emissions. \n• Improve furnace design and insulation to reduce energy consumption and associated emissions.\n• Use oxyfuel burners, which can reduce energy consumption in glass melting furnaces by up to 20%.\n• Recycle desulfurization waste as a raw material for glass production."]
[null,null,"Industrial processes","Operation","M-2D-05","No","Implement Measures to Reduce GHG Emissions from Metals Production","Implement Measure 2D-1 and consider the following actions specific to the metals industry to further reduce GHG emissions.\n• Reuse and recycle metals scraps.\n• Improve energy efficiency through continuous casting and rolling, energy recovery, and advanced processes.\n• Use hydrogen in steelmaking processes.\n• Use Electric Arc Furnace to heat materials like pig iron, steel scraps, and direct reduced iron (DRI) product with electricity.\n• Use DRI to directly reduce iron ore in solid-state."]
[null,null,"Industrial processes","Operation","M-2D-06","No","Implement Measures to Reduce GHG Emissions from Chemicals Production","Implement Measure 2D-1 and consider the following actions specific to the chemicals industry to further reduce GHG emissions. \n• Use solvent recyclers to reduce reliance on virgin solvent makeup, which eliminates transportation-related emissions and waste processing emissions.\n• Use heat integration solutions like high-temperature heat pumps, steam mechanical vapor recompression, and heat separation to increase the utilization of primarily generated heat.\n• Utilize improved platinum-based catalysts with higher selectivity towards nitric oxide (NO) production and reduced nitrous oxide (N2O) formation during the ammonia oxidation stage.\n• Precisely control reaction temperature and pressure within the ammonia oxidation reactor to minimize N2O production.\n• Install a dedicated catalyst system between the ammonia oxidation stage and the absorption tower to decompose N2O before it reaches the final tail gas."]
[null,null,"HFC leakage","Operation","M-2E-01","Yes","Use Alternative Refrigerants Instead of High-GWP Refrigerants","Replace high-global warming potential (GWP) refrigerants with lower-GWP refrigerants (e.g., natural refrigerants such as carbon dioxide, ammonia, and hydrocarbons, or next generation low-GWP synthetic refrigerants like hydrofluoroolefin-1234yf) in refrigeration and air conditioning equipment. When emitted into the atmosphere, high-GWP refrigerants (e.g., hydrofluorocarbons) absorb significantly more heat than carbon dioxide on a mass basis, resulting in larger global warming effects. Shifting to lower-GWP refrigerants reduces the potency of refrigerant leaks, decreasing GHG emissions.",null,{"$f":"IF('Project Background'!G48=\"No\",\"No\",IF(AND('User Inputs'!G224='User Inputs'!H224,'User Inputs'!G225='User Inputs'!H225,'User Inputs'!G226='User Inputs'!H226,'User Inputs'!G227='User Inputs'!H227,'User Inputs'!G228='User Inputs'!H228),\"No\",\"Yes\"))","v":"Yes"},{"$f":"IF(J79=\"Yes\",\"Refrigerants are NOT defaults\",\"N/A\")","v":"Refrigerants are NOT defaults"}]
[null,null,"HFC leakage","Operation","M-2E-02","No","Install Secondary Loop and/or Cascade Supermarket Systems in Place of Direct Expansion Systems","Replace conventional direct expansion systems in supermarkets with indirect systems such as secondary loop and cascade systems. Indirect systems employ a primary and secondary refrigerant or heat transfer fluid. The primary refrigerant remains in the machine room and cools the secondary fluid, which is then pumped throughout the store to cool products. Another type of indirect system is a cascade system, which contains two refrigeration systems that share a common heat exchanger. By either confining hydrofluorocarbons to the machinery room as the primary refrigerant or removing hydrofluorocarbons entirely, these systems require significantly lower refrigerant charge and have lower leak rates than conventional direct expansion systems. Decreasing the refrigerant charge and leak rates results in a reduction of potential direct GHG emissions."]
[null,null,"HFC leakage","Operation","M-2E-03","No","Install Transcritical CO2 Supermarket Systems in Place of High-GWP Systems","Replace conventional direct expansion systems in supermarkets with carbon dioxide (CO2) transcritical systems. CO2 transcritical systems use CO2, which has a global warming potential (GWP) of 1 and a lower leakage rate than typical conventional direct expansion systems. By reducing annual leak rates and replacing high-GWP refrigerants with CO2, these systems result in a reduction of potential direct GHG emissions.  CO2 transcritical systems work most efficiently in cooler climates; but can also be used in warmer climates. "]
[null,null,"HFC leakage","Operation","M-2E-04","No","Install Microchannel Heat Exchangers in A/C Equipment in Place of Conventional Heat Exchanger","Replace conventional heat exchangers in air conditioning (A/C) equipment (e.g., unitary A/C) with microchannel heat exchangers (MCHX). A/C equipment using MCHX require 35 percent to 40 percent less refrigerant than those using conventional heat exchangers. The reduction in refrigerant charge in A/C equipment results in a reduction of potential GHG emissions."]
[null,null,"HFC leakage","Operation","M-2E-05","No","Reduce Service Leak Emissions ","Improve refrigerant servicing technologies and practices to reduce refrigerant emissions during equipment servicing. It is estimated that recovering refrigerants can reduce emissions in servicing by up to 95 percent.  Equipment should only be serviced by qualified technicians certified under Section 608 of the Clean Air Act.  Implementing more widespread and thorough refrigerant recovery practices while servicing refrigeration and A/C systems must go beyond regulatory requirements."]
[null,null,"HFC leakage","Operation","M-2E-06","No","Reduce Operational Leak Emissions ","Deploy leak detection technology and preventative maintenance measures to quickly identify and resolve operational leaks, which in turn will reduce GHG emissions. "]
[null,null,"HFC leakage","Operation","M-2E-07","No","Reduce Disposal Emissions","Properly recover refrigerants prior to the disposal of refrigeration and air conditioning equipment. U.S. Environmental Protection Agency-certified refrigerant recovery equipment must be used, meaning that a least 90 percent of the refrigerant must be recovered if the compressor is operating, and at least 80 percent must be recovered otherwise.  "]
[null,null,"Land use change","Operation","M-2F-01","No","Implement Management Practices to Improve the Health and Function of Natural and Working Lands  ","Implement management strategies aimed at improving the overall health and functionality of natural and working lands as a mechanism for increasing carbon sequestration and reducing GHG emissions. Management practices may include those that change ecosystem carbon exchange rates (e.g., cultivated land soil conservation, use of biochar) and those that involve land cover changes. If land conversion is deemed appropriate, refer to Measure M-1E-1 for recommended implementation and management strategies. "]
[null,null,"Land use change","Operation","M-2F-02","No","Wildfire Resilience and Management ","Implement fuel treatments in forested areas to minimize the likelihood of severe or catastrophic wildfire behavior, thereby minimizing pyrogenic carbon emissions during a wildfire event. Fuel treatments have the short-term effect of releasing more carbon emissions as understory, ladder fuels, and forest fuel loads are burned. However, in the long term, treated stands produce fewer emissions compared to untreated stands because treated stands produce low to moderate fire severity that does not disturb the carbon stock in the overstory canopy. Untreated stands are far more likely to experience sever behavior that ignites the canopy and releases the stored carbon in the overstory."]
[null,null,"Land use change","Operation","M-2F-03","No","Use Rotational Grazing","Regularly move cattle between different grazing areas to promote healthy pasture regrowth before resuming grazing."]
[null,null,"Land use change","Operation","M-2F-04","No","Reduce Livestock Stocking Density","Decrease the amount of cattle stocked per pasture to reduce grazing pressure, which in turn reduces plant defoliation and soil disturbance, which can mitigate soil carbon loss. Reducing the stocking density also reduces methane emissions by decreasing the animal population. "]
[null,null,"Land use change","Operation","M-2F-05","No","Plant Cover Crops","Plant cover crops during fallow periods to enhance soil carbon storage."]
[null,null,"On-road vehicles","Operation","M-2G-01","No","Increase Residential Density","Design projects with a higher density of dwelling units compared to the average residential density in the U.S. Increased densities affect the distance people travel and provide greater options for the mode of travel they choose. Increasing residential density results in shorter and fewer trips by single-occupancy vehicles and thus a reduction in GHG emissions. "]
[null,null,"On-road vehicles","Operation","M-2G-02","No","Increase Job Density","Design projects with a higher density of jobs compared to the average job density in the U.S. Increased densities affect the distance people travel and provide greater options for the mode of travel they choose. Increasing job density results in shorter and fewer trips by single-occupancy vehicles and thus a reduction in GHG emissions"]
[null,null,"On-road vehicles","Operation","M-2G-03","No","Infill Development ","Support infill housing development programs that allow residents to live closer to downtown areas where there is greater access to jobs and activities. Residents living at infill development projects typically do not need to travel as far to access essential destinations. This leads to lower vehicle miles traveled and associated GHG emissions compared to similar projects located farther from a downtown area."]
[null,null,"On-road vehicles","Operation","M-2G-04","No","Provide Transit-Oriented Development","Support transit-oriented development (TOD), which achieve lower vehicle miles traveled compared to developed sited in a TOD location. TOD refers to projects built in compact, walkable areas that have easy access to public transit, ideally in a location with a mix of uses, including housing, retail offices, and community facilities. Project site residents, employees, and visitors would have easy access to high-quality public transit, thereby encouraging transit ridership and reducing the number of single-occupancy vehicle trips and associated GHG emissions. "]
[null,null,"On-road vehicles","Operation","M-2G-05","No","Integrate Aﬀordable and Below Market Rate Housing","Require below market rate (BMR) housing. BMR housing provides greater opportunity for lower income families to live closer to job centers and achieve a job/housing match near transit. It is also an important strategy to address the limited availability of affordable housing that might force residents to live far away from jobs or school, requiring longer commutes. "]
[null,null,"On-road vehicles","Operation","M-2G-06","No","Locate Project in Area with High Destination Accessibility","Site new development in an area with high accessibility to destinations. Destination accessibility is measured in terms of the number of jobs or other attractions (e.g., schools, supermarkets, and health care services) that are reachable within a given travel time or travel distance and tends to be highest at central locations and lowest at peripheral ones. When destinations are nearby, the travel time between them is less, thus increasing the potential for people to walk and bike to those destinations and, therefore, reducing the vehicle miles traveled and associated GHG emissions. "]
[null,null,"On-road vehicles","Operation","M-2G-07","No","Improve Destination Accessibility in Underserved Areas","Construct job centers or other attractions (e.g., schools, supermarkets, and health care services) for residents in underserved areas (e.g., food deserts). When destinations are nearby, the travel time between them is less, thus increasing the potential for people to walk and bike to those destinations, reducing vehicle miles traveled and associated GHG emissions. "]
[null,null,"On-road vehicles","Operation","M-2G-08","No","Limit Residential Parking Supply","Reduce the total parking supply available at a residential project or site. Limiting the amount of parking available creates scarcity and adds additional time and inconvenience to trips made by private auto, thus disincentivizing driving as a mode of travel. Reducing the convenience of driving results in a shift to other modes and decreased vehicle miles traveled and thus a reduction in GHG emissions. "]
[null,null,"On-road vehicles","Operation","M-2G-09","No","Unbundle Residential Parking Costs from Property Cost ","Unbundle, or separate, a residential project’s parking costs from property costs, requiring those who wish to purchase parking spaces to do so at an additional cost. On the assumption that parking costs are passed through to the vehicle owners/drivers utilizing the parking spaces, this measure results in decreased vehicle ownership and, therefore, a reduction in vehicle miles traveled and GHG emissions. "]
[null,null,"On-road vehicles","Operation","M-2G-10","No","Implement Preferential Parking Permit Program ","Provide preferential parking in terms of free or reduced parking fees, priority parking, or reserved parking in convenient locations (such as near public transportation or building entrances) for commuters who carpool, vanpool, ride-share or use sustainably fueled vehicles. Projects should also provide wide parking spaces to accommodate vanpool vehicles. Commercial preferential parking can accommodate workers who work non-standard hours by providing opportunities to participate. Residential preferential parking can consider an equitable distribution of permits, giving priority to owners of sustainably fueled vehicles."]
[null,null,"On-road vehicles","Operation","M-2G-11","No","Provide Traﬃc Calming Measures","Include pedestrian/bicycle safety and traffic calming measures above jurisdictional requirements. Roadways should also be designed to reduce motor vehicle speeds and encourage pedestrian and bicycle trips with traffic calming features. Traffic calming features may include marked crosswalks, count-down signal timers, curb extensions, speed tables, raised crosswalks, raised intersections, median islands, tight corner radii, roundabouts or mini-circles, on-street parking, planter strips with street trees, chicanes/chokers, and others. Providing traffic calming measures encourages people to walk or bike instead of using a vehicle. This mode shift will result in a decrease in vehicle miles traveled. "]
[null,null,"On-road vehicles","Operation","M-2G-12","No","Required Project Contributions to Transportation Infrastructure Improvement","Contribute to traffic-flow improvements or other multi-modal infrastructure projects that reduce emissions and are not considered as substantially growth inducing. The local transportation agency should be consulted for specific needs. Contributions may consist of dedicated right-of-way, capital improvements, or easements. "]
[null,null,"On-road vehicles","Operation","M-2G-13","No","Locate Project near Bike Path/Bike Lane","Locate new development within 0.5-mile bicycling distance to an existing Class I or IV path or Class II bike lane. A project that is designed around an existing or planned bicycle facility encourages sustainable mode use. The project design should include a comparable network that connects the project uses to the existing off-site facilities that connect to work/retail destinations. "]
[null,null,"On-road vehicles","Operation","M-2G-14","No","Provide Bike Parking","Provide short-term and long-term bicycle parking facilities to meet peak season maximum demand. Parking can be provided in designated areas or added within rights-of-way, including by replacing parking spaces with bike parking corrals. Ensure that bike parking can be accessed by all, not just project employees or residents."]
[null,null,"On-road vehicles","Operation","M-2G-15","No","Orient Project Toward Transit, Bicycle, or Pedestrian Facility","Minimize the setback distance between the project and planned or existing transit, bicycle, or pedestrian corridors. A project that is designed around an existing or planned transit, bicycle, or pedestrian corridor encourages sustainable mode use. "]
[null,null,"On-road vehicles","Operation","M-2G-16","No","Implement Commute Trip Reduction Marketing","Implement a marketing strategy to promote the project site employer’s commute trip reduction (CTR) program. Information sharing and marketing promote and educate employees about their travel choices to the employment location beyond driving such as carpooling, taking transit, walking, and biking, thereby reducing vehicle miles traveled and GHG emissions. This measure can be used to support implementation of either a voluntary CTR program (see Measure 2G-17) or mandatory CTR program (see Measure 2G-18)."]
[null,null,"On-road vehicles","Operation","M-2G-17","No","Implement Commute Trip Reduction Program (Voluntary)","Implement a voluntary commute trip reduction (CTR) program with employers. CTR programs discourage single-occupancy vehicle trips and encourage alternative modes of transportation such as carpooling, taking transit, walking, and biking, thereby reducing vehicle miles traveled and GHG emissions. "]
[null,null,"On-road vehicles","Operation","M-2G-18","No","Implement Commute Trip Reduction Program (Mandatory Implementation and Monitoring)","Implement a mandatory commute trip reduction (CTR) program with employers. CTR programs discourage single-occupancy vehicle trips and encourage alternative modes of transportation such as carpooling, taking transit, walking, and biking, thereby reducing vehicle miles traveled and GHG emissions."]
[null,null,"On-road vehicles","Operation","M-2G-19","No","Provide Ridesharing Program","Implement a ridesharing program and establish a permanent transportation management association with funding requirements for employers. Ridesharing encourages carpooled vehicle trips in place of single-occupied vehicle trips, thereby reducing the number of trips, vehicle miles traveled, and GHG emissions."]
[null,null,"On-road vehicles","Operation","M-2G-20","No","Provide Employer-Sponsored Vanpool","Implement an employer-sponsored vanpool service. Vanpooling is a flexible form of public transportation that provides groups of 5 to 15 people with a cost-effective and convenient rideshare option for commuting. The mode shift from long-distance, single-occupied vehicles to shared vehicles reduces overall commute vehicle miles traveled, thereby reducing GHG emissions. "]
[null,null,"On-road vehicles","Operation","M-2G-21","No","Provide End-of-Trip Bicycle Facilities","Install and maintain end-of-trip facilities for employee use. End-of-trip facilities include bike parking, bike lockers, showers, and personal lockers. The provision and maintenance of secure bike parking and related facilities encourages commuting by bicycle, thereby reducing vehicle miles traveled and GHG emissions. "]
[null,null,"On-road vehicles","Operation","M-2G-22","No","Provide Shuttles (Gas or Electric)","Provide local shuttle service through coordination with the local transit operator or private contractor. The shuttles should provide service to and from commercial centers to nearby transit centers to help with first and last mile connectivity, thereby incentivizing a shift from private vehicles to transit, reducing associated GHG emissions. Electric shuttle vehicles provide a marginally more effective reduction to GHG emissions compared to gas- or diesel-fueled shuttles due to their use of less emissions-intensive electric power. "]
[null,null,"On-road vehicles","Operation","M-2G-23","No","Implement Subsidized or Discounted Transit Program","Provide subsidized or discounted, or free transit passes for employees and/or residents. Reducing the out-of-pocket cost for choosing transit improves the competitiveness of transit against driving, increasing the total number of transit trips and decreasing vehicle trips. This decrease in vehicle trips results in reduced vehicle miles traveled and thus a reduction in GHG emissions."]
[null,null,"On-road vehicles","Operation","M-2G-24","No","Implement Telecommute and/or Alternative Work Schedule Program","Permit employee telecommuting and/or alternative work schedules and monitor employee involvement to ensure forecasted participation matches observed participation. While this measure certainly reduces commute-related vehicle miles traveled (VMT), recent research has shown that total VMT from telecommuters can exceed VMT from non-telecommuters. In addition, telecommuting affects commercial and residential electricity use, complicating the calculation of the net effect and attribution of emissions. More specifically, an office with fewer employees could result in a decrease in the project’s energy used to operate equipment and provide space heating and air conditioning. Conversely, an increase in telecommuters using their private homes as workspaces could result in a residential increase in energy for those same end uses and appliances. It is recommended that users review the most recent literature at the time of their project initiation to see if new findings more conclusively support emissions reduction."]
[null,null,"On-road vehicles","Operation","M-2G-25","No","Price Workplace Parking","Price onsite parking at workplaces. Because free employee parking is a common benefit, charging employees to park onsite increases the cost of choosing to drive to work. This is expected to reduce single-occupancy vehicle commute trips, resulting in decreased vehicle miles traveled, thereby reducing associated GHG emissions."]
[null,null,"On-road vehicles","Operation","M-2G-26","No","Implement Employee Parking Cash-Out","Offer employee parking cash-out. Cash-out is when employers provide employees with a choice of forgoing their current subsidized/free parking for a cash payment equivalent to or greater than the cost of the parking space. This encourages employees to use other modes of travel instead of single occupancy vehicles. This mode shift results in people driving less and thereby reduces vehicle miles traveled and GHG emissions. "]
[null,null,"On-road vehicles","Operation","M-2G-27","No","Provide On-Demand Microtransit","Provide small-scale, on-demand public transit services that can offer fixed routes and schedules or flexible routes and on-demand scheduling (e.g., Metro Micro) through coordination with the local transit operator or private contractor. Microtransit aims to offer shorter wait times and improved reliability compared to the bus and rail system to further incentivize alternative transportation modes that are less emissions-intensive than private vehicle trips. On-demand rides can be booked using smartphone applications or call centers. "]
[null,null,"On-road vehicles","Operation","M-2G-28","No","Improve Transit Access, Safety, and Comfort","Improve transit access and safety through sidewalk/crosswalk safety enhancements, bus shelter improvements, improved lighting, and other features. Work with the community to determine barriers to use, most desired improvements, and other access challenges."]
[null,null,"On-road vehicles","Operation","M-2G-29","No","Provide Real-Time Transit Information","Provide real-time bus/train/ferry arrival time, travel time, alternative routings, or other transit information via electronic message signs, dedicated monitor or interactive electronic displays, websites, or mobile apps. This makes transit service more convenient and may result in a mode shift from auto to transit, which reduces vehicle miles traveled."]
[null,null,"On-road vehicles","Operation","M-2G-30","No","Provide First and Last Mile TNC Incentives","Require a first-last mile partnership between a municipality/transit agency and a transportation network company (TNC) for subsidized, shared TNC rides to or from the local transit station within a specific geographic area. This measure encourages a shift to transit mode for longer trips. Consider providing inclusive mechanisms so people without bank accounts, credit cards, or smart phones can access the incentives."]
[null,null,"On-road vehicles","Operation","M-2G-31","No","Implement a School Pool Program ","Create a ridesharing program for school children. School pool helps match parents to transport students to private schools, or to schools where students cannot walk or bike but do not meet the requirements for bussing. A school pool program can help reduce onsite air pollutant emissions at the school by reducing private vehicle trips, especially if the pool vehicle is zero emissions."]
[null,null,"On-road vehicles","Operation","M-2G-32","No","Establish a School Bus Program","Establish or expand a school bus program. Busing provides a practical way to transport students to school while also offering reductions in GHG emissions when there is high enough ridership. When districts establish busing programs, they directly replace automobile trips to take students to and from school."]
[null,null,"On-road vehicles","Operation","M-2G-33","No","Active Modes of Transportation for Youth","Provide infrastructure to support any form of active transport among youth. Ensuring that children can use active transportation whenever possible can serve to reduce vehicle miles traveled (VMT) and allow them to get the necessary exercise to live healthy lives. Safe Routes to Schools provides federal funding for new sidewalks, bike lanes, off-street pathways, and street crossings to help children use active modes of transportation to get to school, bringing health benefits to children, in addition to reductions in VMT from mode-shifts away from private vehicle trips. "]
[null,null,"On-road vehicles","Operation","M-2G-34","No","Electrify Loading Docks","Plug in transport refrigeration units and auxiliary power units to the electric grid at the loading dock instead of running the units on diesel. The indirect GHG emission from electricity generation can partially offset the emissions reduction from fuel reductions. "]
[null,null,"On-road vehicles","Operation","M-2G-35","No","Provide Electric Vehicle Charging Infrastructure","Install onsite electric vehicle chargers at buildings with designated parking areas (e.g., commercial, educational, retail, multifamily). This will enable drivers of plug-in hybrid electric vehicles to drive a larger share of miles in electric mode, as opposed to gasoline-powered mode, thereby displacing GHG emissions from gasoline consumption with a lesser amount of indirect emissions from electricity. "]
[null,null,"On-road vehicles","Operation","M-2G-36","No","Use Cleaner-Fuel Vehicles","Use cleaner-fuel vehicles in lieu of similar vehicles powered by gasoline or diesel fuel. Cleaner-fuel vehicles may include electric vehicles, natural gas and propane vehicles, and vehicles powered by biofuels such as composite diesel (blend of renewable diesel, biodiesel, and conventional fossil diesel), ethanol, and renewable natural gas. The full GHG emissions impact of cleaner fuels depends on the emissions from the vehicle’s tailpipe as well as the emissions associated with production of the fuel (sometimes termed “upstream” emissions). For example, tailpipe GHG emissions from renewable natural gas are identical to tailpipe GHG emissions from conventional natural gas; the GHG benefits of renewable natural gas come from the fact that it is produced from biomass. Similarly, battery electric vehicles have zero tailpipe emissions, but properly accounting for their GHG impacts requires quantifying the emissions associated with the electricity generation needed to charge the vehicle’s batteries."]
[null,null,"On-road vehicles","Operation","M-2G-37","No","Install Hydrogen Fueling Infrastructure","Implement accessible hydrogen fuel cell fueling infrastructure. Drivers of fuel cell electric vehicles (FCEV), from individual passenger vehicles to haul truck fleets, will be able to refuel using this infrastructure. The expansion of hydrogen fueling locations indirectly supports the uptake of FCEV in place of the typical internal combustion engine vehicle fueled by carbon-emitting gasoline and diesel."]
[null,null,"Treatment of waste on-site","Operation","M-2H-01","No","Establish Methane Recovery in Landfills","Capture and either flare or combust landfill gas (LFG) emitted from decomposition of organic waste in landfills. Flaring LFG will reduce the amount of methane emitted into the atmosphere. Combusting LFG to generate electricity for onsite energy needs reduces GHG emissions in two ways: it reduces direct methane emissions, and it displaces electricity demand and the associated indirect GHG emissions from electricity production."]
[null,null,"Treatment of waste on-site","Operation","M-2H-02","No","Implement Monitoring and Design Practices to Reduce Landfill Methane","Improve the design and operation of landfills to maximize control of methane emissions. Strategies may include:\n1. Monitor to quickly detect and repair fugitive emissions.\n2. Use effective cover practices to control surface methane.\n3. Design and operate robust gas collection systems.\n4. Efficiently destroy or use collected landfill gas."]
[null,null,"Treatment of waste on-site","Operation","M-2H-03","No","Use Appropriate Additives to Accelerate Composting","Increase compositing additives. Appropriate use of additives can effectively accelerate the composting period. Studies have shown that microbial agents are more conducive to GHG reduction compared to chemical, mineral, and organic physical organic additives. Combined measures, such as biochar and electric field-assisted composting can also be very effective at reducing GHGs during compositing."]
[null,null,"Treatment of waste on-site","Operation","M-2H-04","No","Improve Digestion Efficiency","Improve the efficiency of methane digestion by using smaller sludge amounts at increased frequency. Homogenizing primary and excess sludge can also improve stabilit8y and efficiency of anaerobic digestion, thus reducing emissions."]
[null,null,"Treatment of wastewater on-site","Operation","M-2I-01","No","Establish Methane Recovery in Wastewater Treatment Plants ","Capture methane from a wastewater treatment plant and either (1) combust or flare it to prevent escape into the atmosphere or (2) combust or flare it and use the heat to generate electricity for onsite energy needs. Using the combusted methane as an energy source reduces GHG emissions by displacing electricity demand and the associated indirect GHG emissions from electricity production. This measure is most applicable to wastewater treatment plants that have anaerobic digestion infrastructure, which facilitates the biological decomposition of the wastewater and produces the methane that is either flared or harnessed for energy."]
[null,null,"Treatment of wastewater on-site","Operation","M-2I-02","No","Improve Monitoring and Energy Management","Implement a system to improve the monitoring efficiency of each step in the wastewater treatment process. Use sensors to measure dissolved methane and nitrous oxide concentrations, and use this data to reduce the need for aeration. An intelligent system that controls the aeration quantity in biochemical pools with feedback controls and intelligent models could be deployed to maintain a balance of aeration. This system can also be used to improve oxygen management throughout the wastewater treatment process."]
[null,null,"Treatment of wastewater on-site","Operation","M-2I-03","No","Optimize Treatment Processes to Reduce Energy","Monitor and adjust the parameters of treatment processes (e.g., membrane bioreactor treatment) to reduce energy consumption. Consider new processes and configurations to remove organic matter. For example, use microalgae or partial nitritation-Anammox processes instead of conventional nitrification-denitrification processes. Or, use biological techniques like aerobic granular sludge."]
[null,null,"Treatment of wastewater on-site","Operation","M-2I-04","No","Recover and Separate Carbon","Recover carbon from waste sludge and separate it from nitrogen after fermentation."]
[null,null,"Treatment of wastewater on-site","Operation","M-2I-05","No","Implement Energy Efficiency Improvements ","Implement facility energy efficiency improvements, such as upgrading sewage-lifting pumps, improving the efficiency of heating ventilation and air conditioning and lighting through controls or replacement equipment, and improving efficiency of aeration equipment.  Use of frequency conversion technology to transform old sewage lifting pumps and the direct application of new equipment or facilities (e.g., digital pumps) are two major pathways to reduce the energy consumption needed for the sewage lifting pumps."]
[null,null,"Treatment of wastewater on-site","Operation","M-2I-06","No","Use Renewable and Heat Energy","Use renewable energy sources like solar, biogas, and heat throughout the wastewater process. Extract waste heat energy using wastewater source heat pump technology."]
[null,null,"Treatment of wastewater on-site","Operation","M-2I-07","No","Prevent the Release of Untreated Wastewater","Treat wastewater prior to release. While treatment will generate emissions, untreated wastewater has a three-times higher carbon footprint compared to treated wastewater. Thus, treatment emissions will be more than offset by the benefits of wastewater treatment prior to discharge."]
[null,null,"Treatment of waste off-site","Operation","M-2J-01","Yes","Institute or Extend Recycling Services","Institute or extend recycling services to reduce the volume of landfilled waste. Decomposition of certain types of landfilled waste produces methane. Increasing waste diversion from landfills therefore reduces GHG emissions. The recycling process generates some emissions, but also reduces upstream emissions from the manufacturing and production of new raw materials and goods.",null,{"$f":"IF('Project Background'!$G$53=\"No\",\"No\",IF('User Inputs'!D297>0,\"Yes\",\"No\"))","v":"No"},{"$f":"IF(J139=\"Yes\",\"Non-zero percentage of waste is recycled\",\"N/A\")","v":"N/A"}]
[null,null,"Treatment of waste off-site","Operation","M-2J-02","No","Require Edible Food Recovery Program Partnerships with Food Generators","Require food service, wholesale, and retail sources of edible food to partner with food recovery programs. Food recovery programs collect edible foods from commercial production and distribution channels that would otherwise be transported to a landfill and redistribute them for consumption. This measure would avoid emissions from the decomposition of non-diverted organic material in landfills."]
[null,null,"Treatment of waste off-site","Operation","M-2J-03","Yes","Implement Organics Diversion Program","Implement an organics diversion program to reduce the volume of organic waste sent to landfills. An organics diversion program lowers the landfill disposal rate of food waste (both edible and non-edible), food soiled paper, yard waste, and non-hazardous wood waste. Decomposition of organic waste in landfills produces methane. Increasing organic waste diversion from landfills thus reduces GHG emissions.",null,{"$f":"IF('Project Background'!$G$53=\"No\",\"No\",IF('User Inputs'!D297>0,\"Yes\",\"No\"))","v":"No"},{"$f":"IF(J141=\"Yes\",\"Non-zero percentage of waste is composted\",\"N/A\")","v":"N/A"}]
[null,null,"Enteric fermentation","Operation","M-2K-01","No","Use Feed Additives","Incorporate feed supplements that can inhibit methane production in the rumen. Examples of methane-reducing feed additives include seaweed, oils, agolin, mootral, certain synthetics (e.g., 3-Nitrooxpropanol), and certain plant extracts."]
[null,null,"Enteric fermentation","Operation","M-2K-02","No","Manage and Balance Diets","Provide a balanced diet with high-quality forage to improve digestibility and reduce methane emissions. Also, balance feed rations to minimize excess nutrients that contribute to emissions."]
[null,null,"Enteric fermentation","Operation","M-2K-03","No","Manage Herd Composition ","Reduce the number of unproductive animals on a farm can potentially reduce GHG emissions while increasing profitability. For example, extending lactation in dairying cows (where cows calve every 18 months rather than annually) can reduce herd energy demand, thereby potentially reducing methane emissions by a similar amount."]
[null,null,"Manure management","Operation","M-2L-01","Yes","Require Best Management Practices for Manure Management","Implement best management practices for the management of manure from livestock. Well-managed pasture systems and aerobic dry composting systems tend to have lower emissions, while anaerobic wet handling systems generate more methane. This measure is thus intended for manure collection systems that are currently managed by anaerobic decomposition of manure volatile solids stored in a lagoon or other predominantly liquid anaerobic environment. Utilizing alternative practices to manage manure results in reduced agriculture emissions from livestock by decreasing the amount of volatile manure solids that are stored in wet, anaerobic conditions.",null,{"$f":"IF('Project Background'!G54:G55=\"No\",\"No\",IF(AND(COUNT('User Inputs'!E321:L323)=0,COUNT('User Inputs'!E327:J329)=0),\"No\",\"Yes\"))","v":"No"},{"$f":"IF(J145=\"Yes\",\"Dairy cow and swine manure management inputs are entered\",\"N/A\")","v":"N/A"}]
[null,null,"Manure management","Operation","M-2L-02","No","Convert to Pasture-Based Management","Convert non-pasture operations to pasture-based management. To achieve emission reduction, the project must currently manage/store some manure in wet/anaerobic conditions and introduce new practices that reduce the quantity of manure managed under such conditions.",null,"No"]
[null,null,"Manure management","Operation","M-2L-03","No","Install Compost Bedded Pack Barn","Install a compost bedded pack barn that composts manure in situ."]
[null,null,"Manure management","Operation","M-2L-04","No","Install Slatted Floor Pit Storage Manure Collection","Install slated floor pit storage manure collection that must be cleaned out at least monthly. Pit storage cleaned out at a frequency less than twelve times per year may not reduce GHG emissions since this allows conditions to become anaerobic."]
[null,null,"Manure management","Operation","M-2L-05","No","Separate Manure Solids","Separate manure solids prior to entry into a wet/anaerobic environment (e.g., lagoon, settling pond, settling basin) in conjunction with one of the following practices (a) through (h):\na) Open solar drying of manure (manure is dried in a paved or unpaved open confinement area without any significant vegetative cover where accumulating manure may be removed periodically);\nb) Closed solar drying (drying of manure in enclosed environment);\nc) Forced evaporation with natural-gas fueled dryers;\nd) Daily spread (manure is routinely removed from a confinement facility and is applied to cropland or pasture within 24 hours of excretion);\ne) Solid storage (storage of manure, typically for a period of several months, in unconfined piles or stacks);\nf) Composting in vessel (composting in an enclosed vessel, with forced aeration and continuous mixing) or in aerated static pile (composting in piles with forced aeration but no mixing);\ng) Composting in intensive windrows (with regular – at least daily – turning for mixing and aeration) or passive windrows (with infrequent turning for mixing and aeration); or \nh) Composting in aerated vermifiltration system (solids separated by vermifilter are also processed by worms within the vermifilter)"]
[null,null,"Manure management","Operation","M-2L-06","No","Convert from Flush to Scrape Manure Collection","Convert from a flush to scrape manure collection system in conjunction with one of the practices (a) through (h) listed in Measure 2L-5."]
[null,null,"Manure management","Operation","M-2L-07","No","Install An Anaerobic Digester","Install an anaerobic digester to capture methane from manure and utilize it to generate energy."]

{"sheet":"Quantified Reductions","index":11,"n_rows":222,"n_cols":17,"rows_kept":222,"cut":false,"hidden":false,"merged":[[136,3,136,4],[191,2,191,4],[191,5,191,7],[124,1,125,1],[124,2,124,3],[124,4,124,5],[179,5,179,7],[179,2,179,4],[149,4,149,5],[149,2,149,3],[137,3,137,4],[137,1,137,2],[48,1,49,1],[48,2,48,3],[48,4,48,5],[47,4,47,5],[47,2,47,3],[91,1,91,2],[78,2,78,3],[75,1,75,3],[123,2,123,3],[123,4,123,5],[103,1,103,3],[106,1,106,3],[102,1,102,4],[105,1,105,4],[212,1,213,1],[205,1,206,1],[212,2,212,8],[162,7,162,8],[166,2,166,4],[167,2,167,4],[168,2,168,4],[163,2,163,4],[164,2,164,4],[165,2,165,4],[162,5,162,6],[211,2,211,7],[205,2,205,10],[204,2,204,9],[192,2,192,4],[192,5,192,7],[12,1,12,4],[14,1,14,4],[2,1,5,9],[26,1,26,9],[178,5,178,7],[178,2,178,4],[136,1,136,2],[62,2,62,3],[62,4,62,5],[63,1,64,1],[63,2,63,3],[63,4,63,5],[9,1,9,4],[28,1,28,3],[30,2,30,3],[30,4,30,5]]}
[1,"Mitigation Measure Emission Reductions (Step 5b)",null,null,null,null,null,null,null,null,null,null,null,null,null,"HIDE"]
[1]
[1,"This tab quantifies GHG emission reductions from select mitigation measures. Measures that are available for quantification are identified in the Mitigation tab. Only results for measures that are selected with a 'Yes' in the Mitigation tab are quantified below. Reductions are quantified based on data entered in the Project Background and User Inputs tabs as well as methods and assumptions used throughout the calculator. In some cases, additional data inputs are required to quantify reductions. Enter data into the yellow cells, as needed, to quantify reductions from these measures. "]
[]
[1]
[1]
[1]
[1,null,null,null,null,null,"Unit:",{"$f":"'Project Background'!C32","v":"tons"},{"$f":"_xlfn.CONCAT('Project Background'!C32,\" \",\"CO₂e\")","v":"tons CO₂e"}]
[1,null,null,null,null,"Baseline Scenario","Mitigation Scenario"]
[1,"Measure",null,null,null,"Baseline Scenario CO2e Emissions","Mitigation Scenario CO2e Emissions","Total Mitigated \nCO2e Emissions"]
[1,"M-1C-02: Develop a Ride Share Program for Construction Contractors",null,null,null,{"$f":"IF(A26=\"\",\"Measure not selected\",IF(ISBLANK(E29),\"Data input required\",IF($H$8=\"kg\",(D40),IF($H$8=\"tons\",((D40)/Constants!$F$10),IF($H$8=\"MT\",((D40)*Constants!$F$6))))))","v":"Measure not selected"},{"$f":"IF(A26=\"\",\"Measure not selected\",IF(ISBLANK(E29),\"Data input required\",IF($H$8=\"kg\",(D41),IF($H$8=\"tons\",((D41)/Constants!$F$10),IF('Quantified Reductions'!$H$8=\"MT\",((D41)*Constants!$F$6))))))","v":"Measure not selected"},{"$f":"IF(A26=\"\",\"Measure not selected\",IF(ISBLANK(E29),\"Data input required\",F11-G11))","v":"Measure not selected"}]
[1,"M-1D-01: Use Renewable Diesel in Construction Equipment",null,null,null,{"$f":"IF(A45=\"\",\"Measure not selected\",IF($H$8=\"kg\",(D55),IF($H$8=\"tons\",((D55)/Constants!$F$10),IF('Quantified Reductions'!$H$8=\"MT\",((D55)*Constants!$F$6)))))","v":"Measure not selected"},{"$f":"IF(A45=\"\",\"Measure not selected\",IF($H$8=\"kg\",(D56),IF($H$8=\"tons\",((D56)/Constants!$F$10),IF('Quantified Reductions'!$H$8=\"MT\",((D56)*Constants!$F$6)))))","v":"Measure not selected"},{"$f":"IF(A45=\"\",\"Measure not selected\",F12-G12)","v":"Measure not selected"}]
[1,"M-1D-02: Use Electric or Hybrid Powered Construction Equipment ",null,null,null,{"$f":"IF(A60=\"\",\"Measure not selected\",IF($H$8=\"kg\",(D68),IF($H$8=\"tons\",((D68)/Constants!$F$10),IF('Quantified Reductions'!$H$8=\"MT\",((D68)*Constants!$F$6)))))","v":"Measure not selected"},{"$f":"IF(A60=\"\",\"Measure not selected\",IF($H$8=\"kg\",(D69),IF($H$8=\"tons\",((D69)/Constants!$F$10),IF('Quantified Reductions'!$H$8=\"MT\",((D69)*Constants!$F$6)))))","v":"Measure not selected"},{"$f":"IF(A60=\"\",\"Measure not selected\",F13-G13)","v":"Measure not selected"}]
[1,"M-1E-01: Create New Open Space with Native Vegetation and Habitat",null,null,null,{"$f":"IF(A73=\"\",\"Measure not selected\",IF(ISBLANK(E76),\"Data input required\",-IF($H$8=\"kg\",(D83),IF($H$8=\"tons\",((D83)/Constants!$F$10),IF('Quantified Reductions'!$H$8=\"MT\",((D83)*Constants!$F$6))))))","v":"Measure not selected"},{"$f":"IF(A73=\"\",\"Measure not selected\",IF(ISBLANK(E76),\"Data input required\",-IF($H$8=\"kg\",(D84),IF($H$8=\"tons\",((D84)/Constants!$F$10),IF('Quantified Reductions'!$H$8=\"MT\",((D84)*Constants!$F$6))))))","v":"Measure not selected"},{"$f":"IF(A73=\"\",\"Measure not selected\",IF(ISBLANK(E76),\"Data input required\",F14-G14))","v":"Measure not selected"}]
[1,"M-1E-02: Expand Urban Tree Planting",null,null,null,{"$f":"IF(A88=\"\",\"Measure not selected\",-IF($H$8=\"kg\",(D95),IF($H$8=\"tons\",((D95)/Constants!$F$10),IF('Quantified Reductions'!$H$8=\"MT\",((D95)*Constants!$F$6)))))","v":"Measure not selected"},{"$f":"IF(A88=\"\",\"Measure not selected\",-IF($H$8=\"kg\",(D96),IF($H$8=\"tons\",((D96)/Constants!$F$10),IF('Quantified Reductions'!$H$8=\"MT\",((D96)*Constants!$F$6)))))","v":"Measure not selected"},{"$f":"IF(A88=\"\",\"Measure not selected\",F15-G15)","v":"Measure not selected"}]
[1,"M-1E-06: Afforestation",null,null,null,{"$f":"IF(A100=\"\",\"Measure not selected\",IF(ISBLANK(E104),\"Data input required\",-IF($H$8=\"kg\",(D116),IF($H$8=\"tons\",((D116)/Constants!$F$10),IF('Quantified Reductions'!$H$8=\"MT\",((D116)*Constants!$F$6))))))","v":"Measure not selected"},{"$f":"IF(A100=\"\",\"Measure not selected\",IF(ISBLANK(E104),\"Data input required\",-IF($H$8=\"kg\",(D117),IF($H$8=\"tons\",((D117)/Constants!$F$10),IF('Quantified Reductions'!$H$8=\"MT\",((D117)*Constants!$F$6))))))","v":"Measure not selected"},{"$f":"IF(A100=\"\",\"Measure not selected\",IF(ISBLANK(E104),\"Data input required\",F16-G16))","v":"Measure not selected"}]
[1,"M-2A-22: Establish Onsite Renewable Energy Systems",null,null,null,{"$f":"IF(A121=\"\",\"Measure not selected\",IF($H$8=\"kg\",(D129),IF($H$8=\"tons\",((D129)/Constants!$F$10),IF('Quantified Reductions'!$H$8=\"MT\",((D129)*Constants!$F$6)))))","v":"Measure not selected"},{"$f":"IF(A121=\"\",\"Measure not selected\",IF($H$8=\"kg\",(D130),IF($H$8=\"tons\",((D130)/Constants!$F$10),IF('Quantified Reductions'!$H$8=\"MT\",((D130)*Constants!$F$6)))))","v":"Measure not selected"},{"$f":"IF(A121=\"\",\"Measure not selected\",F17-G17)","v":"Measure not selected"}]
[1,"M-2A-23: Use Renewable Natural Gas or Green Hydrogen Fuel",null,null,null,{"$f":"IF(A134=\"\",\"Measure not selected\",IF($H$8=\"kg\",(D142),IF($H$8=\"tons\",((D142)/Constants!$F$10),IF('Quantified Reductions'!$H$8=\"MT\",((D142)*Constants!$F$6)))))","v":"Measure not selected"},{"$f":"IF(A134=\"\",\"Measure not selected\",IF($H$8=\"kg\",(D143),IF($H$8=\"tons\",((D143)/Constants!$F$10),IF('Quantified Reductions'!$H$8=\"MT\",((D143)*Constants!$F$6)))))","v":"Measure not selected"},{"$f":"IF(A134=\"\",\"Measure not selected\",F18-G18)","v":"Measure not selected"}]
[1,"M-2C-01/M-2C-02/M-2C-03/M-2C-04/M-2C-05: Reduce Natural Gas Leakage and Venting ",null,null,null,{"$f":"IF(A147=\"\",\"Measure not selected\",IF($H$8=\"kg\",(D155),IF($H$8=\"tons\",((D155)/Constants!$F$10),IF('Quantified Reductions'!$H$8=\"MT\",((D155)*Constants!$F$6)))))","v":"Measure not selected"},{"$f":"IF(A147=\"\",\"Measure not selected\",IF($H$8=\"kg\",(D156),IF($H$8=\"tons\",((D156)/Constants!$F$10),IF('Quantified Reductions'!$H$8=\"MT\",((D156)*Constants!$F$6)))))","v":"Measure not selected"},{"$f":"IF(A147=\"\",\"Measure not selected\",F19-G19)","v":"Measure not selected"}]
[1,"M-2E-01: Use Alternative Refrigerants Instead of High-GWP Refrigerants ",null,null,null,{"$f":"IF(A160=\"\",\"Measure not selected\",IF($H$8=\"kg\",(D171),IF($H$8=\"tons\",((D171)/Constants!$F$10),IF('Quantified Reductions'!$H$8=\"MT\",((D171)*Constants!$F$6)))))","v":"Measure not selected"},{"$f":"IF(A160=\"\",\"Measure not selected\",IF($H$8=\"kg\",(D172),IF($H$8=\"tons\",((D172)/Constants!$F$10),IF('Quantified Reductions'!$H$8=\"MT\",((D172)*Constants!$F$6)))))","v":"Measure not selected"},{"$f":"IF(A160=\"\",\"Measure not selected\",F20-G20)","v":"Measure not selected"}]
[1,"M-2J-01: Institute or Extend Recycling Services ",null,null,null,{"$f":"IF(A176=\"\",\"Measure not selected\",IF($H$8=\"kg\",(D184),IF($H$8=\"tons\",((D184)/Constants!$F$10),IF('Quantified Reductions'!$H$8=\"MT\",((D184)*Constants!$F$6)))))","v":"Measure not selected"},{"$f":"IF(A176=\"\",\"Measure not selected\",IF($H$8=\"kg\",(D185),IF($H$8=\"tons\",((D185)/Constants!$F$10),IF('Quantified Reductions'!$H$8=\"MT\",((D185)*Constants!$F$6)))))","v":"Measure not selected"},{"$f":"IF(A176=\"\",\"Measure not selected\",F21-G21)","v":"Measure not selected"}]
[1,"M-2J-03: Implement Organics Diversion Program",null,null,null,{"$f":"IF(A189=\"\",\"Measure not selected\",IF($H$8=\"kg\",(D197),IF($H$8=\"tons\",((D197)/Constants!$F$10),IF('Quantified Reductions'!$H$8=\"MT\",((D197)*Constants!$F$6)))))","v":"Measure not selected"},{"$f":"IF(A189=\"\",\"Measure not selected\",IF($H$8=\"kg\",(D198),IF($H$8=\"tons\",((D198)/Constants!$F$10),IF('Quantified Reductions'!$H$8=\"MT\",((D198)*Constants!$F$6)))))","v":"Measure not selected"},{"$f":"IF(A189=\"\",\"Measure not selected\",F22-G22)","v":"Measure not selected"}]
[1,"M-2L-01: Require Best Management Practices for Manure Management ",null,null,null,{"$f":"IF(A202=\"\",\"Measure not selected\",IF($H$8=\"kg\",(D219),IF($H$8=\"tons\",((D219)/Constants!$F$10),IF('Quantified Reductions'!$H$8=\"MT\",((D219)*Constants!$F$6)))))","v":"Measure not selected"},{"$f":"IF(A202=\"\",\"Measure not selected\",IF($H$8=\"kg\",(D220),IF($H$8=\"tons\",((D220)/Constants!$F$10),IF('Quantified Reductions'!$H$8=\"MT\",((D220)*Constants!$F$6)))))","v":"Measure not selected"},{"$f":"IF(A202=\"\",\"Measure not selected\",F23-G23)","v":"Measure not selected"}]
[1,"Total",null,null,null,{"$f":"SUM(F11:F23)","v":0},{"$f":"SUM(G11:G23)","v":0},{"$f":"SUM(H11:H23)","v":0}]
[1]
[{"$f":"IF(SUMPRODUCT((Mitigation!E:E=Q26)*(Mitigation!B:B=\"Yes\"))>0, 1, \"\")","v":""},"M-1C-02: Develop a Ride Share Program for Construction Contractors",null,null,null,null,null,null,null,null,null,null,null,null,null,null,"M-1C-02"]
[{"$f":"IF(A26=1,1,0)","v":0},"Reductions from this measure are achieved by encouraging employees to commute using alternative modes of transportation instead of driving alone. To quantify reductions from this measure, enter the anticipated percent of employees that will participate in the ride share program."]
[0,{"$f":"IF(AND((A26=1),(ISBLANK(E29))),\"Please provide the required input for this selected mitigation measure.\",\"\")","v":""}]
[0,"Percent of Employees Participating in Rideshare Program",null,null,null,{"$f":"IF(E29>1-'User Inputs'!D41,\"Value exceeds the percent of commuters using alternate modes of transportation, as entered in the User Inputs tab.\",\"\")","v":""}]
[0]
[0,null,"Mitigation Scenario",null,"Baseline Scenario"]
[0,"Transportation Mode","Mode Breakout","kgCO2e","Mode Breakout","kgCO2e"]
[{"$f":"IF(A32=1,1,0)","v":0},"Single Occupancy Vehicle",0,0,{"$f":"'Mitigation Calcs'!C8","v":0},{"$f":"'Mitigation Calcs'!F8","v":0}]
[0,"Carpool",{"$f":"'Mitigation Calcs'!C10","v":0},{"$f":"'Mitigation Calcs'!F10","v":0},0,0]
[0,"Motorcycle",0,0,0,0]
[0,"Bus",{"$f":"'Mitigation Calcs'!C11","v":0},{"$f":"'Mitigation Calcs'!F11","v":0},0,0]
[0,"Transit Rail",{"$f":"'Mitigation Calcs'!C12","v":0},{"$f":"'Mitigation Calcs'!F12","v":0},0,0]
[0,"Bike/Walk",{"$f":"'Mitigation Calcs'!C13","v":0},{"$f":"'Mitigation Calcs'!F13","v":0},0,0]
[0]
[0,"Emissions under Baseline Scenario (kgCO2e)",null,{"$f":"IF('Project Background'!G40=\"No\",0,SUM(F33:F38))","v":0}]
[0,"Emissions under Mitigation Scenario (kgCO2e)",null,{"$f":"IF('Project Background'!G40=\"No\",0,SUM(D33:D38))","v":0}]
[0,"Emissions Mitigated (kgCO2e)",null,{"$f":"D40-D41","v":0}]
[0]
[0]
[{"$f":"IF(SUMPRODUCT((Mitigation!E:E=Q45)*(Mitigation!B:B=\"Yes\"))>0, 1, \"\")","v":""},"M-1D-01: Use Renewable Diesel in Construction Equipment",null,null,null,null,null,null,null,null,null,null,null,null,null,null,"M-1D-01"]
[{"$f":"IF(A45=1,1,0)","v":0},"Reductions from this measure are achieved by using renewable diesel or biodiesel instead of conventional diesel in construction equipment. Reductions are quantified based on data entered in the User Inputs tab."]
[0]
[0,null,"Mitigation Scenario",null,"Baseline Scenario"]
[0,"Fuel Type","Total Consumed by Project",null,"Diesel Consumption Avoided "]
[0,null,"Gallons","kgCO2e","Gallons","kgCO2e"]
[0,"Biodiesel 100",{"$f":"'Mitigation Calcs'!K19+'Mitigation Calcs'!K25","v":0},{"$f":"'Mitigation Calcs'!L19+'Mitigation Calcs'!L25","v":0},{"$f":"'Mitigation Calcs'!M19+'Mitigation Calcs'!M25","v":0},{"$f":"'Mitigation Calcs'!N19+'Mitigation Calcs'!N25","v":0}]
[0,"Biodiesel 20",{"$f":"'Mitigation Calcs'!K20+'Mitigation Calcs'!K26","v":0},{"$f":"'Mitigation Calcs'!L20+'Mitigation Calcs'!L26","v":0},{"$f":"'Mitigation Calcs'!M20+'Mitigation Calcs'!M26","v":0},{"$f":"'Mitigation Calcs'!N20+'Mitigation Calcs'!N26","v":0}]
[0,"Renewable Diesel",{"$f":"'Mitigation Calcs'!K21+'Mitigation Calcs'!K27","v":0},{"$f":"'Mitigation Calcs'!L21+'Mitigation Calcs'!L27","v":0},{"$f":"'Mitigation Calcs'!M21+'Mitigation Calcs'!M27","v":0},{"$f":"'Mitigation Calcs'!N21+'Mitigation Calcs'!N27","v":0}]
[0]
[0,"Emissions under Baseline Scenario (kgCO2e)",null,{"$f":"IF('Project Background'!G41=\"No\",0,SUM(F51:F53))","v":0}]
[0,"Emissions under Mitigation Scenario (kgCO2e)",null,{"$f":"IF('Project Background'!G41=\"No\",0,SUM(D51:D53))","v":0}]
[0,"Emissions Mitigated (kgCO2e)",null,{"$f":"IF('Project Background'!G41=\"No\",0,(D55-D56))","v":0}]
[0]
[0]
[{"$f":"IF(SUMPRODUCT((Mitigation!E:E=Q60)*(Mitigation!B:B=\"Yes\"))>0, 1, \"\")","v":""},"M-1D-02: Use Electric or Hybrid Powered Construction Equipment ",null,null,null,null,null,null,null,null,null,null,null,null,null,null,"M-1D-02"]
[{"$f":"IF(A60=1,1,0)","v":0},"Reductions from this measure are achieved by using electric construction equipment instead of conventional diesel in construction equipment. Reductions are quantified based on data entered in the User Inputs tab."]
[0]
[0,null,"Mitigation Scenario",null,"Baseline Scenario"]
[0,"Fuel Type","Total Consumed by Project",null,"Diesel Consumption Avoided "]
[0,null,"kWh","kgCO2e","Gallons","kgCO2e"]
[0,"Electricity",{"$f":"'Mitigation Calcs'!K38+'Mitigation Calcs'!K42","v":0},{"$f":"'Mitigation Calcs'!L38+'Mitigation Calcs'!L42","v":0},{"$f":"'Mitigation Calcs'!M38+'Mitigation Calcs'!M42","v":0},{"$f":"'Mitigation Calcs'!N38+'Mitigation Calcs'!N42","v":0}]
[0]
[0,"Emissions under Baseline Scenario (kgCO2e)",null,{"$f":"IF('Project Background'!G41=\"No\",0,F66)","v":0}]
[0,"Emissions under Mitigation Scenario (kgCO2e)",null,{"$f":"IF('Project Background'!G41=\"No\",0,D66)","v":0}]
[0,"Emissions Mitigated (kgCO2e)",null,{"$f":"IF('Project Background'!G41=\"No\",0,D68-D69)","v":0}]
[0]
[0]
[{"$f":"IF(SUMPRODUCT((Mitigation!E:E=Q73)*(Mitigation!B:B=\"Yes\"))>0, 1, \"\")","v":""},"M-1E-01: Create New Open Space with Native Vegetation and Habitat",null,null,null,null,null,null,null,null,null,null,null,null,null,null,"M-1E-01"]
[{"$f":"IF(A73=1,1,0)","v":0},"Reductions from this measure are achieved by converting previously developed areas to vegetated open spaces (i.e., brush and grassland)."]
[0,{"$f":"IF(AND((A73=1),(ISBLANK(E76))),\"Please provide the required input for this selected mitigation measure.\",\"\")","v":""}]
[0,"Acres of previously developed land converted to vegetated open spaces",null,null,null,{"$f":"IF(E76>'User Inputs'!F100,\"Value exceeds the post-construction brush and grassland area, as entered in the User Inputs tab.\",\"\")","v":""}]
[0]
[0,null,"Mitigation Scenario","Baseline Scenario"]
[0,"Land Use Type","Acres"]
[0,"Brush and grassland",{"$f":"E76","v":0},0]
[0,"Impervious surface ",0,{"$f":"C80","v":0}]
[0]
[0,"Carbon stock under Baseline Scenario (kgCO2e)",null,{"$f":"IF('Project Background'!G42=\"No\",0,'Mitigation Calcs'!G59)","v":0}]
[0,"Carbon stock under Mitigation Scenario (kgCO2e)",null,{"$f":"IF('Project Background'!G42=\"No\",0,'Mitigation Calcs'!G60)","v":0}]
[0,"Net carbon stock (kgCO2e)",null,{"$f":"IF('Project Background'!G42=\"No\",0,D84-D83)","v":0}]
[0]
[0]
[{"$f":"IF(SUMPRODUCT((Mitigation!E:E=Q88)*(Mitigation!B:B=\"Yes\"))>0, 1, \"\")","v":""},"M-1E-02: Expand Urban Tree Planting",null,null,null,null,null,null,null,null,null,null,null,null,null,null,"M-1E-02"]
[{"$f":"IF(A88=1,1,0)","v":0},"Reductions from this measure are achieved by planting new trees. Reductions are quantified based on data entered in the User Inputs tab."]
[{"$f":"IF(A89=1,1,0)","v":0}]
[0,"Mitigation Scenario","Baseline Scenario"]
[0,"Number of new trees planted"]
[0,{"$f":"'User Inputs'!E114","v":0},0]
[0]
[0,"Carbon stock under Baseline Scenario (kgCO2e)",null,0]
[0,"Carbon stock under Mitigation Scenario (kgCO2e)",null,{"$f":"IF('Project Background'!G42=\"No\",0,(B93*Construction!I142*Construction!K142))","v":0}]
[0,"Net carbon stock (kgCO2e)",null,{"$f":"IF('Project Background'!G42=\"No\",0,(D96-D95))","v":0}]
[0]
[0]
[{"$f":"IF(SUMPRODUCT((Mitigation!E:E=Q100)*(Mitigation!B:B=\"Yes\"))>0, 1, \"\")","v":""},"M-1E-06: Afforestation",null,null,null,null,null,null,null,null,null,null,null,null,null,null,"M-1E-06"]
[{"$f":"IF(A100=1,1,0)","v":0},"Reductions from this measure are achieved by planting trees on previously deforested land."]
[0,{"$f":"IF(AND((A100=1),(ISBLANK(E104))),\"Please provide the required input for this selected mitigation measure.\",\"\")","v":""}]
[0,"Mitigation Scenario"]
[0,"Acres of land reforested",null,null,null,{"$f":"IF(E104>'User Inputs'!F98,\"Value exceeds the post-construction forest area, as entered in the User Inputs tab.\",\"\")","v":""}]
[0]
[0,"Baseline Scenario"]
[0,"Land use type prior to reforestation",null,null,"Acres"]
[0,"Brush and grassland",null,null,null,{"$f":"IF(E108>'User Inputs'!E100,\"Value exceeds the pre-construction area, as entered in the User Inputs tab.\",\"\")","v":""}]
[0,"Cropland",null,null,null,{"$f":"IF(E109>'User Inputs'!E101,\"Value exceeds the pre-construction area, as entered in the User Inputs tab.\",\"\")","v":""}]
[0,"Livestock rangeland/pastureland",null,null,null,{"$f":"IF(E110>'User Inputs'!E102,\"Value exceeds the pre-construction area, as entered in the User Inputs tab.\",\"\")","v":""}]
[0,"Lawn/landscaping",null,null,null,{"$f":"IF(E111>'User Inputs'!E103,\"Value exceeds the pre-construction area, as entered in the User Inputs tab.\",\"\")","v":""}]
[0,"Impervious surface ",null,null,null,{"$f":"IF(E112>'User Inputs'!E108,\"Value exceeds the pre-construction area, as entered in the User Inputs tab.\",\"\")","v":""}]
[0,"Stormwater pond (wet sedimentation basin) ",null,null,null,{"$f":"IF(E113>'User Inputs'!E109,\"Value exceeds the pre-construction area, as entered in the User Inputs tab.\",\"\")","v":""}]
[0,null,null,"Total: ",{"$f":"SUM(E108:E113)","v":0},{"$f":"IF(E104=E114,\"\",\"The sum of area prior to reforestation must equal the acres of land reforested.\")","v":""}]
[0]
[0,"Carbon stock under Baseline Scenario (kgCO2e)",null,{"$f":"IF('Project Background'!G42=\"No\",0,SUM('Mitigation Calcs'!G66:G71))","v":0}]
[0,"Carbon stock under Mitigation Scenario (kgCO2e)",null,{"$f":"IF('Project Background'!G42=\"No\",0,'Mitigation Calcs'!G65)","v":0}]
[0,"Net carbon stock (kgCO2e)",null,{"$f":"IF('Project Background'!G42=\"No\",0,(D117-D116))","v":0}]
[0]
[0]
[{"$f":"IF(SUMPRODUCT((Mitigation!E:E=Q121)*(Mitigation!B:B=\"Yes\"))>0, 1, \"\")","v":""},"M-2A-22: Establish Onsite Renewable Energy Systems",null,null,null,null,null,null,null,null,null,null,null,null,null,null,"M-2A-22"]
[{"$f":"IF(A121=1,1,0)","v":0},"Reductions from this measure are achieved by consuming electricity generated by renewables instead of grid-supplied electricity. Reductions are quantified for the lifetime of the project based on data entered in the Background and User Inputs tabs."]
[0]
[0,null,"Mitigation Scenario",null,"Baseline Scenario"]
[0,"Building Electricity Consumption (kWh/year)","Electricity Purchased from Grid",null,"Electricity Purchased from Grid"]
[0,null,"%","kWh/year","%","kWh/year"]
[0,{"$f":"Operation!C31/Constants!F21","v":0},{"$f":"Operation!E31","v":1},{"$f":"B127*C127","v":0},1,{"$f":"E127*B127","v":0}]
[0]
[0,"Emissions under Baseline Scenario (kgCO2e)",null,{"$f":"IF('Project Background'!H25=0,0,SUM('Mitigation Calcs'!C78:BK78))","v":0}]
[0,"Emissions under Mitigation Scenario (kgCO2e)",null,{"$f":"IF('Project Background'!H25=0,0,SUM('Mitigation Calcs'!C79:BK79))","v":0}]
[0,"Emissions Mitigated (kgCO2e)",null,{"$f":"IF('Project Background'!H25=0,0,(D129-D130))","v":0}]
[0]
[0]
[{"$f":"IF(SUMPRODUCT((Mitigation!E:E=Q134)*(Mitigation!B:B=\"Yes\"))>0, 1, \"\")","v":""},"M-2A-23: Use Renewable Natural Gas or Green Hydrogen Fuel",null,null,null,null,null,null,null,null,null,null,null,null,null,null,"M-2A-23"]
[{"$f":"IF(A134=1,1,0)","v":0},"Reductions from this measure are achieved by consuming renewable natural gas instead of conventional natural gas. Reductions are quantified for the lifetime of the project based on data entered in the Background and User Inputs tabs."]
[0]
[0,"Mitigation Scenario",null,"Baseline Scenario"]
[0,"Renewable Natural Gas Consumed by Project",null,"Natural Gas Consumption Avoided "]
[0,"cubic feet/year","kgCO2e","cubic feet/year","kgCO2e"]
[0,{"$f":"Operation!C33/Assumptions!F238","v":0},{"$f":"B140*Assumptions!F238*Constants!F23*Assumptions!E238","v":0},{"$f":"B140","v":0},{"$f":"D140*Assumptions!F238*Constants!F23*Assumptions!E237","v":0}]
[0]
[0,"Emissions under Baseline Scenario (kgCO2e)",null,{"$f":"IF('Project Background'!G44=\"No\",0,E140*'Project Background'!D15)","v":0}]
[0,"Emissions under Mitigation Scenario (kgCO2e)",null,{"$f":"IF('Project Background'!G44=\"No\",0,(C140*'Project Background'!D15))","v":0}]
[0,"Emissions Mitigated (kgCO2e)",null,{"$f":"IF('Project Background'!G44=\"No\",0,(D142-D143))","v":0}]
[0]
[0]
[{"$f":"IF($P$147>0,1,\"\")","v":""},"M-2C-01/M-2C-02/M-2C-03/M-2C-04/M-2C-05: Reduce Natural Gas Leakage and Venting ",null,null,null,null,null,null,null,null,null,null,null,null,null,{"$f":"SUM(P148:P152)","v":0}]
[{"$f":"IF(A147=1,1,0)","v":0},"Reductions from these measures are achieved by reducing the amount of fugitive emissions from natural gas systems. Reductions are quantified for the lifetime of the project based on data entered in the User Inputs tab. ",null,null,null,null,null,null,null,null,null,null,null,null,null,{"$f":"IF(SUMPRODUCT((Mitigation!E:E=Q148)*(Mitigation!B:B=\"Yes\"))>0, 1, \"\")","v":""},"M-2C-01"]
[{"$f":"IF(A148=1,1,0)","v":0},null,null,null,null,null,null,null,null,null,null,null,null,null,null,{"$f":"IF(SUMPRODUCT((Mitigation!E:E=Q149)*(Mitigation!B:B=\"Yes\"))>0, 1, \"\")","v":""},"M-2C-02"]
[0,null,"Mitigation Scenario",null,"Baseline Scenario",null,null,null,null,null,null,null,null,null,null,{"$f":"IF(SUMPRODUCT((Mitigation!E:E=Q150)*(Mitigation!B:B=\"Yes\"))>0, 1, \"\")","v":""},"M-2C-03"]
[0,"Incremental Throughput ","Emission Factor","Emissions","Emission Factor","Emissions",null,null,null,null,null,null,null,null,null,{"$f":"IF(SUMPRODUCT((Mitigation!E:E=Q151)*(Mitigation!B:B=\"Yes\"))>0, 1, \"\")","v":""},"M-2C-04"]
[0,"cubic feet/year","kgCO2e/MMBtu","kgCO2e","kgCO2e/MMBtu","kgCO2e",null,null,null,null,null,null,null,null,null,{"$f":"IF(SUMPRODUCT((Mitigation!E:E=Q152)*(Mitigation!B:B=\"Yes\"))>0, 1, \"\")","v":""},"M-2C-05"]
[0,{"$f":"'Mitigation Calcs'!C88","v":0},{"$f":"'Mitigation Calcs'!F88","v":65.149456379705697},{"$f":"'Mitigation Calcs'!G88","v":0},{"$f":"'Mitigation Calcs'!F87","v":65.149456379705697},{"$f":"'Mitigation Calcs'!G87","v":0}]
[0]
[0,"Emissions under Baseline Scenario (kgCO2e)",null,{"$f":"IF('Project Background'!G46=\"No\",0,(F153*'Project Background'!$D$15))","v":0}]
[0,"Emissions under Mitigation Scenario (kgCO2e)",null,{"$f":"IF('Project Background'!G46=\"No\",0,(D153*'Project Background'!$D$15))","v":0}]
[0,"Emissions Mitigated (kgCO2e)",null,{"$f":"IF('Project Background'!G46=\"No\",0,(D155-D156))","v":0}]
[0]
[0]
[{"$f":"IF(SUMPRODUCT((Mitigation!E:E=Q160)*(Mitigation!B:B=\"Yes\"))>0, 1, \"\")","v":""},"M-2E-01: Use Alternative Refrigerants Instead of High-GWP Refrigerants ",null,null,null,null,null,null,null,null,null,null,null,null,null,null,"M-2E-01"]
[{"$f":"IF(A160=1,1,0)","v":0},"Reductions from this measure are achieved by using an alternative refrigerant in heating and cooling equipment. Reductions are quantified for the lifetime of the project based on data entered in the User Inputs tab. "]
[0]
[0,null,null,null,null,"Mitigation Scenario",null,"Baseline Scenario"]
[0,"Building Type","Equipment Type",null,null,"HFC","GWP","HFC","GWP"]
[0,"Residential","Room A/C & Other residential A/C and heat pumps",null,null,{"$f":"Operation!F117","v":""},{"$f":"SUMIF(Constants!$H$6:$H$28,'Quantified Reductions'!F165,Constants!$I$6:$I$28)","v":0},{"$f":"Assumptions!F270","v":"R-454B"},{"$f":"SUMIF(Constants!$H$6:$H$28,'Quantified Reductions'!H165,Constants!$I$6:$I$28)","v":466.45300000000003}]
[0,"Commercial","Other commercial A/C and heat pumps",null,null,{"$f":"Operation!F118","v":""},{"$f":"SUMIF(Constants!$H$6:$H$28,'Quantified Reductions'!F166,Constants!$I$6:$I$28)","v":0},{"$f":"Assumptions!F271","v":"R-454B"},{"$f":"SUMIF(Constants!$H$6:$H$28,'Quantified Reductions'!H166,Constants!$I$6:$I$28)","v":466.45300000000003}]
[0,"Institutional","Walk-in refrigerators and freezers",null,null,{"$f":"Operation!F119","v":""},{"$f":"SUMIF(Constants!$H$6:$H$28,'Quantified Reductions'!F167,Constants!$I$6:$I$28)","v":0},{"$f":"Assumptions!F272","v":"R-404A"},{"$f":"SUMIF(Constants!$H$6:$H$28,'Quantified Reductions'!H167,Constants!$I$6:$I$28)","v":3942.8}]
[0,"Institutional","Other commercial A/C and heat pumps",null,null,{"$f":"Operation!F120","v":""},{"$f":"SUMIF(Constants!$H$6:$H$28,'Quantified Reductions'!F168,Constants!$I$6:$I$28)","v":0},{"$f":"Assumptions!F273","v":"R-454B"},{"$f":"SUMIF(Constants!$H$6:$H$28,'Quantified Reductions'!H168,Constants!$I$6:$I$28)","v":466.45300000000003}]
[0,"Industrial","Other commercial A/C and heat pumps",null,null,{"$f":"Operation!F121","v":""},{"$f":"SUMIF(Constants!$H$6:$H$28,'Quantified Reductions'!F169,Constants!$I$6:$I$28)","v":0},{"$f":"Assumptions!F274","v":"R-454B"},{"$f":"SUMIF(Constants!$H$6:$H$28,'Quantified Reductions'!H169,Constants!$I$6:$I$28)","v":466.45300000000003}]
[0]
[0,"Emissions under Baseline Scenario (kgCO2e)",null,{"$f":"IF('Project Background'!G48=\"No\",0,(SUM('Mitigation Calcs'!M95:M99)*'Project Background'!$D$15))","v":0}]
[0,"Emissions under Mitigation Scenario (kgCO2e)",null,{"$f":"IF('Project Background'!G48=\"No\",0,(SUM('Mitigation Calcs'!M101:M105)*'Project Background'!$D$15))","v":0}]
[0,"Emissions Mitigated (kgCO2e)",null,{"$f":"IF('Project Background'!G48=\"No\",0,(D171-D172))","v":0}]
[0]
[0]
[{"$f":"IF(SUMPRODUCT((Mitigation!E:E=Q176)*(Mitigation!B:B=\"Yes\"))>0, 1, \"\")","v":""},"M-2J-01: Institute or Extend Recycling Services ",null,null,null,null,null,null,null,null,null,null,null,null,null,null,"M-2J-01"]
[{"$f":"IF(A176=1,1,0)","v":0},"Reductions from this measure are achieved by increasing the quantity of waste recycled and diverting waste from landfills. Reductions are quantified based on data entered in the User Inputs tab."]
[0]
[0,null,"Mitigation Scenario",null,null,"Baseline Scenario"]
[0,"Waste Generated ","Recycled Waste",null,null,"Landfilled Waste"]
[0,"lbs/year","%","lbs","kgCO2e/year","%","lbs","kgCO2e/year"]
[0,{"$f":"Operation!I224","v":0},{"$f":"'User Inputs'!D297","v":0},{"$f":"C182*B182","v":0},{"$f":"'Mitigation Calcs'!H113","v":0},{"$f":"C182","v":0},{"$f":"B182*F182","v":0},{"$f":"'Mitigation Calcs'!H112","v":0}]
[0]
[0,"Emissions under Baseline Scenario (kgCO2e)",null,{"$f":"IF('Project Background'!G53=\"No\",0,(H182*'Project Background'!$D$15))","v":0}]
[0,"Emissions under Mitigation Scenario (kgCO2e)",null,{"$f":"IF('Project Background'!G53=\"No\",0,(E182*'Project Background'!$D$15))","v":0}]
[0,"Emissions Mitigated (kgCO2e)",null,{"$f":"IF('Project Background'!G53=\"No\",0,(D184-D185))","v":0}]
[0]
[0]
[{"$f":"IF(SUMPRODUCT((Mitigation!E:E=Q189)*(Mitigation!B:B=\"Yes\"))>0, 1, \"\")","v":""},"M-2J-03: Implement Organics Diversion Program",null,null,null,null,null,null,null,null,null,null,null,null,null,null,"M-2J-03"]
[{"$f":"IF(A189=1,1,0)","v":0},"Reductions from this measure are achieved by increasing the quantity of waste composted and diverting waste from landfills. Reductions are quantified based on data entered in the User Inputs tab."]
[0]
[0,null,"Mitigation Scenario",null,null,"Baseline Scenario"]
[0,"Waste Generated ","Composted Waste",null,null,"Landfilled Waste"]
[0,"lbs/year","%","lbs","kgCO2e/year","%","lbs","kgCO2e/year"]
[0,{"$f":"Operation!I224","v":0},{"$f":"'User Inputs'!D298","v":0},{"$f":"C195*B195","v":0},{"$f":"'Mitigation Calcs'!H119","v":0},{"$f":"C195","v":0},{"$f":"B195*F195","v":0},{"$f":"'Mitigation Calcs'!H118","v":0}]
[0]
[0,"Emissions under Baseline Scenario (kgCO2e)",null,{"$f":"IF('Project Background'!G53=\"No\",0,(H195*'Project Background'!$D$15))","v":0}]
[0,"Emissions under Mitigation Scenario (kgCO2e)",null,{"$f":"IF('Project Background'!G53=\"No\",0,(E195*'Project Background'!$D$15))","v":0}]
[0,"Emissions Mitigated (kgCO2e)",null,{"$f":"IF('Project Background'!G53=\"No\",0,(D197-D198))","v":0}]
[0]
[0]
[{"$f":"IF(SUMPRODUCT((Mitigation!E:E=Q202)*(Mitigation!B:B=\"Yes\"))>0, 1, \"\")","v":""},"M-2L-01: Require Best Management Practices for Manure Management ",null,null,null,null,null,null,null,null,null,null,null,null,null,null,"M-2L-01"]
[{"$f":"IF(A202=1,1,0)","v":0},"Reductions from this measure are achieved by implementing best management practices for manure management. Reductions are quantified based on data entered in the User Inputs tab."]
[{"$f":"IF(A203=1,1,0)","v":0}]
[0,null,"Mitigation Scenario",null,null,null,null,null,null,null,"Baseline Scenario"]
[0,"Dairy Cattle","Percentage of Manure Management System"]
[0,null,"Anaerobic digester","Anaerobic lagoon - liquid","Daily spread","Deep pit","Dry lot","Liquid/slurry","Pasture, range, paddock","Solid storage","Anaerobic lagoon - liquid"]
[0,"Dairy heifers",{"$f":"'User Inputs'!E321","v":0},{"$f":"'User Inputs'!F321","v":0},{"$f":"'User Inputs'!G321","v":0},{"$f":"'User Inputs'!H321","v":0},{"$f":"'User Inputs'!I321","v":0},{"$f":"'User Inputs'!J321","v":0},{"$f":"'User Inputs'!K321","v":0},{"$f":"'User Inputs'!L321","v":0},1]
[0,"Dairy cows",{"$f":"'User Inputs'!E322","v":0},{"$f":"'User Inputs'!F322","v":0},{"$f":"'User Inputs'!G322","v":0},{"$f":"'User Inputs'!H322","v":0},{"$f":"'User Inputs'!I322","v":0},{"$f":"'User Inputs'!J322","v":0},{"$f":"'User Inputs'!K322","v":0},{"$f":"'User Inputs'!L322","v":0},1]
[0,"Dairy calves",{"$f":"'User Inputs'!E323","v":0},{"$f":"'User Inputs'!F323","v":0},{"$f":"'User Inputs'!G323","v":0},{"$f":"'User Inputs'!H323","v":0},{"$f":"'User Inputs'!I323","v":0},{"$f":"'User Inputs'!J323","v":0},{"$f":"'User Inputs'!K323","v":0},{"$f":"'User Inputs'!L323","v":0},1]
[0]
[0,null,"Mitigation Scenario",null,null,null,null,null,"Baseline Scenario"]
[0,"Swine","Percentage of Manure Management System"]
[0,null,"Anaerobic digester","Anaerobic lagoon - liquid","Deep pit","Liquid/slurry","Pasture, range, paddock","Solid storage","Anaerobic lagoon - liquid"]
[0,"Swine, <55 lbs",{"$f":"'User Inputs'!E327","v":0},{"$f":"'User Inputs'!F327","v":0},{"$f":"'User Inputs'!G327","v":0},{"$f":"'User Inputs'!H327","v":0},{"$f":"'User Inputs'!I327","v":0},{"$f":"'User Inputs'!J327","v":0},1]
[0,"Swine 55-330 lbs",{"$f":"'User Inputs'!E328","v":0},{"$f":"'User Inputs'!F328","v":0},{"$f":"'User Inputs'!G328","v":0},{"$f":"'User Inputs'!H328","v":0},{"$f":"'User Inputs'!I328","v":0},{"$f":"'User Inputs'!J328","v":0},1]
[0,"Swine 330+ lbs",{"$f":"'User Inputs'!E329","v":0},{"$f":"'User Inputs'!F329","v":0},{"$f":"'User Inputs'!G329","v":0},{"$f":"'User Inputs'!H329","v":0},{"$f":"'User Inputs'!I329","v":0},{"$f":"'User Inputs'!J329","v":0},1]
[0]
[0,"Emissions under Baseline Scenario (kgCO2e)",null,{"$f":"IF('Project Background'!G54=\"No\",0,('Mitigation Calcs'!K208+'Mitigation Calcs'!K209)*'Project Background'!$D$15)","v":0}]
[0,"Emissions under Mitigation Scenario (kgCO2e)",null,{"$f":"IF('Project Background'!G54=\"No\",0,('Mitigation Calcs'!K210+'Mitigation Calcs'!K211)*'Project Background'!$D$15)","v":0}]
[0,"Emissions Mitigated (kgCO2e)",null,{"$f":"IF('Project Background'!G54=\"No\",0,(D219-D220))","v":0}]
[0]

{"sheet":"Mitigation Calcs","index":12,"n_rows":211,"n_cols":63,"rows_kept":211,"cut":false,"hidden":true,"merged":[[39,10,39,11],[39,12,39,13],[56,1,57,2],[109,1,110,1],[16,3,16,5],[35,3,35,5],[22,12,22,13],[35,12,35,13],[35,6,35,7],[16,6,16,7],[16,12,16,13],[16,10,16,11],[22,10,22,11],[35,10,35,11],[92,11,93,11],[94,3,94,5],[92,6,93,6],[92,7,93,7],[115,3,116,3],[101,3,101,5],[102,3,102,5],[103,3,103,5],[104,3,104,5],[109,3,110,3],[92,3,93,5],[97,3,97,5],[100,3,100,5],[98,3,98,5],[205,1,206,1],[205,9,206,9],[157,2,158,2],[92,10,93,10],[125,2,126,2],[92,1,93,1],[125,1,126,1],[141,1,142,1],[157,1,158,1],[173,1,174,1],[189,1,190,1],[189,2,190,2],[205,2,206,2],[205,4,206,4],[95,3,95,5],[96,3,96,5],[5,1,6,1],[141,2,142,2],[173,2,174,2],[62,1,63,2],[115,1,116,1],[84,1,85,1],[92,2,93,2]]}
[null,"Mitigation Measure Calculations"]
[]
[null,"Employee commuting"]
[]
[null,"Develop a Ride Share Program for Construction Contractors"]
[null,"Commuting Mode","Participation","Total Distance","Emission Factor","GHG Emissions"]
[null,null,"%","miles","kgCO2e/\npassenger-mile","kgCO2e"]
[null,"Single Occupancy Vehicle",{"$f":"'Quantified Reductions'!E29","v":0},{"$f":"Construction!G56","v":0},{"$f":"Construction!C56","v":0.38854191612443478},{"$f":"(C8*E8*D8)","v":0}]
[]
[null,"Carpool",{"$f":"IFERROR($C$8*'User Inputs'!D42/SUM('User Inputs'!$D$42+'User Inputs'!D$44+'User Inputs'!$D$45+'User Inputs'!$D$46),0)","v":0},{"$f":"$D$8","v":0},{"$f":"Construction!C57","v":0.15730441948357682},{"$f":"(C10*E10*D10)","v":0}]
[null,"Bus",{"$f":"IFERROR($C$8*'User Inputs'!D44/SUM('User Inputs'!$D$42+'User Inputs'!$D$44+'User Inputs'!$D$45+'User Inputs'!$D$46),0)","v":0},{"$f":"$D$8","v":0},{"$f":"Construction!C59","v":7.3593664643008899E-2},{"$f":"(C11*E11*D11)","v":0}]
[null,"Transit Rail",{"$f":"IFERROR($C$8*'User Inputs'!D45/SUM('User Inputs'!$D$42+'User Inputs'!$D$44+'User Inputs'!$D$45+'User Inputs'!$D$46),0)","v":0},{"$f":"$D$8","v":0},{"$f":"Construction!C60","v":8.0336878478692392E-2},{"$f":"(C12*E12*D12)","v":0}]
[null,"Bike/Walk",{"$f":"IFERROR($C$8*'User Inputs'!D46/SUM('User Inputs'!$D$42+'User Inputs'!$D$44+'User Inputs'!$D$45+'User Inputs'!$D$46),0)","v":0},{"$f":"$D$8","v":0},{"$f":"Construction!C61","v":0},{"$f":"(C13*E13*D13)","v":0}]
[null,null,{"$f":"SUM(C10:C13)-C8","v":0}]
[null,"Construction Equipment"]
[]
[null,"Use Renewable Diesel ",null,"Fuel Type Selected",null,null,"Diesel",null,null,"Approach 1","Mitigation Inputs",null,"Baseline (Diesel)"]
[null,"Equipment Type","Fuel Type","Btu","Gallons","kgCO2e","Gallons","kgCO2e",null,"Fuel Type","Gallons","kgCO2e","Gallons","kgCO2e"]
[null,"Air Compressors",{"$f":"'User Inputs'!D61","v":"Diesel"},{"$f":"Construction!C89*Construction!E89*Construction!G89*Construction!I89","v":0},{"$f":"IFERROR(D19/SUMIF(Assumptions!$B$161:$B$164,C19,Assumptions!$F$161:$F$164),0)","v":0},{"$f":"Construction!O89","v":0},{"$f":"D19/Assumptions!$F$161","v":0},{"$f":"D19*Constants!$F$23*Assumptions!C142","v":0},null,"Biodiesel 100",{"$f":"SUMIF($C$19:$C$33,J19,$E$19:$E$33)","v":0},{"$f":"SUMIF($C$19:$C$33,J19,$F$19:$F$33)","v":0},{"$f":"SUMIF($C$19:$C$33,J19,$G$19:$G$33)","v":0},{"$f":"SUMIF($C$19:$C$33,J19,$H$19:$H$33)","v":0}]
[null,"Cement and Mortar Mixers",{"$f":"'User Inputs'!D62","v":"Diesel"},{"$f":"Construction!C90*Construction!E90*Construction!G90*Construction!I90","v":0},{"$f":"IFERROR(D20/SUMIF(Assumptions!$B$161:$B$164,C20,Assumptions!$F$161:$F$164),0)","v":0},{"$f":"Construction!O90","v":0},{"$f":"D20/Assumptions!$F$161","v":0},{"$f":"D20*Constants!$F$23*Assumptions!C143","v":0},null,"Biodiesel 20",{"$f":"SUMIF($C$19:$C$33,J20,$E$19:$E$33)","v":0},{"$f":"SUMIF($C$19:$C$33,J20,$F$19:$F$33)","v":0},{"$f":"SUMIF($C$19:$C$33,J20,$G$19:$G$33)","v":0},{"$f":"SUMIF($C$19:$C$33,J20,$H$19:$H$33)","v":0}]
[null,"Concrete/Industrial Saws",{"$f":"'User Inputs'!D63","v":"Diesel"},{"$f":"Construction!C91*Construction!E91*Construction!G91*Construction!I91","v":0},{"$f":"IFERROR(D21/SUMIF(Assumptions!$B$161:$B$164,C21,Assumptions!$F$161:$F$164),0)","v":0},{"$f":"Construction!O91","v":0},{"$f":"D21/Assumptions!$F$161","v":0},{"$f":"D21*Constants!$F$23*Assumptions!C144","v":0},null,"Renewable Diesel",{"$f":"SUMIF($C$19:$C$33,J21,$E$19:$E$33)","v":0},{"$f":"SUMIF($C$19:$C$33,J21,$F$19:$F$33)","v":0},0,0]
[null,"Cranes",{"$f":"'User Inputs'!D64","v":"Diesel"},{"$f":"Construction!C92*Construction!E92*Construction!G92*Construction!I92","v":0},{"$f":"IFERROR(D22/SUMIF(Assumptions!$B$161:$B$164,C22,Assumptions!$F$161:$F$164),0)","v":0},{"$f":"Construction!O92","v":0},{"$f":"D22/Assumptions!$F$161","v":0},{"$f":"D22*Constants!$F$23*Assumptions!C145","v":0}]
[null,"Excavators",{"$f":"'User Inputs'!D65","v":"Diesel"},{"$f":"Construction!C93*Construction!E93*Construction!G93*Construction!I93","v":0},{"$f":"IFERROR(D23/SUMIF(Assumptions!$B$161:$B$164,C23,Assumptions!$F$161:$F$164),0)","v":0},{"$f":"Construction!O93","v":0},{"$f":"D23/Assumptions!$F$161","v":0},{"$f":"D23*Constants!$F$23*Assumptions!C146","v":0},null,"Approach 2","Mitigation Inputs",null,"Baseline (Diesel)"]
[null,"Forklifts",{"$f":"'User Inputs'!D66","v":"Diesel"},{"$f":"Construction!C94*Construction!E94*Construction!G94*Construction!I94","v":0},{"$f":"IFERROR(D24/SUMIF(Assumptions!$B$161:$B$164,C24,Assumptions!$F$161:$F$164),0)","v":0},{"$f":"Construction!O94","v":0},{"$f":"D24/Assumptions!$F$161","v":0},{"$f":"D24*Constants!$F$23*Assumptions!C147","v":0},null,"Fuel Type","Gallons","kgCO2e","Gallons","kgCO2e"]
[null,"Generator Sets",{"$f":"'User Inputs'!D67","v":"Diesel"},{"$f":"Construction!C95*Construction!E95*Construction!G95*Construction!I95","v":0},{"$f":"IFERROR(D25/SUMIF(Assumptions!$B$161:$B$164,C25,Assumptions!$F$161:$F$164),0)","v":0},{"$f":"Construction!O95","v":0},{"$f":"D25/Assumptions!$F$161","v":0},{"$f":"D25*Constants!$F$23*Assumptions!C148","v":0},null,"Biodiesel 100",{"$f":"Construction!C112","v":0},{"$f":"Construction!L112","v":0},{"$f":"Construction!C112*Construction!F112/Construction!$F$110","v":0},{"$f":"M25*Construction!$F$110*Construction!$H$110*Construction!$J$110","v":0}]
[null,"Graders",{"$f":"'User Inputs'!D68","v":"Diesel"},{"$f":"Construction!C96*Construction!E96*Construction!G96*Construction!I96","v":0},{"$f":"IFERROR(D26/SUMIF(Assumptions!$B$161:$B$164,C26,Assumptions!$F$161:$F$164),0)","v":0},{"$f":"Construction!O96","v":0},{"$f":"D26/Assumptions!$F$161","v":0},{"$f":"D26*Constants!$F$23*Assumptions!C149","v":0},null,"Biodiesel 20",{"$f":"Construction!C113","v":0},{"$f":"Construction!L113","v":0},{"$f":"Construction!C113*Construction!F113/Construction!$F$110","v":0},{"$f":"M26*Construction!$F$110*Construction!$H$110*Construction!$J$110","v":0}]
[null,"Pavers",{"$f":"'User Inputs'!D69","v":"Diesel"},{"$f":"Construction!C97*Construction!E97*Construction!G97*Construction!I97","v":0},{"$f":"IFERROR(D27/SUMIF(Assumptions!$B$161:$B$164,C27,Assumptions!$F$161:$F$164),0)","v":0},{"$f":"Construction!O97","v":0},{"$f":"D27/Assumptions!$F$161","v":0},{"$f":"D27*Constants!$F$23*Assumptions!C150","v":0},null,"Renewable Diesel",{"$f":"Construction!C114","v":0},{"$f":"Construction!L114","v":0},{"$f":"Construction!C114*Construction!F114/Construction!$F$110","v":0},{"$f":"M27*Construction!$F$110*Construction!$H$110*Construction!$J$110","v":0}]
[null,"Paving Equipment",{"$f":"'User Inputs'!D70","v":"Diesel"},{"$f":"Construction!C98*Construction!E98*Construction!G98*Construction!I98","v":0},{"$f":"IFERROR(D28/SUMIF(Assumptions!$B$161:$B$164,C28,Assumptions!$F$161:$F$164),0)","v":0},{"$f":"Construction!O98","v":0},{"$f":"D28/Assumptions!$F$161","v":0},{"$f":"D28*Constants!$F$23*Assumptions!C151","v":0}]
[null,"Rollers",{"$f":"'User Inputs'!D71","v":"Diesel"},{"$f":"Construction!C99*Construction!E99*Construction!G99*Construction!I99","v":0},{"$f":"IFERROR(D29/SUMIF(Assumptions!$B$161:$B$164,C29,Assumptions!$F$161:$F$164),0)","v":0},{"$f":"Construction!O99","v":0},{"$f":"D29/Assumptions!$F$161","v":0},{"$f":"D29*Constants!$F$23*Assumptions!C152","v":0}]
[null,"Rubber Tired Dozers",{"$f":"'User Inputs'!D72","v":"Diesel"},{"$f":"Construction!C100*Construction!E100*Construction!G100*Construction!I100","v":0},{"$f":"IFERROR(D30/SUMIF(Assumptions!$B$161:$B$164,C30,Assumptions!$F$161:$F$164),0)","v":0},{"$f":"Construction!O100","v":0},{"$f":"D30/Assumptions!$F$161","v":0},{"$f":"D30*Constants!$F$23*Assumptions!C153","v":0}]
[null,"Scrapers",{"$f":"'User Inputs'!D73","v":"Diesel"},{"$f":"Construction!C101*Construction!E101*Construction!G101*Construction!I101","v":0},{"$f":"IFERROR(D31/SUMIF(Assumptions!$B$161:$B$164,C31,Assumptions!$F$161:$F$164),0)","v":0},{"$f":"Construction!O101","v":0},{"$f":"D31/Assumptions!$F$161","v":0},{"$f":"D31*Constants!$F$23*Assumptions!C154","v":0}]
[null,"Tractors/Loaders/Backhoes",{"$f":"'User Inputs'!D74","v":"Diesel"},{"$f":"Construction!C102*Construction!E102*Construction!G102*Construction!I102","v":0},{"$f":"IFERROR(D32/SUMIF(Assumptions!$B$161:$B$164,C32,Assumptions!$F$161:$F$164),0)","v":0},{"$f":"Construction!O102","v":0},{"$f":"D32/Assumptions!$F$161","v":0},{"$f":"D32*Constants!$F$23*Assumptions!C155","v":0}]
[null,"Welders",{"$f":"'User Inputs'!D75","v":"Diesel"},{"$f":"Construction!C103*Construction!E103*Construction!G103*Construction!I103","v":0},{"$f":"IFERROR(D33/SUMIF(Assumptions!$B$161:$B$164,C33,Assumptions!$F$161:$F$164),0)","v":0},{"$f":"Construction!O103","v":0},{"$f":"D33/Assumptions!$F$161","v":0},{"$f":"D33*Constants!$F$23*Assumptions!C156","v":0}]
[]
[]
[null,"Use Electric or Hybrid Powered Equipment ",null,"Fuel Type Selected",null,null,"Diesel",null,null,"Approach 1","Mitigation Inputs",null,"Baseline (Diesel)"]
[null,"Equipment Type","Fuel Type","Btu","kWh","kgCO2e","Gallons","kgCO2e",null,"Fuel Type","kWh","kgCO2e","Gallons","kgCO2e"]
[null,"Air Compressors",{"$f":"'User Inputs'!D61","v":"Diesel"},{"$f":"Construction!C89*Construction!E89*Construction!G89*Construction!I89","v":0},{"$f":"IF(C38=\"Electric\",D38/Constants!$F$21,0)","v":0},{"$f":"IF(C38=\"Electric\",Construction!O89,0)","v":0},{"$f":"D38/Assumptions!$F$161","v":0},{"$f":"D19*Constants!$F$23*Assumptions!C142","v":0},null,"Electric",{"$f":"SUMIF($C$38:$C$52,J38,$E$38:$E$52)","v":0},{"$f":"SUMIF($C$38:$C$52,J38,$F$38:$F$52)","v":0},{"$f":"SUMIF($C$38:$C$52,J38,$G$38:$G$52)","v":0},{"$f":"SUMIF($C$38:$C$52,J38,$H$38:$H$52)","v":0}]
[null,"Cement and Mortar Mixers",{"$f":"'User Inputs'!D62","v":"Diesel"},{"$f":"Construction!C90*Construction!E90*Construction!G90*Construction!I90","v":0},{"$f":"IF(C39=\"Electric\",D39/Constants!$F$21,0)","v":0},{"$f":"IF(C39=\"Electric\",Construction!O90,0)","v":0},{"$f":"D39/Assumptions!$F$161","v":0},{"$f":"D20*Constants!$F$23*Assumptions!C143","v":0}]
[null,"Concrete/Industrial Saws",{"$f":"'User Inputs'!D63","v":"Diesel"},{"$f":"Construction!C91*Construction!E91*Construction!G91*Construction!I91","v":0},{"$f":"IF(C40=\"Electric\",D40/Constants!$F$21,0)","v":0},{"$f":"IF(C40=\"Electric\",Construction!O91,0)","v":0},{"$f":"D40/Assumptions!$F$161","v":0},{"$f":"D21*Constants!$F$23*Assumptions!C144","v":0},null,"Approach 2","Mitigation Inputs",null,"Baseline (Diesel)"]
[null,"Cranes",{"$f":"'User Inputs'!D64","v":"Diesel"},{"$f":"Construction!C92*Construction!E92*Construction!G92*Construction!I92","v":0},{"$f":"IF(C41=\"Electric\",D41/Constants!$F$21,0)","v":0},{"$f":"IF(C41=\"Electric\",Construction!O92,0)","v":0},{"$f":"D41/Assumptions!$F$161","v":0},{"$f":"D22*Constants!$F$23*Assumptions!C145","v":0},null,"Fuel Type","kWh","kgCO2e","Gallons","kgCO2e"]
[null,"Excavators",{"$f":"'User Inputs'!D65","v":"Diesel"},{"$f":"Construction!C93*Construction!E93*Construction!G93*Construction!I93","v":0},{"$f":"IF(C42=\"Electric\",D42/Constants!$F$21,0)","v":0},{"$f":"IF(C42=\"Electric\",Construction!O93,0)","v":0},{"$f":"D42/Assumptions!$F$161","v":0},{"$f":"D23*Constants!$F$23*Assumptions!C146","v":0},null,"Electric",{"$f":"Construction!C111","v":0},{"$f":"Construction!L111","v":0},{"$f":"Construction!C111*Construction!F111/Construction!F110","v":0},{"$f":"M42*Construction!$F$110*Construction!$H$110*Construction!$J$110","v":0}]
[null,"Forklifts",{"$f":"'User Inputs'!D66","v":"Diesel"},{"$f":"Construction!C94*Construction!E94*Construction!G94*Construction!I94","v":0},{"$f":"IF(C43=\"Electric\",D43/Constants!$F$21,0)","v":0},{"$f":"IF(C43=\"Electric\",Construction!O94,0)","v":0},{"$f":"D43/Assumptions!$F$161","v":0},{"$f":"D24*Constants!$F$23*Assumptions!C147","v":0}]
[null,"Generator Sets",{"$f":"'User Inputs'!D67","v":"Diesel"},{"$f":"Construction!C95*Construction!E95*Construction!G95*Construction!I95","v":0},{"$f":"IF(C44=\"Electric\",D44/Constants!$F$21,0)","v":0},{"$f":"IF(C44=\"Electric\",Construction!O95,0)","v":0},{"$f":"D44/Assumptions!$F$161","v":0},{"$f":"D25*Constants!$F$23*Assumptions!C148","v":0}]
[null,"Graders",{"$f":"'User Inputs'!D68","v":"Diesel"},{"$f":"Construction!C96*Construction!E96*Construction!G96*Construction!I96","v":0},{"$f":"IF(C45=\"Electric\",D45/Constants!$F$21,0)","v":0},{"$f":"IF(C45=\"Electric\",Construction!O96,0)","v":0},{"$f":"D45/Assumptions!$F$161","v":0},{"$f":"D26*Constants!$F$23*Assumptions!C149","v":0}]
[null,"Pavers",{"$f":"'User Inputs'!D69","v":"Diesel"},{"$f":"Construction!C97*Construction!E97*Construction!G97*Construction!I97","v":0},{"$f":"IF(C46=\"Electric\",D46/Constants!$F$21,0)","v":0},{"$f":"IF(C46=\"Electric\",Construction!O97,0)","v":0},{"$f":"D46/Assumptions!$F$161","v":0},{"$f":"D27*Constants!$F$23*Assumptions!C150","v":0}]
[null,"Paving Equipment",{"$f":"'User Inputs'!D70","v":"Diesel"},{"$f":"Construction!C98*Construction!E98*Construction!G98*Construction!I98","v":0},{"$f":"IF(C47=\"Electric\",D47/Constants!$F$21,0)","v":0},{"$f":"IF(C47=\"Electric\",Construction!O98,0)","v":0},{"$f":"D47/Assumptions!$F$161","v":0},{"$f":"D28*Constants!$F$23*Assumptions!C151","v":0}]
[null,"Rollers",{"$f":"'User Inputs'!D71","v":"Diesel"},{"$f":"Construction!C99*Construction!E99*Construction!G99*Construction!I99","v":0},{"$f":"IF(C48=\"Electric\",D48/Constants!$F$21,0)","v":0},{"$f":"IF(C48=\"Electric\",Construction!O99,0)","v":0},{"$f":"D48/Assumptions!$F$161","v":0},{"$f":"D29*Constants!$F$23*Assumptions!C152","v":0}]
[null,"Rubber Tired Dozers",{"$f":"'User Inputs'!D72","v":"Diesel"},{"$f":"Construction!C100*Construction!E100*Construction!G100*Construction!I100","v":0},{"$f":"IF(C49=\"Electric\",D49/Constants!$F$21,0)","v":0},{"$f":"IF(C49=\"Electric\",Construction!O100,0)","v":0},{"$f":"D49/Assumptions!$F$161","v":0},{"$f":"D30*Constants!$F$23*Assumptions!C153","v":0}]
[null,"Scrapers",{"$f":"'User Inputs'!D73","v":"Diesel"},{"$f":"Construction!C101*Construction!E101*Construction!G101*Construction!I101","v":0},{"$f":"IF(C50=\"Electric\",D50/Constants!$F$21,0)","v":0},{"$f":"IF(C50=\"Electric\",Construction!O101,0)","v":0},{"$f":"D50/Assumptions!$F$161","v":0},{"$f":"D31*Constants!$F$23*Assumptions!C154","v":0}]
[null,"Tractors/Loaders/Backhoes",{"$f":"'User Inputs'!D74","v":"Diesel"},{"$f":"Construction!C102*Construction!E102*Construction!G102*Construction!I102","v":0},{"$f":"IF(C51=\"Electric\",D51/Constants!$F$21,0)","v":0},{"$f":"IF(C51=\"Electric\",Construction!O102,0)","v":0},{"$f":"D51/Assumptions!$F$161","v":0},{"$f":"D32*Constants!$F$23*Assumptions!C155","v":0}]
[null,"Welders",{"$f":"'User Inputs'!D75","v":"Diesel"},{"$f":"Construction!C103*Construction!E103*Construction!G103*Construction!I103","v":0},{"$f":"IF(C52=\"Electric\",D52/Constants!$F$21,0)","v":0},{"$f":"IF(C52=\"Electric\",Construction!O103,0)","v":0},{"$f":"D52/Assumptions!$F$161","v":0},{"$f":"D33*Constants!$F$23*Assumptions!C156","v":0}]
[]
[null,"Land Use Change"]
[]
[null,"Create New Open Space with Native Vegetation and Habitat"]
[null,"Land Cover Type",null,"Land Area","Carbon Stock ","Conversion Factor","Carbon Sink"]
[null,null,null,"acres","MT C/acre","C to CO2","kgCO2e"]
[null,"Impervious surface ",null,{"$f":"'Quantified Reductions'!C80","v":0},{"$f":"Assumptions!D182","v":0},{"$f":"Constants!$F$35","v":3.6666666666666665},{"$f":"D59*E59*F59","v":0}]
[null,"Brush and grassland",null,{"$f":"'Quantified Reductions'!D81","v":0},{"$f":"Assumptions!D174","v":40.798506395373956},{"$f":"Constants!$F$35","v":3.6666666666666665},{"$f":"D60*E60*F60","v":0}]
[]
[null,"Afforestation"]
[null,"Land Use Type",null,"Land Area","Carbon Stock ","Conversion Factor","GHG Emissions"]
[null,null,null,"acres","MT C/acre","C to CO2","kgCO2e"]
[null,"Forest ",null,{"$f":"'Quantified Reductions'!E104","v":0},{"$f":"Assumptions!D172","v":99},{"$f":"Constants!$F$35","v":3.6666666666666665},{"$f":"D65*E65*F65","v":0}]
[null,"Brush and grassland",null,{"$f":"'Quantified Reductions'!E108","v":0},{"$f":"Assumptions!D174","v":40.798506395373956},{"$f":"Constants!$F$35","v":3.6666666666666665},0]
[null,"Cropland",null,{"$f":"'Quantified Reductions'!E109","v":0},{"$f":"Assumptions!D175","v":32.490790157128821},{"$f":"Constants!$F$35","v":3.6666666666666665},0]
[null,"Livestock rangeland/pastureland",null,{"$f":"'Quantified Reductions'!E110","v":0},{"$f":"Assumptions!D176","v":40.798506395373956},{"$f":"Constants!$F$35","v":3.6666666666666665},0]
[null,"Lawn/landscaping",null,{"$f":"'Quantified Reductions'!E111","v":0},{"$f":"Assumptions!D177","v":19.060723174359076},{"$f":"Constants!$F$35","v":3.6666666666666665},0]
[null,"Impervious surface ",null,{"$f":"'Quantified Reductions'!E112","v":0},{"$f":"Assumptions!D182","v":0},{"$f":"Constants!$F$35","v":3.6666666666666665},0]
[null,"Stormwater pond (wet sedimentation basin) ",null,{"$f":"'Quantified Reductions'!E113","v":0},{"$f":"Assumptions!D183","v":0},{"$f":"Constants!$F$35","v":3.6666666666666665},0]
[]
[]
[null,"Building Energy Consumption"]
[]
[null,"Establish Onsite Renewable Energy Systems"]
[null,"Energy Type",{"$f":"'Project Background'!D14","v":0},{"$f":"IFERROR((IF(((C77+1)<('Project Background'!$D$14+'Project Background'!$D$15)),(C77+1),\"\")),\"\")","v":""},{"$f":"IFERROR((IF(((D77+1)<('Project Background'!$D$14+'Project Background'!$D$15)),(D77+1),\"\")),\"\")","v":""},{"$f":"IFERROR((IF(((E77+1)<('Project Background'!$D$14+'Project Background'!$D$15)),(E77+1),\"\")),\"\")","v":""},{"$f":"IFERROR((IF(((F77+1)<('Project Background'!$D$14+'Project Background'!$D$15)),(F77+1),\"\")),\"\")","v":""},{"$f":"IFERROR((IF(((G77+1)<('Project Background'!$D$14+'Project Background'!$D$15)),(G77+1),\"\")),\"\")","v":""},{"$f":"IFERROR((IF(((H77+1)<('Project Background'!$D$14+'Project Background'!$D$15)),(H77+1),\"\")),\"\")","v":""},{"$f":"IFERROR((IF(((I77+1)<('Project Background'!$D$14+'Project Background'!$D$15)),(I77+1),\"\")),\"\")","v":""},{"$f":"IFERROR((IF(((J77+1)<('Project Background'!$D$14+'Project Background'!$D$15)),(J77+1),\"\")),\"\")","v":""},{"$f":"IFERROR((IF(((K77+1)<('Project Background'!$D$14+'Project Background'!$D$15)),(K77+1),\"\")),\"\")","v":""},{"$f":"IFERROR((IF(((L77+1)<('Project Background'!$D$14+'Project Background'!$D$15)),(L77+1),\"\")),\"\")","v":""},{"$f":"IFERROR((IF(((M77+1)<('Project Background'!$D$14+'Project Background'!$D$15)),(M77+1),\"\")),\"\")","v":""},{"$f":"IFERROR((IF(((N77+1)<('Project Background'!$D$14+'Project Background'!$D$15)),(N77+1),\"\")),\"\")","v":""},{"$f":"IFERROR((IF(((O77+1)<('Project Background'!$D$14+'Project Background'!$D$15)),(O77+1),\"\")),\"\")","v":""},{"$f":"IFERROR((IF(((P77+1)<('Project Background'!$D$14+'Project Background'!$D$15)),(P77+1),\"\")),\"\")","v":""},{"$f":"IFERROR((IF(((Q77+1)<('Project Background'!$D$14+'Project Background'!$D$15)),(Q77+1),\"\")),\"\")","v":""},{"$f":"IFERROR((IF(((R77+1)<('Project Background'!$D$14+'Project Background'!$D$15)),(R77+1),\"\")),\"\")","v":""},{"$f":"IFERROR((IF(((S77+1)<('Project Background'!$D$14+'Project Background'!$D$15)),(S77+1),\"\")),\"\")","v":""},{"$f":"IFERROR((IF(((T77+1)<('Project Background'!$D$14+'Project Background'!$D$15)),(T77+1),\"\")),\"\")","v":""},{"$f":"IFERROR((IF(((U77+1)<('Project Background'!$D$14+'Project Background'!$D$15)),(U77+1),\"\")),\"\")","v":""},{"$f":"IFERROR((IF(((V77+1)<('Project Background'!$D$14+'Project Background'!$D$15)),(V77+1),\"\")),\"\")","v":""},{"$f":"IFERROR((IF(((W77+1)<('Project Background'!$D$14+'Project Background'!$D$15)),(W77+1),\"\")),\"\")","v":""},{"$f":"IFERROR((IF(((X77+1)<('Project Background'!$D$14+'Project Background'!$D$15)),(X77+1),\"\")),\"\")","v":""},{"$f":"IFERROR((IF(((Y77+1)<('Project Background'!$D$14+'Project Background'!$D$15)),(Y77+1),\"\")),\"\")","v":""},{"$f":"IFERROR((IF(((Z77+1)<('Project Background'!$D$14+'Project Background'!$D$15)),(Z77+1),\"\")),\"\")","v":""},{"$f":"IFERROR((IF(((AA77+1)<('Project Background'!$D$14+'Project Background'!$D$15)),(AA77+1),\"\")),\"\")","v":""},{"$f":"IFERROR((IF(((AB77+1)<('Project Background'!$D$14+'Project Background'!$D$15)),(AB77+1),\"\")),\"\")","v":""},{"$f":"IFERROR((IF(((AC77+1)<('Project Background'!$D$14+'Project Background'!$D$15)),(AC77+1),\"\")),\"\")","v":""},{"$f":"IFERROR((IF(((AD77+1)<('Project Background'!$D$14+'Project Background'!$D$15)),(AD77+1),\"\")),\"\")","v":""},{"$f":"IFERROR((IF(((AE77+1)<('Project Background'!$D$14+'Project Background'!$D$15)),(AE77+1),\"\")),\"\")","v":""},{"$f":"IFERROR((IF(((AF77+1)<('Project Background'!$D$14+'Project Background'!$D$15)),(AF77+1),\"\")),\"\")","v":""},{"$f":"IFERROR((IF(((AG77+1)<('Project Background'!$D$14+'Project Background'!$D$15)),(AG77+1),\"\")),\"\")","v":""},{"$f":"IFERROR((IF(((AH77+1)<('Project Background'!$D$14+'Project Background'!$D$15)),(AH77+1),\"\")),\"\")","v":""},{"$f":"IFERROR((IF(((AI77+1)<('Project Background'!$D$14+'Project Background'!$D$15)),(AI77+1),\"\")),\"\")","v":""},{"$f":"IFERROR((IF(((AJ77+1)<('Project Background'!$D$14+'Project Background'!$D$15)),(AJ77+1),\"\")),\"\")","v":""},{"$f":"IFERROR((IF(((AK77+1)<('Project Background'!$D$14+'Project Background'!$D$15)),(AK77+1),\"\")),\"\")","v":""},{"$f":"IFERROR((IF(((AL77+1)<('Project Background'!$D$14+'Project Background'!$D$15)),(AL77+1),\"\")),\"\")","v":""},{"$f":"IFERROR((IF(((AM77+1)<('Project Background'!$D$14+'Project Background'!$D$15)),(AM77+1),\"\")),\"\")","v":""},{"$f":"IFERROR((IF(((AN77+1)<('Project Background'!$D$14+'Project Background'!$D$15)),(AN77+1),\"\")),\"\")","v":""},{"$f":"IFERROR((IF(((AO77+1)<('Project Background'!$D$14+'Project Background'!$D$15)),(AO77+1),\"\")),\"\")","v":""},{"$f":"IFERROR((IF(((AP77+1)<('Project Background'!$D$14+'Project Background'!$D$15)),(AP77+1),\"\")),\"\")","v":""},{"$f":"IFERROR((IF(((AQ77+1)<('Project Background'!$D$14+'Project Background'!$D$15)),(AQ77+1),\"\")),\"\")","v":""},{"$f":"IFERROR((IF(((AR77+1)<('Project Background'!$D$14+'Project Background'!$D$15)),(AR77+1),\"\")),\"\")","v":""},{"$f":"IFERROR((IF(((AS77+1)<('Project Background'!$D$14+'Project Background'!$D$15)),(AS77+1),\"\")),\"\")","v":""},{"$f":"IFERROR((IF(((AT77+1)<('Project Background'!$D$14+'Project Background'!$D$15)),(AT77+1),\"\")),\"\")","v":""},{"$f":"IFERROR((IF(((AU77+1)<('Project Background'!$D$14+'Project Background'!$D$15)),(AU77+1),\"\")),\"\")","v":""},{"$f":"IFERROR((IF(((AV77+1)<('Project Background'!$D$14+'Project Background'!$D$15)),(AV77+1),\"\")),\"\")","v":""},{"$f":"IFERROR((IF(((AW77+1)<('Project Background'!$D$14+'Project Background'!$D$15)),(AW77+1),\"\")),\"\")","v":""},{"$f":"IFERROR((IF(((AX77+1)<('Project Background'!$D$14+'Project Background'!$D$15)),(AX77+1),\"\")),\"\")","v":""},{"$f":"IFERROR((IF(((AY77+1)<('Project Background'!$D$14+'Project Background'!$D$15)),(AY77+1),\"\")),\"\")","v":""},{"$f":"IFERROR((IF(((AZ77+1)<('Project Background'!$D$14+'Project Background'!$D$15)),(AZ77+1),\"\")),\"\")","v":""},{"$f":"IFERROR((IF(((BA77+1)<('Project Background'!$D$14+'Project Background'!$D$15)),(BA77+1),\"\")),\"\")","v":""},{"$f":"IFERROR((IF(((BB77+1)<('Project Background'!$D$14+'Project Background'!$D$15)),(BB77+1),\"\")),\"\")","v":""},{"$f":"IFERROR((IF(((BC77+1)<('Project Background'!$D$14+'Project Background'!$D$15)),(BC77+1),\"\")),\"\")","v":""},{"$f":"IFERROR((IF(((BD77+1)<('Project Background'!$D$14+'Project Background'!$D$15)),(BD77+1),\"\")),\"\")","v":""},{"$f":"IFERROR((IF(((BE77+1)<('Project Background'!$D$14+'Project Background'!$D$15)),(BE77+1),\"\")),\"\")","v":""},{"$f":"IFERROR((IF(((BF77+1)<('Project Background'!$D$14+'Project Background'!$D$15)),(BF77+1),\"\")),\"\")","v":""},{"$f":"IFERROR((IF(((BG77+1)<('Project Background'!$D$14+'Project Background'!$D$15)),(BG77+1),\"\")),\"\")","v":""},{"$f":"IFERROR((IF(((BH77+1)<('Project Background'!$D$14+'Project Background'!$D$15)),(BH77+1),\"\")),\"\")","v":""},{"$f":"IFERROR((IF(((BI77+1)<('Project Background'!$D$14+'Project Background'!$D$15)),(BI77+1),\"\")),\"\")","v":""},{"$f":"IFERROR((IF(((BJ77+1)<('Project Background'!$D$14+'Project Background'!$D$15)),(BJ77+1),\"\")),\"\")","v":""}]
[null,"Baseline Scenario",{"$f":"IFERROR(Operation!C31*Operation!G31*Operation!I31,0)","v":0},{"$f":"IFERROR((Operation!$C$31*Operation!$G$31*(INDEX('Annual Assumptions'!$B$17:$BZ$22,MATCH('Project Background'!$D$24,'Annual Assumptions'!$B$17:$B$22,0),MATCH(D77,'Annual Assumptions'!$B$17:$BZ$17,0)))),\"\")","v":""},{"$f":"IFERROR((Operation!$C$31*Operation!$G$31*(INDEX('Annual Assumptions'!$B$17:$BZ$22,MATCH('Project Background'!$D$24,'Annual Assumptions'!$B$17:$B$22,0),MATCH(E77,'Annual Assumptions'!$B$17:$BZ$17,0)))),\"\")","v":""},{"$f":"IFERROR((Operation!$C$31*Operation!$G$31*(INDEX('Annual Assumptions'!$B$17:$BZ$22,MATCH('Project Background'!$D$24,'Annual Assumptions'!$B$17:$B$22,0),MATCH(F77,'Annual Assumptions'!$B$17:$BZ$17,0)))),\"\")","v":""},{"$f":"IFERROR((Operation!$C$31*Operation!$G$31*(INDEX('Annual Assumptions'!$B$17:$BZ$22,MATCH('Project Background'!$D$24,'Annual Assumptions'!$B$17:$B$22,0),MATCH(G77,'Annual Assumptions'!$B$17:$BZ$17,0)))),\"\")","v":""},{"$f":"IFERROR((Operation!$C$31*Operation!$G$31*(INDEX('Annual Assumptions'!$B$17:$BZ$22,MATCH('Project Background'!$D$24,'Annual Assumptions'!$B$17:$B$22,0),MATCH(H77,'Annual Assumptions'!$B$17:$BZ$17,0)))),\"\")","v":""},{"$f":"IFERROR((Operation!$C$31*Operation!$G$31*(INDEX('Annual Assumptions'!$B$17:$BZ$22,MATCH('Project Background'!$D$24,'Annual Assumptions'!$B$17:$B$22,0),MATCH(I77,'Annual Assumptions'!$B$17:$BZ$17,0)))),\"\")","v":""},{"$f":"IFERROR((Operation!$C$31*Operation!$G$31*(INDEX('Annual Assumptions'!$B$17:$BZ$22,MATCH('Project Background'!$D$24,'Annual Assumptions'!$B$17:$B$22,0),MATCH(J77,'Annual Assumptions'!$B$17:$BZ$17,0)))),\"\")","v":""},{"$f":"IFERROR((Operation!$C$31*Operation!$G$31*(INDEX('Annual Assumptions'!$B$17:$BZ$22,MATCH('Project Background'!$D$24,'Annual Assumptions'!$B$17:$B$22,0),MATCH(K77,'Annual Assumptions'!$B$17:$BZ$17,0)))),\"\")","v":""},{"$f":"IFERROR((Operation!$C$31*Operation!$G$31*(INDEX('Annual Assumptions'!$B$17:$BZ$22,MATCH('Project Background'!$D$24,'Annual Assumptions'!$B$17:$B$22,0),MATCH(L77,'Annual Assumptions'!$B$17:$BZ$17,0)))),\"\")","v":""},{"$f":"IFERROR((Operation!$C$31*Operation!$G$31*(INDEX('Annual Assumptions'!$B$17:$BZ$22,MATCH('Project Background'!$D$24,'Annual Assumptions'!$B$17:$B$22,0),MATCH(M77,'Annual Assumptions'!$B$17:$BZ$17,0)))),\"\")","v":""},{"$f":"IFERROR((Operation!$C$31*Operation!$G$31*(INDEX('Annual Assumptions'!$B$17:$BZ$22,MATCH('Project Background'!$D$24,'Annual Assumptions'!$B$17:$B$22,0),MATCH(N77,'Annual Assumptions'!$B$17:$BZ$17,0)))),\"\")","v":""},{"$f":"IFERROR((Operation!$C$31*Operation!$G$31*(INDEX('Annual Assumptions'!$B$17:$BZ$22,MATCH('Project Background'!$D$24,'Annual Assumptions'!$B$17:$B$22,0),MATCH(O77,'Annual Assumptions'!$B$17:$BZ$17,0)))),\"\")","v":""},{"$f":"IFERROR((Operation!$C$31*Operation!$G$31*(INDEX('Annual Assumptions'!$B$17:$BZ$22,MATCH('Project Background'!$D$24,'Annual Assumptions'!$B$17:$B$22,0),MATCH(P77,'Annual Assumptions'!$B$17:$BZ$17,0)))),\"\")","v":""},{"$f":"IFERROR((Operation!$C$31*Operation!$G$31*(INDEX('Annual Assumptions'!$B$17:$BZ$22,MATCH('Project Background'!$D$24,'Annual Assumptions'!$B$17:$B$22,0),MATCH(Q77,'Annual Assumptions'!$B$17:$BZ$17,0)))),\"\")","v":""},{"$f":"IFERROR((Operation!$C$31*Operation!$G$31*(INDEX('Annual Assumptions'!$B$17:$BZ$22,MATCH('Project Background'!$D$24,'Annual Assumptions'!$B$17:$B$22,0),MATCH(R77,'Annual Assumptions'!$B$17:$BZ$17,0)))),\"\")","v":""},{"$f":"IFERROR((Operation!$C$31*Operation!$G$31*(INDEX('Annual Assumptions'!$B$17:$BZ$22,MATCH('Project Background'!$D$24,'Annual Assumptions'!$B$17:$B$22,0),MATCH(S77,'Annual Assumptions'!$B$17:$BZ$17,0)))),\"\")","v":""},{"$f":"IFERROR((Operation!$C$31*Operation!$G$31*(INDEX('Annual Assumptions'!$B$17:$BZ$22,MATCH('Project Background'!$D$24,'Annual Assumptions'!$B$17:$B$22,0),MATCH(T77,'Annual Assumptions'!$B$17:$BZ$17,0)))),\"\")","v":""},{"$f":"IFERROR((Operation!$C$31*Operation!$G$31*(INDEX('Annual Assumptions'!$B$17:$BZ$22,MATCH('Project Background'!$D$24,'Annual Assumptions'!$B$17:$B$22,0),MATCH(U77,'Annual Assumptions'!$B$17:$BZ$17,0)))),\"\")","v":""},{"$f":"IFERROR((Operation!$C$31*Operation!$G$31*(INDEX('Annual Assumptions'!$B$17:$BZ$22,MATCH('Project Background'!$D$24,'Annual Assumptions'!$B$17:$B$22,0),MATCH(V77,'Annual Assumptions'!$B$17:$BZ$17,0)))),\"\")","v":""},{"$f":"IFERROR((Operation!$C$31*Operation!$G$31*(INDEX('Annual Assumptions'!$B$17:$BZ$22,MATCH('Project Background'!$D$24,'Annual Assumptions'!$B$17:$B$22,0),MATCH(W77,'Annual Assumptions'!$B$17:$BZ$17,0)))),\"\")","v":""},{"$f":"IFERROR((Operation!$C$31*Operation!$G$31*(INDEX('Annual Assumptions'!$B$17:$BZ$22,MATCH('Project Background'!$D$24,'Annual Assumptions'!$B$17:$B$22,0),MATCH(X77,'Annual Assumptions'!$B$17:$BZ$17,0)))),\"\")","v":""},{"$f":"IFERROR((Operation!$C$31*Operation!$G$31*(INDEX('Annual Assumptions'!$B$17:$BZ$22,MATCH('Project Background'!$D$24,'Annual Assumptions'!$B$17:$B$22,0),MATCH(Y77,'Annual Assumptions'!$B$17:$BZ$17,0)))),\"\")","v":""},{"$f":"IFERROR((Operation!$C$31*Operation!$G$31*(INDEX('Annual Assumptions'!$B$17:$BZ$22,MATCH('Project Background'!$D$24,'Annual Assumptions'!$B$17:$B$22,0),MATCH(Z77,'Annual Assumptions'!$B$17:$BZ$17,0)))),\"\")","v":""},{"$f":"IFERROR((Operation!$C$31*Operation!$G$31*(INDEX('Annual Assumptions'!$B$17:$BZ$22,MATCH('Project Background'!$D$24,'Annual Assumptions'!$B$17:$B$22,0),MATCH(AA77,'Annual Assumptions'!$B$17:$BZ$17,0)))),\"\")","v":""},{"$f":"IFERROR((Operation!$C$31*Operation!$G$31*(INDEX('Annual Assumptions'!$B$17:$BZ$22,MATCH('Project Background'!$D$24,'Annual Assumptions'!$B$17:$B$22,0),MATCH(AB77,'Annual Assumptions'!$B$17:$BZ$17,0)))),\"\")","v":""},{"$f":"IFERROR((Operation!$C$31*Operation!$G$31*(INDEX('Annual Assumptions'!$B$17:$BZ$22,MATCH('Project Background'!$D$24,'Annual Assumptions'!$B$17:$B$22,0),MATCH(AC77,'Annual Assumptions'!$B$17:$BZ$17,0)))),\"\")","v":""},{"$f":"IFERROR((Operation!$C$31*Operation!$G$31*(INDEX('Annual Assumptions'!$B$17:$BZ$22,MATCH('Project Background'!$D$24,'Annual Assumptions'!$B$17:$B$22,0),MATCH(AD77,'Annual Assumptions'!$B$17:$BZ$17,0)))),\"\")","v":""},{"$f":"IFERROR((Operation!$C$31*Operation!$G$31*(INDEX('Annual Assumptions'!$B$17:$BZ$22,MATCH('Project Background'!$D$24,'Annual Assumptions'!$B$17:$B$22,0),MATCH(AE77,'Annual Assumptions'!$B$17:$BZ$17,0)))),\"\")","v":""},{"$f":"IFERROR((Operation!$C$31*Operation!$G$31*(INDEX('Annual Assumptions'!$B$17:$BZ$22,MATCH('Project Background'!$D$24,'Annual Assumptions'!$B$17:$B$22,0),MATCH(AF77,'Annual Assumptions'!$B$17:$BZ$17,0)))),\"\")","v":""},{"$f":"IFERROR((Operation!$C$31*Operation!$G$31*(INDEX('Annual Assumptions'!$B$17:$BZ$22,MATCH('Project Background'!$D$24,'Annual Assumptions'!$B$17:$B$22,0),MATCH(AG77,'Annual Assumptions'!$B$17:$BZ$17,0)))),\"\")","v":""},{"$f":"IFERROR((Operation!$C$31*Operation!$G$31*(INDEX('Annual Assumptions'!$B$17:$BZ$22,MATCH('Project Background'!$D$24,'Annual Assumptions'!$B$17:$B$22,0),MATCH(AH77,'Annual Assumptions'!$B$17:$BZ$17,0)))),\"\")","v":""},{"$f":"IFERROR((Operation!$C$31*Operation!$G$31*(INDEX('Annual Assumptions'!$B$17:$BZ$22,MATCH('Project Background'!$D$24,'Annual Assumptions'!$B$17:$B$22,0),MATCH(AI77,'Annual Assumptions'!$B$17:$BZ$17,0)))),\"\")","v":""},{"$f":"IFERROR((Operation!$C$31*Operation!$G$31*(INDEX('Annual Assumptions'!$B$17:$BZ$22,MATCH('Project Background'!$D$24,'Annual Assumptions'!$B$17:$B$22,0),MATCH(AJ77,'Annual Assumptions'!$B$17:$BZ$17,0)))),\"\")","v":""},{"$f":"IFERROR((Operation!$C$31*Operation!$G$31*(INDEX('Annual Assumptions'!$B$17:$BZ$22,MATCH('Project Background'!$D$24,'Annual Assumptions'!$B$17:$B$22,0),MATCH(AK77,'Annual Assumptions'!$B$17:$BZ$17,0)))),\"\")","v":""},{"$f":"IFERROR((Operation!$C$31*Operation!$G$31*(INDEX('Annual Assumptions'!$B$17:$BZ$22,MATCH('Project Background'!$D$24,'Annual Assumptions'!$B$17:$B$22,0),MATCH(AL77,'Annual Assumptions'!$B$17:$BZ$17,0)))),\"\")","v":""},{"$f":"IFERROR((Operation!$C$31*Operation!$G$31*(INDEX('Annual Assumptions'!$B$17:$BZ$22,MATCH('Project Background'!$D$24,'Annual Assumptions'!$B$17:$B$22,0),MATCH(AM77,'Annual Assumptions'!$B$17:$BZ$17,0)))),\"\")","v":""},{"$f":"IFERROR((Operation!$C$31*Operation!$G$31*(INDEX('Annual Assumptions'!$B$17:$BZ$22,MATCH('Project Background'!$D$24,'Annual Assumptions'!$B$17:$B$22,0),MATCH(AN77,'Annual Assumptions'!$B$17:$BZ$17,0)))),\"\")","v":""},{"$f":"IFERROR((Operation!$C$31*Operation!$G$31*(INDEX('Annual Assumptions'!$B$17:$BZ$22,MATCH('Project Background'!$D$24,'Annual Assumptions'!$B$17:$B$22,0),MATCH(AO77,'Annual Assumptions'!$B$17:$BZ$17,0)))),\"\")","v":""},{"$f":"IFERROR((Operation!$C$31*Operation!$G$31*(INDEX('Annual Assumptions'!$B$17:$BZ$22,MATCH('Project Background'!$D$24,'Annual Assumptions'!$B$17:$B$22,0),MATCH(AP77,'Annual Assumptions'!$B$17:$BZ$17,0)))),\"\")","v":""},{"$f":"IFERROR((Operation!$C$31*Operation!$G$31*(INDEX('Annual Assumptions'!$B$17:$BZ$22,MATCH('Project Background'!$D$24,'Annual Assumptions'!$B$17:$B$22,0),MATCH(AQ77,'Annual Assumptions'!$B$17:$BZ$17,0)))),\"\")","v":""},{"$f":"IFERROR((Operation!$C$31*Operation!$G$31*(INDEX('Annual Assumptions'!$B$17:$BZ$22,MATCH('Project Background'!$D$24,'Annual Assumptions'!$B$17:$B$22,0),MATCH(AR77,'Annual Assumptions'!$B$17:$BZ$17,0)))),\"\")","v":""},{"$f":"IFERROR((Operation!$C$31*Operation!$G$31*(INDEX('Annual Assumptions'!$B$17:$BZ$22,MATCH('Project Background'!$D$24,'Annual Assumptions'!$B$17:$B$22,0),MATCH(AS77,'Annual Assumptions'!$B$17:$BZ$17,0)))),\"\")","v":""},{"$f":"IFERROR((Operation!$C$31*Operation!$G$31*(INDEX('Annual Assumptions'!$B$17:$BZ$22,MATCH('Project Background'!$D$24,'Annual Assumptions'!$B$17:$B$22,0),MATCH(AT77,'Annual Assumptions'!$B$17:$BZ$17,0)))),\"\")","v":""},{"$f":"IFERROR((Operation!$C$31*Operation!$G$31*(INDEX('Annual Assumptions'!$B$17:$BZ$22,MATCH('Project Background'!$D$24,'Annual Assumptions'!$B$17:$B$22,0),MATCH(AU77,'Annual Assumptions'!$B$17:$BZ$17,0)))),\"\")","v":""},{"$f":"IFERROR((Operation!$C$31*Operation!$G$31*(INDEX('Annual Assumptions'!$B$17:$BZ$22,MATCH('Project Background'!$D$24,'Annual Assumptions'!$B$17:$B$22,0),MATCH(AV77,'Annual Assumptions'!$B$17:$BZ$17,0)))),\"\")","v":""},{"$f":"IFERROR((Operation!$C$31*Operation!$G$31*(INDEX('Annual Assumptions'!$B$17:$BZ$22,MATCH('Project Background'!$D$24,'Annual Assumptions'!$B$17:$B$22,0),MATCH(AW77,'Annual Assumptions'!$B$17:$BZ$17,0)))),\"\")","v":""},{"$f":"IFERROR((Operation!$C$31*Operation!$G$31*(INDEX('Annual Assumptions'!$B$17:$BZ$22,MATCH('Project Background'!$D$24,'Annual Assumptions'!$B$17:$B$22,0),MATCH(AX77,'Annual Assumptions'!$B$17:$BZ$17,0)))),\"\")","v":""},{"$f":"IFERROR((Operation!$C$31*Operation!$G$31*(INDEX('Annual Assumptions'!$B$17:$BZ$22,MATCH('Project Background'!$D$24,'Annual Assumptions'!$B$17:$B$22,0),MATCH(AY77,'Annual Assumptions'!$B$17:$BZ$17,0)))),\"\")","v":""},{"$f":"IFERROR((Operation!$C$31*Operation!$G$31*(INDEX('Annual Assumptions'!$B$17:$BZ$22,MATCH('Project Background'!$D$24,'Annual Assumptions'!$B$17:$B$22,0),MATCH(AZ77,'Annual Assumptions'!$B$17:$BZ$17,0)))),\"\")","v":""},{"$f":"IFERROR((Operation!$C$31*Operation!$G$31*(INDEX('Annual Assumptions'!$B$17:$BZ$22,MATCH('Project Background'!$D$24,'Annual Assumptions'!$B$17:$B$22,0),MATCH(BA77,'Annual Assumptions'!$B$17:$BZ$17,0)))),\"\")","v":""},{"$f":"IFERROR((Operation!$C$31*Operation!$G$31*(INDEX('Annual Assumptions'!$B$17:$BZ$22,MATCH('Project Background'!$D$24,'Annual Assumptions'!$B$17:$B$22,0),MATCH(BB77,'Annual Assumptions'!$B$17:$BZ$17,0)))),\"\")","v":""},{"$f":"IFERROR((Operation!$C$31*Operation!$G$31*(INDEX('Annual Assumptions'!$B$17:$BZ$22,MATCH('Project Background'!$D$24,'Annual Assumptions'!$B$17:$B$22,0),MATCH(BC77,'Annual Assumptions'!$B$17:$BZ$17,0)))),\"\")","v":""},{"$f":"IFERROR((Operation!$C$31*Operation!$G$31*(INDEX('Annual Assumptions'!$B$17:$BZ$22,MATCH('Project Background'!$D$24,'Annual Assumptions'!$B$17:$B$22,0),MATCH(BD77,'Annual Assumptions'!$B$17:$BZ$17,0)))),\"\")","v":""},{"$f":"IFERROR((Operation!$C$31*Operation!$G$31*(INDEX('Annual Assumptions'!$B$17:$BZ$22,MATCH('Project Background'!$D$24,'Annual Assumptions'!$B$17:$B$22,0),MATCH(BE77,'Annual Assumptions'!$B$17:$BZ$17,0)))),\"\")","v":""},{"$f":"IFERROR((Operation!$C$31*Operation!$G$31*(INDEX('Annual Assumptions'!$B$17:$BZ$22,MATCH('Project Background'!$D$24,'Annual Assumptions'!$B$17:$B$22,0),MATCH(BF77,'Annual Assumptions'!$B$17:$BZ$17,0)))),\"\")","v":""},{"$f":"IFERROR((Operation!$C$31*Operation!$G$31*(INDEX('Annual Assumptions'!$B$17:$BZ$22,MATCH('Project Background'!$D$24,'Annual Assumptions'!$B$17:$B$22,0),MATCH(BG77,'Annual Assumptions'!$B$17:$BZ$17,0)))),\"\")","v":""},{"$f":"IFERROR((Operation!$C$31*Operation!$G$31*(INDEX('Annual Assumptions'!$B$17:$BZ$22,MATCH('Project Background'!$D$24,'Annual Assumptions'!$B$17:$B$22,0),MATCH(BH77,'Annual Assumptions'!$B$17:$BZ$17,0)))),\"\")","v":""},{"$f":"IFERROR((Operation!$C$31*Operation!$G$31*(INDEX('Annual Assumptions'!$B$17:$BZ$22,MATCH('Project Background'!$D$24,'Annual Assumptions'!$B$17:$B$22,0),MATCH(BI77,'Annual Assumptions'!$B$17:$BZ$17,0)))),\"\")","v":""},{"$f":"IFERROR((Operation!$C$31*Operation!$G$31*(INDEX('Annual Assumptions'!$B$17:$BZ$22,MATCH('Project Background'!$D$24,'Annual Assumptions'!$B$17:$B$22,0),MATCH(BJ77,'Annual Assumptions'!$B$17:$BZ$17,0)))),\"\")","v":""},{"$f":"IFERROR((Operation!$C$31*Operation!$G$31*(INDEX('Annual Assumptions'!$B$17:$BZ$22,MATCH('Project Background'!$D$24,'Annual Assumptions'!$B$17:$B$22,0),MATCH(BK77,'Annual Assumptions'!$B$17:$BZ$17,0)))),\"\")","v":""}]
[null,"Mitigation Scenario",{"$f":"Operation!C42","v":0},{"$f":"Operation!D42","v":""},{"$f":"Operation!E42","v":""},{"$f":"Operation!F42","v":""},{"$f":"Operation!G42","v":""},{"$f":"Operation!H42","v":""},{"$f":"Operation!I42","v":""},{"$f":"Operation!J42","v":""},{"$f":"Operation!K42","v":""},{"$f":"Operation!L42","v":""},{"$f":"Operation!M42","v":""},{"$f":"Operation!N42","v":""},{"$f":"Operation!O42","v":""},{"$f":"Operation!P42","v":""},{"$f":"Operation!Q42","v":""},{"$f":"Operation!R42","v":""},{"$f":"Operation!S42","v":""},{"$f":"Operation!T42","v":""},{"$f":"Operation!U42","v":""},{"$f":"Operation!V42","v":""},{"$f":"Operation!W42","v":""},{"$f":"Operation!X42","v":""},{"$f":"Operation!Y42","v":""},{"$f":"Operation!Z42","v":""},{"$f":"Operation!AA42","v":""},{"$f":"Operation!AB42","v":""},{"$f":"Operation!AC42","v":""},{"$f":"Operation!AD42","v":""},{"$f":"Operation!AE42","v":""},{"$f":"Operation!AF42","v":""},{"$f":"Operation!AG42","v":""},{"$f":"Operation!AH42","v":""},{"$f":"Operation!AI42","v":""},{"$f":"Operation!AJ42","v":""},{"$f":"Operation!AK42","v":""},{"$f":"Operation!AL42","v":""},{"$f":"Operation!AM42","v":""},{"$f":"Operation!AN42","v":""},{"$f":"Operation!AO42","v":""},{"$f":"Operation!AP42","v":""},{"$f":"Operation!AQ42","v":""},{"$f":"Operation!AR42","v":""},{"$f":"Operation!AS42","v":""},{"$f":"Operation!AT42","v":""},{"$f":"Operation!AU42","v":""},{"$f":"Operation!AV42","v":""},{"$f":"Operation!AW42","v":""},{"$f":"Operation!AX42","v":""},{"$f":"Operation!AY42","v":""},{"$f":"Operation!AZ42","v":""},{"$f":"Operation!BA42","v":""},{"$f":"Operation!BB42","v":""},{"$f":"Operation!BC42","v":""},{"$f":"Operation!BD42","v":""},{"$f":"Operation!BE42","v":""},{"$f":"Operation!BF42","v":""},{"$f":"Operation!BG42","v":""},{"$f":"Operation!BH42","v":""},{"$f":"Operation!BI42","v":""},{"$f":"Operation!BJ42","v":""},{"$f":"Operation!BK42","v":""}]
[null,"Avoided Emissions",{"$f":"C78-C79","v":0},{"$f":"IF(D78<>\"\",D78-D79,\"\")","v":""},"","","","","","","","","","","","","",{"$f":"IF(R78<>\"\",R78-R79,\"\")","v":""},{"$f":"IF(S78<>\"\",S78-S79,\"\")","v":""},"","","","","","","","","","","","","","","","","","","","","","","","","","","","","","","","","","","","","","","","","","","",""]
[null,{"$f":"SUM(C80:BK80)-'Quantified Reductions'!D131","v":0},{"$f":"SUM(C80:BK80)-SUM(Operation!C53:BK53)","v":0}]
[null,"Natural gas and petroleum systems"]
[]
[null,"Reduce Natural Gas Leakage and Venting "]
[null,"Fuel Type","Incremental Throughput ","Heat Content","Unit Conversion","Emission Factor","Annual GHG Emissions"]
[null,null,"cubic feet/year","Btu/cubic feet","MMBtu/Btu","kgCO2e/MMBtu","kgCO2e/year"]
[null,"Baseline Scenario",{"$f":"'User Inputs'!D176","v":0},{"$f":"Operation!E74","v":1026},{"$f":"Operation!G74","v":9.9999999999999995E-7},{"$f":"Assumptions!E237","v":65.149456379705697},{"$f":"C87*D87*E87*F87","v":0}]
[null,"Mitigation Scenario",{"$f":"C87","v":0},{"$f":"D87","v":1026},{"$f":"E87","v":9.9999999999999995E-7},{"$f":"F87-'User Inputs'!F196+'User Inputs'!E196","v":65.149456379705697},{"$f":"C88*D88*E88*F88","v":0}]
[]
[null,"HFC leakage"]
[]
[null,"Use Alternative Refrigerants Instead of High-GWP Refrigerants "]
[null,"Scenario","Building Type","Equipment Type",null,null,"HFC","Utilized Square Footage","Capacity","Unit Conversion","Annual Leak Rate","HFC GWP","Annual GHG Emissions"]
[null,null,null,null,null,null,null,null," kg HFC/1000 ft2","1000 ft2/ft2",null,null,"kgCO2e/year"]
[null,"Baseline Scenario","Residential","Room A/C & Other residential A/C and heat pumps",null,null,{"$f":"'Quantified Reductions'!H165","v":"R-454B"},{"$f":"Operation!G117","v":0},{"$f":"Operation!I117","v":2.25},1000,{"$f":"Operation!M117","v":8.6066666666666666E-2},{"$f":"'Quantified Reductions'!I165","v":466.45300000000003},{"$f":"(H95*I95/J95*K95*L95)","v":0}]
[null,"Baseline Scenario","Commercial","Other commercial A/C and heat pumps",null,null,{"$f":"'Quantified Reductions'!H166","v":"R-454B"},{"$f":"Operation!G118","v":0},{"$f":"Operation!I118","v":1.8},1000,{"$f":"Operation!M118","v":8.9599999999999999E-2},{"$f":"'Quantified Reductions'!I166","v":466.45300000000003},0]
[null,"Baseline Scenario","Institutional","Walk-in refrigerators and freezers",null,null,{"$f":"'Quantified Reductions'!H167","v":"R-404A"},{"$f":"Operation!G119","v":0},{"$f":"Operation!I119","v":0.4},1000,{"$f":"Operation!M119","v":0.13450000000000001},{"$f":"'Quantified Reductions'!I167","v":3942.8},0]
[null,"Baseline Scenario","Institutional","Other commercial A/C and heat pumps",null,null,{"$f":"'Quantified Reductions'!H168","v":"R-454B"},{"$f":"Operation!G120","v":0},{"$f":"Operation!I120","v":1.8},1000,{"$f":"Operation!M120","v":8.9599999999999999E-2},{"$f":"'Quantified Reductions'!I168","v":466.45300000000003},0]
[null,"Baseline Scenario","Industrial","Other commercial A/C and heat pumps",null,null,{"$f":"'Quantified Reductions'!H169","v":"R-454B"},{"$f":"Operation!G121","v":0},{"$f":"Operation!I121","v":0.3},1000,{"$f":"Operation!M121","v":8.9599999999999999E-2},{"$f":"'Quantified Reductions'!I169","v":466.45300000000003},0]
[]
[null,"Mitigation Scenario","Residential","Room A/C & Other residential A/C and heat pumps",null,null,{"$f":"'Quantified Reductions'!F165","v":""},{"$f":"H95","v":0},{"$f":"I95","v":2.25},1000,{"$f":"K95","v":8.6066666666666666E-2},{"$f":"'Quantified Reductions'!G165","v":0},{"$f":"(H101*I101/J101*K101*L101)","v":0}]
[null,"Mitigation Scenario","Commercial","Other commercial A/C and heat pumps",null,null,{"$f":"'Quantified Reductions'!F166","v":""},{"$f":"H96","v":0},1.8,1000,{"$f":"K96","v":8.9599999999999999E-2},{"$f":"'Quantified Reductions'!G166","v":0},0]
[null,"Mitigation Scenario","Institutional","Walk-in refrigerators and freezers",null,null,{"$f":"'Quantified Reductions'!F167","v":""},{"$f":"H97","v":0},0.4,1000,0.13450000000000001,{"$f":"'Quantified Reductions'!G167","v":0},0]
[null,"Mitigation Scenario","Institutional","Other commercial A/C and heat pumps",null,null,{"$f":"'Quantified Reductions'!F168","v":""},{"$f":"H98","v":0},1.8,1000,8.9599999999999999E-2,{"$f":"'Quantified Reductions'!G168","v":0},0]
[null,"Mitigation Scenario","Industrial","Other commercial A/C and heat pumps",null,null,{"$f":"'Quantified Reductions'!F169","v":""},{"$f":"H99","v":0},0.3,1000,8.9599999999999999E-2,{"$f":"'Quantified Reductions'!G169","v":0},0]
[]
[null,"Treatment of waste off-site"]
[]
[null,"Institute or Extend Recycling Services "]
[null,"Waste Treatment Practice","Waste Generated ","Percent of Waste","Unit Conversion","Emission Factor ","Unit Conversion","GHG Emissions "]
[null,null,"lbs/year",null,"lbs/ton","MTCO2e/ton","kg/MT","kgCO2e/year"]
[null,"Baseline Scenario",{"$f":"'Quantified Reductions'!B182","v":0},{"$f":"'Quantified Reductions'!F182","v":0},{"$f":"Constants!$F$11","v":2000},{"$f":"Assumptions!C419","v":0.57999999999999996},{"$f":"Constants!$F$7","v":1000},{"$f":"(D112*C112/E112*F112*G112)","v":0}]
[null,"Mitigation Scenario",{"$f":"'Quantified Reductions'!B182","v":0},{"$f":"'Quantified Reductions'!C182","v":0},{"$f":"Constants!$F$11","v":2000},{"$f":"Assumptions!C417","v":0.09},{"$f":"Constants!$F$7","v":1000},{"$f":"(D113*C113/E113*F113*G113)","v":0}]
[]
[null,"Implement Organics Diversion Program"]
[null,"Waste Treatment Practice","Waste Generated ","Percent of Waste","Unit Conversion","Emission Factor ","Unit Conversion","GHG Emissions "]
[null,null,"lbs/year",null,"lbs/ton","MTCO2e/ton","kg/MT","kgCO2e/year"]
[null,"Baseline Scenario",{"$f":"'Quantified Reductions'!B182","v":0},{"$f":"'Quantified Reductions'!C195","v":0},{"$f":"Constants!$F$11","v":2000},{"$f":"Assumptions!C419","v":0.57999999999999996},{"$f":"Constants!$F$7","v":1000},{"$f":"(D118*C118/E118*F118*G118)","v":0}]
[null,"Mitigation Scenario",{"$f":"'Quantified Reductions'!B182","v":0},{"$f":"'Quantified Reductions'!F195","v":0},{"$f":"Constants!$F$11","v":2000},{"$f":"Assumptions!C418","v":0.13},{"$f":"Constants!$F$7","v":1000},{"$f":"(D119*C119/E119*F119*G119)","v":0}]
[]
[null,"Manure management"]
[]
[null,"Require Best Management Practices for Manure Management "]
[]
[null,"Annual Methane Emissions"]
[null,"Scenario","Livestock Type","Population","Typical Animal Mass","Volatile Solids","Maximum CH4 producing capacity","Weighted Manure Methane Conversion Factor","Density of Methane at 25˚C","CH4 Emissions"]
[null,null,null,null,"kg/head","kg VS/kg animal mass/year","m3 CH4/kg VS","Percent","kg CH4/ m3 CH4","kg CH4/year"]
[null,"Baseline Scenario","Dairy heifers",{"$f":"D134","v":0},407,3.0835380835380835,0.17,{"$f":"Assumptions!$C$461","v":0.68333333333333324},{"$f":"I134","v":0.66200000000000003},{"$f":"D128*E128*F128*G128*H128*I128","v":0}]
[null,"Baseline Scenario","Dairy cows",0,680,4.1602941176470587,0.24,{"$f":"Assumptions!$C$461","v":0.68333333333333324},0.66200000000000003,0]
[null,"Baseline Scenario","Dairy calves",0,122.5,2.8104999999999998,0.17,{"$f":"Assumptions!$C$461","v":0.68333333333333324},0.66200000000000003,0]
[null,"Baseline Scenario","Swine, <55 lbs",0,13,3.2120000000000002,0.48,{"$f":"Assumptions!$C$461","v":0.68333333333333324},0.66200000000000003,0]
[null,"Baseline Scenario","Swine 55-330 lbs",0,41,1.9710000000000001,0.48,{"$f":"Assumptions!$C$461","v":0.68333333333333324},0.66200000000000003,0]
[null,"Baseline Scenario","Swine 330+ lbs",0,91,1.9710000000000001,0.48,{"$f":"Assumptions!$C$461","v":0.68333333333333324},0.66200000000000003,0]
[null,"Mitigation Scenario","Dairy heifers",{"$f":"Operation!C272","v":0},{"$f":"Operation!E272","v":407},{"$f":"Operation!G272","v":3.0835380835380835},{"$f":"Operation!I272","v":0.17},{"$f":"Operation!K272","v":0},{"$f":"Operation!M272","v":0.66200000000000003},0]
[null,"Mitigation Scenario","Dairy cows",{"$f":"Operation!C273","v":0},{"$f":"Operation!E273","v":680},{"$f":"Operation!G273","v":4.1602941176470587},{"$f":"Operation!I273","v":0.24},{"$f":"Operation!K273","v":0},{"$f":"Operation!M273","v":0.66200000000000003},0]
[null,"Mitigation Scenario","Dairy calves",{"$f":"Operation!C274","v":0},{"$f":"Operation!E274","v":122.5},{"$f":"Operation!G274","v":2.8104999999999998},{"$f":"Operation!I274","v":0.17},{"$f":"Operation!K274","v":0},{"$f":"Operation!M274","v":0.66200000000000003},0]
[null,"Mitigation Scenario","Swine, <55 lbs",{"$f":"Operation!C277","v":0},{"$f":"Operation!E277","v":13},{"$f":"Operation!G277","v":3.2120000000000002},{"$f":"Operation!I277","v":0.48},{"$f":"Operation!K277","v":0},{"$f":"Operation!M277","v":0.66200000000000003},0]
[null,"Mitigation Scenario","Swine 55-330 lbs",{"$f":"Operation!C278","v":0},{"$f":"Operation!E278","v":41},{"$f":"Operation!G278","v":1.9710000000000001},{"$f":"Operation!I278","v":0.48},{"$f":"Operation!K278","v":0},{"$f":"Operation!M278","v":0.66200000000000003},0]
[null,"Mitigation Scenario","Swine 330+ lbs",{"$f":"Operation!C279","v":0},{"$f":"Operation!E279","v":91},{"$f":"Operation!G279","v":1.9710000000000001},{"$f":"Operation!I279","v":0.48},{"$f":"Operation!K279","v":0},{"$f":"Operation!M279","v":0.66200000000000003},0]
[]
[null,"Annual Direct Nitrous Oxide Emissions - Managed Manure and Pasture"]
[null,"Scenario","Livestock Type","Population","Typical Animal Mass","Nitrogen Excretion Rate","Emission Factor ","Conversion Factor","Direct N2O Emissions  - Managed Manure and Pasture"]
[null,null,null,null,"kg/head","kg N/kg animal mass/year","kg N2O-N/kg N","N2O-N to N2O","kg N2O"]
[null,"Baseline Scenario","Dairy heifers",{"$f":"D134","v":0},{"$f":"IFERROR((INDEX(Assumptions!$B$439:$C$457,MATCH(C144,Assumptions!$B$439:$B$457,0),2)),\"\")","v":407},{"$f":"(INDEX(Assumptions!$B$439:$F$457,MATCH(C144,Assumptions!$B$439:$B$457,0),5))","v":0.16953316953316952},{"$f":"Assumptions!$D$461","v":0},{"$f":"Constants!$F$34","v":1.5714285714285714},{"$f":"D144*E144*F144*G144*H144","v":0}]
[null,"Baseline Scenario","Dairy cows",0,{"$f":"IFERROR((INDEX(Assumptions!$B$439:$C$457,MATCH(C145,Assumptions!$B$439:$B$457,0),2)),\"\")","v":680},{"$f":"(INDEX(Assumptions!$B$439:$F$457,MATCH(C145,Assumptions!$B$439:$B$457,0),5))","v":0.2323529411764706},{"$f":"Assumptions!$D$461","v":0},{"$f":"Constants!$F$34","v":1.5714285714285714},0]
[null,"Baseline Scenario","Dairy calves",0,{"$f":"IFERROR((INDEX(Assumptions!$B$439:$C$457,MATCH(C146,Assumptions!$B$439:$B$457,0),2)),\"\")","v":122.5},{"$f":"(INDEX(Assumptions!$B$439:$F$457,MATCH(C146,Assumptions!$B$439:$B$457,0),5))","v":0.16425000000000001},{"$f":"Assumptions!$D$461","v":0},{"$f":"Constants!$F$34","v":1.5714285714285714},0]
[null,"Baseline Scenario","Swine, <55 lbs",0,{"$f":"IFERROR((INDEX(Assumptions!$B$439:$C$457,MATCH(C147,Assumptions!$B$439:$B$457,0),2)),\"\")","v":13},{"$f":"(INDEX(Assumptions!$B$439:$F$457,MATCH(C147,Assumptions!$B$439:$B$457,0),5))","v":0.33579999999999999},{"$f":"Assumptions!$D$461","v":0},{"$f":"Constants!$F$34","v":1.5714285714285714},0]
[null,"Baseline Scenario","Swine 55-330 lbs",0,{"$f":"IFERROR((INDEX(Assumptions!$B$439:$C$457,MATCH(C148,Assumptions!$B$439:$B$457,0),2)),\"\")","v":41},{"$f":"(INDEX(Assumptions!$B$439:$F$457,MATCH(C148,Assumptions!$B$439:$B$457,0),5))","v":0.1971},{"$f":"Assumptions!$D$461","v":0},{"$f":"Constants!$F$34","v":1.5714285714285714},0]
[null,"Baseline Scenario","Swine 330+ lbs",0,{"$f":"IFERROR((INDEX(Assumptions!$B$439:$C$457,MATCH(C149,Assumptions!$B$439:$B$457,0),2)),\"\")","v":91},{"$f":"(INDEX(Assumptions!$B$439:$F$457,MATCH(C149,Assumptions!$B$439:$B$457,0),5))","v":0.1971},{"$f":"Assumptions!$D$461","v":0},{"$f":"Constants!$F$34","v":1.5714285714285714},0]
[null,"Mitigation Scenario","Dairy heifers",{"$f":"D144","v":0},{"$f":"IFERROR((INDEX(Assumptions!$B$439:$C$457,MATCH(C150,Assumptions!$B$439:$B$457,0),2)),\"\")","v":407},{"$f":"(INDEX(Assumptions!$B$439:$F$457,MATCH(C150,Assumptions!$B$439:$B$457,0),5))","v":0.16953316953316952},{"$f":"(('Quantified Reductions'!C208*Assumptions!$D$460)+('Quantified Reductions'!D208*Assumptions!$D$461)+('Quantified Reductions'!E208*Assumptions!$D$464)+('Quantified Reductions'!F208*Assumptions!$D$465)+('Quantified Reductions'!G208*Assumptions!$D$466)+('Quantified Reductions'!H208*Assumptions!$D$467)+('Quantified Reductions'!I208*Assumptions!$D$468)+('Quantified Reductions'!J208*Assumptions!$D$471))","v":0},{"$f":"Constants!$F$34","v":1.5714285714285714},0]
[null,"Mitigation Scenario","Dairy cows",0,{"$f":"IFERROR((INDEX(Assumptions!$B$439:$C$457,MATCH(C151,Assumptions!$B$439:$B$457,0),2)),\"\")","v":680},{"$f":"(INDEX(Assumptions!$B$439:$F$457,MATCH(C151,Assumptions!$B$439:$B$457,0),5))","v":0.2323529411764706},{"$f":"(('Quantified Reductions'!C209*Assumptions!$D$460)+('Quantified Reductions'!D209*Assumptions!$D$461)+('Quantified Reductions'!E209*Assumptions!$D$464)+('Quantified Reductions'!F209*Assumptions!$D$465)+('Quantified Reductions'!G209*Assumptions!$D$466)+('Quantified Reductions'!H209*Assumptions!$D$467)+('Quantified Reductions'!I209*Assumptions!$D$468)+('Quantified Reductions'!J209*Assumptions!$D$471))","v":0},{"$f":"Constants!$F$34","v":1.5714285714285714},0]
[null,"Mitigation Scenario","Dairy calves",0,{"$f":"IFERROR((INDEX(Assumptions!$B$439:$C$457,MATCH(C152,Assumptions!$B$439:$B$457,0),2)),\"\")","v":122.5},{"$f":"(INDEX(Assumptions!$B$439:$F$457,MATCH(C152,Assumptions!$B$439:$B$457,0),5))","v":0.16425000000000001},{"$f":"(('Quantified Reductions'!C210*Assumptions!$D$460)+('Quantified Reductions'!D210*Assumptions!$D$461)+('Quantified Reductions'!E210*Assumptions!$D$464)+('Quantified Reductions'!F210*Assumptions!$D$465)+('Quantified Reductions'!G210*Assumptions!$D$466)+('Quantified Reductions'!H210*Assumptions!$D$467)+('Quantified Reductions'!I210*Assumptions!$D$468)+('Quantified Reductions'!J210*Assumptions!$D$471))","v":0},{"$f":"Constants!$F$34","v":1.5714285714285714},0]
[null,"Mitigation Scenario","Swine, <55 lbs",0,{"$f":"IFERROR((INDEX(Assumptions!$B$439:$C$457,MATCH(C153,Assumptions!$B$439:$B$457,0),2)),\"\")","v":13},{"$f":"(INDEX(Assumptions!$B$439:$F$457,MATCH(C153,Assumptions!$B$439:$B$457,0),5))","v":0.33579999999999999},{"$f":"(('Quantified Reductions'!C215*Assumptions!$D$460)+('Quantified Reductions'!D215*Assumptions!$D$461)+('Quantified Reductions'!E215*Assumptions!$D$465)+('Quantified Reductions'!F215*Assumptions!$D$467)+('Quantified Reductions'!G215*Assumptions!$D$468)+('Quantified Reductions'!H215*Assumptions!$D$471))","v":0},{"$f":"Constants!$F$34","v":1.5714285714285714},0]
[null,"Mitigation Scenario","Swine 55-330 lbs",0,{"$f":"IFERROR((INDEX(Assumptions!$B$439:$C$457,MATCH(C154,Assumptions!$B$439:$B$457,0),2)),\"\")","v":41},{"$f":"(INDEX(Assumptions!$B$439:$F$457,MATCH(C154,Assumptions!$B$439:$B$457,0),5))","v":0.1971},{"$f":"(('Quantified Reductions'!C216*Assumptions!$D$460)+('Quantified Reductions'!D216*Assumptions!$D$461)+('Quantified Reductions'!E216*Assumptions!$D$465)+('Quantified Reductions'!F216*Assumptions!$D$467)+('Quantified Reductions'!G216*Assumptions!$D$468)+('Quantified Reductions'!H216*Assumptions!$D$471))","v":0},{"$f":"Constants!$F$34","v":1.5714285714285714},0]
[null,"Mitigation Scenario","Swine 330+ lbs",0,{"$f":"IFERROR((INDEX(Assumptions!$B$439:$C$457,MATCH(C155,Assumptions!$B$439:$B$457,0),2)),\"\")","v":91},{"$f":"(INDEX(Assumptions!$B$439:$F$457,MATCH(C155,Assumptions!$B$439:$B$457,0),5))","v":0.1971},{"$f":"(('Quantified Reductions'!C217*Assumptions!$D$460)+('Quantified Reductions'!D217*Assumptions!$D$461)+('Quantified Reductions'!E217*Assumptions!$D$465)+('Quantified Reductions'!F217*Assumptions!$D$467)+('Quantified Reductions'!G217*Assumptions!$D$468)+('Quantified Reductions'!H217*Assumptions!$D$471))","v":0},{"$f":"Constants!$F$34","v":1.5714285714285714},0]
[]
[null,"Annual Indirect Nitrous Oxide Emissions - Managed Manure and Pasture"]
[null,"Scenario","Livestock Type","Nitrogen Excreted","Nitrogen lost to Volatilization","Volatilization EF","Conversion Factor","Nitrogen Excreted","Nitrogen lost to runoff/leaching","Leaching and runoff EF","Conversion Factor","Indirect N2O Emissions  - Managed Manure and Pasture"]
[null,null,null,"kg N/year","%","kg N2O-N/kg N","N2O-N to N2O","kg N/year","Percent","kg N2O-N/kg N","N2O-N to N2O","kg N2O"]
[null,"Baseline Scenario","Dairy heifers",{"$f":"D144*E144*F144","v":0},{"$f":"Assumptions!$D$483","v":0.43},{"$f":"Assumptions!$C$477","v":0.01},{"$f":"Constants!$F$34","v":1.5714285714285714},{"$f":"D160","v":0},{"$f":"Assumptions!$D$499","v":4.0000000000000001E-3},{"$f":"Assumptions!$C$478","v":1.0999999999999999E-2},{"$f":"Constants!$F$34","v":1.5714285714285714},{"$f":"IFERROR(((D160*E160*F160*G160)+(H160*I160*J160*K160)),0)","v":0}]
[null,"Baseline Scenario","Dairy cows",0,{"$f":"Assumptions!$D$483","v":0.43},{"$f":"Assumptions!$C$477","v":0.01},{"$f":"Constants!$F$34","v":1.5714285714285714},0,{"$f":"Assumptions!$D$499","v":4.0000000000000001E-3},{"$f":"Assumptions!$C$478","v":1.0999999999999999E-2},{"$f":"Constants!$F$34","v":1.5714285714285714},0]
[null,"Baseline Scenario","Dairy calves",0,{"$f":"Assumptions!$D$483","v":0.43},{"$f":"Assumptions!$C$477","v":0.01},{"$f":"Constants!$F$34","v":1.5714285714285714},0,{"$f":"Assumptions!$D$499","v":4.0000000000000001E-3},{"$f":"Assumptions!$C$478","v":1.0999999999999999E-2},{"$f":"Constants!$F$34","v":1.5714285714285714},0]
[null,"Baseline Scenario","Swine, <55 lbs",0,{"$f":"Assumptions!$E$483","v":0.57999999999999996},{"$f":"Assumptions!$C$477","v":0.01},{"$f":"Constants!$F$34","v":1.5714285714285714},0,{"$f":"Assumptions!$E$499","v":4.0000000000000001E-3},{"$f":"Assumptions!$C$478","v":1.0999999999999999E-2},{"$f":"Constants!$F$34","v":1.5714285714285714},0]
[null,"Baseline Scenario","Swine 55-330 lbs",0,{"$f":"Assumptions!$E$483","v":0.57999999999999996},{"$f":"Assumptions!$C$477","v":0.01},{"$f":"Constants!$F$34","v":1.5714285714285714},0,{"$f":"Assumptions!$E$499","v":4.0000000000000001E-3},{"$f":"Assumptions!$C$478","v":1.0999999999999999E-2},{"$f":"Constants!$F$34","v":1.5714285714285714},0]
[null,"Baseline Scenario","Swine 330+ lbs",0,{"$f":"Assumptions!$E$483","v":0.57999999999999996},{"$f":"Assumptions!$C$477","v":0.01},{"$f":"Constants!$F$34","v":1.5714285714285714},0,{"$f":"Assumptions!$E$499","v":4.0000000000000001E-3},{"$f":"Assumptions!$C$478","v":1.0999999999999999E-2},{"$f":"Constants!$F$34","v":1.5714285714285714},0]
[null,"Mitigation Scenario","Dairy heifers",0,{"$f":"(('Quantified Reductions'!C208*Assumptions!$D$482)+('Quantified Reductions'!D208*Assumptions!$D$483)+('Quantified Reductions'!E208*Assumptions!$D$486)+('Quantified Reductions'!F208*Assumptions!$D$487)+('Quantified Reductions'!G208*Assumptions!$D$488)+('Quantified Reductions'!H208*Assumptions!$D$489)+('Quantified Reductions'!I208*Assumptions!$D$490)+('Quantified Reductions'!J208*Assumptions!$D$493))","v":0},{"$f":"Assumptions!$C$477","v":0.01},{"$f":"Constants!$F$34","v":1.5714285714285714},0,{"$f":"(('Quantified Reductions'!C208*Assumptions!$D$498)+('Quantified Reductions'!D208*Assumptions!$D$499)+('Quantified Reductions'!E208*Assumptions!$D$502)+('Quantified Reductions'!F208*Assumptions!$D$503)+('Quantified Reductions'!G208*Assumptions!$D$504)+('Quantified Reductions'!H208*Assumptions!$D$505)+('Quantified Reductions'!I208*Assumptions!$D$506)+('Quantified Reductions'!J208*Assumptions!$D$509))","v":0},{"$f":"Assumptions!$C$478","v":1.0999999999999999E-2},{"$f":"Constants!$F$34","v":1.5714285714285714},0]
[null,"Mitigation Scenario","Dairy cows",0,{"$f":"(('Quantified Reductions'!C209*Assumptions!$D$482)+('Quantified Reductions'!D209*Assumptions!$D$483)+('Quantified Reductions'!E209*Assumptions!$D$486)+('Quantified Reductions'!F209*Assumptions!$D$487)+('Quantified Reductions'!G209*Assumptions!$D$488)+('Quantified Reductions'!H209*Assumptions!$D$489)+('Quantified Reductions'!I209*Assumptions!$D$490)+('Quantified Reductions'!J209*Assumptions!$D$493))","v":0},{"$f":"Assumptions!$C$477","v":0.01},{"$f":"Constants!$F$34","v":1.5714285714285714},0,{"$f":"(('Quantified Reductions'!C209*Assumptions!$D$498)+('Quantified Reductions'!D209*Assumptions!$D$499)+('Quantified Reductions'!E209*Assumptions!$D$502)+('Quantified Reductions'!F209*Assumptions!$D$503)+('Quantified Reductions'!G209*Assumptions!$D$504)+('Quantified Reductions'!H209*Assumptions!$D$505)+('Quantified Reductions'!I209*Assumptions!$D$506)+('Quantified Reductions'!J209*Assumptions!$D$509))","v":0},{"$f":"Assumptions!$C$478","v":1.0999999999999999E-2},{"$f":"Constants!$F$34","v":1.5714285714285714},0]
[null,"Mitigation Scenario","Dairy calves",0,{"$f":"(('Quantified Reductions'!C210*Assumptions!$D$482)+('Quantified Reductions'!D210*Assumptions!$D$483)+('Quantified Reductions'!E210*Assumptions!$D$486)+('Quantified Reductions'!F210*Assumptions!$D$487)+('Quantified Reductions'!G210*Assumptions!$D$488)+('Quantified Reductions'!H210*Assumptions!$D$489)+('Quantified Reductions'!I210*Assumptions!$D$490)+('Quantified Reductions'!J210*Assumptions!$D$493))","v":0},{"$f":"Assumptions!$C$477","v":0.01},{"$f":"Constants!$F$34","v":1.5714285714285714},0,{"$f":"(('Quantified Reductions'!C210*Assumptions!$D$498)+('Quantified Reductions'!D210*Assumptions!$D$499)+('Quantified Reductions'!E210*Assumptions!$D$502)+('Quantified Reductions'!F210*Assumptions!$D$503)+('Quantified Reductions'!G210*Assumptions!$D$504)+('Quantified Reductions'!H210*Assumptions!$D$505)+('Quantified Reductions'!I210*Assumptions!$D$506)+('Quantified Reductions'!J210*Assumptions!$D$509))","v":0},{"$f":"Assumptions!$C$478","v":1.0999999999999999E-2},{"$f":"Constants!$F$34","v":1.5714285714285714},0]
[null,"Mitigation Scenario","Swine, <55 lbs",0,{"$f":"(('Quantified Reductions'!C215*Assumptions!$E$482)+('Quantified Reductions'!D215*Assumptions!$E$483)+('Quantified Reductions'!E215*Assumptions!$E$487)+('Quantified Reductions'!F215*Assumptions!$E$489)+('Quantified Reductions'!G215*Assumptions!$E$490)+('Quantified Reductions'!H215*Assumptions!$E$493))","v":0},{"$f":"Assumptions!$C$477","v":0.01},{"$f":"Constants!$F$34","v":1.5714285714285714},0,{"$f":"(('Quantified Reductions'!C215*Assumptions!$E$498)+('Quantified Reductions'!D215*Assumptions!$E$499)+('Quantified Reductions'!E215*Assumptions!$E$503)+('Quantified Reductions'!F215*Assumptions!$E$505)+('Quantified Reductions'!G215*Assumptions!$E$506)+('Quantified Reductions'!H215*Assumptions!$E$509))","v":0},{"$f":"Assumptions!$C$478","v":1.0999999999999999E-2},{"$f":"Constants!$F$34","v":1.5714285714285714},0]
[null,"Mitigation Scenario","Swine 55-330 lbs",0,{"$f":"(('Quantified Reductions'!C216*Assumptions!$E$482)+('Quantified Reductions'!D216*Assumptions!$E$483)+('Quantified Reductions'!E216*Assumptions!$E$487)+('Quantified Reductions'!F216*Assumptions!$E$489)+('Quantified Reductions'!G216*Assumptions!$E$490)+('Quantified Reductions'!H216*Assumptions!$E$493))","v":0},{"$f":"Assumptions!$C$477","v":0.01},{"$f":"Constants!$F$34","v":1.5714285714285714},0,{"$f":"(('Quantified Reductions'!C216*Assumptions!$E$498)+('Quantified Reductions'!D216*Assumptions!$E$499)+('Quantified Reductions'!E216*Assumptions!$E$503)+('Quantified Reductions'!F216*Assumptions!$E$505)+('Quantified Reductions'!G216*Assumptions!$E$506)+('Quantified Reductions'!H216*Assumptions!$E$509))","v":0},{"$f":"Assumptions!$C$478","v":1.0999999999999999E-2},{"$f":"Constants!$F$34","v":1.5714285714285714},0]
[null,"Mitigation Scenario","Swine 330+ lbs",0,{"$f":"(('Quantified Reductions'!C217*Assumptions!$E$482)+('Quantified Reductions'!D217*Assumptions!$E$483)+('Quantified Reductions'!E217*Assumptions!$E$487)+('Quantified Reductions'!F217*Assumptions!$E$489)+('Quantified Reductions'!G217*Assumptions!$E$490)+('Quantified Reductions'!H217*Assumptions!$E$493))","v":0},{"$f":"Assumptions!$C$477","v":0.01},{"$f":"Constants!$F$34","v":1.5714285714285714},0,{"$f":"(('Quantified Reductions'!C217*Assumptions!$E$498)+('Quantified Reductions'!D217*Assumptions!$E$499)+('Quantified Reductions'!E217*Assumptions!$E$503)+('Quantified Reductions'!F217*Assumptions!$E$505)+('Quantified Reductions'!G217*Assumptions!$E$506)+('Quantified Reductions'!H217*Assumptions!$E$509))","v":0},{"$f":"Assumptions!$C$478","v":1.0999999999999999E-2},{"$f":"Constants!$F$34","v":1.5714285714285714},0]
[]
[null,"Annual Direct Nitrous Oxide Emissions - Land Application"]
[null,"Scenario","Livestock Type","Nitrogen Excreted","Proportion N Remaining in Manure","Manure Applied to Land as Fertilizer","Emission Factor ","Conversion Factor","Direct N2O Emissions - Land Application"]
[null,null,null,"kg N/year","%","%","kg N2O-N/kg N","N2O-N to N2O","kg N2O"]
[null,"Baseline Scenario","Dairy heifers",{"$f":"D160","v":0},{"$f":"1-(G144+E160+I160)","v":0.56600000000000006},{"$f":"'User Inputs'!$H$307","v":0},{"$f":"Assumptions!$C$474","v":0.01},{"$f":"Constants!$F$34","v":1.5714285714285714},{"$f":"D176*E176*F176*G176*H176","v":0}]
[null,"Baseline Scenario","Dairy cows",0,0.56600000000000006,{"$f":"'User Inputs'!$H$307","v":0},{"$f":"Assumptions!$C$474","v":0.01},{"$f":"Constants!$F$34","v":1.5714285714285714},0]
[null,"Baseline Scenario","Dairy calves",0,0.56600000000000006,{"$f":"'User Inputs'!$H$307","v":0},{"$f":"Assumptions!$C$474","v":0.01},{"$f":"Constants!$F$34","v":1.5714285714285714},0]
[null,"Baseline Scenario","Swine, <55 lbs",0,0.41600000000000004,{"$f":"'User Inputs'!$H$307","v":0},{"$f":"Assumptions!$C$474","v":0.01},{"$f":"Constants!$F$34","v":1.5714285714285714},0]
[null,"Baseline Scenario","Swine 55-330 lbs",0,0.41600000000000004,{"$f":"'User Inputs'!$H$307","v":0},{"$f":"Assumptions!$C$474","v":0.01},{"$f":"Constants!$F$34","v":1.5714285714285714},0]
[null,"Baseline Scenario","Swine 330+ lbs",0,0.41600000000000004,{"$f":"'User Inputs'!$H$307","v":0},{"$f":"Assumptions!$C$474","v":0.01},{"$f":"Constants!$F$34","v":1.5714285714285714},0]
[null,"Mitigation Scenario","Dairy heifers",0,1,{"$f":"'User Inputs'!$H$307","v":0},{"$f":"Assumptions!$C$474","v":0.01},{"$f":"Constants!$F$34","v":1.5714285714285714},0]
[null,"Mitigation Scenario","Dairy cows",0,1,{"$f":"'User Inputs'!$H$307","v":0},{"$f":"Assumptions!$C$474","v":0.01},{"$f":"Constants!$F$34","v":1.5714285714285714},0]
[null,"Mitigation Scenario","Dairy calves",0,1,{"$f":"'User Inputs'!$H$307","v":0},{"$f":"Assumptions!$C$474","v":0.01},{"$f":"Constants!$F$34","v":1.5714285714285714},0]
[null,"Mitigation Scenario","Swine, <55 lbs",0,1,{"$f":"'User Inputs'!$H$307","v":0},{"$f":"Assumptions!$C$474","v":0.01},{"$f":"Constants!$F$34","v":1.5714285714285714},0]
[null,"Mitigation Scenario","Swine 55-330 lbs",0,1,{"$f":"'User Inputs'!$H$307","v":0},{"$f":"Assumptions!$C$474","v":0.01},{"$f":"Constants!$F$34","v":1.5714285714285714},0]
[null,"Mitigation Scenario","Swine 330+ lbs",0,1,{"$f":"'User Inputs'!$H$307","v":0},{"$f":"Assumptions!$C$474","v":0.01},{"$f":"Constants!$F$34","v":1.5714285714285714},0]
[]
[null,"Annual Indirect Nitrous Oxide Emissions - Land Application"]
[null,"Scenario","Livestock Type","Nitrogen Excreted","Proportion N Remaining in Manure","Manure Applied to Land as Fertilizer","Nitrogen lost to Volatilization","Volatilization EF","Nitrogen Excreted","Proportion N Remaining in Manure","Manure Applied to Land as Fertilizer","Nitrogen lost to runoff/leaching","Leaching and runoff EF","Conversion Factor","Indirect N2O Emissions - Land Application"]
[null,null,null,"kg N/year","%","%","Percent","kg N2O-N/kg N","kg N/year","%","%","Percent","kg N2O-N/kg N","N2O-N to N2O","kg N2O"]
[null,"Baseline Scenario","Dairy heifers",{"$f":"D176","v":0},0.56600000000000006,{"$f":"'User Inputs'!$H$307","v":0},{"$f":"Assumptions!$D$477","v":0.21},{"$f":"Assumptions!$C$477","v":0.01},{"$f":"D192","v":0},{"$f":"E176","v":0.56600000000000006},{"$f":"'User Inputs'!$H$307","v":0},{"$f":"Assumptions!$D$478","v":0.24},{"$f":"Assumptions!$C$478","v":1.0999999999999999E-2},{"$f":"Constants!$F$34","v":1.5714285714285714},{"$f":"IFERROR(((D192*E192*F192*G192*H192)+(I192*J192*K192*L192*M192))*N192,0)","v":0}]
[null,"Baseline Scenario","Dairy cows",0,0.56600000000000006,{"$f":"'User Inputs'!$H$307","v":0},{"$f":"Assumptions!$D$477","v":0.21},{"$f":"Assumptions!$C$477","v":0.01},0,0.56600000000000006,{"$f":"'User Inputs'!$H$307","v":0},{"$f":"Assumptions!$D$478","v":0.24},{"$f":"Assumptions!$C$478","v":1.0999999999999999E-2},{"$f":"Constants!$F$34","v":1.5714285714285714},0]
[null,"Baseline Scenario","Dairy calves",0,0.56600000000000006,{"$f":"'User Inputs'!$H$307","v":0},{"$f":"Assumptions!$D$477","v":0.21},{"$f":"Assumptions!$C$477","v":0.01},0,0.56600000000000006,{"$f":"'User Inputs'!$H$307","v":0},{"$f":"Assumptions!$D$478","v":0.24},{"$f":"Assumptions!$C$478","v":1.0999999999999999E-2},{"$f":"Constants!$F$34","v":1.5714285714285714},0]
[null,"Baseline Scenario","Swine, <55 lbs",0,0.41600000000000004,{"$f":"'User Inputs'!$H$307","v":0},{"$f":"Assumptions!$D$477","v":0.21},{"$f":"Assumptions!$C$477","v":0.01},0,0.41600000000000004,{"$f":"'User Inputs'!$H$307","v":0},{"$f":"Assumptions!$D$478","v":0.24},{"$f":"Assumptions!$C$478","v":1.0999999999999999E-2},{"$f":"Constants!$F$34","v":1.5714285714285714},0]
[null,"Baseline Scenario","Swine 55-330 lbs",0,0.41600000000000004,{"$f":"'User Inputs'!$H$307","v":0},{"$f":"Assumptions!$D$477","v":0.21},{"$f":"Assumptions!$C$477","v":0.01},0,0.41600000000000004,{"$f":"'User Inputs'!$H$307","v":0},{"$f":"Assumptions!$D$478","v":0.24},{"$f":"Assumptions!$C$478","v":1.0999999999999999E-2},{"$f":"Constants!$F$34","v":1.5714285714285714},0]
[null,"Baseline Scenario","Swine 330+ lbs",0,0.41600000000000004,{"$f":"'User Inputs'!$H$307","v":0},{"$f":"Assumptions!$D$477","v":0.21},{"$f":"Assumptions!$C$477","v":0.01},0,0.41600000000000004,{"$f":"'User Inputs'!$H$307","v":0},{"$f":"Assumptions!$D$478","v":0.24},{"$f":"Assumptions!$C$478","v":1.0999999999999999E-2},{"$f":"Constants!$F$34","v":1.5714285714285714},0]
[null,"Mitigation Scenario","Dairy heifers",0,1,{"$f":"'User Inputs'!$H$307","v":0},{"$f":"Assumptions!$D$477","v":0.21},{"$f":"Assumptions!$C$477","v":0.01},0,1,{"$f":"'User Inputs'!$H$307","v":0},{"$f":"Assumptions!$D$478","v":0.24},{"$f":"Assumptions!$C$478","v":1.0999999999999999E-2},{"$f":"Constants!$F$34","v":1.5714285714285714},0]
[null,"Mitigation Scenario","Dairy cows",0,1,{"$f":"'User Inputs'!$H$307","v":0},{"$f":"Assumptions!$D$477","v":0.21},{"$f":"Assumptions!$C$477","v":0.01},0,1,{"$f":"'User Inputs'!$H$307","v":0},{"$f":"Assumptions!$D$478","v":0.24},{"$f":"Assumptions!$C$478","v":1.0999999999999999E-2},{"$f":"Constants!$F$34","v":1.5714285714285714},0]
[null,"Mitigation Scenario","Dairy calves",0,1,{"$f":"'User Inputs'!$H$307","v":0},{"$f":"Assumptions!$D$477","v":0.21},{"$f":"Assumptions!$C$477","v":0.01},0,1,{"$f":"'User Inputs'!$H$307","v":0},{"$f":"Assumptions!$D$478","v":0.24},{"$f":"Assumptions!$C$478","v":1.0999999999999999E-2},{"$f":"Constants!$F$34","v":1.5714285714285714},0]
[null,"Mitigation Scenario","Swine, <55 lbs",0,1,{"$f":"'User Inputs'!$H$307","v":0},{"$f":"Assumptions!$D$477","v":0.21},{"$f":"Assumptions!$C$477","v":0.01},0,1,{"$f":"'User Inputs'!$H$307","v":0},{"$f":"Assumptions!$D$478","v":0.24},{"$f":"Assumptions!$C$478","v":1.0999999999999999E-2},{"$f":"Constants!$F$34","v":1.5714285714285714},0]
[null,"Mitigation Scenario","Swine 55-330 lbs",0,1,{"$f":"'User Inputs'!$H$307","v":0},{"$f":"Assumptions!$D$477","v":0.21},{"$f":"Assumptions!$C$477","v":0.01},0,1,{"$f":"'User Inputs'!$H$307","v":0},{"$f":"Assumptions!$D$478","v":0.24},{"$f":"Assumptions!$C$478","v":1.0999999999999999E-2},{"$f":"Constants!$F$34","v":1.5714285714285714},0]
[null,"Mitigation Scenario","Swine 330+ lbs",0,1,{"$f":"'User Inputs'!$H$307","v":0},{"$f":"Assumptions!$D$477","v":0.21},{"$f":"Assumptions!$C$477","v":0.01},0,1,{"$f":"'User Inputs'!$H$307","v":0},{"$f":"Assumptions!$D$478","v":0.24},{"$f":"Assumptions!$C$478","v":1.0999999999999999E-2},{"$f":"Constants!$F$34","v":1.5714285714285714},0]
[]
[null,"Total Annual Emissions from Manure Management, Manure Deposited onto Pasture, and Manure Land Application"]
[null,"Scenario","Animal Type","CH4 Emissions","CH4 GWP","Direct N2O Emissions - Managed Manure and Pasture","Indirect N2O Emissions - Managed Manure and Pasture","Direct N2O Emissions - Land Application","Indirect N2O Emissions - Land Application","N2O GWP","GHG Emissions"]
[null,null,null,"kg CH4",null,"kg N2O","kg N2O","kg N2O","kg N2O",null,"kgCO2e/year"]
[null,"Baseline Scenario","Total Dairy Cattle",{"$f":"SUM(J128:J130)","v":0},{"$f":"Constants!$I$7","v":28},{"$f":"SUM(I144:I146)","v":0},{"$f":"SUM(L160:L162)","v":0},{"$f":"SUM(I176:I178)","v":0},{"$f":"SUM(O192:O194)","v":0},{"$f":"Constants!$I$8","v":265},{"$f":"(D208*E208)+((F208+G208+H208+I208)*J208)","v":0}]
[null,"Baseline Scenario","Total Swine",{"$f":"SUM(J131:J133)","v":0},{"$f":"Constants!$I$7","v":28},{"$f":"SUM(I147:I149)","v":0},{"$f":"SUM(L163:L165)","v":0},{"$f":"SUM(I179:I181)","v":0},{"$f":"SUM(O195:O197)","v":0},{"$f":"Constants!$I$8","v":265},{"$f":"(D209*E209)+((F209+G209+H209+I209)*J209)","v":0}]
[null,"Mitigation Scenario","Total Dairy Cattle",{"$f":"SUM(J134:J136)","v":0},{"$f":"Constants!$I$7","v":28},{"$f":"SUM(I150:I152)","v":0},{"$f":"SUM(L166:L168)","v":0},{"$f":"SUM(I182:I184)","v":0},{"$f":"SUM(O198:O200)","v":0},{"$f":"Constants!$I$8","v":265},{"$f":"(D210*E210)+((F210+G210+H210+I210)*J210)","v":0}]
[null,"Mitigation Scenario","Total Swine",{"$f":"SUM(J137:J139)","v":0},{"$f":"Constants!$I$7","v":28},{"$f":"SUM(I153:I155)","v":0},{"$f":"SUM(L169:L171)","v":0},{"$f":"SUM(I185:I187)","v":0},{"$f":"SUM(O201:O203)","v":0},{"$f":"Constants!$I$8","v":265},{"$f":"(D211*E211)+((F211+G211+H211+I211)*J211)","v":0}]

{"sheet":"Adaptation","index":13,"n_rows":71,"n_cols":40,"rows_kept":71,"cut":false,"hidden":false,"merged":[[15,5,15,17],[15,18,15,39],[2,1,2,4],[4,1,4,3],[5,1,5,3],[6,1,6,3],[7,1,7,3],[8,1,8,3],[9,1,9,3]]}
[null,"Adaptation Strategies (Step 6)"]
[]
[null,"Use the checkboxes below to identify adaptation strategies relevant to selected climate trends and project characteristics. The list of adapation strategies will filter to show strategies that align with both the climate trends and project characteristics selected. Ensure Macros are enabled for filters to work (see the User Guide tab for instructions on enabling macros). Use the column on the far left to select strategies you plan to implement as part of your proposed project. Select Generate PDF button once you've made your desired selections.",null,null,null,null,"HIDE THESE TABLES ->",null,null,"Characterization","Selected?"]
[null,"Step 1: Select Climate Trends",null,null,"Step 2: Select Project Characteristics","1A","Heavier, more damaging rain",true,"2A","(1) Hazardous Waste",true]
[null,"Heavier, more damaging rain",null,null,"Hazardous waste","1B","Average annual precipitation increasing",true,"2B","(2) Critical infrastructure",true]
[null,"Average annual precipitation increasing",null,null,"Agriculture","1C","Average annual temperature increasing",true,"2C","(3) Subsurface infrastructure",true]
[null,"Average annual temperature increasing ",null,null,"Livestock","1D","Increasing risk of heatwaves",true,"2D","(4) Increased impervious surface",true]
[null,"Increasing risk of extreme heat and heatwaves ",null,null,"Critical infrastructure","1E","Early thawing (cold weather warming)",true,"2E","(5) New, expanded, or rebuilt transportation route",true]
[null,"Early thawing (cold weather warming) ",null,null,"Waste management","1F","Increasing risk of drought",true,"2F","(6) Livestock",true]
[null,"Increasing risk of drought",null,null,"New or upgraded buildings",null,null,null,"2G","(7) Agriculture",true]
[null,null,null,null,"Subsurface infrastructure",null,null,null,"2H","(8) New or upgraded buildings",true]
[null,null,null,null,"Water management",null,null,null,"2I","(9) Waste management",true]
[null,null,null,null,"Construction",null,null,null,"2J","(10) Water management",true]
[null,null,null,null,"Increased impervious surface",null,null,null,"2K","(11) Construction",true]
[null,null,null,null,"New, expanded, or rebuilt transportation route"]
[null,null,null,null,null,"Trends",null,null,null,null,null,null,null,null,null,null,null,null,"Characterization"]
[null,"Selection","ID","Adaptation Strategies","Additional Information","Include?","1A","YN","1B","YN2","1C","YN3","1D","YN4","1E","YN5","1F","YN6","2A","YN7","2B","YN8","2C","YN9","2D","YN10","2E","YN11","2F","YN12","2G","YN13","2H","YN14","2I","YN15","2J","YN16","2K","YN17"]
[null,null,"S-1A-01","Clear floodplains and other areas subject to flooding of hazardous contaminants in advance of a flood event from extreme precipitation.","Develop a coordination plan to clear hazardous contaminants ahead of and/or after a flood event.",{"$f":"IF(AND(COUNTIF(Table1[[#This Row],[1A]:[YN6]], \"Yes\") > 0,COUNTIF(Table1[[#This Row],[2A]:[YN17]], \"Yes\") > 0), \"Yes\", \"No\")","v":"Yes"},"X",{"$f":"IF(AND(Table1[[#This Row],[1A]]=\"X\",Adaptation!$H$4=TRUE),\"Yes\",\"No\")","v":"Yes"},null,{"$f":"IF(AND(Table1[[#This Row],[1B]]=\"X\",Adaptation!$H$5=TRUE),\"Yes\",\"No\")","v":"No"},null,{"$f":"IF(AND(Table1[[#This Row],[1C]]=\"X\",Adaptation!$H$6=TRUE),\"Yes\",\"No\")","v":"No"},null,{"$f":"IF(AND(Table1[[#This Row],[1D]]=\"X\",Adaptation!$H$7=TRUE),\"Yes\",\"No\")","v":"No"},null,{"$f":"IF(AND(Table1[[#This Row],[1E]]=\"X\",Adaptation!$H$8=TRUE),\"Yes\",\"No\")","v":"No"},null,{"$f":"IF(AND(Table1[[#This Row],[1F]]=\"X\",Adaptation!$H$9=TRUE),\"Yes\",\"No\")","v":"No"},"X",{"$f":"IF(AND(Table1[[#This Row],[2A]]=\"X\",$K$4=TRUE),\"Yes\",\"No\")","v":"Yes"},null,{"$f":"IF(AND(Table1[[#This Row],[2B]]=\"X\",$K$5=TRUE),\"Yes\",\"No\")","v":"No"},null,{"$f":"IF(AND(Table1[[#This Row],[2C]]=\"X\",$K$6=TRUE),\"Yes\",\"No\")","v":"No"},null,{"$f":"IF(AND(Table1[[#This Row],[2D]]=\"X\",$K$7=TRUE),\"Yes\",\"No\")","v":"No"},null,{"$f":"IF(AND(Table1[[#This Row],[2E]]=\"X\",$K$8=TRUE),\"Yes\",\"No\")","v":"No"},null,{"$f":"IF(AND(Table1[[#This Row],[2F]]=\"X\",$K$9=TRUE),\"Yes\",\"No\")","v":"No"},null,{"$f":"IF(AND(Table1[[#This Row],[2G]]=\"X\",$K$10=TRUE),\"Yes\",\"No\")","v":"No"},null,{"$f":"IF(AND(Table1[[#This Row],[2H]]=\"X\",$K$11=TRUE),\"Yes\",\"No\")","v":"No"},null,{"$f":"IF(AND(Table1[[#This Row],[2I]]=\"X\",$K$12=TRUE),\"Yes\",\"No\")","v":"No"},null,{"$f":"IF(AND(Table1[[#This Row],[2J]]=\"X\",$K$13=TRUE),\"Yes\",\"No\")","v":"No"},null,{"$f":"IF(AND(Table1[[#This Row],[2K]]=\"X\",$K$14=TRUE),\"Yes\",\"No\")","v":"No"}]
[null,null,"S-1A-02","Conduct ongoing and pre-event stormwater infrastructure maintenance.","Clean out the storm drains and culverts; Ensure that all maintenance equipment are readily available and working for extreme events (e.g., generators).",{"$f":"IF(AND(COUNTIF(Table1[[#This Row],[1A]:[YN6]], \"Yes\") > 0,COUNTIF(Table1[[#This Row],[2A]:[YN17]], \"Yes\") > 0), \"Yes\", \"No\")","v":"Yes"},"X",{"$f":"IF(AND(Table1[[#This Row],[1A]]=\"X\",Adaptation!$H$4=TRUE),\"Yes\",\"No\")","v":"Yes"},"X",{"$f":"IF(AND(Table1[[#This Row],[1B]]=\"X\",Adaptation!$H$5=TRUE),\"Yes\",\"No\")","v":"Yes"},null,{"$f":"IF(AND(Table1[[#This Row],[1C]]=\"X\",Adaptation!$H$6=TRUE),\"Yes\",\"No\")","v":"No"},null,{"$f":"IF(AND(Table1[[#This Row],[1D]]=\"X\",Adaptation!$H$7=TRUE),\"Yes\",\"No\")","v":"No"},null,{"$f":"IF(AND(Table1[[#This Row],[1E]]=\"X\",Adaptation!$H$8=TRUE),\"Yes\",\"No\")","v":"No"},null,{"$f":"IF(AND(Table1[[#This Row],[1F]]=\"X\",Adaptation!$H$9=TRUE),\"Yes\",\"No\")","v":"No"},null,{"$f":"IF(AND(Table1[[#This Row],[2A]]=\"X\",$K$4=TRUE),\"Yes\",\"No\")","v":"No"},"X",{"$f":"IF(AND(Table1[[#This Row],[2B]]=\"X\",$K$5=TRUE),\"Yes\",\"No\")","v":"Yes"},null,{"$f":"IF(AND(Table1[[#This Row],[2C]]=\"X\",$K$6=TRUE),\"Yes\",\"No\")","v":"No"},"X",{"$f":"IF(AND(Table1[[#This Row],[2D]]=\"X\",$K$7=TRUE),\"Yes\",\"No\")","v":"Yes"},"X",{"$f":"IF(AND(Table1[[#This Row],[2E]]=\"X\",$K$8=TRUE),\"Yes\",\"No\")","v":"Yes"},null,{"$f":"IF(AND(Table1[[#This Row],[2F]]=\"X\",$K$9=TRUE),\"Yes\",\"No\")","v":"No"},null,{"$f":"IF(AND(Table1[[#This Row],[2G]]=\"X\",$K$10=TRUE),\"Yes\",\"No\")","v":"No"},"X",{"$f":"IF(AND(Table1[[#This Row],[2H]]=\"X\",$K$11=TRUE),\"Yes\",\"No\")","v":"Yes"},"X",{"$f":"IF(AND(Table1[[#This Row],[2I]]=\"X\",$K$12=TRUE),\"Yes\",\"No\")","v":"Yes"},"X",{"$f":"IF(AND(Table1[[#This Row],[2J]]=\"X\",$K$13=TRUE),\"Yes\",\"No\")","v":"Yes"},"X",{"$f":"IF(AND(Table1[[#This Row],[2K]]=\"X\",$K$14=TRUE),\"Yes\",\"No\")","v":"Yes"}]
[null,null,"S-1A-03","Consider and adjust to changes in agricultural pests, due to increased precipitation, including the distribution and prevalence of flood-tolerant pests, and/or increased temperatures. ","Monitor changes in distribution/prevalence of pests in the region; utilize plant selection / rotational strategies to address pests.",{"$f":"IF(AND(COUNTIF(Table1[[#This Row],[1A]:[YN6]], \"Yes\") > 0,COUNTIF(Table1[[#This Row],[2A]:[YN17]], \"Yes\") > 0), \"Yes\", \"No\")","v":"Yes"},"X",{"$f":"IF(AND(Table1[[#This Row],[1A]]=\"X\",Adaptation!$H$4=TRUE),\"Yes\",\"No\")","v":"Yes"},"X",{"$f":"IF(AND(Table1[[#This Row],[1B]]=\"X\",Adaptation!$H$5=TRUE),\"Yes\",\"No\")","v":"Yes"},null,{"$f":"IF(AND(Table1[[#This Row],[1C]]=\"X\",Adaptation!$H$6=TRUE),\"Yes\",\"No\")","v":"No"},null,{"$f":"IF(AND(Table1[[#This Row],[1D]]=\"X\",Adaptation!$H$7=TRUE),\"Yes\",\"No\")","v":"No"},null,{"$f":"IF(AND(Table1[[#This Row],[1E]]=\"X\",Adaptation!$H$8=TRUE),\"Yes\",\"No\")","v":"No"},null,{"$f":"IF(AND(Table1[[#This Row],[1F]]=\"X\",Adaptation!$H$9=TRUE),\"Yes\",\"No\")","v":"No"},null,{"$f":"IF(AND(Table1[[#This Row],[2A]]=\"X\",$K$4=TRUE),\"Yes\",\"No\")","v":"No"},null,{"$f":"IF(AND(Table1[[#This Row],[2B]]=\"X\",$K$5=TRUE),\"Yes\",\"No\")","v":"No"},null,{"$f":"IF(AND(Table1[[#This Row],[2C]]=\"X\",$K$6=TRUE),\"Yes\",\"No\")","v":"No"},null,{"$f":"IF(AND(Table1[[#This Row],[2D]]=\"X\",$K$7=TRUE),\"Yes\",\"No\")","v":"No"},null,{"$f":"IF(AND(Table1[[#This Row],[2E]]=\"X\",$K$8=TRUE),\"Yes\",\"No\")","v":"No"},null,{"$f":"IF(AND(Table1[[#This Row],[2F]]=\"X\",$K$9=TRUE),\"Yes\",\"No\")","v":"No"},"X",{"$f":"IF(AND(Table1[[#This Row],[2G]]=\"X\",$K$10=TRUE),\"Yes\",\"No\")","v":"Yes"},null,{"$f":"IF(AND(Table1[[#This Row],[2H]]=\"X\",$K$11=TRUE),\"Yes\",\"No\")","v":"No"},null,{"$f":"IF(AND(Table1[[#This Row],[2I]]=\"X\",$K$12=TRUE),\"Yes\",\"No\")","v":"No"},null,{"$f":"IF(AND(Table1[[#This Row],[2J]]=\"X\",$K$13=TRUE),\"Yes\",\"No\")","v":"No"},null,{"$f":"IF(AND(Table1[[#This Row],[2K]]=\"X\",$K$14=TRUE),\"Yes\",\"No\")","v":"No"}]
[null,null,"S-1A-04","Consider and adopt soil health best practices to address increased precipitation, including flood-affected cropping patterns, and/or increased temperatures.","Plant cover crops; Plant more deep-rooted plants; Adopt no tillage approach or alter tiling to reduce erosion. ",{"$f":"IF(AND(COUNTIF(Table1[[#This Row],[1A]:[YN6]], \"Yes\") > 0,COUNTIF(Table1[[#This Row],[2A]:[YN17]], \"Yes\") > 0), \"Yes\", \"No\")","v":"Yes"},"X",{"$f":"IF(AND(Table1[[#This Row],[1A]]=\"X\",Adaptation!$H$4=TRUE),\"Yes\",\"No\")","v":"Yes"},"X",{"$f":"IF(AND(Table1[[#This Row],[1B]]=\"X\",Adaptation!$H$5=TRUE),\"Yes\",\"No\")","v":"Yes"},"X",{"$f":"IF(AND(Table1[[#This Row],[1C]]=\"X\",Adaptation!$H$6=TRUE),\"Yes\",\"No\")","v":"Yes"},"X",{"$f":"IF(AND(Table1[[#This Row],[1D]]=\"X\",Adaptation!$H$7=TRUE),\"Yes\",\"No\")","v":"Yes"},null,{"$f":"IF(AND(Table1[[#This Row],[1E]]=\"X\",Adaptation!$H$8=TRUE),\"Yes\",\"No\")","v":"No"},null,{"$f":"IF(AND(Table1[[#This Row],[1F]]=\"X\",Adaptation!$H$9=TRUE),\"Yes\",\"No\")","v":"No"},null,{"$f":"IF(AND(Table1[[#This Row],[2A]]=\"X\",$K$4=TRUE),\"Yes\",\"No\")","v":"No"},null,{"$f":"IF(AND(Table1[[#This Row],[2B]]=\"X\",$K$5=TRUE),\"Yes\",\"No\")","v":"No"},null,{"$f":"IF(AND(Table1[[#This Row],[2C]]=\"X\",$K$6=TRUE),\"Yes\",\"No\")","v":"No"},null,{"$f":"IF(AND(Table1[[#This Row],[2D]]=\"X\",$K$7=TRUE),\"Yes\",\"No\")","v":"No"},null,{"$f":"IF(AND(Table1[[#This Row],[2E]]=\"X\",$K$8=TRUE),\"Yes\",\"No\")","v":"No"},null,{"$f":"IF(AND(Table1[[#This Row],[2F]]=\"X\",$K$9=TRUE),\"Yes\",\"No\")","v":"No"},"X",{"$f":"IF(AND(Table1[[#This Row],[2G]]=\"X\",$K$10=TRUE),\"Yes\",\"No\")","v":"Yes"},null,{"$f":"IF(AND(Table1[[#This Row],[2H]]=\"X\",$K$11=TRUE),\"Yes\",\"No\")","v":"No"},null,{"$f":"IF(AND(Table1[[#This Row],[2I]]=\"X\",$K$12=TRUE),\"Yes\",\"No\")","v":"No"},null,{"$f":"IF(AND(Table1[[#This Row],[2J]]=\"X\",$K$13=TRUE),\"Yes\",\"No\")","v":"No"},null,{"$f":"IF(AND(Table1[[#This Row],[2K]]=\"X\",$K$14=TRUE),\"Yes\",\"No\")","v":"No"}]
[null,null,"S-1A-05","Enhance/develop adaptive stormwater management practices and technologies.","Implement natural buffers and green infrastructure (e.g., bioswales, tree trench; blue roof; vegetated roof; bioretention; green and blue roofs; preserve or build natural features/ecosystems; Use certified/qualified green infrastructure contractors and engineers; Maintain and/or expand the urban tree canopy); Ensure adequate culvert sizing and/or replace undersized culverts; Remove impervious surfaces and/or install permeable surfaces; Ensure sufficient water storage capacity for extreme flooding; Install underground storage systems to detain runoff in underground receptacles (e.g., culverts, engineered stormwater detention vaults, or perforated pipes); Build a retention pond to manage stormwater; Implement enhanced roof access to inspect and maintain roof and drainage system; Install oversized roof drains; use smart ponds.",{"$f":"IF(AND(COUNTIF(Table1[[#This Row],[1A]:[YN6]], \"Yes\") > 0,COUNTIF(Table1[[#This Row],[2A]:[YN17]], \"Yes\") > 0), \"Yes\", \"No\")","v":"Yes"},"X",{"$f":"IF(AND(Table1[[#This Row],[1A]]=\"X\",Adaptation!$H$4=TRUE),\"Yes\",\"No\")","v":"Yes"},"X",{"$f":"IF(AND(Table1[[#This Row],[1B]]=\"X\",Adaptation!$H$5=TRUE),\"Yes\",\"No\")","v":"Yes"},null,{"$f":"IF(AND(Table1[[#This Row],[1C]]=\"X\",Adaptation!$H$6=TRUE),\"Yes\",\"No\")","v":"No"},null,{"$f":"IF(AND(Table1[[#This Row],[1D]]=\"X\",Adaptation!$H$7=TRUE),\"Yes\",\"No\")","v":"No"},null,{"$f":"IF(AND(Table1[[#This Row],[1E]]=\"X\",Adaptation!$H$8=TRUE),\"Yes\",\"No\")","v":"No"},null,{"$f":"IF(AND(Table1[[#This Row],[1F]]=\"X\",Adaptation!$H$9=TRUE),\"Yes\",\"No\")","v":"No"},"X",{"$f":"IF(AND(Table1[[#This Row],[2A]]=\"X\",$K$4=TRUE),\"Yes\",\"No\")","v":"Yes"},"X",{"$f":"IF(AND(Table1[[#This Row],[2B]]=\"X\",$K$5=TRUE),\"Yes\",\"No\")","v":"Yes"},"X",{"$f":"IF(AND(Table1[[#This Row],[2C]]=\"X\",$K$6=TRUE),\"Yes\",\"No\")","v":"Yes"},"X",{"$f":"IF(AND(Table1[[#This Row],[2D]]=\"X\",$K$7=TRUE),\"Yes\",\"No\")","v":"Yes"},"X",{"$f":"IF(AND(Table1[[#This Row],[2E]]=\"X\",$K$8=TRUE),\"Yes\",\"No\")","v":"Yes"},"X",{"$f":"IF(AND(Table1[[#This Row],[2F]]=\"X\",$K$9=TRUE),\"Yes\",\"No\")","v":"Yes"},"X",{"$f":"IF(AND(Table1[[#This Row],[2G]]=\"X\",$K$10=TRUE),\"Yes\",\"No\")","v":"Yes"},"X",{"$f":"IF(AND(Table1[[#This Row],[2H]]=\"X\",$K$11=TRUE),\"Yes\",\"No\")","v":"Yes"},"X",{"$f":"IF(AND(Table1[[#This Row],[2I]]=\"X\",$K$12=TRUE),\"Yes\",\"No\")","v":"Yes"},"X",{"$f":"IF(AND(Table1[[#This Row],[2J]]=\"X\",$K$13=TRUE),\"Yes\",\"No\")","v":"Yes"},null,{"$f":"IF(AND(Table1[[#This Row],[2K]]=\"X\",$K$14=TRUE),\"Yes\",\"No\")","v":"No"}]
[null,null,"S-1A-06","Incorporate flood-proofing measures into new or upgraded facilities/assets.","Dry or wet-proof facilities (e.g., apply a waterproof veneer); Waterproof key equipment; Install back-up power; Conduct pre-flood event sandbagging; Install hard flood protection structures (e.g., floodwall, levees, dikes); Install removable barriers; Have movable assets; Seal buildings; Place critical equipment in waterproof containers or foundation systems; Consider elevation when selecting the site (e.g., Elevate the facilities and/or assets to be above the flood level).",{"$f":"IF(AND(COUNTIF(Table1[[#This Row],[1A]:[YN6]], \"Yes\") > 0,COUNTIF(Table1[[#This Row],[2A]:[YN17]], \"Yes\") > 0), \"Yes\", \"No\")","v":"Yes"},"X",{"$f":"IF(AND(Table1[[#This Row],[1A]]=\"X\",Adaptation!$H$4=TRUE),\"Yes\",\"No\")","v":"Yes"},"X",{"$f":"IF(AND(Table1[[#This Row],[1B]]=\"X\",Adaptation!$H$5=TRUE),\"Yes\",\"No\")","v":"Yes"},null,{"$f":"IF(AND(Table1[[#This Row],[1C]]=\"X\",Adaptation!$H$6=TRUE),\"Yes\",\"No\")","v":"No"},null,{"$f":"IF(AND(Table1[[#This Row],[1D]]=\"X\",Adaptation!$H$7=TRUE),\"Yes\",\"No\")","v":"No"},null,{"$f":"IF(AND(Table1[[#This Row],[1E]]=\"X\",Adaptation!$H$8=TRUE),\"Yes\",\"No\")","v":"No"},null,{"$f":"IF(AND(Table1[[#This Row],[1F]]=\"X\",Adaptation!$H$9=TRUE),\"Yes\",\"No\")","v":"No"},null,{"$f":"IF(AND(Table1[[#This Row],[2A]]=\"X\",$K$4=TRUE),\"Yes\",\"No\")","v":"No"},"X",{"$f":"IF(AND(Table1[[#This Row],[2B]]=\"X\",$K$5=TRUE),\"Yes\",\"No\")","v":"Yes"},null,{"$f":"IF(AND(Table1[[#This Row],[2C]]=\"X\",$K$6=TRUE),\"Yes\",\"No\")","v":"No"},null,{"$f":"IF(AND(Table1[[#This Row],[2D]]=\"X\",$K$7=TRUE),\"Yes\",\"No\")","v":"No"},null,{"$f":"IF(AND(Table1[[#This Row],[2E]]=\"X\",$K$8=TRUE),\"Yes\",\"No\")","v":"No"},null,{"$f":"IF(AND(Table1[[#This Row],[2F]]=\"X\",$K$9=TRUE),\"Yes\",\"No\")","v":"No"},null,{"$f":"IF(AND(Table1[[#This Row],[2G]]=\"X\",$K$10=TRUE),\"Yes\",\"No\")","v":"No"},"X",{"$f":"IF(AND(Table1[[#This Row],[2H]]=\"X\",$K$11=TRUE),\"Yes\",\"No\")","v":"Yes"},null,{"$f":"IF(AND(Table1[[#This Row],[2I]]=\"X\",$K$12=TRUE),\"Yes\",\"No\")","v":"No"},null,{"$f":"IF(AND(Table1[[#This Row],[2J]]=\"X\",$K$13=TRUE),\"Yes\",\"No\")","v":"No"},null,{"$f":"IF(AND(Table1[[#This Row],[2K]]=\"X\",$K$14=TRUE),\"Yes\",\"No\")","v":"No"}]
[null,null,"S-1A-07","Flood-proof facilities/assets using natural buffers and green infrastructure.","Maintain and/or expand the urban tree canopy; Use green roofs; Preserve or build natural features/ecosystems; Use certified/qualified green infrastructure contractors and engineers.",{"$f":"IF(AND(COUNTIF(Table1[[#This Row],[1A]:[YN6]], \"Yes\") > 0,COUNTIF(Table1[[#This Row],[2A]:[YN17]], \"Yes\") > 0), \"Yes\", \"No\")","v":"Yes"},"X",{"$f":"IF(AND(Table1[[#This Row],[1A]]=\"X\",Adaptation!$H$4=TRUE),\"Yes\",\"No\")","v":"Yes"},"X",{"$f":"IF(AND(Table1[[#This Row],[1B]]=\"X\",Adaptation!$H$5=TRUE),\"Yes\",\"No\")","v":"Yes"},null,{"$f":"IF(AND(Table1[[#This Row],[1C]]=\"X\",Adaptation!$H$6=TRUE),\"Yes\",\"No\")","v":"No"},null,{"$f":"IF(AND(Table1[[#This Row],[1D]]=\"X\",Adaptation!$H$7=TRUE),\"Yes\",\"No\")","v":"No"},null,{"$f":"IF(AND(Table1[[#This Row],[1E]]=\"X\",Adaptation!$H$8=TRUE),\"Yes\",\"No\")","v":"No"},null,{"$f":"IF(AND(Table1[[#This Row],[1F]]=\"X\",Adaptation!$H$9=TRUE),\"Yes\",\"No\")","v":"No"},null,{"$f":"IF(AND(Table1[[#This Row],[2A]]=\"X\",$K$4=TRUE),\"Yes\",\"No\")","v":"No"},"X",{"$f":"IF(AND(Table1[[#This Row],[2B]]=\"X\",$K$5=TRUE),\"Yes\",\"No\")","v":"Yes"},null,{"$f":"IF(AND(Table1[[#This Row],[2C]]=\"X\",$K$6=TRUE),\"Yes\",\"No\")","v":"No"},null,{"$f":"IF(AND(Table1[[#This Row],[2D]]=\"X\",$K$7=TRUE),\"Yes\",\"No\")","v":"No"},null,{"$f":"IF(AND(Table1[[#This Row],[2E]]=\"X\",$K$8=TRUE),\"Yes\",\"No\")","v":"No"},null,{"$f":"IF(AND(Table1[[#This Row],[2F]]=\"X\",$K$9=TRUE),\"Yes\",\"No\")","v":"No"},null,{"$f":"IF(AND(Table1[[#This Row],[2G]]=\"X\",$K$10=TRUE),\"Yes\",\"No\")","v":"No"},"X",{"$f":"IF(AND(Table1[[#This Row],[2H]]=\"X\",$K$11=TRUE),\"Yes\",\"No\")","v":"Yes"},null,{"$f":"IF(AND(Table1[[#This Row],[2I]]=\"X\",$K$12=TRUE),\"Yes\",\"No\")","v":"No"},null,{"$f":"IF(AND(Table1[[#This Row],[2J]]=\"X\",$K$13=TRUE),\"Yes\",\"No\")","v":"No"},null,{"$f":"IF(AND(Table1[[#This Row],[2K]]=\"X\",$K$14=TRUE),\"Yes\",\"No\")","v":"No"}]
[null,null,"S-1A-08","Create redundancy for routes in case of a disruption from an extreme precipitation event.","Expand the active transportation network (e.g., pedestrian walkways, bike routes); Identify alternative routes and evacuation routes in the case of an emergency; Create a map of detours.",{"$f":"IF(AND(COUNTIF(Table1[[#This Row],[1A]:[YN6]], \"Yes\") > 0,COUNTIF(Table1[[#This Row],[2A]:[YN17]], \"Yes\") > 0), \"Yes\", \"No\")","v":"Yes"},"X",{"$f":"IF(AND(Table1[[#This Row],[1A]]=\"X\",Adaptation!$H$4=TRUE),\"Yes\",\"No\")","v":"Yes"},null,{"$f":"IF(AND(Table1[[#This Row],[1B]]=\"X\",Adaptation!$H$5=TRUE),\"Yes\",\"No\")","v":"No"},null,{"$f":"IF(AND(Table1[[#This Row],[1C]]=\"X\",Adaptation!$H$6=TRUE),\"Yes\",\"No\")","v":"No"},null,{"$f":"IF(AND(Table1[[#This Row],[1D]]=\"X\",Adaptation!$H$7=TRUE),\"Yes\",\"No\")","v":"No"},null,{"$f":"IF(AND(Table1[[#This Row],[1E]]=\"X\",Adaptation!$H$8=TRUE),\"Yes\",\"No\")","v":"No"},null,{"$f":"IF(AND(Table1[[#This Row],[1F]]=\"X\",Adaptation!$H$9=TRUE),\"Yes\",\"No\")","v":"No"},null,{"$f":"IF(AND(Table1[[#This Row],[2A]]=\"X\",$K$4=TRUE),\"Yes\",\"No\")","v":"No"},null,{"$f":"IF(AND(Table1[[#This Row],[2B]]=\"X\",$K$5=TRUE),\"Yes\",\"No\")","v":"No"},null,{"$f":"IF(AND(Table1[[#This Row],[2C]]=\"X\",$K$6=TRUE),\"Yes\",\"No\")","v":"No"},null,{"$f":"IF(AND(Table1[[#This Row],[2D]]=\"X\",$K$7=TRUE),\"Yes\",\"No\")","v":"No"},"X",{"$f":"IF(AND(Table1[[#This Row],[2E]]=\"X\",$K$8=TRUE),\"Yes\",\"No\")","v":"Yes"},null,{"$f":"IF(AND(Table1[[#This Row],[2F]]=\"X\",$K$9=TRUE),\"Yes\",\"No\")","v":"No"},null,{"$f":"IF(AND(Table1[[#This Row],[2G]]=\"X\",$K$10=TRUE),\"Yes\",\"No\")","v":"No"},null,{"$f":"IF(AND(Table1[[#This Row],[2H]]=\"X\",$K$11=TRUE),\"Yes\",\"No\")","v":"No"},null,{"$f":"IF(AND(Table1[[#This Row],[2I]]=\"X\",$K$12=TRUE),\"Yes\",\"No\")","v":"No"},null,{"$f":"IF(AND(Table1[[#This Row],[2J]]=\"X\",$K$13=TRUE),\"Yes\",\"No\")","v":"No"},null,{"$f":"IF(AND(Table1[[#This Row],[2K]]=\"X\",$K$14=TRUE),\"Yes\",\"No\")","v":"No"}]
[null,null,"S-1A-09","Implement mechanisms to ensure roadways can withstand increased precipitation and extreme precipitation events.","Increase the capacity of the drainage system; elevate roadways; incorporate green infrastructure for stormwater management (e.g., revegetate with native/deep rooted plants, trees, swale, raingardens); Install permeable pavements; Install ribbin curbs or curb cuts; Conduct regular maintenance and inspections of drainage systems and culverts to make sure they are clear of debris. See climate adaptation materials from New York and Copenhagen for additional strategies to manage cloudburst.",{"$f":"IF(AND(COUNTIF(Table1[[#This Row],[1A]:[YN6]], \"Yes\") > 0,COUNTIF(Table1[[#This Row],[2A]:[YN17]], \"Yes\") > 0), \"Yes\", \"No\")","v":"Yes"},"X",{"$f":"IF(AND(Table1[[#This Row],[1A]]=\"X\",Adaptation!$H$4=TRUE),\"Yes\",\"No\")","v":"Yes"},"X",{"$f":"IF(AND(Table1[[#This Row],[1B]]=\"X\",Adaptation!$H$5=TRUE),\"Yes\",\"No\")","v":"Yes"},null,{"$f":"IF(AND(Table1[[#This Row],[1C]]=\"X\",Adaptation!$H$6=TRUE),\"Yes\",\"No\")","v":"No"},null,{"$f":"IF(AND(Table1[[#This Row],[1D]]=\"X\",Adaptation!$H$7=TRUE),\"Yes\",\"No\")","v":"No"},null,{"$f":"IF(AND(Table1[[#This Row],[1E]]=\"X\",Adaptation!$H$8=TRUE),\"Yes\",\"No\")","v":"No"},null,{"$f":"IF(AND(Table1[[#This Row],[1F]]=\"X\",Adaptation!$H$9=TRUE),\"Yes\",\"No\")","v":"No"},null,{"$f":"IF(AND(Table1[[#This Row],[2A]]=\"X\",$K$4=TRUE),\"Yes\",\"No\")","v":"No"},null,{"$f":"IF(AND(Table1[[#This Row],[2B]]=\"X\",$K$5=TRUE),\"Yes\",\"No\")","v":"No"},null,{"$f":"IF(AND(Table1[[#This Row],[2C]]=\"X\",$K$6=TRUE),\"Yes\",\"No\")","v":"No"},null,{"$f":"IF(AND(Table1[[#This Row],[2D]]=\"X\",$K$7=TRUE),\"Yes\",\"No\")","v":"No"},"X",{"$f":"IF(AND(Table1[[#This Row],[2E]]=\"X\",$K$8=TRUE),\"Yes\",\"No\")","v":"Yes"},null,{"$f":"IF(AND(Table1[[#This Row],[2F]]=\"X\",$K$9=TRUE),\"Yes\",\"No\")","v":"No"},null,{"$f":"IF(AND(Table1[[#This Row],[2G]]=\"X\",$K$10=TRUE),\"Yes\",\"No\")","v":"No"},null,{"$f":"IF(AND(Table1[[#This Row],[2H]]=\"X\",$K$11=TRUE),\"Yes\",\"No\")","v":"No"},null,{"$f":"IF(AND(Table1[[#This Row],[2I]]=\"X\",$K$12=TRUE),\"Yes\",\"No\")","v":"No"},null,{"$f":"IF(AND(Table1[[#This Row],[2J]]=\"X\",$K$13=TRUE),\"Yes\",\"No\")","v":"No"},null,{"$f":"IF(AND(Table1[[#This Row],[2K]]=\"X\",$K$14=TRUE),\"Yes\",\"No\")","v":"No"}]
[null,null,"S-1A-10","Ensure there is adequate redundancy and/or backup energy resources available to maintain necessary operations during extreme precipitation events.","Implement renewable energy and smart grid technology to optimize energy distribution and reduce outages; Develop off-grid sources for redundant power supply; Install easy hookups for temporary power; Install backup generators; Diversify energy sources such as by installing renewable energy; Install battery storage; Incorporate multiple power supplies; Implement a microgrid with integrated energy storage systems; Join a community energy project to pool resources; Utilize a combined heat and power (CHP) system; Ensure these systems are designed to be resilient during a projected extreme flood event.",{"$f":"IF(AND(COUNTIF(Table1[[#This Row],[1A]:[YN6]], \"Yes\") > 0,COUNTIF(Table1[[#This Row],[2A]:[YN17]], \"Yes\") > 0), \"Yes\", \"No\")","v":"Yes"},"X",{"$f":"IF(AND(Table1[[#This Row],[1A]]=\"X\",Adaptation!$H$4=TRUE),\"Yes\",\"No\")","v":"Yes"},null,{"$f":"IF(AND(Table1[[#This Row],[1B]]=\"X\",Adaptation!$H$5=TRUE),\"Yes\",\"No\")","v":"No"},null,{"$f":"IF(AND(Table1[[#This Row],[1C]]=\"X\",Adaptation!$H$6=TRUE),\"Yes\",\"No\")","v":"No"},null,{"$f":"IF(AND(Table1[[#This Row],[1D]]=\"X\",Adaptation!$H$7=TRUE),\"Yes\",\"No\")","v":"No"},null,{"$f":"IF(AND(Table1[[#This Row],[1E]]=\"X\",Adaptation!$H$8=TRUE),\"Yes\",\"No\")","v":"No"},null,{"$f":"IF(AND(Table1[[#This Row],[1F]]=\"X\",Adaptation!$H$9=TRUE),\"Yes\",\"No\")","v":"No"},"X",{"$f":"IF(AND(Table1[[#This Row],[2A]]=\"X\",$K$4=TRUE),\"Yes\",\"No\")","v":"Yes"},"X",{"$f":"IF(AND(Table1[[#This Row],[2B]]=\"X\",$K$5=TRUE),\"Yes\",\"No\")","v":"Yes"},null,{"$f":"IF(AND(Table1[[#This Row],[2C]]=\"X\",$K$6=TRUE),\"Yes\",\"No\")","v":"No"},null,{"$f":"IF(AND(Table1[[#This Row],[2D]]=\"X\",$K$7=TRUE),\"Yes\",\"No\")","v":"No"},"X",{"$f":"IF(AND(Table1[[#This Row],[2E]]=\"X\",$K$8=TRUE),\"Yes\",\"No\")","v":"Yes"},"X",{"$f":"IF(AND(Table1[[#This Row],[2F]]=\"X\",$K$9=TRUE),\"Yes\",\"No\")","v":"Yes"},null,{"$f":"IF(AND(Table1[[#This Row],[2G]]=\"X\",$K$10=TRUE),\"Yes\",\"No\")","v":"No"},"X",{"$f":"IF(AND(Table1[[#This Row],[2H]]=\"X\",$K$11=TRUE),\"Yes\",\"No\")","v":"Yes"},"X",{"$f":"IF(AND(Table1[[#This Row],[2I]]=\"X\",$K$12=TRUE),\"Yes\",\"No\")","v":"Yes"},"X",{"$f":"IF(AND(Table1[[#This Row],[2J]]=\"X\",$K$13=TRUE),\"Yes\",\"No\")","v":"Yes"},"X",{"$f":"IF(AND(Table1[[#This Row],[2K]]=\"X\",$K$14=TRUE),\"Yes\",\"No\")","v":"Yes"}]
[null,null,"S-1A-11","Harden the energy infrastructure systems to withstand extreme precipitation events.","Bury distribution lines; Elevate critical infrastructure above flood levels; Waterproof or seal equipment; Improve drainage systems around critical infrastructure.",{"$f":"IF(AND(COUNTIF(Table1[[#This Row],[1A]:[YN6]], \"Yes\") > 0,COUNTIF(Table1[[#This Row],[2A]:[YN17]], \"Yes\") > 0), \"Yes\", \"No\")","v":"Yes"},"X",{"$f":"IF(AND(Table1[[#This Row],[1A]]=\"X\",Adaptation!$H$4=TRUE),\"Yes\",\"No\")","v":"Yes"},null,{"$f":"IF(AND(Table1[[#This Row],[1B]]=\"X\",Adaptation!$H$5=TRUE),\"Yes\",\"No\")","v":"No"},null,{"$f":"IF(AND(Table1[[#This Row],[1C]]=\"X\",Adaptation!$H$6=TRUE),\"Yes\",\"No\")","v":"No"},null,{"$f":"IF(AND(Table1[[#This Row],[1D]]=\"X\",Adaptation!$H$7=TRUE),\"Yes\",\"No\")","v":"No"},null,{"$f":"IF(AND(Table1[[#This Row],[1E]]=\"X\",Adaptation!$H$8=TRUE),\"Yes\",\"No\")","v":"No"},null,{"$f":"IF(AND(Table1[[#This Row],[1F]]=\"X\",Adaptation!$H$9=TRUE),\"Yes\",\"No\")","v":"No"},"X",{"$f":"IF(AND(Table1[[#This Row],[2A]]=\"X\",$K$4=TRUE),\"Yes\",\"No\")","v":"Yes"},"X",{"$f":"IF(AND(Table1[[#This Row],[2B]]=\"X\",$K$5=TRUE),\"Yes\",\"No\")","v":"Yes"},"X",{"$f":"IF(AND(Table1[[#This Row],[2C]]=\"X\",$K$6=TRUE),\"Yes\",\"No\")","v":"Yes"},null,{"$f":"IF(AND(Table1[[#This Row],[2D]]=\"X\",$K$7=TRUE),\"Yes\",\"No\")","v":"No"},null,{"$f":"IF(AND(Table1[[#This Row],[2E]]=\"X\",$K$8=TRUE),\"Yes\",\"No\")","v":"No"},null,{"$f":"IF(AND(Table1[[#This Row],[2F]]=\"X\",$K$9=TRUE),\"Yes\",\"No\")","v":"No"},null,{"$f":"IF(AND(Table1[[#This Row],[2G]]=\"X\",$K$10=TRUE),\"Yes\",\"No\")","v":"No"},"X",{"$f":"IF(AND(Table1[[#This Row],[2H]]=\"X\",$K$11=TRUE),\"Yes\",\"No\")","v":"Yes"},"X",{"$f":"IF(AND(Table1[[#This Row],[2I]]=\"X\",$K$12=TRUE),\"Yes\",\"No\")","v":"Yes"},"X",{"$f":"IF(AND(Table1[[#This Row],[2J]]=\"X\",$K$13=TRUE),\"Yes\",\"No\")","v":"Yes"},null,{"$f":"IF(AND(Table1[[#This Row],[2K]]=\"X\",$K$14=TRUE),\"Yes\",\"No\")","v":"No"}]
[null,null,"S-1A-12","Improve farm drainage and management systems to address increased runoff and prevent any waterlogging or excessive build up of mud considering increases in average and extreme precipitation without contributing to increased erosion at outlets. ","Install subsurface drainage systems; Install permeable surfaces such as for farm roads; Build retention ponds; Plant native and/or deep-rooted vegetation to buffer runoff; Ensure a slope of 3-5% for pastures and pens to facilitate water runoff; Add bedding (e.g., shavings, straw); Add rubber mats; Adjust regular maintenance as needed to remove excess mud and manure.",{"$f":"IF(AND(COUNTIF(Table1[[#This Row],[1A]:[YN6]], \"Yes\") > 0,COUNTIF(Table1[[#This Row],[2A]:[YN17]], \"Yes\") > 0), \"Yes\", \"No\")","v":"Yes"},"X",{"$f":"IF(AND(Table1[[#This Row],[1A]]=\"X\",Adaptation!$H$4=TRUE),\"Yes\",\"No\")","v":"Yes"},"X",{"$f":"IF(AND(Table1[[#This Row],[1B]]=\"X\",Adaptation!$H$5=TRUE),\"Yes\",\"No\")","v":"Yes"},null,{"$f":"IF(AND(Table1[[#This Row],[1C]]=\"X\",Adaptation!$H$6=TRUE),\"Yes\",\"No\")","v":"No"},null,{"$f":"IF(AND(Table1[[#This Row],[1D]]=\"X\",Adaptation!$H$7=TRUE),\"Yes\",\"No\")","v":"No"},null,{"$f":"IF(AND(Table1[[#This Row],[1E]]=\"X\",Adaptation!$H$8=TRUE),\"Yes\",\"No\")","v":"No"},null,{"$f":"IF(AND(Table1[[#This Row],[1F]]=\"X\",Adaptation!$H$9=TRUE),\"Yes\",\"No\")","v":"No"},null,{"$f":"IF(AND(Table1[[#This Row],[2A]]=\"X\",$K$4=TRUE),\"Yes\",\"No\")","v":"No"},null,{"$f":"IF(AND(Table1[[#This Row],[2B]]=\"X\",$K$5=TRUE),\"Yes\",\"No\")","v":"No"},null,{"$f":"IF(AND(Table1[[#This Row],[2C]]=\"X\",$K$6=TRUE),\"Yes\",\"No\")","v":"No"},null,{"$f":"IF(AND(Table1[[#This Row],[2D]]=\"X\",$K$7=TRUE),\"Yes\",\"No\")","v":"No"},null,{"$f":"IF(AND(Table1[[#This Row],[2E]]=\"X\",$K$8=TRUE),\"Yes\",\"No\")","v":"No"},null,{"$f":"IF(AND(Table1[[#This Row],[2F]]=\"X\",$K$9=TRUE),\"Yes\",\"No\")","v":"No"},"X",{"$f":"IF(AND(Table1[[#This Row],[2G]]=\"X\",$K$10=TRUE),\"Yes\",\"No\")","v":"Yes"},null,{"$f":"IF(AND(Table1[[#This Row],[2H]]=\"X\",$K$11=TRUE),\"Yes\",\"No\")","v":"No"},null,{"$f":"IF(AND(Table1[[#This Row],[2I]]=\"X\",$K$12=TRUE),\"Yes\",\"No\")","v":"No"},null,{"$f":"IF(AND(Table1[[#This Row],[2J]]=\"X\",$K$13=TRUE),\"Yes\",\"No\")","v":"No"},null,{"$f":"IF(AND(Table1[[#This Row],[2K]]=\"X\",$K$14=TRUE),\"Yes\",\"No\")","v":"No"}]
[null,null,"S-1A-13","Install additional shelter to protect livestock from prolonged wet conditions and extreme precipitation events.","Install run-in sheds; Maintain and/or plant trees; Use portable shelters; Install elevated flooring.",{"$f":"IF(AND(COUNTIF(Table1[[#This Row],[1A]:[YN6]], \"Yes\") > 0,COUNTIF(Table1[[#This Row],[2A]:[YN17]], \"Yes\") > 0), \"Yes\", \"No\")","v":"Yes"},"X",{"$f":"IF(AND(Table1[[#This Row],[1A]]=\"X\",Adaptation!$H$4=TRUE),\"Yes\",\"No\")","v":"Yes"},"X",{"$f":"IF(AND(Table1[[#This Row],[1B]]=\"X\",Adaptation!$H$5=TRUE),\"Yes\",\"No\")","v":"Yes"},null,{"$f":"IF(AND(Table1[[#This Row],[1C]]=\"X\",Adaptation!$H$6=TRUE),\"Yes\",\"No\")","v":"No"},null,{"$f":"IF(AND(Table1[[#This Row],[1D]]=\"X\",Adaptation!$H$7=TRUE),\"Yes\",\"No\")","v":"No"},null,{"$f":"IF(AND(Table1[[#This Row],[1E]]=\"X\",Adaptation!$H$8=TRUE),\"Yes\",\"No\")","v":"No"},null,{"$f":"IF(AND(Table1[[#This Row],[1F]]=\"X\",Adaptation!$H$9=TRUE),\"Yes\",\"No\")","v":"No"},null,{"$f":"IF(AND(Table1[[#This Row],[2A]]=\"X\",$K$4=TRUE),\"Yes\",\"No\")","v":"No"},null,{"$f":"IF(AND(Table1[[#This Row],[2B]]=\"X\",$K$5=TRUE),\"Yes\",\"No\")","v":"No"},null,{"$f":"IF(AND(Table1[[#This Row],[2C]]=\"X\",$K$6=TRUE),\"Yes\",\"No\")","v":"No"},null,{"$f":"IF(AND(Table1[[#This Row],[2D]]=\"X\",$K$7=TRUE),\"Yes\",\"No\")","v":"No"},null,{"$f":"IF(AND(Table1[[#This Row],[2E]]=\"X\",$K$8=TRUE),\"Yes\",\"No\")","v":"No"},"X",{"$f":"IF(AND(Table1[[#This Row],[2F]]=\"X\",$K$9=TRUE),\"Yes\",\"No\")","v":"Yes"},null,{"$f":"IF(AND(Table1[[#This Row],[2G]]=\"X\",$K$10=TRUE),\"Yes\",\"No\")","v":"No"},null,{"$f":"IF(AND(Table1[[#This Row],[2H]]=\"X\",$K$11=TRUE),\"Yes\",\"No\")","v":"No"},null,{"$f":"IF(AND(Table1[[#This Row],[2I]]=\"X\",$K$12=TRUE),\"Yes\",\"No\")","v":"No"},null,{"$f":"IF(AND(Table1[[#This Row],[2J]]=\"X\",$K$13=TRUE),\"Yes\",\"No\")","v":"No"},null,{"$f":"IF(AND(Table1[[#This Row],[2K]]=\"X\",$K$14=TRUE),\"Yes\",\"No\")","v":"No"}]
[null,null,"S-1A-14","Ensure waste management facilities are prepared for extreme precipitation events.","Waterproof waste storage (e.g., sealed containers; protective barriers); Improve drainage systems around the facility;  Elevate the weigh station area to allow continued receipt of waste deliveries; Ensure access roads to the facility do not flood; When siting the facility, consider location (e.g., avoid floodplains; elevate the facility).",{"$f":"IF(AND(COUNTIF(Table1[[#This Row],[1A]:[YN6]], \"Yes\") > 0,COUNTIF(Table1[[#This Row],[2A]:[YN17]], \"Yes\") > 0), \"Yes\", \"No\")","v":"Yes"},"X",{"$f":"IF(AND(Table1[[#This Row],[1A]]=\"X\",Adaptation!$H$4=TRUE),\"Yes\",\"No\")","v":"Yes"},null,{"$f":"IF(AND(Table1[[#This Row],[1B]]=\"X\",Adaptation!$H$5=TRUE),\"Yes\",\"No\")","v":"No"},null,{"$f":"IF(AND(Table1[[#This Row],[1C]]=\"X\",Adaptation!$H$6=TRUE),\"Yes\",\"No\")","v":"No"},null,{"$f":"IF(AND(Table1[[#This Row],[1D]]=\"X\",Adaptation!$H$7=TRUE),\"Yes\",\"No\")","v":"No"},null,{"$f":"IF(AND(Table1[[#This Row],[1E]]=\"X\",Adaptation!$H$8=TRUE),\"Yes\",\"No\")","v":"No"},null,{"$f":"IF(AND(Table1[[#This Row],[1F]]=\"X\",Adaptation!$H$9=TRUE),\"Yes\",\"No\")","v":"No"},null,{"$f":"IF(AND(Table1[[#This Row],[2A]]=\"X\",$K$4=TRUE),\"Yes\",\"No\")","v":"No"},null,{"$f":"IF(AND(Table1[[#This Row],[2B]]=\"X\",$K$5=TRUE),\"Yes\",\"No\")","v":"No"},null,{"$f":"IF(AND(Table1[[#This Row],[2C]]=\"X\",$K$6=TRUE),\"Yes\",\"No\")","v":"No"},null,{"$f":"IF(AND(Table1[[#This Row],[2D]]=\"X\",$K$7=TRUE),\"Yes\",\"No\")","v":"No"},null,{"$f":"IF(AND(Table1[[#This Row],[2E]]=\"X\",$K$8=TRUE),\"Yes\",\"No\")","v":"No"},null,{"$f":"IF(AND(Table1[[#This Row],[2F]]=\"X\",$K$9=TRUE),\"Yes\",\"No\")","v":"No"},null,{"$f":"IF(AND(Table1[[#This Row],[2G]]=\"X\",$K$10=TRUE),\"Yes\",\"No\")","v":"No"},null,{"$f":"IF(AND(Table1[[#This Row],[2H]]=\"X\",$K$11=TRUE),\"Yes\",\"No\")","v":"No"},"X",{"$f":"IF(AND(Table1[[#This Row],[2I]]=\"X\",$K$12=TRUE),\"Yes\",\"No\")","v":"Yes"},null,{"$f":"IF(AND(Table1[[#This Row],[2J]]=\"X\",$K$13=TRUE),\"Yes\",\"No\")","v":"No"},null,{"$f":"IF(AND(Table1[[#This Row],[2K]]=\"X\",$K$14=TRUE),\"Yes\",\"No\")","v":"No"}]
[null,null,"S-1A-15","Ensure water infrastructure can withstand projected increases in average and extreme precipitation.","Install stormwater outfall pumps/lift stations to drain water from the system if outfalls were to become submerged; Implement strong pumps for backflow prevention; Ensure adequate capacity for wastewater and stormwater collection or treatment; Increase water treatment capabilities; Incorporate backup generators and fuels sources, as applicable, in a location safe from flooding, for the water infrastructure system to provide a sustained minimal level of water services in the event of a power outage.",{"$f":"IF(AND(COUNTIF(Table1[[#This Row],[1A]:[YN6]], \"Yes\") > 0,COUNTIF(Table1[[#This Row],[2A]:[YN17]], \"Yes\") > 0), \"Yes\", \"No\")","v":"Yes"},"X",{"$f":"IF(AND(Table1[[#This Row],[1A]]=\"X\",Adaptation!$H$4=TRUE),\"Yes\",\"No\")","v":"Yes"},"X",{"$f":"IF(AND(Table1[[#This Row],[1B]]=\"X\",Adaptation!$H$5=TRUE),\"Yes\",\"No\")","v":"Yes"},null,{"$f":"IF(AND(Table1[[#This Row],[1C]]=\"X\",Adaptation!$H$6=TRUE),\"Yes\",\"No\")","v":"No"},null,{"$f":"IF(AND(Table1[[#This Row],[1D]]=\"X\",Adaptation!$H$7=TRUE),\"Yes\",\"No\")","v":"No"},null,{"$f":"IF(AND(Table1[[#This Row],[1E]]=\"X\",Adaptation!$H$8=TRUE),\"Yes\",\"No\")","v":"No"},null,{"$f":"IF(AND(Table1[[#This Row],[1F]]=\"X\",Adaptation!$H$9=TRUE),\"Yes\",\"No\")","v":"No"},null,{"$f":"IF(AND(Table1[[#This Row],[2A]]=\"X\",$K$4=TRUE),\"Yes\",\"No\")","v":"No"},"X",{"$f":"IF(AND(Table1[[#This Row],[2B]]=\"X\",$K$5=TRUE),\"Yes\",\"No\")","v":"Yes"},"X",{"$f":"IF(AND(Table1[[#This Row],[2C]]=\"X\",$K$6=TRUE),\"Yes\",\"No\")","v":"Yes"},null,{"$f":"IF(AND(Table1[[#This Row],[2D]]=\"X\",$K$7=TRUE),\"Yes\",\"No\")","v":"No"},null,{"$f":"IF(AND(Table1[[#This Row],[2E]]=\"X\",$K$8=TRUE),\"Yes\",\"No\")","v":"No"},null,{"$f":"IF(AND(Table1[[#This Row],[2F]]=\"X\",$K$9=TRUE),\"Yes\",\"No\")","v":"No"},null,{"$f":"IF(AND(Table1[[#This Row],[2G]]=\"X\",$K$10=TRUE),\"Yes\",\"No\")","v":"No"},null,{"$f":"IF(AND(Table1[[#This Row],[2H]]=\"X\",$K$11=TRUE),\"Yes\",\"No\")","v":"No"},null,{"$f":"IF(AND(Table1[[#This Row],[2I]]=\"X\",$K$12=TRUE),\"Yes\",\"No\")","v":"No"},"X",{"$f":"IF(AND(Table1[[#This Row],[2J]]=\"X\",$K$13=TRUE),\"Yes\",\"No\")","v":"Yes"},null,{"$f":"IF(AND(Table1[[#This Row],[2K]]=\"X\",$K$14=TRUE),\"Yes\",\"No\")","v":"No"}]
[null,null,"S-1A-16","Prepare for worst case scenarios regarding extreme precipitation.","Stockpile response materials and store them near areas that will likely need rapid repairs after an extreme rainfall event (e.g., pre-position emergency power generation capacity, portable pumps, and debris removal equipment); Implement early warning systems for extreme weather events.",{"$f":"IF(AND(COUNTIF(Table1[[#This Row],[1A]:[YN6]], \"Yes\") > 0,COUNTIF(Table1[[#This Row],[2A]:[YN17]], \"Yes\") > 0), \"Yes\", \"No\")","v":"Yes"},"X",{"$f":"IF(AND(Table1[[#This Row],[1A]]=\"X\",Adaptation!$H$4=TRUE),\"Yes\",\"No\")","v":"Yes"},null,{"$f":"IF(AND(Table1[[#This Row],[1B]]=\"X\",Adaptation!$H$5=TRUE),\"Yes\",\"No\")","v":"No"},null,{"$f":"IF(AND(Table1[[#This Row],[1C]]=\"X\",Adaptation!$H$6=TRUE),\"Yes\",\"No\")","v":"No"},null,{"$f":"IF(AND(Table1[[#This Row],[1D]]=\"X\",Adaptation!$H$7=TRUE),\"Yes\",\"No\")","v":"No"},null,{"$f":"IF(AND(Table1[[#This Row],[1E]]=\"X\",Adaptation!$H$8=TRUE),\"Yes\",\"No\")","v":"No"},null,{"$f":"IF(AND(Table1[[#This Row],[1F]]=\"X\",Adaptation!$H$9=TRUE),\"Yes\",\"No\")","v":"No"},"X",{"$f":"IF(AND(Table1[[#This Row],[2A]]=\"X\",$K$4=TRUE),\"Yes\",\"No\")","v":"Yes"},"X",{"$f":"IF(AND(Table1[[#This Row],[2B]]=\"X\",$K$5=TRUE),\"Yes\",\"No\")","v":"Yes"},"X",{"$f":"IF(AND(Table1[[#This Row],[2C]]=\"X\",$K$6=TRUE),\"Yes\",\"No\")","v":"Yes"},"X",{"$f":"IF(AND(Table1[[#This Row],[2D]]=\"X\",$K$7=TRUE),\"Yes\",\"No\")","v":"Yes"},"X",{"$f":"IF(AND(Table1[[#This Row],[2E]]=\"X\",$K$8=TRUE),\"Yes\",\"No\")","v":"Yes"},"X",{"$f":"IF(AND(Table1[[#This Row],[2F]]=\"X\",$K$9=TRUE),\"Yes\",\"No\")","v":"Yes"},"X",{"$f":"IF(AND(Table1[[#This Row],[2G]]=\"X\",$K$10=TRUE),\"Yes\",\"No\")","v":"Yes"},"X",{"$f":"IF(AND(Table1[[#This Row],[2H]]=\"X\",$K$11=TRUE),\"Yes\",\"No\")","v":"Yes"},"X",{"$f":"IF(AND(Table1[[#This Row],[2I]]=\"X\",$K$12=TRUE),\"Yes\",\"No\")","v":"Yes"},"X",{"$f":"IF(AND(Table1[[#This Row],[2J]]=\"X\",$K$13=TRUE),\"Yes\",\"No\")","v":"Yes"},"X",{"$f":"IF(AND(Table1[[#This Row],[2K]]=\"X\",$K$14=TRUE),\"Yes\",\"No\")","v":"Yes"}]
[null,null,"S-1A-17","When siting and orienting a facility or asset, consider flood risk from increased precipitation and extreme precipitation events.","Avoid development in erosion zones and floodplains; Select a site at higher elevation.",{"$f":"IF(AND(COUNTIF(Table1[[#This Row],[1A]:[YN6]], \"Yes\") > 0,COUNTIF(Table1[[#This Row],[2A]:[YN17]], \"Yes\") > 0), \"Yes\", \"No\")","v":"Yes"},"X",{"$f":"IF(AND(Table1[[#This Row],[1A]]=\"X\",Adaptation!$H$4=TRUE),\"Yes\",\"No\")","v":"Yes"},null,{"$f":"IF(AND(Table1[[#This Row],[1B]]=\"X\",Adaptation!$H$5=TRUE),\"Yes\",\"No\")","v":"No"},null,{"$f":"IF(AND(Table1[[#This Row],[1C]]=\"X\",Adaptation!$H$6=TRUE),\"Yes\",\"No\")","v":"No"},null,{"$f":"IF(AND(Table1[[#This Row],[1D]]=\"X\",Adaptation!$H$7=TRUE),\"Yes\",\"No\")","v":"No"},null,{"$f":"IF(AND(Table1[[#This Row],[1E]]=\"X\",Adaptation!$H$8=TRUE),\"Yes\",\"No\")","v":"No"},null,{"$f":"IF(AND(Table1[[#This Row],[1F]]=\"X\",Adaptation!$H$9=TRUE),\"Yes\",\"No\")","v":"No"},null,{"$f":"IF(AND(Table1[[#This Row],[2A]]=\"X\",$K$4=TRUE),\"Yes\",\"No\")","v":"No"},"X",{"$f":"IF(AND(Table1[[#This Row],[2B]]=\"X\",$K$5=TRUE),\"Yes\",\"No\")","v":"Yes"},"X",{"$f":"IF(AND(Table1[[#This Row],[2C]]=\"X\",$K$6=TRUE),\"Yes\",\"No\")","v":"Yes"},"X",{"$f":"IF(AND(Table1[[#This Row],[2D]]=\"X\",$K$7=TRUE),\"Yes\",\"No\")","v":"Yes"},"X",{"$f":"IF(AND(Table1[[#This Row],[2E]]=\"X\",$K$8=TRUE),\"Yes\",\"No\")","v":"Yes"},null,{"$f":"IF(AND(Table1[[#This Row],[2F]]=\"X\",$K$9=TRUE),\"Yes\",\"No\")","v":"No"},null,{"$f":"IF(AND(Table1[[#This Row],[2G]]=\"X\",$K$10=TRUE),\"Yes\",\"No\")","v":"No"},"X",{"$f":"IF(AND(Table1[[#This Row],[2H]]=\"X\",$K$11=TRUE),\"Yes\",\"No\")","v":"Yes"},null,{"$f":"IF(AND(Table1[[#This Row],[2I]]=\"X\",$K$12=TRUE),\"Yes\",\"No\")","v":"No"},null,{"$f":"IF(AND(Table1[[#This Row],[2J]]=\"X\",$K$13=TRUE),\"Yes\",\"No\")","v":"No"},null,{"$f":"IF(AND(Table1[[#This Row],[2K]]=\"X\",$K$14=TRUE),\"Yes\",\"No\")","v":"No"}]
[null,null,"S-1A-18","Maintain or improve ecosystem health to act as a natural barrier to increasing precipitation and extreme precipitation events.","Avoid or minimize development on key ecosystem areas (e.g., wetlands, trees) to maintain natural barriers; Revegetate with native and/or deep rooted plants to improve stormwater drainage and flooding; Develop a plan for future ecosystem health; If there is tree planting, plant tree species that are adapted to current and/or future climate conditions (see: https://extension.umn.edu/creating-climate-ready-woodlands/recommended-trees).",{"$f":"IF(AND(COUNTIF(Table1[[#This Row],[1A]:[YN6]], \"Yes\") > 0,COUNTIF(Table1[[#This Row],[2A]:[YN17]], \"Yes\") > 0), \"Yes\", \"No\")","v":"Yes"},"X",{"$f":"IF(AND(Table1[[#This Row],[1A]]=\"X\",Adaptation!$H$4=TRUE),\"Yes\",\"No\")","v":"Yes"},"X",{"$f":"IF(AND(Table1[[#This Row],[1B]]=\"X\",Adaptation!$H$5=TRUE),\"Yes\",\"No\")","v":"Yes"},null,{"$f":"IF(AND(Table1[[#This Row],[1C]]=\"X\",Adaptation!$H$6=TRUE),\"Yes\",\"No\")","v":"No"},null,{"$f":"IF(AND(Table1[[#This Row],[1D]]=\"X\",Adaptation!$H$7=TRUE),\"Yes\",\"No\")","v":"No"},null,{"$f":"IF(AND(Table1[[#This Row],[1E]]=\"X\",Adaptation!$H$8=TRUE),\"Yes\",\"No\")","v":"No"},null,{"$f":"IF(AND(Table1[[#This Row],[1F]]=\"X\",Adaptation!$H$9=TRUE),\"Yes\",\"No\")","v":"No"},"X",{"$f":"IF(AND(Table1[[#This Row],[2A]]=\"X\",$K$4=TRUE),\"Yes\",\"No\")","v":"Yes"},"X",{"$f":"IF(AND(Table1[[#This Row],[2B]]=\"X\",$K$5=TRUE),\"Yes\",\"No\")","v":"Yes"},"X",{"$f":"IF(AND(Table1[[#This Row],[2C]]=\"X\",$K$6=TRUE),\"Yes\",\"No\")","v":"Yes"},"X",{"$f":"IF(AND(Table1[[#This Row],[2D]]=\"X\",$K$7=TRUE),\"Yes\",\"No\")","v":"Yes"},"X",{"$f":"IF(AND(Table1[[#This Row],[2E]]=\"X\",$K$8=TRUE),\"Yes\",\"No\")","v":"Yes"},"X",{"$f":"IF(AND(Table1[[#This Row],[2F]]=\"X\",$K$9=TRUE),\"Yes\",\"No\")","v":"Yes"},"X",{"$f":"IF(AND(Table1[[#This Row],[2G]]=\"X\",$K$10=TRUE),\"Yes\",\"No\")","v":"Yes"},"X",{"$f":"IF(AND(Table1[[#This Row],[2H]]=\"X\",$K$11=TRUE),\"Yes\",\"No\")","v":"Yes"},"X",{"$f":"IF(AND(Table1[[#This Row],[2I]]=\"X\",$K$12=TRUE),\"Yes\",\"No\")","v":"Yes"},"X",{"$f":"IF(AND(Table1[[#This Row],[2J]]=\"X\",$K$13=TRUE),\"Yes\",\"No\")","v":"Yes"},null,{"$f":"IF(AND(Table1[[#This Row],[2K]]=\"X\",$K$14=TRUE),\"Yes\",\"No\")","v":"No"}]
[null,null,"S-1A-19","Incorporate stormwater green infrastructure into site plans to mimic the water storage of natural systems.","Plan installation of bioswales, tree trenches, bioretention cells, raingardens, etc. sized to better address more frequent intense precipitation events. ",{"$f":"IF(AND(COUNTIF(Table1[[#This Row],[1A]:[YN6]], \"Yes\") > 0,COUNTIF(Table1[[#This Row],[2A]:[YN17]], \"Yes\") > 0), \"Yes\", \"No\")","v":"Yes"},"X",{"$f":"IF(AND(Table1[[#This Row],[1A]]=\"X\",Adaptation!$H$4=TRUE),\"Yes\",\"No\")","v":"Yes"},"X",{"$f":"IF(AND(Table1[[#This Row],[1B]]=\"X\",Adaptation!$H$5=TRUE),\"Yes\",\"No\")","v":"Yes"},null,{"$f":"IF(AND(Table1[[#This Row],[1C]]=\"X\",Adaptation!$H$6=TRUE),\"Yes\",\"No\")","v":"No"},null,{"$f":"IF(AND(Table1[[#This Row],[1D]]=\"X\",Adaptation!$H$7=TRUE),\"Yes\",\"No\")","v":"No"},null,{"$f":"IF(AND(Table1[[#This Row],[1E]]=\"X\",Adaptation!$H$8=TRUE),\"Yes\",\"No\")","v":"No"},null,{"$f":"IF(AND(Table1[[#This Row],[1F]]=\"X\",Adaptation!$H$9=TRUE),\"Yes\",\"No\")","v":"No"},"X",{"$f":"IF(AND(Table1[[#This Row],[2A]]=\"X\",$K$4=TRUE),\"Yes\",\"No\")","v":"Yes"},"X",{"$f":"IF(AND(Table1[[#This Row],[2B]]=\"X\",$K$5=TRUE),\"Yes\",\"No\")","v":"Yes"},null,{"$f":"IF(AND(Table1[[#This Row],[2C]]=\"X\",$K$6=TRUE),\"Yes\",\"No\")","v":"No"},"X",{"$f":"IF(AND(Table1[[#This Row],[2D]]=\"X\",$K$7=TRUE),\"Yes\",\"No\")","v":"Yes"},"X",{"$f":"IF(AND(Table1[[#This Row],[2E]]=\"X\",$K$8=TRUE),\"Yes\",\"No\")","v":"Yes"},"X",{"$f":"IF(AND(Table1[[#This Row],[2F]]=\"X\",$K$9=TRUE),\"Yes\",\"No\")","v":"Yes"},"X",{"$f":"IF(AND(Table1[[#This Row],[2G]]=\"X\",$K$10=TRUE),\"Yes\",\"No\")","v":"Yes"},"X",{"$f":"IF(AND(Table1[[#This Row],[2H]]=\"X\",$K$11=TRUE),\"Yes\",\"No\")","v":"Yes"},"X",{"$f":"IF(AND(Table1[[#This Row],[2I]]=\"X\",$K$12=TRUE),\"Yes\",\"No\")","v":"Yes"},"X",{"$f":"IF(AND(Table1[[#This Row],[2J]]=\"X\",$K$13=TRUE),\"Yes\",\"No\")","v":"Yes"},null,{"$f":"IF(AND(Table1[[#This Row],[2K]]=\"X\",$K$14=TRUE),\"Yes\",\"No\")","v":"No"}]
[null,null,"S-1A-20","Develop post-storm plans for the construction site.","Develop a coordination plan to clear roads and drainage systems from debris after extreme precipitation events.",{"$f":"IF(AND(COUNTIF(Table1[[#This Row],[1A]:[YN6]], \"Yes\") > 0,COUNTIF(Table1[[#This Row],[2A]:[YN17]], \"Yes\") > 0), \"Yes\", \"No\")","v":"Yes"},"X",{"$f":"IF(AND(Table1[[#This Row],[1A]]=\"X\",Adaptation!$H$4=TRUE),\"Yes\",\"No\")","v":"Yes"},null,{"$f":"IF(AND(Table1[[#This Row],[1B]]=\"X\",Adaptation!$H$5=TRUE),\"Yes\",\"No\")","v":"No"},null,{"$f":"IF(AND(Table1[[#This Row],[1C]]=\"X\",Adaptation!$H$6=TRUE),\"Yes\",\"No\")","v":"No"},null,{"$f":"IF(AND(Table1[[#This Row],[1D]]=\"X\",Adaptation!$H$7=TRUE),\"Yes\",\"No\")","v":"No"},null,{"$f":"IF(AND(Table1[[#This Row],[1E]]=\"X\",Adaptation!$H$8=TRUE),\"Yes\",\"No\")","v":"No"},null,{"$f":"IF(AND(Table1[[#This Row],[1F]]=\"X\",Adaptation!$H$9=TRUE),\"Yes\",\"No\")","v":"No"},null,{"$f":"IF(AND(Table1[[#This Row],[2A]]=\"X\",$K$4=TRUE),\"Yes\",\"No\")","v":"No"},null,{"$f":"IF(AND(Table1[[#This Row],[2B]]=\"X\",$K$5=TRUE),\"Yes\",\"No\")","v":"No"},null,{"$f":"IF(AND(Table1[[#This Row],[2C]]=\"X\",$K$6=TRUE),\"Yes\",\"No\")","v":"No"},null,{"$f":"IF(AND(Table1[[#This Row],[2D]]=\"X\",$K$7=TRUE),\"Yes\",\"No\")","v":"No"},null,{"$f":"IF(AND(Table1[[#This Row],[2E]]=\"X\",$K$8=TRUE),\"Yes\",\"No\")","v":"No"},null,{"$f":"IF(AND(Table1[[#This Row],[2F]]=\"X\",$K$9=TRUE),\"Yes\",\"No\")","v":"No"},null,{"$f":"IF(AND(Table1[[#This Row],[2G]]=\"X\",$K$10=TRUE),\"Yes\",\"No\")","v":"No"},null,{"$f":"IF(AND(Table1[[#This Row],[2H]]=\"X\",$K$11=TRUE),\"Yes\",\"No\")","v":"No"},null,{"$f":"IF(AND(Table1[[#This Row],[2I]]=\"X\",$K$12=TRUE),\"Yes\",\"No\")","v":"No"},null,{"$f":"IF(AND(Table1[[#This Row],[2J]]=\"X\",$K$13=TRUE),\"Yes\",\"No\")","v":"No"},"X",{"$f":"IF(AND(Table1[[#This Row],[2K]]=\"X\",$K$14=TRUE),\"Yes\",\"No\")","v":"Yes"}]
[null,null,"S-1B-01","Ensure hazardous materials are stored in temperature-controlled environments to accommodate for high temperatures and heatwaves.","Insulate storage areas; Install temperature monitoring systems with alarms to alert staff; Conduct regular inspections and maintenance of storage facilities.",{"$f":"IF(AND(COUNTIF(Table1[[#This Row],[1A]:[YN6]], \"Yes\") > 0,COUNTIF(Table1[[#This Row],[2A]:[YN17]], \"Yes\") > 0), \"Yes\", \"No\")","v":"Yes"},null,{"$f":"IF(AND(Table1[[#This Row],[1A]]=\"X\",Adaptation!$H$4=TRUE),\"Yes\",\"No\")","v":"No"},null,{"$f":"IF(AND(Table1[[#This Row],[1B]]=\"X\",Adaptation!$H$5=TRUE),\"Yes\",\"No\")","v":"No"},"X",{"$f":"IF(AND(Table1[[#This Row],[1C]]=\"X\",Adaptation!$H$6=TRUE),\"Yes\",\"No\")","v":"Yes"},"X",{"$f":"IF(AND(Table1[[#This Row],[1D]]=\"X\",Adaptation!$H$7=TRUE),\"Yes\",\"No\")","v":"Yes"},null,{"$f":"IF(AND(Table1[[#This Row],[1E]]=\"X\",Adaptation!$H$8=TRUE),\"Yes\",\"No\")","v":"No"},null,{"$f":"IF(AND(Table1[[#This Row],[1F]]=\"X\",Adaptation!$H$9=TRUE),\"Yes\",\"No\")","v":"No"},"X",{"$f":"IF(AND(Table1[[#This Row],[2A]]=\"X\",$K$4=TRUE),\"Yes\",\"No\")","v":"Yes"},null,{"$f":"IF(AND(Table1[[#This Row],[2B]]=\"X\",$K$5=TRUE),\"Yes\",\"No\")","v":"No"},null,{"$f":"IF(AND(Table1[[#This Row],[2C]]=\"X\",$K$6=TRUE),\"Yes\",\"No\")","v":"No"},null,{"$f":"IF(AND(Table1[[#This Row],[2D]]=\"X\",$K$7=TRUE),\"Yes\",\"No\")","v":"No"},null,{"$f":"IF(AND(Table1[[#This Row],[2E]]=\"X\",$K$8=TRUE),\"Yes\",\"No\")","v":"No"},null,{"$f":"IF(AND(Table1[[#This Row],[2F]]=\"X\",$K$9=TRUE),\"Yes\",\"No\")","v":"No"},null,{"$f":"IF(AND(Table1[[#This Row],[2G]]=\"X\",$K$10=TRUE),\"Yes\",\"No\")","v":"No"},null,{"$f":"IF(AND(Table1[[#This Row],[2H]]=\"X\",$K$11=TRUE),\"Yes\",\"No\")","v":"No"},null,{"$f":"IF(AND(Table1[[#This Row],[2I]]=\"X\",$K$12=TRUE),\"Yes\",\"No\")","v":"No"},null,{"$f":"IF(AND(Table1[[#This Row],[2J]]=\"X\",$K$13=TRUE),\"Yes\",\"No\")","v":"No"},null,{"$f":"IF(AND(Table1[[#This Row],[2K]]=\"X\",$K$14=TRUE),\"Yes\",\"No\")","v":"No"}]
[null,null,"S-1B-02","Consider alternative pavement surfaces and materials that are more heat-resistant to reduce heat impacts and surface temperatures.","Use light-colored asphalt pavement to reduce heat absorption and reflect radiation; Use materials for railway tracks and stations that are resistant to higher heat to prevent buckling and kinks; Install permeable surfaces especially for low-traffic areas such as roadside parking (along curbs) and parking lots.",{"$f":"IF(AND(COUNTIF(Table1[[#This Row],[1A]:[YN6]], \"Yes\") > 0,COUNTIF(Table1[[#This Row],[2A]:[YN17]], \"Yes\") > 0), \"Yes\", \"No\")","v":"Yes"},null,{"$f":"IF(AND(Table1[[#This Row],[1A]]=\"X\",Adaptation!$H$4=TRUE),\"Yes\",\"No\")","v":"No"},null,{"$f":"IF(AND(Table1[[#This Row],[1B]]=\"X\",Adaptation!$H$5=TRUE),\"Yes\",\"No\")","v":"No"},"X",{"$f":"IF(AND(Table1[[#This Row],[1C]]=\"X\",Adaptation!$H$6=TRUE),\"Yes\",\"No\")","v":"Yes"},"X",{"$f":"IF(AND(Table1[[#This Row],[1D]]=\"X\",Adaptation!$H$7=TRUE),\"Yes\",\"No\")","v":"Yes"},null,{"$f":"IF(AND(Table1[[#This Row],[1E]]=\"X\",Adaptation!$H$8=TRUE),\"Yes\",\"No\")","v":"No"},null,{"$f":"IF(AND(Table1[[#This Row],[1F]]=\"X\",Adaptation!$H$9=TRUE),\"Yes\",\"No\")","v":"No"},null,{"$f":"IF(AND(Table1[[#This Row],[2A]]=\"X\",$K$4=TRUE),\"Yes\",\"No\")","v":"No"},null,{"$f":"IF(AND(Table1[[#This Row],[2B]]=\"X\",$K$5=TRUE),\"Yes\",\"No\")","v":"No"},null,{"$f":"IF(AND(Table1[[#This Row],[2C]]=\"X\",$K$6=TRUE),\"Yes\",\"No\")","v":"No"},"X",{"$f":"IF(AND(Table1[[#This Row],[2D]]=\"X\",$K$7=TRUE),\"Yes\",\"No\")","v":"Yes"},"X",{"$f":"IF(AND(Table1[[#This Row],[2E]]=\"X\",$K$8=TRUE),\"Yes\",\"No\")","v":"Yes"},null,{"$f":"IF(AND(Table1[[#This Row],[2F]]=\"X\",$K$9=TRUE),\"Yes\",\"No\")","v":"No"},null,{"$f":"IF(AND(Table1[[#This Row],[2G]]=\"X\",$K$10=TRUE),\"Yes\",\"No\")","v":"No"},null,{"$f":"IF(AND(Table1[[#This Row],[2H]]=\"X\",$K$11=TRUE),\"Yes\",\"No\")","v":"No"},null,{"$f":"IF(AND(Table1[[#This Row],[2I]]=\"X\",$K$12=TRUE),\"Yes\",\"No\")","v":"No"},null,{"$f":"IF(AND(Table1[[#This Row],[2J]]=\"X\",$K$13=TRUE),\"Yes\",\"No\")","v":"No"},null,{"$f":"IF(AND(Table1[[#This Row],[2K]]=\"X\",$K$14=TRUE),\"Yes\",\"No\")","v":"No"}]
[null,null,"S-1B-03","Incorporate flexible pavement design to accommodate thermal expansion and prevent buckling from high temperatures and heatwaves.","Design roads with additional thermal expansion joints; Incorporate polymer-modified asphalt in the pavement mix; Apply reflective coatings.",{"$f":"IF(AND(COUNTIF(Table1[[#This Row],[1A]:[YN6]], \"Yes\") > 0,COUNTIF(Table1[[#This Row],[2A]:[YN17]], \"Yes\") > 0), \"Yes\", \"No\")","v":"Yes"},null,{"$f":"IF(AND(Table1[[#This Row],[1A]]=\"X\",Adaptation!$H$4=TRUE),\"Yes\",\"No\")","v":"No"},null,{"$f":"IF(AND(Table1[[#This Row],[1B]]=\"X\",Adaptation!$H$5=TRUE),\"Yes\",\"No\")","v":"No"},"X",{"$f":"IF(AND(Table1[[#This Row],[1C]]=\"X\",Adaptation!$H$6=TRUE),\"Yes\",\"No\")","v":"Yes"},"X",{"$f":"IF(AND(Table1[[#This Row],[1D]]=\"X\",Adaptation!$H$7=TRUE),\"Yes\",\"No\")","v":"Yes"},null,{"$f":"IF(AND(Table1[[#This Row],[1E]]=\"X\",Adaptation!$H$8=TRUE),\"Yes\",\"No\")","v":"No"},null,{"$f":"IF(AND(Table1[[#This Row],[1F]]=\"X\",Adaptation!$H$9=TRUE),\"Yes\",\"No\")","v":"No"},null,{"$f":"IF(AND(Table1[[#This Row],[2A]]=\"X\",$K$4=TRUE),\"Yes\",\"No\")","v":"No"},null,{"$f":"IF(AND(Table1[[#This Row],[2B]]=\"X\",$K$5=TRUE),\"Yes\",\"No\")","v":"No"},null,{"$f":"IF(AND(Table1[[#This Row],[2C]]=\"X\",$K$6=TRUE),\"Yes\",\"No\")","v":"No"},"X",{"$f":"IF(AND(Table1[[#This Row],[2D]]=\"X\",$K$7=TRUE),\"Yes\",\"No\")","v":"Yes"},"X",{"$f":"IF(AND(Table1[[#This Row],[2E]]=\"X\",$K$8=TRUE),\"Yes\",\"No\")","v":"Yes"},null,{"$f":"IF(AND(Table1[[#This Row],[2F]]=\"X\",$K$9=TRUE),\"Yes\",\"No\")","v":"No"},null,{"$f":"IF(AND(Table1[[#This Row],[2G]]=\"X\",$K$10=TRUE),\"Yes\",\"No\")","v":"No"},null,{"$f":"IF(AND(Table1[[#This Row],[2H]]=\"X\",$K$11=TRUE),\"Yes\",\"No\")","v":"No"},null,{"$f":"IF(AND(Table1[[#This Row],[2I]]=\"X\",$K$12=TRUE),\"Yes\",\"No\")","v":"No"},null,{"$f":"IF(AND(Table1[[#This Row],[2J]]=\"X\",$K$13=TRUE),\"Yes\",\"No\")","v":"No"},null,{"$f":"IF(AND(Table1[[#This Row],[2K]]=\"X\",$K$14=TRUE),\"Yes\",\"No\")","v":"No"}]
[null,null,"S-1B-04","Regularly monitor the condition of roadways and conduct maintenance to address wear and tear from high temperatures and heatwaves.","Implement regular maintenance schedules to address increased wear and tear; As needed, increase the use and frequency of preventative maintenance treatments (e.g., seal coats, crack seals); Install pavement sensors for extreme heat and road failure.",{"$f":"IF(AND(COUNTIF(Table1[[#This Row],[1A]:[YN6]], \"Yes\") > 0,COUNTIF(Table1[[#This Row],[2A]:[YN17]], \"Yes\") > 0), \"Yes\", \"No\")","v":"Yes"},null,{"$f":"IF(AND(Table1[[#This Row],[1A]]=\"X\",Adaptation!$H$4=TRUE),\"Yes\",\"No\")","v":"No"},null,{"$f":"IF(AND(Table1[[#This Row],[1B]]=\"X\",Adaptation!$H$5=TRUE),\"Yes\",\"No\")","v":"No"},"X",{"$f":"IF(AND(Table1[[#This Row],[1C]]=\"X\",Adaptation!$H$6=TRUE),\"Yes\",\"No\")","v":"Yes"},"X",{"$f":"IF(AND(Table1[[#This Row],[1D]]=\"X\",Adaptation!$H$7=TRUE),\"Yes\",\"No\")","v":"Yes"},null,{"$f":"IF(AND(Table1[[#This Row],[1E]]=\"X\",Adaptation!$H$8=TRUE),\"Yes\",\"No\")","v":"No"},null,{"$f":"IF(AND(Table1[[#This Row],[1F]]=\"X\",Adaptation!$H$9=TRUE),\"Yes\",\"No\")","v":"No"},null,{"$f":"IF(AND(Table1[[#This Row],[2A]]=\"X\",$K$4=TRUE),\"Yes\",\"No\")","v":"No"},null,{"$f":"IF(AND(Table1[[#This Row],[2B]]=\"X\",$K$5=TRUE),\"Yes\",\"No\")","v":"No"},null,{"$f":"IF(AND(Table1[[#This Row],[2C]]=\"X\",$K$6=TRUE),\"Yes\",\"No\")","v":"No"},null,{"$f":"IF(AND(Table1[[#This Row],[2D]]=\"X\",$K$7=TRUE),\"Yes\",\"No\")","v":"No"},"X",{"$f":"IF(AND(Table1[[#This Row],[2E]]=\"X\",$K$8=TRUE),\"Yes\",\"No\")","v":"Yes"},null,{"$f":"IF(AND(Table1[[#This Row],[2F]]=\"X\",$K$9=TRUE),\"Yes\",\"No\")","v":"No"},null,{"$f":"IF(AND(Table1[[#This Row],[2G]]=\"X\",$K$10=TRUE),\"Yes\",\"No\")","v":"No"},null,{"$f":"IF(AND(Table1[[#This Row],[2H]]=\"X\",$K$11=TRUE),\"Yes\",\"No\")","v":"No"},null,{"$f":"IF(AND(Table1[[#This Row],[2I]]=\"X\",$K$12=TRUE),\"Yes\",\"No\")","v":"No"},null,{"$f":"IF(AND(Table1[[#This Row],[2J]]=\"X\",$K$13=TRUE),\"Yes\",\"No\")","v":"No"},null,{"$f":"IF(AND(Table1[[#This Row],[2K]]=\"X\",$K$14=TRUE),\"Yes\",\"No\")","v":"No"}]
[null,null,"S-1B-05","Retain mature trees as part of design and during construction.","Inventory trees; mark boundaries around trees to avoid compaction and damage to trunks and roots.",{"$f":"IF(AND(COUNTIF(Table1[[#This Row],[1A]:[YN6]], \"Yes\") > 0,COUNTIF(Table1[[#This Row],[2A]:[YN17]], \"Yes\") > 0), \"Yes\", \"No\")","v":"Yes"},"X",{"$f":"IF(AND(Table1[[#This Row],[1A]]=\"X\",Adaptation!$H$4=TRUE),\"Yes\",\"No\")","v":"Yes"},"X",{"$f":"IF(AND(Table1[[#This Row],[1B]]=\"X\",Adaptation!$H$5=TRUE),\"Yes\",\"No\")","v":"Yes"},"X",{"$f":"IF(AND(Table1[[#This Row],[1C]]=\"X\",Adaptation!$H$6=TRUE),\"Yes\",\"No\")","v":"Yes"},"X",{"$f":"IF(AND(Table1[[#This Row],[1D]]=\"X\",Adaptation!$H$7=TRUE),\"Yes\",\"No\")","v":"Yes"},null,{"$f":"IF(AND(Table1[[#This Row],[1E]]=\"X\",Adaptation!$H$8=TRUE),\"Yes\",\"No\")","v":"No"},null,{"$f":"IF(AND(Table1[[#This Row],[1F]]=\"X\",Adaptation!$H$9=TRUE),\"Yes\",\"No\")","v":"No"},null,{"$f":"IF(AND(Table1[[#This Row],[2A]]=\"X\",$K$4=TRUE),\"Yes\",\"No\")","v":"No"},"X",{"$f":"IF(AND(Table1[[#This Row],[2B]]=\"X\",$K$5=TRUE),\"Yes\",\"No\")","v":"Yes"},"X",{"$f":"IF(AND(Table1[[#This Row],[2C]]=\"X\",$K$6=TRUE),\"Yes\",\"No\")","v":"Yes"},"X",{"$f":"IF(AND(Table1[[#This Row],[2D]]=\"X\",$K$7=TRUE),\"Yes\",\"No\")","v":"Yes"},"X",{"$f":"IF(AND(Table1[[#This Row],[2E]]=\"X\",$K$8=TRUE),\"Yes\",\"No\")","v":"Yes"},"X",{"$f":"IF(AND(Table1[[#This Row],[2F]]=\"X\",$K$9=TRUE),\"Yes\",\"No\")","v":"Yes"},"X",{"$f":"IF(AND(Table1[[#This Row],[2G]]=\"X\",$K$10=TRUE),\"Yes\",\"No\")","v":"Yes"},"X",{"$f":"IF(AND(Table1[[#This Row],[2H]]=\"X\",$K$11=TRUE),\"Yes\",\"No\")","v":"Yes"},null,{"$f":"IF(AND(Table1[[#This Row],[2I]]=\"X\",$K$12=TRUE),\"Yes\",\"No\")","v":"No"},"X",{"$f":"IF(AND(Table1[[#This Row],[2J]]=\"X\",$K$13=TRUE),\"Yes\",\"No\")","v":"Yes"},"X",{"$f":"IF(AND(Table1[[#This Row],[2K]]=\"X\",$K$14=TRUE),\"Yes\",\"No\")","v":"Yes"}]
[null,null,"S-1B-06","Use cooling technologies to reduce surface temperatures during periods of high temperatures and/or heatwaves.","Use reflective coating; Use high-reflectivity hardscape; Decrease impervious surfaces and/or install permeable surfaces; Incorporate green infrastructure (e.g., green roofs); Maintain and/or expand urban tree canopy.",{"$f":"IF(AND(COUNTIF(Table1[[#This Row],[1A]:[YN6]], \"Yes\") > 0,COUNTIF(Table1[[#This Row],[2A]:[YN17]], \"Yes\") > 0), \"Yes\", \"No\")","v":"Yes"},null,{"$f":"IF(AND(Table1[[#This Row],[1A]]=\"X\",Adaptation!$H$4=TRUE),\"Yes\",\"No\")","v":"No"},null,{"$f":"IF(AND(Table1[[#This Row],[1B]]=\"X\",Adaptation!$H$5=TRUE),\"Yes\",\"No\")","v":"No"},"X",{"$f":"IF(AND(Table1[[#This Row],[1C]]=\"X\",Adaptation!$H$6=TRUE),\"Yes\",\"No\")","v":"Yes"},"X",{"$f":"IF(AND(Table1[[#This Row],[1D]]=\"X\",Adaptation!$H$7=TRUE),\"Yes\",\"No\")","v":"Yes"},null,{"$f":"IF(AND(Table1[[#This Row],[1E]]=\"X\",Adaptation!$H$8=TRUE),\"Yes\",\"No\")","v":"No"},null,{"$f":"IF(AND(Table1[[#This Row],[1F]]=\"X\",Adaptation!$H$9=TRUE),\"Yes\",\"No\")","v":"No"},null,{"$f":"IF(AND(Table1[[#This Row],[2A]]=\"X\",$K$4=TRUE),\"Yes\",\"No\")","v":"No"},null,{"$f":"IF(AND(Table1[[#This Row],[2B]]=\"X\",$K$5=TRUE),\"Yes\",\"No\")","v":"No"},null,{"$f":"IF(AND(Table1[[#This Row],[2C]]=\"X\",$K$6=TRUE),\"Yes\",\"No\")","v":"No"},"X",{"$f":"IF(AND(Table1[[#This Row],[2D]]=\"X\",$K$7=TRUE),\"Yes\",\"No\")","v":"Yes"},"X",{"$f":"IF(AND(Table1[[#This Row],[2E]]=\"X\",$K$8=TRUE),\"Yes\",\"No\")","v":"Yes"},null,{"$f":"IF(AND(Table1[[#This Row],[2F]]=\"X\",$K$9=TRUE),\"Yes\",\"No\")","v":"No"},null,{"$f":"IF(AND(Table1[[#This Row],[2G]]=\"X\",$K$10=TRUE),\"Yes\",\"No\")","v":"No"},"X",{"$f":"IF(AND(Table1[[#This Row],[2H]]=\"X\",$K$11=TRUE),\"Yes\",\"No\")","v":"Yes"},null,{"$f":"IF(AND(Table1[[#This Row],[2I]]=\"X\",$K$12=TRUE),\"Yes\",\"No\")","v":"No"},null,{"$f":"IF(AND(Table1[[#This Row],[2J]]=\"X\",$K$13=TRUE),\"Yes\",\"No\")","v":"No"},null,{"$f":"IF(AND(Table1[[#This Row],[2K]]=\"X\",$K$14=TRUE),\"Yes\",\"No\")","v":"No"}]
[null,null,"S-1B-07","Consider and adjust to changes in the distribution and prevalence of heat-tolerant pests by incorporating changes into pest management for buildings and infrastructure.","Resist intrusion of termites as hardiness zones move north.",{"$f":"IF(AND(COUNTIF(Table1[[#This Row],[1A]:[YN6]], \"Yes\") > 0,COUNTIF(Table1[[#This Row],[2A]:[YN17]], \"Yes\") > 0), \"Yes\", \"No\")","v":"Yes"},null,{"$f":"IF(AND(Table1[[#This Row],[1A]]=\"X\",Adaptation!$H$4=TRUE),\"Yes\",\"No\")","v":"No"},null,{"$f":"IF(AND(Table1[[#This Row],[1B]]=\"X\",Adaptation!$H$5=TRUE),\"Yes\",\"No\")","v":"No"},"X",{"$f":"IF(AND(Table1[[#This Row],[1C]]=\"X\",Adaptation!$H$6=TRUE),\"Yes\",\"No\")","v":"Yes"},null,{"$f":"IF(AND(Table1[[#This Row],[1D]]=\"X\",Adaptation!$H$7=TRUE),\"Yes\",\"No\")","v":"No"},null,{"$f":"IF(AND(Table1[[#This Row],[1E]]=\"X\",Adaptation!$H$8=TRUE),\"Yes\",\"No\")","v":"No"},null,{"$f":"IF(AND(Table1[[#This Row],[1F]]=\"X\",Adaptation!$H$9=TRUE),\"Yes\",\"No\")","v":"No"},null,{"$f":"IF(AND(Table1[[#This Row],[2A]]=\"X\",$K$4=TRUE),\"Yes\",\"No\")","v":"No"},null,{"$f":"IF(AND(Table1[[#This Row],[2B]]=\"X\",$K$5=TRUE),\"Yes\",\"No\")","v":"No"},null,{"$f":"IF(AND(Table1[[#This Row],[2C]]=\"X\",$K$6=TRUE),\"Yes\",\"No\")","v":"No"},null,{"$f":"IF(AND(Table1[[#This Row],[2D]]=\"X\",$K$7=TRUE),\"Yes\",\"No\")","v":"No"},null,{"$f":"IF(AND(Table1[[#This Row],[2E]]=\"X\",$K$8=TRUE),\"Yes\",\"No\")","v":"No"},null,{"$f":"IF(AND(Table1[[#This Row],[2F]]=\"X\",$K$9=TRUE),\"Yes\",\"No\")","v":"No"},null,{"$f":"IF(AND(Table1[[#This Row],[2G]]=\"X\",$K$10=TRUE),\"Yes\",\"No\")","v":"No"},"X",{"$f":"IF(AND(Table1[[#This Row],[2H]]=\"X\",$K$11=TRUE),\"Yes\",\"No\")","v":"Yes"},null,{"$f":"IF(AND(Table1[[#This Row],[2I]]=\"X\",$K$12=TRUE),\"Yes\",\"No\")","v":"No"},null,{"$f":"IF(AND(Table1[[#This Row],[2J]]=\"X\",$K$13=TRUE),\"Yes\",\"No\")","v":"No"},null,{"$f":"IF(AND(Table1[[#This Row],[2K]]=\"X\",$K$14=TRUE),\"Yes\",\"No\")","v":"No"}]
[null,null,"S-1B-08","Use building construction materials that maintain indoor temperatures and/or are resilient to increasing temperatures during high heat conditions and heatwaves.","Update building insulation for higher heat thresholds; Use reflective roofing materials; Install energy efficient windows (e.g., double-glazed windows); Install green roofs and/or green walls; Use light-colored building materials (e.g., cool roofing and sliding materials); Optimize natural ventilation.",{"$f":"IF(AND(COUNTIF(Table1[[#This Row],[1A]:[YN6]], \"Yes\") > 0,COUNTIF(Table1[[#This Row],[2A]:[YN17]], \"Yes\") > 0), \"Yes\", \"No\")","v":"Yes"},null,{"$f":"IF(AND(Table1[[#This Row],[1A]]=\"X\",Adaptation!$H$4=TRUE),\"Yes\",\"No\")","v":"No"},null,{"$f":"IF(AND(Table1[[#This Row],[1B]]=\"X\",Adaptation!$H$5=TRUE),\"Yes\",\"No\")","v":"No"},"X",{"$f":"IF(AND(Table1[[#This Row],[1C]]=\"X\",Adaptation!$H$6=TRUE),\"Yes\",\"No\")","v":"Yes"},"X",{"$f":"IF(AND(Table1[[#This Row],[1D]]=\"X\",Adaptation!$H$7=TRUE),\"Yes\",\"No\")","v":"Yes"},null,{"$f":"IF(AND(Table1[[#This Row],[1E]]=\"X\",Adaptation!$H$8=TRUE),\"Yes\",\"No\")","v":"No"},null,{"$f":"IF(AND(Table1[[#This Row],[1F]]=\"X\",Adaptation!$H$9=TRUE),\"Yes\",\"No\")","v":"No"},null,{"$f":"IF(AND(Table1[[#This Row],[2A]]=\"X\",$K$4=TRUE),\"Yes\",\"No\")","v":"No"},null,{"$f":"IF(AND(Table1[[#This Row],[2B]]=\"X\",$K$5=TRUE),\"Yes\",\"No\")","v":"No"},null,{"$f":"IF(AND(Table1[[#This Row],[2C]]=\"X\",$K$6=TRUE),\"Yes\",\"No\")","v":"No"},null,{"$f":"IF(AND(Table1[[#This Row],[2D]]=\"X\",$K$7=TRUE),\"Yes\",\"No\")","v":"No"},null,{"$f":"IF(AND(Table1[[#This Row],[2E]]=\"X\",$K$8=TRUE),\"Yes\",\"No\")","v":"No"},null,{"$f":"IF(AND(Table1[[#This Row],[2F]]=\"X\",$K$9=TRUE),\"Yes\",\"No\")","v":"No"},null,{"$f":"IF(AND(Table1[[#This Row],[2G]]=\"X\",$K$10=TRUE),\"Yes\",\"No\")","v":"No"},"X",{"$f":"IF(AND(Table1[[#This Row],[2H]]=\"X\",$K$11=TRUE),\"Yes\",\"No\")","v":"Yes"},null,{"$f":"IF(AND(Table1[[#This Row],[2I]]=\"X\",$K$12=TRUE),\"Yes\",\"No\")","v":"No"},null,{"$f":"IF(AND(Table1[[#This Row],[2J]]=\"X\",$K$13=TRUE),\"Yes\",\"No\")","v":"No"},null,{"$f":"IF(AND(Table1[[#This Row],[2K]]=\"X\",$K$14=TRUE),\"Yes\",\"No\")","v":"No"}]
[null,null,"S-1B-09","Consider and adjust to changes to agricultural systems because of increased temperatures, including the distribution and prevalence of heat-tolerant pests, heat-affected cropping patterns, and water management needs.","Monitor changes in distribution/prevalence of pests in the region; Plant cover crops; Install sensors to monitor soil moisture levels.",{"$f":"IF(AND(COUNTIF(Table1[[#This Row],[1A]:[YN6]], \"Yes\") > 0,COUNTIF(Table1[[#This Row],[2A]:[YN17]], \"Yes\") > 0), \"Yes\", \"No\")","v":"Yes"},null,{"$f":"IF(AND(Table1[[#This Row],[1A]]=\"X\",Adaptation!$H$4=TRUE),\"Yes\",\"No\")","v":"No"},null,{"$f":"IF(AND(Table1[[#This Row],[1B]]=\"X\",Adaptation!$H$5=TRUE),\"Yes\",\"No\")","v":"No"},"X",{"$f":"IF(AND(Table1[[#This Row],[1C]]=\"X\",Adaptation!$H$6=TRUE),\"Yes\",\"No\")","v":"Yes"},"X",{"$f":"IF(AND(Table1[[#This Row],[1D]]=\"X\",Adaptation!$H$7=TRUE),\"Yes\",\"No\")","v":"Yes"},null,{"$f":"IF(AND(Table1[[#This Row],[1E]]=\"X\",Adaptation!$H$8=TRUE),\"Yes\",\"No\")","v":"No"},null,{"$f":"IF(AND(Table1[[#This Row],[1F]]=\"X\",Adaptation!$H$9=TRUE),\"Yes\",\"No\")","v":"No"},null,{"$f":"IF(AND(Table1[[#This Row],[2A]]=\"X\",$K$4=TRUE),\"Yes\",\"No\")","v":"No"},null,{"$f":"IF(AND(Table1[[#This Row],[2B]]=\"X\",$K$5=TRUE),\"Yes\",\"No\")","v":"No"},null,{"$f":"IF(AND(Table1[[#This Row],[2C]]=\"X\",$K$6=TRUE),\"Yes\",\"No\")","v":"No"},null,{"$f":"IF(AND(Table1[[#This Row],[2D]]=\"X\",$K$7=TRUE),\"Yes\",\"No\")","v":"No"},null,{"$f":"IF(AND(Table1[[#This Row],[2E]]=\"X\",$K$8=TRUE),\"Yes\",\"No\")","v":"No"},null,{"$f":"IF(AND(Table1[[#This Row],[2F]]=\"X\",$K$9=TRUE),\"Yes\",\"No\")","v":"No"},"X",{"$f":"IF(AND(Table1[[#This Row],[2G]]=\"X\",$K$10=TRUE),\"Yes\",\"No\")","v":"Yes"},null,{"$f":"IF(AND(Table1[[#This Row],[2H]]=\"X\",$K$11=TRUE),\"Yes\",\"No\")","v":"No"},null,{"$f":"IF(AND(Table1[[#This Row],[2I]]=\"X\",$K$12=TRUE),\"Yes\",\"No\")","v":"No"},null,{"$f":"IF(AND(Table1[[#This Row],[2J]]=\"X\",$K$13=TRUE),\"Yes\",\"No\")","v":"No"},null,{"$f":"IF(AND(Table1[[#This Row],[2K]]=\"X\",$K$14=TRUE),\"Yes\",\"No\")","v":"No"}]
[null,null,"S-1B-10","Install cooling systems to protect livestock from heat stress during periods of high temperatures and/or heatwaves.","Install shade structures; Install fans or ventilation systems; Install misters or sprinklers; Install water troughs; Incorporate reflective materials for shelter roofing.",{"$f":"IF(AND(COUNTIF(Table1[[#This Row],[1A]:[YN6]], \"Yes\") > 0,COUNTIF(Table1[[#This Row],[2A]:[YN17]], \"Yes\") > 0), \"Yes\", \"No\")","v":"Yes"},null,{"$f":"IF(AND(Table1[[#This Row],[1A]]=\"X\",Adaptation!$H$4=TRUE),\"Yes\",\"No\")","v":"No"},null,{"$f":"IF(AND(Table1[[#This Row],[1B]]=\"X\",Adaptation!$H$5=TRUE),\"Yes\",\"No\")","v":"No"},"X",{"$f":"IF(AND(Table1[[#This Row],[1C]]=\"X\",Adaptation!$H$6=TRUE),\"Yes\",\"No\")","v":"Yes"},"X",{"$f":"IF(AND(Table1[[#This Row],[1D]]=\"X\",Adaptation!$H$7=TRUE),\"Yes\",\"No\")","v":"Yes"},null,{"$f":"IF(AND(Table1[[#This Row],[1E]]=\"X\",Adaptation!$H$8=TRUE),\"Yes\",\"No\")","v":"No"},null,{"$f":"IF(AND(Table1[[#This Row],[1F]]=\"X\",Adaptation!$H$9=TRUE),\"Yes\",\"No\")","v":"No"},null,{"$f":"IF(AND(Table1[[#This Row],[2A]]=\"X\",$K$4=TRUE),\"Yes\",\"No\")","v":"No"},null,{"$f":"IF(AND(Table1[[#This Row],[2B]]=\"X\",$K$5=TRUE),\"Yes\",\"No\")","v":"No"},null,{"$f":"IF(AND(Table1[[#This Row],[2C]]=\"X\",$K$6=TRUE),\"Yes\",\"No\")","v":"No"},null,{"$f":"IF(AND(Table1[[#This Row],[2D]]=\"X\",$K$7=TRUE),\"Yes\",\"No\")","v":"No"},null,{"$f":"IF(AND(Table1[[#This Row],[2E]]=\"X\",$K$8=TRUE),\"Yes\",\"No\")","v":"No"},"X",{"$f":"IF(AND(Table1[[#This Row],[2F]]=\"X\",$K$9=TRUE),\"Yes\",\"No\")","v":"Yes"},null,{"$f":"IF(AND(Table1[[#This Row],[2G]]=\"X\",$K$10=TRUE),\"Yes\",\"No\")","v":"No"},null,{"$f":"IF(AND(Table1[[#This Row],[2H]]=\"X\",$K$11=TRUE),\"Yes\",\"No\")","v":"No"},null,{"$f":"IF(AND(Table1[[#This Row],[2I]]=\"X\",$K$12=TRUE),\"Yes\",\"No\")","v":"No"},null,{"$f":"IF(AND(Table1[[#This Row],[2J]]=\"X\",$K$13=TRUE),\"Yes\",\"No\")","v":"No"},null,{"$f":"IF(AND(Table1[[#This Row],[2K]]=\"X\",$K$14=TRUE),\"Yes\",\"No\")","v":"No"}]
[null,null,"S-1B-11","Consider livestock breeds that are more tolerant to heat.","Introduce heat-tolerant cattle breeds.",{"$f":"IF(AND(COUNTIF(Table1[[#This Row],[1A]:[YN6]], \"Yes\") > 0,COUNTIF(Table1[[#This Row],[2A]:[YN17]], \"Yes\") > 0), \"Yes\", \"No\")","v":"Yes"},null,{"$f":"IF(AND(Table1[[#This Row],[1A]]=\"X\",Adaptation!$H$4=TRUE),\"Yes\",\"No\")","v":"No"},null,{"$f":"IF(AND(Table1[[#This Row],[1B]]=\"X\",Adaptation!$H$5=TRUE),\"Yes\",\"No\")","v":"No"},"X",{"$f":"IF(AND(Table1[[#This Row],[1C]]=\"X\",Adaptation!$H$6=TRUE),\"Yes\",\"No\")","v":"Yes"},"X",{"$f":"IF(AND(Table1[[#This Row],[1D]]=\"X\",Adaptation!$H$7=TRUE),\"Yes\",\"No\")","v":"Yes"},null,{"$f":"IF(AND(Table1[[#This Row],[1E]]=\"X\",Adaptation!$H$8=TRUE),\"Yes\",\"No\")","v":"No"},null,{"$f":"IF(AND(Table1[[#This Row],[1F]]=\"X\",Adaptation!$H$9=TRUE),\"Yes\",\"No\")","v":"No"},null,{"$f":"IF(AND(Table1[[#This Row],[2A]]=\"X\",$K$4=TRUE),\"Yes\",\"No\")","v":"No"},null,{"$f":"IF(AND(Table1[[#This Row],[2B]]=\"X\",$K$5=TRUE),\"Yes\",\"No\")","v":"No"},null,{"$f":"IF(AND(Table1[[#This Row],[2C]]=\"X\",$K$6=TRUE),\"Yes\",\"No\")","v":"No"},null,{"$f":"IF(AND(Table1[[#This Row],[2D]]=\"X\",$K$7=TRUE),\"Yes\",\"No\")","v":"No"},null,{"$f":"IF(AND(Table1[[#This Row],[2E]]=\"X\",$K$8=TRUE),\"Yes\",\"No\")","v":"No"},"X",{"$f":"IF(AND(Table1[[#This Row],[2F]]=\"X\",$K$9=TRUE),\"Yes\",\"No\")","v":"Yes"},null,{"$f":"IF(AND(Table1[[#This Row],[2G]]=\"X\",$K$10=TRUE),\"Yes\",\"No\")","v":"No"},null,{"$f":"IF(AND(Table1[[#This Row],[2H]]=\"X\",$K$11=TRUE),\"Yes\",\"No\")","v":"No"},null,{"$f":"IF(AND(Table1[[#This Row],[2I]]=\"X\",$K$12=TRUE),\"Yes\",\"No\")","v":"No"},null,{"$f":"IF(AND(Table1[[#This Row],[2J]]=\"X\",$K$13=TRUE),\"Yes\",\"No\")","v":"No"},null,{"$f":"IF(AND(Table1[[#This Row],[2K]]=\"X\",$K$14=TRUE),\"Yes\",\"No\")","v":"No"}]
[null,null,"S-1B-12","Consider how higher temperatures and heatwaves may increase decomposition rates and the need to improve waste management practices.","Install a temperature monitoring system to detect and manage heat build-up; Install waste infrastructure that can withstand higher temperatures such as landfill liners, odor control strategies for organics composting.",{"$f":"IF(AND(COUNTIF(Table1[[#This Row],[1A]:[YN6]], \"Yes\") > 0,COUNTIF(Table1[[#This Row],[2A]:[YN17]], \"Yes\") > 0), \"Yes\", \"No\")","v":"Yes"},null,{"$f":"IF(AND(Table1[[#This Row],[1A]]=\"X\",Adaptation!$H$4=TRUE),\"Yes\",\"No\")","v":"No"},null,{"$f":"IF(AND(Table1[[#This Row],[1B]]=\"X\",Adaptation!$H$5=TRUE),\"Yes\",\"No\")","v":"No"},"X",{"$f":"IF(AND(Table1[[#This Row],[1C]]=\"X\",Adaptation!$H$6=TRUE),\"Yes\",\"No\")","v":"Yes"},"X",{"$f":"IF(AND(Table1[[#This Row],[1D]]=\"X\",Adaptation!$H$7=TRUE),\"Yes\",\"No\")","v":"Yes"},null,{"$f":"IF(AND(Table1[[#This Row],[1E]]=\"X\",Adaptation!$H$8=TRUE),\"Yes\",\"No\")","v":"No"},null,{"$f":"IF(AND(Table1[[#This Row],[1F]]=\"X\",Adaptation!$H$9=TRUE),\"Yes\",\"No\")","v":"No"},null,{"$f":"IF(AND(Table1[[#This Row],[2A]]=\"X\",$K$4=TRUE),\"Yes\",\"No\")","v":"No"},null,{"$f":"IF(AND(Table1[[#This Row],[2B]]=\"X\",$K$5=TRUE),\"Yes\",\"No\")","v":"No"},null,{"$f":"IF(AND(Table1[[#This Row],[2C]]=\"X\",$K$6=TRUE),\"Yes\",\"No\")","v":"No"},null,{"$f":"IF(AND(Table1[[#This Row],[2D]]=\"X\",$K$7=TRUE),\"Yes\",\"No\")","v":"No"},null,{"$f":"IF(AND(Table1[[#This Row],[2E]]=\"X\",$K$8=TRUE),\"Yes\",\"No\")","v":"No"},null,{"$f":"IF(AND(Table1[[#This Row],[2F]]=\"X\",$K$9=TRUE),\"Yes\",\"No\")","v":"No"},null,{"$f":"IF(AND(Table1[[#This Row],[2G]]=\"X\",$K$10=TRUE),\"Yes\",\"No\")","v":"No"},null,{"$f":"IF(AND(Table1[[#This Row],[2H]]=\"X\",$K$11=TRUE),\"Yes\",\"No\")","v":"No"},"X",{"$f":"IF(AND(Table1[[#This Row],[2I]]=\"X\",$K$12=TRUE),\"Yes\",\"No\")","v":"Yes"},null,{"$f":"IF(AND(Table1[[#This Row],[2J]]=\"X\",$K$13=TRUE),\"Yes\",\"No\")","v":"No"},null,{"$f":"IF(AND(Table1[[#This Row],[2K]]=\"X\",$K$14=TRUE),\"Yes\",\"No\")","v":"No"}]
[null,null,"S-1B-13","Ensure subsurface infrastructure (e.g., pipes, SSTA installation) can withstand high temperatures and heatwaves.","Install sensors to monitor ground temperatures; Use thermal insulation; Implement cooling systems (e.g., ventilation shafts, cooling pipes); Install temperature sensors for monitoring.",{"$f":"IF(AND(COUNTIF(Table1[[#This Row],[1A]:[YN6]], \"Yes\") > 0,COUNTIF(Table1[[#This Row],[2A]:[YN17]], \"Yes\") > 0), \"Yes\", \"No\")","v":"Yes"},null,{"$f":"IF(AND(Table1[[#This Row],[1A]]=\"X\",Adaptation!$H$4=TRUE),\"Yes\",\"No\")","v":"No"},null,{"$f":"IF(AND(Table1[[#This Row],[1B]]=\"X\",Adaptation!$H$5=TRUE),\"Yes\",\"No\")","v":"No"},"X",{"$f":"IF(AND(Table1[[#This Row],[1C]]=\"X\",Adaptation!$H$6=TRUE),\"Yes\",\"No\")","v":"Yes"},"X",{"$f":"IF(AND(Table1[[#This Row],[1D]]=\"X\",Adaptation!$H$7=TRUE),\"Yes\",\"No\")","v":"Yes"},null,{"$f":"IF(AND(Table1[[#This Row],[1E]]=\"X\",Adaptation!$H$8=TRUE),\"Yes\",\"No\")","v":"No"},null,{"$f":"IF(AND(Table1[[#This Row],[1F]]=\"X\",Adaptation!$H$9=TRUE),\"Yes\",\"No\")","v":"No"},null,{"$f":"IF(AND(Table1[[#This Row],[2A]]=\"X\",$K$4=TRUE),\"Yes\",\"No\")","v":"No"},"X",{"$f":"IF(AND(Table1[[#This Row],[2B]]=\"X\",$K$5=TRUE),\"Yes\",\"No\")","v":"Yes"},"X",{"$f":"IF(AND(Table1[[#This Row],[2C]]=\"X\",$K$6=TRUE),\"Yes\",\"No\")","v":"Yes"},null,{"$f":"IF(AND(Table1[[#This Row],[2D]]=\"X\",$K$7=TRUE),\"Yes\",\"No\")","v":"No"},null,{"$f":"IF(AND(Table1[[#This Row],[2E]]=\"X\",$K$8=TRUE),\"Yes\",\"No\")","v":"No"},null,{"$f":"IF(AND(Table1[[#This Row],[2F]]=\"X\",$K$9=TRUE),\"Yes\",\"No\")","v":"No"},null,{"$f":"IF(AND(Table1[[#This Row],[2G]]=\"X\",$K$10=TRUE),\"Yes\",\"No\")","v":"No"},null,{"$f":"IF(AND(Table1[[#This Row],[2H]]=\"X\",$K$11=TRUE),\"Yes\",\"No\")","v":"No"},null,{"$f":"IF(AND(Table1[[#This Row],[2I]]=\"X\",$K$12=TRUE),\"Yes\",\"No\")","v":"No"},null,{"$f":"IF(AND(Table1[[#This Row],[2J]]=\"X\",$K$13=TRUE),\"Yes\",\"No\")","v":"No"},null,{"$f":"IF(AND(Table1[[#This Row],[2K]]=\"X\",$K$14=TRUE),\"Yes\",\"No\")","v":"No"}]
[null,null,"S-1B-14","Ensure there is adequate redundancy and/or backup energy resources available to maintain necessary operations during increased cooling demand and/or an extreme heat event.","Implement renewable energy and smart grid technology to optimize energy distribution and reduce outages; Develop off-grid sources for redundant power supply; Install easy hookups for temporary power; Install backup generators; Diversify energy sources such as by installing renewable energy; Install battery storage; Incorporate multiple power supplies; Implement a microgrid with integrated energy storage systems; Join a community energy project to pool resources; Utilize a combined heat and power (CHP) system.",{"$f":"IF(AND(COUNTIF(Table1[[#This Row],[1A]:[YN6]], \"Yes\") > 0,COUNTIF(Table1[[#This Row],[2A]:[YN17]], \"Yes\") > 0), \"Yes\", \"No\")","v":"Yes"},null,{"$f":"IF(AND(Table1[[#This Row],[1A]]=\"X\",Adaptation!$H$4=TRUE),\"Yes\",\"No\")","v":"No"},null,{"$f":"IF(AND(Table1[[#This Row],[1B]]=\"X\",Adaptation!$H$5=TRUE),\"Yes\",\"No\")","v":"No"},null,{"$f":"IF(AND(Table1[[#This Row],[1C]]=\"X\",Adaptation!$H$6=TRUE),\"Yes\",\"No\")","v":"No"},"X",{"$f":"IF(AND(Table1[[#This Row],[1D]]=\"X\",Adaptation!$H$7=TRUE),\"Yes\",\"No\")","v":"Yes"},null,{"$f":"IF(AND(Table1[[#This Row],[1E]]=\"X\",Adaptation!$H$8=TRUE),\"Yes\",\"No\")","v":"No"},null,{"$f":"IF(AND(Table1[[#This Row],[1F]]=\"X\",Adaptation!$H$9=TRUE),\"Yes\",\"No\")","v":"No"},"X",{"$f":"IF(AND(Table1[[#This Row],[2A]]=\"X\",$K$4=TRUE),\"Yes\",\"No\")","v":"Yes"},"X",{"$f":"IF(AND(Table1[[#This Row],[2B]]=\"X\",$K$5=TRUE),\"Yes\",\"No\")","v":"Yes"},null,{"$f":"IF(AND(Table1[[#This Row],[2C]]=\"X\",$K$6=TRUE),\"Yes\",\"No\")","v":"No"},null,{"$f":"IF(AND(Table1[[#This Row],[2D]]=\"X\",$K$7=TRUE),\"Yes\",\"No\")","v":"No"},"X",{"$f":"IF(AND(Table1[[#This Row],[2E]]=\"X\",$K$8=TRUE),\"Yes\",\"No\")","v":"Yes"},"X",{"$f":"IF(AND(Table1[[#This Row],[2F]]=\"X\",$K$9=TRUE),\"Yes\",\"No\")","v":"Yes"},null,{"$f":"IF(AND(Table1[[#This Row],[2G]]=\"X\",$K$10=TRUE),\"Yes\",\"No\")","v":"No"},"X",{"$f":"IF(AND(Table1[[#This Row],[2H]]=\"X\",$K$11=TRUE),\"Yes\",\"No\")","v":"Yes"},"X",{"$f":"IF(AND(Table1[[#This Row],[2I]]=\"X\",$K$12=TRUE),\"Yes\",\"No\")","v":"Yes"},"X",{"$f":"IF(AND(Table1[[#This Row],[2J]]=\"X\",$K$13=TRUE),\"Yes\",\"No\")","v":"Yes"},"X",{"$f":"IF(AND(Table1[[#This Row],[2K]]=\"X\",$K$14=TRUE),\"Yes\",\"No\")","v":"Yes"}]
[null,null,"S-1B-15","Harden the energy infrastructure systems to withstand projected increasing temperatures and heatwaves.","Increase tension in transmission lines to reduce sag; Add external coolers to transformers; Use more heat-resistant materials (e.g., high-temperature conductors); Bury lines/cables.",{"$f":"IF(AND(COUNTIF(Table1[[#This Row],[1A]:[YN6]], \"Yes\") > 0,COUNTIF(Table1[[#This Row],[2A]:[YN17]], \"Yes\") > 0), \"Yes\", \"No\")","v":"Yes"},null,{"$f":"IF(AND(Table1[[#This Row],[1A]]=\"X\",Adaptation!$H$4=TRUE),\"Yes\",\"No\")","v":"No"},null,{"$f":"IF(AND(Table1[[#This Row],[1B]]=\"X\",Adaptation!$H$5=TRUE),\"Yes\",\"No\")","v":"No"},"X",{"$f":"IF(AND(Table1[[#This Row],[1C]]=\"X\",Adaptation!$H$6=TRUE),\"Yes\",\"No\")","v":"Yes"},"X",{"$f":"IF(AND(Table1[[#This Row],[1D]]=\"X\",Adaptation!$H$7=TRUE),\"Yes\",\"No\")","v":"Yes"},null,{"$f":"IF(AND(Table1[[#This Row],[1E]]=\"X\",Adaptation!$H$8=TRUE),\"Yes\",\"No\")","v":"No"},"X",{"$f":"IF(AND(Table1[[#This Row],[1F]]=\"X\",Adaptation!$H$9=TRUE),\"Yes\",\"No\")","v":"Yes"},"X",{"$f":"IF(AND(Table1[[#This Row],[2A]]=\"X\",$K$4=TRUE),\"Yes\",\"No\")","v":"Yes"},"X",{"$f":"IF(AND(Table1[[#This Row],[2B]]=\"X\",$K$5=TRUE),\"Yes\",\"No\")","v":"Yes"},"X",{"$f":"IF(AND(Table1[[#This Row],[2C]]=\"X\",$K$6=TRUE),\"Yes\",\"No\")","v":"Yes"},null,{"$f":"IF(AND(Table1[[#This Row],[2D]]=\"X\",$K$7=TRUE),\"Yes\",\"No\")","v":"No"},null,{"$f":"IF(AND(Table1[[#This Row],[2E]]=\"X\",$K$8=TRUE),\"Yes\",\"No\")","v":"No"},null,{"$f":"IF(AND(Table1[[#This Row],[2F]]=\"X\",$K$9=TRUE),\"Yes\",\"No\")","v":"No"},null,{"$f":"IF(AND(Table1[[#This Row],[2G]]=\"X\",$K$10=TRUE),\"Yes\",\"No\")","v":"No"},"X",{"$f":"IF(AND(Table1[[#This Row],[2H]]=\"X\",$K$11=TRUE),\"Yes\",\"No\")","v":"Yes"},"X",{"$f":"IF(AND(Table1[[#This Row],[2I]]=\"X\",$K$12=TRUE),\"Yes\",\"No\")","v":"Yes"},"X",{"$f":"IF(AND(Table1[[#This Row],[2J]]=\"X\",$K$13=TRUE),\"Yes\",\"No\")","v":"Yes"},null,{"$f":"IF(AND(Table1[[#This Row],[2K]]=\"X\",$K$14=TRUE),\"Yes\",\"No\")","v":"No"}]
[null,null,"S-1B-16","Upgrade the electrical systems to handle increased cooling demand especially from extreme heat events.","Consider renewable energy and smart grid technology to optimize energy distribution and reduce outages.",{"$f":"IF(AND(COUNTIF(Table1[[#This Row],[1A]:[YN6]], \"Yes\") > 0,COUNTIF(Table1[[#This Row],[2A]:[YN17]], \"Yes\") > 0), \"Yes\", \"No\")","v":"Yes"},null,{"$f":"IF(AND(Table1[[#This Row],[1A]]=\"X\",Adaptation!$H$4=TRUE),\"Yes\",\"No\")","v":"No"},null,{"$f":"IF(AND(Table1[[#This Row],[1B]]=\"X\",Adaptation!$H$5=TRUE),\"Yes\",\"No\")","v":"No"},"X",{"$f":"IF(AND(Table1[[#This Row],[1C]]=\"X\",Adaptation!$H$6=TRUE),\"Yes\",\"No\")","v":"Yes"},"X",{"$f":"IF(AND(Table1[[#This Row],[1D]]=\"X\",Adaptation!$H$7=TRUE),\"Yes\",\"No\")","v":"Yes"},null,{"$f":"IF(AND(Table1[[#This Row],[1E]]=\"X\",Adaptation!$H$8=TRUE),\"Yes\",\"No\")","v":"No"},null,{"$f":"IF(AND(Table1[[#This Row],[1F]]=\"X\",Adaptation!$H$9=TRUE),\"Yes\",\"No\")","v":"No"},null,{"$f":"IF(AND(Table1[[#This Row],[2A]]=\"X\",$K$4=TRUE),\"Yes\",\"No\")","v":"No"},"X",{"$f":"IF(AND(Table1[[#This Row],[2B]]=\"X\",$K$5=TRUE),\"Yes\",\"No\")","v":"Yes"},null,{"$f":"IF(AND(Table1[[#This Row],[2C]]=\"X\",$K$6=TRUE),\"Yes\",\"No\")","v":"No"},null,{"$f":"IF(AND(Table1[[#This Row],[2D]]=\"X\",$K$7=TRUE),\"Yes\",\"No\")","v":"No"},null,{"$f":"IF(AND(Table1[[#This Row],[2E]]=\"X\",$K$8=TRUE),\"Yes\",\"No\")","v":"No"},null,{"$f":"IF(AND(Table1[[#This Row],[2F]]=\"X\",$K$9=TRUE),\"Yes\",\"No\")","v":"No"},null,{"$f":"IF(AND(Table1[[#This Row],[2G]]=\"X\",$K$10=TRUE),\"Yes\",\"No\")","v":"No"},null,{"$f":"IF(AND(Table1[[#This Row],[2H]]=\"X\",$K$11=TRUE),\"Yes\",\"No\")","v":"No"},null,{"$f":"IF(AND(Table1[[#This Row],[2I]]=\"X\",$K$12=TRUE),\"Yes\",\"No\")","v":"No"},null,{"$f":"IF(AND(Table1[[#This Row],[2J]]=\"X\",$K$13=TRUE),\"Yes\",\"No\")","v":"No"},null,{"$f":"IF(AND(Table1[[#This Row],[2K]]=\"X\",$K$14=TRUE),\"Yes\",\"No\")","v":"No"}]
[null,null,"S-1B-17","Provide cooling systems for critical infrastructure or equipment sensitive to overheating during periods of high temperatures and/or heatwaves.","Install back up air conditioning units; Use battery-powered equipment which is less prone to overheating than gas-powered machinery.",{"$f":"IF(AND(COUNTIF(Table1[[#This Row],[1A]:[YN6]], \"Yes\") > 0,COUNTIF(Table1[[#This Row],[2A]:[YN17]], \"Yes\") > 0), \"Yes\", \"No\")","v":"Yes"},null,{"$f":"IF(AND(Table1[[#This Row],[1A]]=\"X\",Adaptation!$H$4=TRUE),\"Yes\",\"No\")","v":"No"},null,{"$f":"IF(AND(Table1[[#This Row],[1B]]=\"X\",Adaptation!$H$5=TRUE),\"Yes\",\"No\")","v":"No"},"X",{"$f":"IF(AND(Table1[[#This Row],[1C]]=\"X\",Adaptation!$H$6=TRUE),\"Yes\",\"No\")","v":"Yes"},"X",{"$f":"IF(AND(Table1[[#This Row],[1D]]=\"X\",Adaptation!$H$7=TRUE),\"Yes\",\"No\")","v":"Yes"},null,{"$f":"IF(AND(Table1[[#This Row],[1E]]=\"X\",Adaptation!$H$8=TRUE),\"Yes\",\"No\")","v":"No"},null,{"$f":"IF(AND(Table1[[#This Row],[1F]]=\"X\",Adaptation!$H$9=TRUE),\"Yes\",\"No\")","v":"No"},"X",{"$f":"IF(AND(Table1[[#This Row],[2A]]=\"X\",$K$4=TRUE),\"Yes\",\"No\")","v":"Yes"},"X",{"$f":"IF(AND(Table1[[#This Row],[2B]]=\"X\",$K$5=TRUE),\"Yes\",\"No\")","v":"Yes"},null,{"$f":"IF(AND(Table1[[#This Row],[2C]]=\"X\",$K$6=TRUE),\"Yes\",\"No\")","v":"No"},null,{"$f":"IF(AND(Table1[[#This Row],[2D]]=\"X\",$K$7=TRUE),\"Yes\",\"No\")","v":"No"},null,{"$f":"IF(AND(Table1[[#This Row],[2E]]=\"X\",$K$8=TRUE),\"Yes\",\"No\")","v":"No"},null,{"$f":"IF(AND(Table1[[#This Row],[2F]]=\"X\",$K$9=TRUE),\"Yes\",\"No\")","v":"No"},null,{"$f":"IF(AND(Table1[[#This Row],[2G]]=\"X\",$K$10=TRUE),\"Yes\",\"No\")","v":"No"},"X",{"$f":"IF(AND(Table1[[#This Row],[2H]]=\"X\",$K$11=TRUE),\"Yes\",\"No\")","v":"Yes"},"X",{"$f":"IF(AND(Table1[[#This Row],[2I]]=\"X\",$K$12=TRUE),\"Yes\",\"No\")","v":"Yes"},"X",{"$f":"IF(AND(Table1[[#This Row],[2J]]=\"X\",$K$13=TRUE),\"Yes\",\"No\")","v":"Yes"},"X",{"$f":"IF(AND(Table1[[#This Row],[2K]]=\"X\",$K$14=TRUE),\"Yes\",\"No\")","v":"Yes"}]
[null,null,"S-1B-18","Implement cooling strategies for construction equipment vulnerable to high temperatures.","Provide cooling systems for equipment sensitive to overheating; Use battery-powered equipment which is less prone to overheating than gas-powered machinery.",{"$f":"IF(AND(COUNTIF(Table1[[#This Row],[1A]:[YN6]], \"Yes\") > 0,COUNTIF(Table1[[#This Row],[2A]:[YN17]], \"Yes\") > 0), \"Yes\", \"No\")","v":"Yes"},null,{"$f":"IF(AND(Table1[[#This Row],[1A]]=\"X\",Adaptation!$H$4=TRUE),\"Yes\",\"No\")","v":"No"},null,{"$f":"IF(AND(Table1[[#This Row],[1B]]=\"X\",Adaptation!$H$5=TRUE),\"Yes\",\"No\")","v":"No"},"X",{"$f":"IF(AND(Table1[[#This Row],[1C]]=\"X\",Adaptation!$H$6=TRUE),\"Yes\",\"No\")","v":"Yes"},"X",{"$f":"IF(AND(Table1[[#This Row],[1D]]=\"X\",Adaptation!$H$7=TRUE),\"Yes\",\"No\")","v":"Yes"},null,{"$f":"IF(AND(Table1[[#This Row],[1E]]=\"X\",Adaptation!$H$8=TRUE),\"Yes\",\"No\")","v":"No"},null,{"$f":"IF(AND(Table1[[#This Row],[1F]]=\"X\",Adaptation!$H$9=TRUE),\"Yes\",\"No\")","v":"No"},null,{"$f":"IF(AND(Table1[[#This Row],[2A]]=\"X\",$K$4=TRUE),\"Yes\",\"No\")","v":"No"},null,{"$f":"IF(AND(Table1[[#This Row],[2B]]=\"X\",$K$5=TRUE),\"Yes\",\"No\")","v":"No"},null,{"$f":"IF(AND(Table1[[#This Row],[2C]]=\"X\",$K$6=TRUE),\"Yes\",\"No\")","v":"No"},null,{"$f":"IF(AND(Table1[[#This Row],[2D]]=\"X\",$K$7=TRUE),\"Yes\",\"No\")","v":"No"},null,{"$f":"IF(AND(Table1[[#This Row],[2E]]=\"X\",$K$8=TRUE),\"Yes\",\"No\")","v":"No"},null,{"$f":"IF(AND(Table1[[#This Row],[2F]]=\"X\",$K$9=TRUE),\"Yes\",\"No\")","v":"No"},null,{"$f":"IF(AND(Table1[[#This Row],[2G]]=\"X\",$K$10=TRUE),\"Yes\",\"No\")","v":"No"},null,{"$f":"IF(AND(Table1[[#This Row],[2H]]=\"X\",$K$11=TRUE),\"Yes\",\"No\")","v":"No"},null,{"$f":"IF(AND(Table1[[#This Row],[2I]]=\"X\",$K$12=TRUE),\"Yes\",\"No\")","v":"No"},null,{"$f":"IF(AND(Table1[[#This Row],[2J]]=\"X\",$K$13=TRUE),\"Yes\",\"No\")","v":"No"},"X",{"$f":"IF(AND(Table1[[#This Row],[2K]]=\"X\",$K$14=TRUE),\"Yes\",\"No\")","v":"Yes"}]
[null,null,"S-1B-19","Increase the frequency of maintenance checks to ensure construction equipment is functioning optimally in high temperatures and during heatwaves.","Regularly check fluid levels, tire pressure, and hydraulic systems.",{"$f":"IF(AND(COUNTIF(Table1[[#This Row],[1A]:[YN6]], \"Yes\") > 0,COUNTIF(Table1[[#This Row],[2A]:[YN17]], \"Yes\") > 0), \"Yes\", \"No\")","v":"Yes"},null,{"$f":"IF(AND(Table1[[#This Row],[1A]]=\"X\",Adaptation!$H$4=TRUE),\"Yes\",\"No\")","v":"No"},null,{"$f":"IF(AND(Table1[[#This Row],[1B]]=\"X\",Adaptation!$H$5=TRUE),\"Yes\",\"No\")","v":"No"},"X",{"$f":"IF(AND(Table1[[#This Row],[1C]]=\"X\",Adaptation!$H$6=TRUE),\"Yes\",\"No\")","v":"Yes"},"X",{"$f":"IF(AND(Table1[[#This Row],[1D]]=\"X\",Adaptation!$H$7=TRUE),\"Yes\",\"No\")","v":"Yes"},null,{"$f":"IF(AND(Table1[[#This Row],[1E]]=\"X\",Adaptation!$H$8=TRUE),\"Yes\",\"No\")","v":"No"},null,{"$f":"IF(AND(Table1[[#This Row],[1F]]=\"X\",Adaptation!$H$9=TRUE),\"Yes\",\"No\")","v":"No"},null,{"$f":"IF(AND(Table1[[#This Row],[2A]]=\"X\",$K$4=TRUE),\"Yes\",\"No\")","v":"No"},null,{"$f":"IF(AND(Table1[[#This Row],[2B]]=\"X\",$K$5=TRUE),\"Yes\",\"No\")","v":"No"},null,{"$f":"IF(AND(Table1[[#This Row],[2C]]=\"X\",$K$6=TRUE),\"Yes\",\"No\")","v":"No"},null,{"$f":"IF(AND(Table1[[#This Row],[2D]]=\"X\",$K$7=TRUE),\"Yes\",\"No\")","v":"No"},null,{"$f":"IF(AND(Table1[[#This Row],[2E]]=\"X\",$K$8=TRUE),\"Yes\",\"No\")","v":"No"},null,{"$f":"IF(AND(Table1[[#This Row],[2F]]=\"X\",$K$9=TRUE),\"Yes\",\"No\")","v":"No"},null,{"$f":"IF(AND(Table1[[#This Row],[2G]]=\"X\",$K$10=TRUE),\"Yes\",\"No\")","v":"No"},null,{"$f":"IF(AND(Table1[[#This Row],[2H]]=\"X\",$K$11=TRUE),\"Yes\",\"No\")","v":"No"},null,{"$f":"IF(AND(Table1[[#This Row],[2I]]=\"X\",$K$12=TRUE),\"Yes\",\"No\")","v":"No"},null,{"$f":"IF(AND(Table1[[#This Row],[2J]]=\"X\",$K$13=TRUE),\"Yes\",\"No\")","v":"No"},"X",{"$f":"IF(AND(Table1[[#This Row],[2K]]=\"X\",$K$14=TRUE),\"Yes\",\"No\")","v":"Yes"}]
[null,null,"S-1B-20","Use cooling technologies to reduce heat impact on waste management systems during periods of high temperatures and/or heatwaves.","Implement cooling systems for waste facility; Install heat-resistant and sealed containers to store waste; Install green infrastructure on the facility (e.g., green roof; increased vegetation).",{"$f":"IF(AND(COUNTIF(Table1[[#This Row],[1A]:[YN6]], \"Yes\") > 0,COUNTIF(Table1[[#This Row],[2A]:[YN17]], \"Yes\") > 0), \"Yes\", \"No\")","v":"Yes"},null,{"$f":"IF(AND(Table1[[#This Row],[1A]]=\"X\",Adaptation!$H$4=TRUE),\"Yes\",\"No\")","v":"No"},null,{"$f":"IF(AND(Table1[[#This Row],[1B]]=\"X\",Adaptation!$H$5=TRUE),\"Yes\",\"No\")","v":"No"},"X",{"$f":"IF(AND(Table1[[#This Row],[1C]]=\"X\",Adaptation!$H$6=TRUE),\"Yes\",\"No\")","v":"Yes"},"X",{"$f":"IF(AND(Table1[[#This Row],[1D]]=\"X\",Adaptation!$H$7=TRUE),\"Yes\",\"No\")","v":"Yes"},null,{"$f":"IF(AND(Table1[[#This Row],[1E]]=\"X\",Adaptation!$H$8=TRUE),\"Yes\",\"No\")","v":"No"},null,{"$f":"IF(AND(Table1[[#This Row],[1F]]=\"X\",Adaptation!$H$9=TRUE),\"Yes\",\"No\")","v":"No"},null,{"$f":"IF(AND(Table1[[#This Row],[2A]]=\"X\",$K$4=TRUE),\"Yes\",\"No\")","v":"No"},null,{"$f":"IF(AND(Table1[[#This Row],[2B]]=\"X\",$K$5=TRUE),\"Yes\",\"No\")","v":"No"},null,{"$f":"IF(AND(Table1[[#This Row],[2C]]=\"X\",$K$6=TRUE),\"Yes\",\"No\")","v":"No"},null,{"$f":"IF(AND(Table1[[#This Row],[2D]]=\"X\",$K$7=TRUE),\"Yes\",\"No\")","v":"No"},null,{"$f":"IF(AND(Table1[[#This Row],[2E]]=\"X\",$K$8=TRUE),\"Yes\",\"No\")","v":"No"},null,{"$f":"IF(AND(Table1[[#This Row],[2F]]=\"X\",$K$9=TRUE),\"Yes\",\"No\")","v":"No"},null,{"$f":"IF(AND(Table1[[#This Row],[2G]]=\"X\",$K$10=TRUE),\"Yes\",\"No\")","v":"No"},null,{"$f":"IF(AND(Table1[[#This Row],[2H]]=\"X\",$K$11=TRUE),\"Yes\",\"No\")","v":"No"},"X",{"$f":"IF(AND(Table1[[#This Row],[2I]]=\"X\",$K$12=TRUE),\"Yes\",\"No\")","v":"Yes"},null,{"$f":"IF(AND(Table1[[#This Row],[2J]]=\"X\",$K$13=TRUE),\"Yes\",\"No\")","v":"No"},null,{"$f":"IF(AND(Table1[[#This Row],[2K]]=\"X\",$K$14=TRUE),\"Yes\",\"No\")","v":"No"}]
[null,null,"S-1B-21","Maintain or improve ecosystem health to mitigate heat from increasing temperatures and heatwaves.","Avoid or minimize development on key ecosystem areas (e.g., wetlands, trees) to maintain natural cooling systems; Develop a plan for future ecosystem health; If there is tree planting, plant tree species that are adapted to current and/or future climate conditions (see: https://extension.umn.edu/creating-climate-ready-woodlands/recommended-trees).",{"$f":"IF(AND(COUNTIF(Table1[[#This Row],[1A]:[YN6]], \"Yes\") > 0,COUNTIF(Table1[[#This Row],[2A]:[YN17]], \"Yes\") > 0), \"Yes\", \"No\")","v":"Yes"},null,{"$f":"IF(AND(Table1[[#This Row],[1A]]=\"X\",Adaptation!$H$4=TRUE),\"Yes\",\"No\")","v":"No"},null,{"$f":"IF(AND(Table1[[#This Row],[1B]]=\"X\",Adaptation!$H$5=TRUE),\"Yes\",\"No\")","v":"No"},"X",{"$f":"IF(AND(Table1[[#This Row],[1C]]=\"X\",Adaptation!$H$6=TRUE),\"Yes\",\"No\")","v":"Yes"},"X",{"$f":"IF(AND(Table1[[#This Row],[1D]]=\"X\",Adaptation!$H$7=TRUE),\"Yes\",\"No\")","v":"Yes"},null,{"$f":"IF(AND(Table1[[#This Row],[1E]]=\"X\",Adaptation!$H$8=TRUE),\"Yes\",\"No\")","v":"No"},null,{"$f":"IF(AND(Table1[[#This Row],[1F]]=\"X\",Adaptation!$H$9=TRUE),\"Yes\",\"No\")","v":"No"},"X",{"$f":"IF(AND(Table1[[#This Row],[2A]]=\"X\",$K$4=TRUE),\"Yes\",\"No\")","v":"Yes"},"X",{"$f":"IF(AND(Table1[[#This Row],[2B]]=\"X\",$K$5=TRUE),\"Yes\",\"No\")","v":"Yes"},"X",{"$f":"IF(AND(Table1[[#This Row],[2C]]=\"X\",$K$6=TRUE),\"Yes\",\"No\")","v":"Yes"},"X",{"$f":"IF(AND(Table1[[#This Row],[2D]]=\"X\",$K$7=TRUE),\"Yes\",\"No\")","v":"Yes"},"X",{"$f":"IF(AND(Table1[[#This Row],[2E]]=\"X\",$K$8=TRUE),\"Yes\",\"No\")","v":"Yes"},"X",{"$f":"IF(AND(Table1[[#This Row],[2F]]=\"X\",$K$9=TRUE),\"Yes\",\"No\")","v":"Yes"},"X",{"$f":"IF(AND(Table1[[#This Row],[2G]]=\"X\",$K$10=TRUE),\"Yes\",\"No\")","v":"Yes"},"X",{"$f":"IF(AND(Table1[[#This Row],[2H]]=\"X\",$K$11=TRUE),\"Yes\",\"No\")","v":"Yes"},"X",{"$f":"IF(AND(Table1[[#This Row],[2I]]=\"X\",$K$12=TRUE),\"Yes\",\"No\")","v":"Yes"},"X",{"$f":"IF(AND(Table1[[#This Row],[2J]]=\"X\",$K$13=TRUE),\"Yes\",\"No\")","v":"Yes"},null,{"$f":"IF(AND(Table1[[#This Row],[2K]]=\"X\",$K$14=TRUE),\"Yes\",\"No\")","v":"No"}]
[null,null,"S-1B-22","Provide heat protective measures for construction staff who may be exposed to heat during work duties.","Consider different attire/uniforms, more breaks, more shade, more hydration stations, or telecommuting options.",{"$f":"IF(AND(COUNTIF(Table1[[#This Row],[1A]:[YN6]], \"Yes\") > 0,COUNTIF(Table1[[#This Row],[2A]:[YN17]], \"Yes\") > 0), \"Yes\", \"No\")","v":"Yes"},null,{"$f":"IF(AND(Table1[[#This Row],[1A]]=\"X\",Adaptation!$H$4=TRUE),\"Yes\",\"No\")","v":"No"},null,{"$f":"IF(AND(Table1[[#This Row],[1B]]=\"X\",Adaptation!$H$5=TRUE),\"Yes\",\"No\")","v":"No"},"X",{"$f":"IF(AND(Table1[[#This Row],[1C]]=\"X\",Adaptation!$H$6=TRUE),\"Yes\",\"No\")","v":"Yes"},"X",{"$f":"IF(AND(Table1[[#This Row],[1D]]=\"X\",Adaptation!$H$7=TRUE),\"Yes\",\"No\")","v":"Yes"},null,{"$f":"IF(AND(Table1[[#This Row],[1E]]=\"X\",Adaptation!$H$8=TRUE),\"Yes\",\"No\")","v":"No"},null,{"$f":"IF(AND(Table1[[#This Row],[1F]]=\"X\",Adaptation!$H$9=TRUE),\"Yes\",\"No\")","v":"No"},null,{"$f":"IF(AND(Table1[[#This Row],[2A]]=\"X\",$K$4=TRUE),\"Yes\",\"No\")","v":"No"},null,{"$f":"IF(AND(Table1[[#This Row],[2B]]=\"X\",$K$5=TRUE),\"Yes\",\"No\")","v":"No"},null,{"$f":"IF(AND(Table1[[#This Row],[2C]]=\"X\",$K$6=TRUE),\"Yes\",\"No\")","v":"No"},null,{"$f":"IF(AND(Table1[[#This Row],[2D]]=\"X\",$K$7=TRUE),\"Yes\",\"No\")","v":"No"},null,{"$f":"IF(AND(Table1[[#This Row],[2E]]=\"X\",$K$8=TRUE),\"Yes\",\"No\")","v":"No"},null,{"$f":"IF(AND(Table1[[#This Row],[2F]]=\"X\",$K$9=TRUE),\"Yes\",\"No\")","v":"No"},null,{"$f":"IF(AND(Table1[[#This Row],[2G]]=\"X\",$K$10=TRUE),\"Yes\",\"No\")","v":"No"},null,{"$f":"IF(AND(Table1[[#This Row],[2H]]=\"X\",$K$11=TRUE),\"Yes\",\"No\")","v":"No"},null,{"$f":"IF(AND(Table1[[#This Row],[2I]]=\"X\",$K$12=TRUE),\"Yes\",\"No\")","v":"No"},null,{"$f":"IF(AND(Table1[[#This Row],[2J]]=\"X\",$K$13=TRUE),\"Yes\",\"No\")","v":"No"},"X",{"$f":"IF(AND(Table1[[#This Row],[2K]]=\"X\",$K$14=TRUE),\"Yes\",\"No\")","v":"Yes"}]
[null,null,"S-1C-01","Consider impact of increased freeze/thaw cycles for design and construction of building and road foundations.","Use frost-resistant materials (e.g., frost-resistant concrete and asphalt) to minimize damage like cracking; Insulate foundations; Construct deeper foundations; Conduct regular maintenance and monitoring to inspect and repair damage.",{"$f":"IF(AND(COUNTIF(Table1[[#This Row],[1A]:[YN6]], \"Yes\") > 0,COUNTIF(Table1[[#This Row],[2A]:[YN17]], \"Yes\") > 0), \"Yes\", \"No\")","v":"Yes"},null,{"$f":"IF(AND(Table1[[#This Row],[1A]]=\"X\",Adaptation!$H$4=TRUE),\"Yes\",\"No\")","v":"No"},null,{"$f":"IF(AND(Table1[[#This Row],[1B]]=\"X\",Adaptation!$H$5=TRUE),\"Yes\",\"No\")","v":"No"},null,{"$f":"IF(AND(Table1[[#This Row],[1C]]=\"X\",Adaptation!$H$6=TRUE),\"Yes\",\"No\")","v":"No"},null,{"$f":"IF(AND(Table1[[#This Row],[1D]]=\"X\",Adaptation!$H$7=TRUE),\"Yes\",\"No\")","v":"No"},"X",{"$f":"IF(AND(Table1[[#This Row],[1E]]=\"X\",Adaptation!$H$8=TRUE),\"Yes\",\"No\")","v":"Yes"},null,{"$f":"IF(AND(Table1[[#This Row],[1F]]=\"X\",Adaptation!$H$9=TRUE),\"Yes\",\"No\")","v":"No"},null,{"$f":"IF(AND(Table1[[#This Row],[2A]]=\"X\",$K$4=TRUE),\"Yes\",\"No\")","v":"No"},null,{"$f":"IF(AND(Table1[[#This Row],[2B]]=\"X\",$K$5=TRUE),\"Yes\",\"No\")","v":"No"},"X",{"$f":"IF(AND(Table1[[#This Row],[2C]]=\"X\",$K$6=TRUE),\"Yes\",\"No\")","v":"Yes"},null,{"$f":"IF(AND(Table1[[#This Row],[2D]]=\"X\",$K$7=TRUE),\"Yes\",\"No\")","v":"No"},null,{"$f":"IF(AND(Table1[[#This Row],[2E]]=\"X\",$K$8=TRUE),\"Yes\",\"No\")","v":"No"},null,{"$f":"IF(AND(Table1[[#This Row],[2F]]=\"X\",$K$9=TRUE),\"Yes\",\"No\")","v":"No"},null,{"$f":"IF(AND(Table1[[#This Row],[2G]]=\"X\",$K$10=TRUE),\"Yes\",\"No\")","v":"No"},"X",{"$f":"IF(AND(Table1[[#This Row],[2H]]=\"X\",$K$11=TRUE),\"Yes\",\"No\")","v":"Yes"},null,{"$f":"IF(AND(Table1[[#This Row],[2I]]=\"X\",$K$12=TRUE),\"Yes\",\"No\")","v":"No"},null,{"$f":"IF(AND(Table1[[#This Row],[2J]]=\"X\",$K$13=TRUE),\"Yes\",\"No\")","v":"No"},null,{"$f":"IF(AND(Table1[[#This Row],[2K]]=\"X\",$K$14=TRUE),\"Yes\",\"No\")","v":"No"}]
[null,null,"S-1C-02","Consider changing thawing conditions when selecting or upgrading pipes.","Install PVC water pipes (rather than metal cast iron pipes) which are less expensive and easier to install than iron, to minimize breaks and ensure structural integrity.",{"$f":"IF(AND(COUNTIF(Table1[[#This Row],[1A]:[YN6]], \"Yes\") > 0,COUNTIF(Table1[[#This Row],[2A]:[YN17]], \"Yes\") > 0), \"Yes\", \"No\")","v":"Yes"},null,{"$f":"IF(AND(Table1[[#This Row],[1A]]=\"X\",Adaptation!$H$4=TRUE),\"Yes\",\"No\")","v":"No"},null,{"$f":"IF(AND(Table1[[#This Row],[1B]]=\"X\",Adaptation!$H$5=TRUE),\"Yes\",\"No\")","v":"No"},null,{"$f":"IF(AND(Table1[[#This Row],[1C]]=\"X\",Adaptation!$H$6=TRUE),\"Yes\",\"No\")","v":"No"},null,{"$f":"IF(AND(Table1[[#This Row],[1D]]=\"X\",Adaptation!$H$7=TRUE),\"Yes\",\"No\")","v":"No"},"X",{"$f":"IF(AND(Table1[[#This Row],[1E]]=\"X\",Adaptation!$H$8=TRUE),\"Yes\",\"No\")","v":"Yes"},null,{"$f":"IF(AND(Table1[[#This Row],[1F]]=\"X\",Adaptation!$H$9=TRUE),\"Yes\",\"No\")","v":"No"},null,{"$f":"IF(AND(Table1[[#This Row],[2A]]=\"X\",$K$4=TRUE),\"Yes\",\"No\")","v":"No"},"X",{"$f":"IF(AND(Table1[[#This Row],[2B]]=\"X\",$K$5=TRUE),\"Yes\",\"No\")","v":"Yes"},"X",{"$f":"IF(AND(Table1[[#This Row],[2C]]=\"X\",$K$6=TRUE),\"Yes\",\"No\")","v":"Yes"},null,{"$f":"IF(AND(Table1[[#This Row],[2D]]=\"X\",$K$7=TRUE),\"Yes\",\"No\")","v":"No"},null,{"$f":"IF(AND(Table1[[#This Row],[2E]]=\"X\",$K$8=TRUE),\"Yes\",\"No\")","v":"No"},null,{"$f":"IF(AND(Table1[[#This Row],[2F]]=\"X\",$K$9=TRUE),\"Yes\",\"No\")","v":"No"},null,{"$f":"IF(AND(Table1[[#This Row],[2G]]=\"X\",$K$10=TRUE),\"Yes\",\"No\")","v":"No"},null,{"$f":"IF(AND(Table1[[#This Row],[2H]]=\"X\",$K$11=TRUE),\"Yes\",\"No\")","v":"No"},null,{"$f":"IF(AND(Table1[[#This Row],[2I]]=\"X\",$K$12=TRUE),\"Yes\",\"No\")","v":"No"},null,{"$f":"IF(AND(Table1[[#This Row],[2J]]=\"X\",$K$13=TRUE),\"Yes\",\"No\")","v":"No"},null,{"$f":"IF(AND(Table1[[#This Row],[2K]]=\"X\",$K$14=TRUE),\"Yes\",\"No\")","v":"No"}]
[null,null,"S-1C-03","Regularly monitor the conditions of the construction site, roadway, etc. and conduct maintenance to reduce any degradation from increased temperatures and/or freeze/thaw cycles.","Implement regular monitoring and maintenance of potholes; Track thawing with sensors.",{"$f":"IF(AND(COUNTIF(Table1[[#This Row],[1A]:[YN6]], \"Yes\") > 0,COUNTIF(Table1[[#This Row],[2A]:[YN17]], \"Yes\") > 0), \"Yes\", \"No\")","v":"Yes"},null,{"$f":"IF(AND(Table1[[#This Row],[1A]]=\"X\",Adaptation!$H$4=TRUE),\"Yes\",\"No\")","v":"No"},null,{"$f":"IF(AND(Table1[[#This Row],[1B]]=\"X\",Adaptation!$H$5=TRUE),\"Yes\",\"No\")","v":"No"},null,{"$f":"IF(AND(Table1[[#This Row],[1C]]=\"X\",Adaptation!$H$6=TRUE),\"Yes\",\"No\")","v":"No"},null,{"$f":"IF(AND(Table1[[#This Row],[1D]]=\"X\",Adaptation!$H$7=TRUE),\"Yes\",\"No\")","v":"No"},"X",{"$f":"IF(AND(Table1[[#This Row],[1E]]=\"X\",Adaptation!$H$8=TRUE),\"Yes\",\"No\")","v":"Yes"},null,{"$f":"IF(AND(Table1[[#This Row],[1F]]=\"X\",Adaptation!$H$9=TRUE),\"Yes\",\"No\")","v":"No"},null,{"$f":"IF(AND(Table1[[#This Row],[2A]]=\"X\",$K$4=TRUE),\"Yes\",\"No\")","v":"No"},null,{"$f":"IF(AND(Table1[[#This Row],[2B]]=\"X\",$K$5=TRUE),\"Yes\",\"No\")","v":"No"},null,{"$f":"IF(AND(Table1[[#This Row],[2C]]=\"X\",$K$6=TRUE),\"Yes\",\"No\")","v":"No"},null,{"$f":"IF(AND(Table1[[#This Row],[2D]]=\"X\",$K$7=TRUE),\"Yes\",\"No\")","v":"No"},null,{"$f":"IF(AND(Table1[[#This Row],[2E]]=\"X\",$K$8=TRUE),\"Yes\",\"No\")","v":"No"},null,{"$f":"IF(AND(Table1[[#This Row],[2F]]=\"X\",$K$9=TRUE),\"Yes\",\"No\")","v":"No"},null,{"$f":"IF(AND(Table1[[#This Row],[2G]]=\"X\",$K$10=TRUE),\"Yes\",\"No\")","v":"No"},null,{"$f":"IF(AND(Table1[[#This Row],[2H]]=\"X\",$K$11=TRUE),\"Yes\",\"No\")","v":"No"},null,{"$f":"IF(AND(Table1[[#This Row],[2I]]=\"X\",$K$12=TRUE),\"Yes\",\"No\")","v":"No"},null,{"$f":"IF(AND(Table1[[#This Row],[2J]]=\"X\",$K$13=TRUE),\"Yes\",\"No\")","v":"No"},"X",{"$f":"IF(AND(Table1[[#This Row],[2K]]=\"X\",$K$14=TRUE),\"Yes\",\"No\")","v":"Yes"}]
[null,null,"S-1D-01","For landscaping, use drought-tolerant plants or xeriscaping.","Plant more drought-tolerant options (e.g., succulents); Apply mulch around plants; Incorporate hardscaping (e.g., rocks).",{"$f":"IF(AND(COUNTIF(Table1[[#This Row],[1A]:[YN6]], \"Yes\") > 0,COUNTIF(Table1[[#This Row],[2A]:[YN17]], \"Yes\") > 0), \"Yes\", \"No\")","v":"Yes"},null,{"$f":"IF(AND(Table1[[#This Row],[1A]]=\"X\",Adaptation!$H$4=TRUE),\"Yes\",\"No\")","v":"No"},null,{"$f":"IF(AND(Table1[[#This Row],[1B]]=\"X\",Adaptation!$H$5=TRUE),\"Yes\",\"No\")","v":"No"},null,{"$f":"IF(AND(Table1[[#This Row],[1C]]=\"X\",Adaptation!$H$6=TRUE),\"Yes\",\"No\")","v":"No"},null,{"$f":"IF(AND(Table1[[#This Row],[1D]]=\"X\",Adaptation!$H$7=TRUE),\"Yes\",\"No\")","v":"No"},null,{"$f":"IF(AND(Table1[[#This Row],[1E]]=\"X\",Adaptation!$H$8=TRUE),\"Yes\",\"No\")","v":"No"},"X",{"$f":"IF(AND(Table1[[#This Row],[1F]]=\"X\",Adaptation!$H$9=TRUE),\"Yes\",\"No\")","v":"Yes"},null,{"$f":"IF(AND(Table1[[#This Row],[2A]]=\"X\",$K$4=TRUE),\"Yes\",\"No\")","v":"No"},null,{"$f":"IF(AND(Table1[[#This Row],[2B]]=\"X\",$K$5=TRUE),\"Yes\",\"No\")","v":"No"},null,{"$f":"IF(AND(Table1[[#This Row],[2C]]=\"X\",$K$6=TRUE),\"Yes\",\"No\")","v":"No"},null,{"$f":"IF(AND(Table1[[#This Row],[2D]]=\"X\",$K$7=TRUE),\"Yes\",\"No\")","v":"No"},null,{"$f":"IF(AND(Table1[[#This Row],[2E]]=\"X\",$K$8=TRUE),\"Yes\",\"No\")","v":"No"},null,{"$f":"IF(AND(Table1[[#This Row],[2F]]=\"X\",$K$9=TRUE),\"Yes\",\"No\")","v":"No"},null,{"$f":"IF(AND(Table1[[#This Row],[2G]]=\"X\",$K$10=TRUE),\"Yes\",\"No\")","v":"No"},"X",{"$f":"IF(AND(Table1[[#This Row],[2H]]=\"X\",$K$11=TRUE),\"Yes\",\"No\")","v":"Yes"},null,{"$f":"IF(AND(Table1[[#This Row],[2I]]=\"X\",$K$12=TRUE),\"Yes\",\"No\")","v":"No"},null,{"$f":"IF(AND(Table1[[#This Row],[2J]]=\"X\",$K$13=TRUE),\"Yes\",\"No\")","v":"No"},null,{"$f":"IF(AND(Table1[[#This Row],[2K]]=\"X\",$K$14=TRUE),\"Yes\",\"No\")","v":"No"}]
[null,null,"S-1D-02","Consider more drought-tolerant plants for the farms and incorporate drought insights into water management practices.","Select more drought-tolerant plants like millet; Plant cover crops to maintain moisture; Implement efficient irrigation systems (e.g., drip irrigation); Install soil moisture sensors; Install rainwater harvesting infrastructure; Incorporate drought forecasts into farm planning to adjust planting schedules and irrigation accordingly.",{"$f":"IF(AND(COUNTIF(Table1[[#This Row],[1A]:[YN6]], \"Yes\") > 0,COUNTIF(Table1[[#This Row],[2A]:[YN17]], \"Yes\") > 0), \"Yes\", \"No\")","v":"Yes"},null,{"$f":"IF(AND(Table1[[#This Row],[1A]]=\"X\",Adaptation!$H$4=TRUE),\"Yes\",\"No\")","v":"No"},null,{"$f":"IF(AND(Table1[[#This Row],[1B]]=\"X\",Adaptation!$H$5=TRUE),\"Yes\",\"No\")","v":"No"},null,{"$f":"IF(AND(Table1[[#This Row],[1C]]=\"X\",Adaptation!$H$6=TRUE),\"Yes\",\"No\")","v":"No"},null,{"$f":"IF(AND(Table1[[#This Row],[1D]]=\"X\",Adaptation!$H$7=TRUE),\"Yes\",\"No\")","v":"No"},null,{"$f":"IF(AND(Table1[[#This Row],[1E]]=\"X\",Adaptation!$H$8=TRUE),\"Yes\",\"No\")","v":"No"},"X",{"$f":"IF(AND(Table1[[#This Row],[1F]]=\"X\",Adaptation!$H$9=TRUE),\"Yes\",\"No\")","v":"Yes"},null,{"$f":"IF(AND(Table1[[#This Row],[2A]]=\"X\",$K$4=TRUE),\"Yes\",\"No\")","v":"No"},null,{"$f":"IF(AND(Table1[[#This Row],[2B]]=\"X\",$K$5=TRUE),\"Yes\",\"No\")","v":"No"},null,{"$f":"IF(AND(Table1[[#This Row],[2C]]=\"X\",$K$6=TRUE),\"Yes\",\"No\")","v":"No"},null,{"$f":"IF(AND(Table1[[#This Row],[2D]]=\"X\",$K$7=TRUE),\"Yes\",\"No\")","v":"No"},null,{"$f":"IF(AND(Table1[[#This Row],[2E]]=\"X\",$K$8=TRUE),\"Yes\",\"No\")","v":"No"},null,{"$f":"IF(AND(Table1[[#This Row],[2F]]=\"X\",$K$9=TRUE),\"Yes\",\"No\")","v":"No"},"X",{"$f":"IF(AND(Table1[[#This Row],[2G]]=\"X\",$K$10=TRUE),\"Yes\",\"No\")","v":"Yes"},null,{"$f":"IF(AND(Table1[[#This Row],[2H]]=\"X\",$K$11=TRUE),\"Yes\",\"No\")","v":"No"},null,{"$f":"IF(AND(Table1[[#This Row],[2I]]=\"X\",$K$12=TRUE),\"Yes\",\"No\")","v":"No"},null,{"$f":"IF(AND(Table1[[#This Row],[2J]]=\"X\",$K$13=TRUE),\"Yes\",\"No\")","v":"No"},null,{"$f":"IF(AND(Table1[[#This Row],[2K]]=\"X\",$K$14=TRUE),\"Yes\",\"No\")","v":"No"}]
[null,null,"S-1D-03","Reduce agricultural and irrigation water use/needs to account for drought conditions.","Adopt micro-irrigation technology (e.g., drip irrigation); Install soil moisture sensors; Plant more drought-resistant crops; Apply mulch; Implement rainwater harvesting systems; Plant cover crops to retain moisture.",{"$f":"IF(AND(COUNTIF(Table1[[#This Row],[1A]:[YN6]], \"Yes\") > 0,COUNTIF(Table1[[#This Row],[2A]:[YN17]], \"Yes\") > 0), \"Yes\", \"No\")","v":"Yes"},null,{"$f":"IF(AND(Table1[[#This Row],[1A]]=\"X\",Adaptation!$H$4=TRUE),\"Yes\",\"No\")","v":"No"},null,{"$f":"IF(AND(Table1[[#This Row],[1B]]=\"X\",Adaptation!$H$5=TRUE),\"Yes\",\"No\")","v":"No"},null,{"$f":"IF(AND(Table1[[#This Row],[1C]]=\"X\",Adaptation!$H$6=TRUE),\"Yes\",\"No\")","v":"No"},null,{"$f":"IF(AND(Table1[[#This Row],[1D]]=\"X\",Adaptation!$H$7=TRUE),\"Yes\",\"No\")","v":"No"},null,{"$f":"IF(AND(Table1[[#This Row],[1E]]=\"X\",Adaptation!$H$8=TRUE),\"Yes\",\"No\")","v":"No"},"X",{"$f":"IF(AND(Table1[[#This Row],[1F]]=\"X\",Adaptation!$H$9=TRUE),\"Yes\",\"No\")","v":"Yes"},null,{"$f":"IF(AND(Table1[[#This Row],[2A]]=\"X\",$K$4=TRUE),\"Yes\",\"No\")","v":"No"},null,{"$f":"IF(AND(Table1[[#This Row],[2B]]=\"X\",$K$5=TRUE),\"Yes\",\"No\")","v":"No"},null,{"$f":"IF(AND(Table1[[#This Row],[2C]]=\"X\",$K$6=TRUE),\"Yes\",\"No\")","v":"No"},null,{"$f":"IF(AND(Table1[[#This Row],[2D]]=\"X\",$K$7=TRUE),\"Yes\",\"No\")","v":"No"},null,{"$f":"IF(AND(Table1[[#This Row],[2E]]=\"X\",$K$8=TRUE),\"Yes\",\"No\")","v":"No"},null,{"$f":"IF(AND(Table1[[#This Row],[2F]]=\"X\",$K$9=TRUE),\"Yes\",\"No\")","v":"No"},"X",{"$f":"IF(AND(Table1[[#This Row],[2G]]=\"X\",$K$10=TRUE),\"Yes\",\"No\")","v":"Yes"},null,{"$f":"IF(AND(Table1[[#This Row],[2H]]=\"X\",$K$11=TRUE),\"Yes\",\"No\")","v":"No"},null,{"$f":"IF(AND(Table1[[#This Row],[2I]]=\"X\",$K$12=TRUE),\"Yes\",\"No\")","v":"No"},null,{"$f":"IF(AND(Table1[[#This Row],[2J]]=\"X\",$K$13=TRUE),\"Yes\",\"No\")","v":"No"},null,{"$f":"IF(AND(Table1[[#This Row],[2K]]=\"X\",$K$14=TRUE),\"Yes\",\"No\")","v":"No"}]
[null,null,"S-1D-04","Install water storage to retain rainfall on the land for use to meet agricultural and irrigation needs. ","Convert low spots that are currently in crop production but prone to flooding / washout into water storage areas. ",{"$f":"IF(AND(COUNTIF(Table1[[#This Row],[1A]:[YN6]], \"Yes\") > 0,COUNTIF(Table1[[#This Row],[2A]:[YN17]], \"Yes\") > 0), \"Yes\", \"No\")","v":"Yes"},"X",{"$f":"IF(AND(Table1[[#This Row],[1A]]=\"X\",Adaptation!$H$4=TRUE),\"Yes\",\"No\")","v":"Yes"},"X",{"$f":"IF(AND(Table1[[#This Row],[1B]]=\"X\",Adaptation!$H$5=TRUE),\"Yes\",\"No\")","v":"Yes"},null,{"$f":"IF(AND(Table1[[#This Row],[1C]]=\"X\",Adaptation!$H$6=TRUE),\"Yes\",\"No\")","v":"No"},null,{"$f":"IF(AND(Table1[[#This Row],[1D]]=\"X\",Adaptation!$H$7=TRUE),\"Yes\",\"No\")","v":"No"},null,{"$f":"IF(AND(Table1[[#This Row],[1E]]=\"X\",Adaptation!$H$8=TRUE),\"Yes\",\"No\")","v":"No"},"X",{"$f":"IF(AND(Table1[[#This Row],[1F]]=\"X\",Adaptation!$H$9=TRUE),\"Yes\",\"No\")","v":"Yes"},null,{"$f":"IF(AND(Table1[[#This Row],[2A]]=\"X\",$K$4=TRUE),\"Yes\",\"No\")","v":"No"},null,{"$f":"IF(AND(Table1[[#This Row],[2B]]=\"X\",$K$5=TRUE),\"Yes\",\"No\")","v":"No"},null,{"$f":"IF(AND(Table1[[#This Row],[2C]]=\"X\",$K$6=TRUE),\"Yes\",\"No\")","v":"No"},null,{"$f":"IF(AND(Table1[[#This Row],[2D]]=\"X\",$K$7=TRUE),\"Yes\",\"No\")","v":"No"},null,{"$f":"IF(AND(Table1[[#This Row],[2E]]=\"X\",$K$8=TRUE),\"Yes\",\"No\")","v":"No"},null,{"$f":"IF(AND(Table1[[#This Row],[2F]]=\"X\",$K$9=TRUE),\"Yes\",\"No\")","v":"No"},"X",{"$f":"IF(AND(Table1[[#This Row],[2G]]=\"X\",$K$10=TRUE),\"Yes\",\"No\")","v":"Yes"},null,{"$f":"IF(AND(Table1[[#This Row],[2H]]=\"X\",$K$11=TRUE),\"Yes\",\"No\")","v":"No"},null,{"$f":"IF(AND(Table1[[#This Row],[2I]]=\"X\",$K$12=TRUE),\"Yes\",\"No\")","v":"No"},"X",{"$f":"IF(AND(Table1[[#This Row],[2J]]=\"X\",$K$13=TRUE),\"Yes\",\"No\")","v":"Yes"},null,{"$f":"IF(AND(Table1[[#This Row],[2K]]=\"X\",$K$14=TRUE),\"Yes\",\"No\")","v":"No"}]
[null,null,"S-1D-05","Incorporate water-efficient practices/technology into the waste management facility to account for drought conditions.","Use greywater for cleaning; Install rainwater harvesting systems; Use alternative water sources (e.g., reclaimed water).",{"$f":"IF(AND(COUNTIF(Table1[[#This Row],[1A]:[YN6]], \"Yes\") > 0,COUNTIF(Table1[[#This Row],[2A]:[YN17]], \"Yes\") > 0), \"Yes\", \"No\")","v":"Yes"},null,{"$f":"IF(AND(Table1[[#This Row],[1A]]=\"X\",Adaptation!$H$4=TRUE),\"Yes\",\"No\")","v":"No"},null,{"$f":"IF(AND(Table1[[#This Row],[1B]]=\"X\",Adaptation!$H$5=TRUE),\"Yes\",\"No\")","v":"No"},null,{"$f":"IF(AND(Table1[[#This Row],[1C]]=\"X\",Adaptation!$H$6=TRUE),\"Yes\",\"No\")","v":"No"},null,{"$f":"IF(AND(Table1[[#This Row],[1D]]=\"X\",Adaptation!$H$7=TRUE),\"Yes\",\"No\")","v":"No"},null,{"$f":"IF(AND(Table1[[#This Row],[1E]]=\"X\",Adaptation!$H$8=TRUE),\"Yes\",\"No\")","v":"No"},"X",{"$f":"IF(AND(Table1[[#This Row],[1F]]=\"X\",Adaptation!$H$9=TRUE),\"Yes\",\"No\")","v":"Yes"},null,{"$f":"IF(AND(Table1[[#This Row],[2A]]=\"X\",$K$4=TRUE),\"Yes\",\"No\")","v":"No"},null,{"$f":"IF(AND(Table1[[#This Row],[2B]]=\"X\",$K$5=TRUE),\"Yes\",\"No\")","v":"No"},null,{"$f":"IF(AND(Table1[[#This Row],[2C]]=\"X\",$K$6=TRUE),\"Yes\",\"No\")","v":"No"},null,{"$f":"IF(AND(Table1[[#This Row],[2D]]=\"X\",$K$7=TRUE),\"Yes\",\"No\")","v":"No"},null,{"$f":"IF(AND(Table1[[#This Row],[2E]]=\"X\",$K$8=TRUE),\"Yes\",\"No\")","v":"No"},null,{"$f":"IF(AND(Table1[[#This Row],[2F]]=\"X\",$K$9=TRUE),\"Yes\",\"No\")","v":"No"},null,{"$f":"IF(AND(Table1[[#This Row],[2G]]=\"X\",$K$10=TRUE),\"Yes\",\"No\")","v":"No"},null,{"$f":"IF(AND(Table1[[#This Row],[2H]]=\"X\",$K$11=TRUE),\"Yes\",\"No\")","v":"No"},"X",{"$f":"IF(AND(Table1[[#This Row],[2I]]=\"X\",$K$12=TRUE),\"Yes\",\"No\")","v":"Yes"},null,{"$f":"IF(AND(Table1[[#This Row],[2J]]=\"X\",$K$13=TRUE),\"Yes\",\"No\")","v":"No"},null,{"$f":"IF(AND(Table1[[#This Row],[2K]]=\"X\",$K$14=TRUE),\"Yes\",\"No\")","v":"No"}]
[null,null,"S-1D-06","Ensure water infrastructure can withstand drought conditions.","Build infrastructure needed for aquifer storage and recovery; Diversify sources of water supply.",{"$f":"IF(AND(COUNTIF(Table1[[#This Row],[1A]:[YN6]], \"Yes\") > 0,COUNTIF(Table1[[#This Row],[2A]:[YN17]], \"Yes\") > 0), \"Yes\", \"No\")","v":"Yes"},null,{"$f":"IF(AND(Table1[[#This Row],[1A]]=\"X\",Adaptation!$H$4=TRUE),\"Yes\",\"No\")","v":"No"},null,{"$f":"IF(AND(Table1[[#This Row],[1B]]=\"X\",Adaptation!$H$5=TRUE),\"Yes\",\"No\")","v":"No"},null,{"$f":"IF(AND(Table1[[#This Row],[1C]]=\"X\",Adaptation!$H$6=TRUE),\"Yes\",\"No\")","v":"No"},null,{"$f":"IF(AND(Table1[[#This Row],[1D]]=\"X\",Adaptation!$H$7=TRUE),\"Yes\",\"No\")","v":"No"},null,{"$f":"IF(AND(Table1[[#This Row],[1E]]=\"X\",Adaptation!$H$8=TRUE),\"Yes\",\"No\")","v":"No"},"X",{"$f":"IF(AND(Table1[[#This Row],[1F]]=\"X\",Adaptation!$H$9=TRUE),\"Yes\",\"No\")","v":"Yes"},null,{"$f":"IF(AND(Table1[[#This Row],[2A]]=\"X\",$K$4=TRUE),\"Yes\",\"No\")","v":"No"},"X",{"$f":"IF(AND(Table1[[#This Row],[2B]]=\"X\",$K$5=TRUE),\"Yes\",\"No\")","v":"Yes"},null,{"$f":"IF(AND(Table1[[#This Row],[2C]]=\"X\",$K$6=TRUE),\"Yes\",\"No\")","v":"No"},null,{"$f":"IF(AND(Table1[[#This Row],[2D]]=\"X\",$K$7=TRUE),\"Yes\",\"No\")","v":"No"},null,{"$f":"IF(AND(Table1[[#This Row],[2E]]=\"X\",$K$8=TRUE),\"Yes\",\"No\")","v":"No"},null,{"$f":"IF(AND(Table1[[#This Row],[2F]]=\"X\",$K$9=TRUE),\"Yes\",\"No\")","v":"No"},null,{"$f":"IF(AND(Table1[[#This Row],[2G]]=\"X\",$K$10=TRUE),\"Yes\",\"No\")","v":"No"},null,{"$f":"IF(AND(Table1[[#This Row],[2H]]=\"X\",$K$11=TRUE),\"Yes\",\"No\")","v":"No"},null,{"$f":"IF(AND(Table1[[#This Row],[2I]]=\"X\",$K$12=TRUE),\"Yes\",\"No\")","v":"No"},"X",{"$f":"IF(AND(Table1[[#This Row],[2J]]=\"X\",$K$13=TRUE),\"Yes\",\"No\")","v":"Yes"},null,{"$f":"IF(AND(Table1[[#This Row],[2K]]=\"X\",$K$14=TRUE),\"Yes\",\"No\")","v":"No"}]
[null,null,"S-1D-07","Use technologies and strategies that recycle water for water management systems to account for drought conditions.","Establish systems to recycle water and use reclaimed water; Plumb buildings for greywater separation and reuse; Install wastewater treatment technology (e.g., a Living Machine) to recycle wastewater; Install greywater purification and reuse systems; Develop a closed-loop system.",{"$f":"IF(AND(COUNTIF(Table1[[#This Row],[1A]:[YN6]], \"Yes\") > 0,COUNTIF(Table1[[#This Row],[2A]:[YN17]], \"Yes\") > 0), \"Yes\", \"No\")","v":"Yes"},null,{"$f":"IF(AND(Table1[[#This Row],[1A]]=\"X\",Adaptation!$H$4=TRUE),\"Yes\",\"No\")","v":"No"},null,{"$f":"IF(AND(Table1[[#This Row],[1B]]=\"X\",Adaptation!$H$5=TRUE),\"Yes\",\"No\")","v":"No"},null,{"$f":"IF(AND(Table1[[#This Row],[1C]]=\"X\",Adaptation!$H$6=TRUE),\"Yes\",\"No\")","v":"No"},null,{"$f":"IF(AND(Table1[[#This Row],[1D]]=\"X\",Adaptation!$H$7=TRUE),\"Yes\",\"No\")","v":"No"},null,{"$f":"IF(AND(Table1[[#This Row],[1E]]=\"X\",Adaptation!$H$8=TRUE),\"Yes\",\"No\")","v":"No"},"X",{"$f":"IF(AND(Table1[[#This Row],[1F]]=\"X\",Adaptation!$H$9=TRUE),\"Yes\",\"No\")","v":"Yes"},null,{"$f":"IF(AND(Table1[[#This Row],[2A]]=\"X\",$K$4=TRUE),\"Yes\",\"No\")","v":"No"},null,{"$f":"IF(AND(Table1[[#This Row],[2B]]=\"X\",$K$5=TRUE),\"Yes\",\"No\")","v":"No"},null,{"$f":"IF(AND(Table1[[#This Row],[2C]]=\"X\",$K$6=TRUE),\"Yes\",\"No\")","v":"No"},null,{"$f":"IF(AND(Table1[[#This Row],[2D]]=\"X\",$K$7=TRUE),\"Yes\",\"No\")","v":"No"},null,{"$f":"IF(AND(Table1[[#This Row],[2E]]=\"X\",$K$8=TRUE),\"Yes\",\"No\")","v":"No"},null,{"$f":"IF(AND(Table1[[#This Row],[2F]]=\"X\",$K$9=TRUE),\"Yes\",\"No\")","v":"No"},null,{"$f":"IF(AND(Table1[[#This Row],[2G]]=\"X\",$K$10=TRUE),\"Yes\",\"No\")","v":"No"},"X",{"$f":"IF(AND(Table1[[#This Row],[2H]]=\"X\",$K$11=TRUE),\"Yes\",\"No\")","v":"Yes"},"X",{"$f":"IF(AND(Table1[[#This Row],[2I]]=\"X\",$K$12=TRUE),\"Yes\",\"No\")","v":"Yes"},"X",{"$f":"IF(AND(Table1[[#This Row],[2J]]=\"X\",$K$13=TRUE),\"Yes\",\"No\")","v":"Yes"},null,{"$f":"IF(AND(Table1[[#This Row],[2K]]=\"X\",$K$14=TRUE),\"Yes\",\"No\")","v":"No"}]
[null,null,"S-1D-08","Install water-saving technologies indoors to account for drought conditions.","Use water-efficient household appliances (e.g., low-flow toilets, showerheads, and front-loading washers); Install water meters.",{"$f":"IF(AND(COUNTIF(Table1[[#This Row],[1A]:[YN6]], \"Yes\") > 0,COUNTIF(Table1[[#This Row],[2A]:[YN17]], \"Yes\") > 0), \"Yes\", \"No\")","v":"Yes"},null,{"$f":"IF(AND(Table1[[#This Row],[1A]]=\"X\",Adaptation!$H$4=TRUE),\"Yes\",\"No\")","v":"No"},null,{"$f":"IF(AND(Table1[[#This Row],[1B]]=\"X\",Adaptation!$H$5=TRUE),\"Yes\",\"No\")","v":"No"},null,{"$f":"IF(AND(Table1[[#This Row],[1C]]=\"X\",Adaptation!$H$6=TRUE),\"Yes\",\"No\")","v":"No"},null,{"$f":"IF(AND(Table1[[#This Row],[1D]]=\"X\",Adaptation!$H$7=TRUE),\"Yes\",\"No\")","v":"No"},null,{"$f":"IF(AND(Table1[[#This Row],[1E]]=\"X\",Adaptation!$H$8=TRUE),\"Yes\",\"No\")","v":"No"},"X",{"$f":"IF(AND(Table1[[#This Row],[1F]]=\"X\",Adaptation!$H$9=TRUE),\"Yes\",\"No\")","v":"Yes"},"X",{"$f":"IF(AND(Table1[[#This Row],[2A]]=\"X\",$K$4=TRUE),\"Yes\",\"No\")","v":"Yes"},null,{"$f":"IF(AND(Table1[[#This Row],[2B]]=\"X\",$K$5=TRUE),\"Yes\",\"No\")","v":"No"},null,{"$f":"IF(AND(Table1[[#This Row],[2C]]=\"X\",$K$6=TRUE),\"Yes\",\"No\")","v":"No"},null,{"$f":"IF(AND(Table1[[#This Row],[2D]]=\"X\",$K$7=TRUE),\"Yes\",\"No\")","v":"No"},null,{"$f":"IF(AND(Table1[[#This Row],[2E]]=\"X\",$K$8=TRUE),\"Yes\",\"No\")","v":"No"},"X",{"$f":"IF(AND(Table1[[#This Row],[2F]]=\"X\",$K$9=TRUE),\"Yes\",\"No\")","v":"Yes"},"X",{"$f":"IF(AND(Table1[[#This Row],[2G]]=\"X\",$K$10=TRUE),\"Yes\",\"No\")","v":"Yes"},"X",{"$f":"IF(AND(Table1[[#This Row],[2H]]=\"X\",$K$11=TRUE),\"Yes\",\"No\")","v":"Yes"},"X",{"$f":"IF(AND(Table1[[#This Row],[2I]]=\"X\",$K$12=TRUE),\"Yes\",\"No\")","v":"Yes"},"X",{"$f":"IF(AND(Table1[[#This Row],[2J]]=\"X\",$K$13=TRUE),\"Yes\",\"No\")","v":"Yes"},null,{"$f":"IF(AND(Table1[[#This Row],[2K]]=\"X\",$K$14=TRUE),\"Yes\",\"No\")","v":"No"}]
[null,null,"S-1D-09","Install water-saving technologies outdoors to account for drought conditions.","Install rainwater harvesting tanks; Plant native, deep-rooted, and/or drought-tolerant plants.",{"$f":"IF(AND(COUNTIF(Table1[[#This Row],[1A]:[YN6]], \"Yes\") > 0,COUNTIF(Table1[[#This Row],[2A]:[YN17]], \"Yes\") > 0), \"Yes\", \"No\")","v":"Yes"},null,{"$f":"IF(AND(Table1[[#This Row],[1A]]=\"X\",Adaptation!$H$4=TRUE),\"Yes\",\"No\")","v":"No"},null,{"$f":"IF(AND(Table1[[#This Row],[1B]]=\"X\",Adaptation!$H$5=TRUE),\"Yes\",\"No\")","v":"No"},null,{"$f":"IF(AND(Table1[[#This Row],[1C]]=\"X\",Adaptation!$H$6=TRUE),\"Yes\",\"No\")","v":"No"},null,{"$f":"IF(AND(Table1[[#This Row],[1D]]=\"X\",Adaptation!$H$7=TRUE),\"Yes\",\"No\")","v":"No"},null,{"$f":"IF(AND(Table1[[#This Row],[1E]]=\"X\",Adaptation!$H$8=TRUE),\"Yes\",\"No\")","v":"No"},"X",{"$f":"IF(AND(Table1[[#This Row],[1F]]=\"X\",Adaptation!$H$9=TRUE),\"Yes\",\"No\")","v":"Yes"},"X",{"$f":"IF(AND(Table1[[#This Row],[2A]]=\"X\",$K$4=TRUE),\"Yes\",\"No\")","v":"Yes"},null,{"$f":"IF(AND(Table1[[#This Row],[2B]]=\"X\",$K$5=TRUE),\"Yes\",\"No\")","v":"No"},null,{"$f":"IF(AND(Table1[[#This Row],[2C]]=\"X\",$K$6=TRUE),\"Yes\",\"No\")","v":"No"},null,{"$f":"IF(AND(Table1[[#This Row],[2D]]=\"X\",$K$7=TRUE),\"Yes\",\"No\")","v":"No"},null,{"$f":"IF(AND(Table1[[#This Row],[2E]]=\"X\",$K$8=TRUE),\"Yes\",\"No\")","v":"No"},"X",{"$f":"IF(AND(Table1[[#This Row],[2F]]=\"X\",$K$9=TRUE),\"Yes\",\"No\")","v":"Yes"},"X",{"$f":"IF(AND(Table1[[#This Row],[2G]]=\"X\",$K$10=TRUE),\"Yes\",\"No\")","v":"Yes"},"X",{"$f":"IF(AND(Table1[[#This Row],[2H]]=\"X\",$K$11=TRUE),\"Yes\",\"No\")","v":"Yes"},"X",{"$f":"IF(AND(Table1[[#This Row],[2I]]=\"X\",$K$12=TRUE),\"Yes\",\"No\")","v":"Yes"},"X",{"$f":"IF(AND(Table1[[#This Row],[2J]]=\"X\",$K$13=TRUE),\"Yes\",\"No\")","v":"Yes"},null,{"$f":"IF(AND(Table1[[#This Row],[2K]]=\"X\",$K$14=TRUE),\"Yes\",\"No\")","v":"No"}]

{"sheet":"Assumptions","index":14,"n_rows":510,"n_cols":43,"rows_kept":510,"cut":false,"hidden":false,"merged":[[324,1,325,1],[324,2,324,3],[228,1,229,1],[293,3,293,4],[495,1,496,1],[495,2,495,5],[414,1,415,1],[479,2,479,5],[479,1,480,1],[276,2,276,7],[276,1,277,1],[211,1,212,1],[211,2,211,5],[228,6,229,6],[61,3,61,8],[61,1,61,2],[139,2,139,5],[139,1,140,1],[228,2,228,4],[219,1,220,1],[219,2,219,7],[158,1,159,1],[158,2,158,4],[26,1,27,1],[26,5,27,5],[119,2,119,7],[98,1,98,2],[119,1,120,1],[26,2,26,4],[40,6,40,9],[40,2,40,5],[39,1,41,1],[39,2,39,13],[40,10,40,13],[53,2,53,7],[53,1,54,1]]}
[null,"Assumptions"]
[]
[null,"This tab summarizes the assumptions used to calculate construction and operation GHG emissions. Refer to the final report for the detailed methodology and data sources."]
[]
[null,"Applicability of Emission Sources"]
[null,"Phase","Emissions Source",null,null,"Subp. 2, Nuclear fuels and nuclear waste","Subp. 3, Electric-generating facilities","Subp. 4, Petroleum Refineries","Subp. 5, Fuel conversion Facilities","Subp. 6, Transmission lines","Subp. 7, Pipelines","Subp. 8, Transfer facilities","Subp. 9, Underground storage","Subp. 10, Storage facilities","Subp. 11, Metallic mineral mining and processing","Subp. 12, Nonmetallic mineral mining","Subp. 13, Paper or pulp processing mills","Subp. 14, Industrial, commercial, institutional facilities","Subp. 15, Air pollution","Subp. 16, Hazardous waste","Subp. 17, Solid waste","Subp. 18, Wastewater","Subp. 19, Residential Development","Subp. 19a, Residential Development in shoreland outside of the seven-county Twin Cities metropolitan area","Subp. 20, Campgrounds and RV Parks","Subp. 20a, Resorts, campgrounds, and RV parks in shorelands","Subp. 21, Airport projects","Subp. 23, Barge fleeting","Subp. 24, Water appropriation and impoundments","Subp. 25, Marinas","Subp. 26, Stream diversion","Subp. 27, Wetlands and public waters","Subp. 28, Forestry","Subp. 29, Animal feedlots","Subp. 30, Natural areas","Subp. 31, Historical places","Subp. 32, Mixed residential and industrial-commerical projects","Subp. 33, Communications towers","Subp. 34, Sports or entertainment facilities","Subp. 35, Release of genetically engineered organisms","Subp. 36, Land use conversion, including golf courses","Subp. 36a, Land conversions in shoreland","Subp. 37, Recreational trails"]
[null,"Construction","Material inputs",null,null,"Yes","Yes","Yes","Yes","Yes","Yes","Yes","Yes","Yes","Yes","Yes","Yes","Yes","Yes","Yes","Yes","Yes","Yes","Yes","Yes","Yes","Yes","Yes","Yes","Yes","Yes","Yes","No","Yes","No","No","Yes","Yes","Yes","No","Yes","Yes","Yes"]
[null,"Construction","Transportation of material inputs ",null,null,"Yes","Yes","Yes","Yes","Yes","Yes","Yes","Yes","Yes","Yes","Yes","Yes","Yes","Yes","Yes","Yes","Yes","Yes","Yes","Yes","Yes","Yes","Yes","Yes","Yes","Yes","Yes","No","Yes","No","No","Yes","Yes","Yes","No","Yes","Yes","Yes"]
[null,"Construction","Employee commuting",null,null,"Yes","Yes","Yes","Yes","Yes","Yes","Yes","Yes","Yes","Yes","Yes","Yes","Yes","Yes","Yes","Yes","Yes","Yes","Yes","Yes","Yes","Yes","Yes","Yes","Yes","Yes","Yes","Yes","Yes","No","Yes","Yes","Yes","Yes","No","Yes","Yes","Yes"]
[null,"Construction","Construction equipment",null,null,"Yes","Yes","Yes","Yes","Yes","Yes","Yes","Yes","Yes","Yes","Yes","Yes","Yes","Yes","Yes","Yes","Yes","Yes","Yes","Yes","Yes","Yes","Yes","Yes","Yes","Yes","Yes","Yes","Yes","No","Yes","Yes","Yes","Yes","No","Yes","Yes","Yes"]
[null,"Construction","Land use change (construction)",null,null,"Yes","Yes","Yes","Yes","Yes","Yes","Yes","Yes","Yes","Yes","Yes","Yes","Yes","Yes","Yes","Yes","Yes","Yes","Yes","Yes","Yes","Yes","No","Yes","No","Yes","Yes","Yes","Yes","Yes","Yes","Yes","Yes","Yes","No","Yes","Yes","Yes"]
[null,"Construction","Construction waste",null,null,"Yes","Yes","Yes","Yes","Yes","Yes","Yes","Yes","Yes","Yes","Yes","Yes","Yes","Yes","Yes","Yes","Yes","Yes","Yes","Yes","Yes","Yes","Yes","Yes","Yes","Yes","Yes","Yes","Yes","No","Yes","Yes","Yes","Yes","No","Yes","Yes","Yes"]
[null,"Operation","Building energy consumption",null,null,"Yes","Yes","Yes","Yes","No","No","Yes","No","Yes","Yes","Yes","Yes","Yes","Yes","Yes","Yes","Yes","Yes","Yes","Yes","Yes","No","No","No","No","No","No","No","Yes","No","No","Yes","No","Yes","No","Yes","Yes","No"]
[null,"Operation","Coal production",null,null,"No","No","No","Yes","No","Yes","Yes","No","Yes","No","No","No","No","No","No","No","No","No","No","No","No","No","No","No","No","No","No","No","No","No","No","No","No","No","No","No","No","No"]
[null,"Operation","Natural gas and oil products",null,null,"No","No","Yes","No","No","Yes","No","No","No","No","No","No","No","No","No","No","No","No","No","No","No","No","No","No","No","No","No","No","No","No","No","No","No","No","No","No","No","No"]
[null,"Operation","Industrial processes",null,null,"No","No","No","No","No","No","No","No","No","Yes","Yes","Yes","Yes","Yes","No","No","No","No","No","No","No","No","No","No","No","No","No","No","No","No","No","No","No","No","No","No","No","No"]
[null,"Operation","HFC leakage",null,null,"No","Yes","Yes","Yes","No","No","Yes","No","Yes","Yes","No","Yes","Yes","No","No","No","No","Yes","Yes","Yes","Yes","No","No","No","No","No","No","No","No","No","No","Yes","No","Yes","No","Yes","Yes","No"]
[null,"Operation","Land use change (operations)",null,null,"No","No","No","No","No","No","No","No","No","Yes","Yes","No","No","No","No","No","No","No","No","No","No","No","No","No","No","No","No","No","No","No","No","No","No","No","No","No","No","No"]
[null,"Operation","On-road vehicles",null,null,"No","No","No","No","No","No","No","No","No","No","No","No","Yes","No","No","No","No","Yes","Yes","Yes","Yes","No","No","No","No","No","No","No","No","No","No","Yes","No","Yes","No","Yes","Yes","Yes"]
[null,"Operation","Treatment of waste on-site",null,null,"No","No","No","Yes","No","No","No","No","No","No","No","No","No","No","Yes","Yes","No","No","No","No","No","No","No","No","No","No","No","No","No","No","No","No","No","No","No","No","No","No"]
[null,"Operation","Treatment of wastewater on-site",null,null,"No","No","No","No","No","No","No","No","No","No","No","Yes","Yes","No","No","No","Yes","No","No","No","No","No","No","No","No","No","No","No","No","No","No","No","No","No","No","No","No","No"]
[null,"Operation","Treatment of waste off-site",null,null,"Yes","Yes","Yes","Yes","No","No","Yes","No","Yes","Yes","Yes","Yes","Yes","Yes","No","No","No","Yes","Yes","Yes","Yes","No","No","No","No","No","No","No","Yes","No","No","Yes","No","Yes","No","Yes","Yes","No"]
[null,"Operation","Enteric fermentation",null,null,"No","No","No","No","No","No","No","No","No","No","No","No","No","No","No","No","No","No","No","No","No","No","No","No","No","No","No","No","Yes","No","No","No","No","No","No","No","No","No"]
[null,"Operation","Manure management",null,null,"No","No","No","Yes","No","No","No","No","No","No","No","No","No","No","No","No","No","No","No","No","No","No","No","No","No","No","No","No","Yes","No","No","No","No","No","No","No","No","No"]
[]
[null,"Material Inputs Assumptions"]
[null,"Material Type","Emission Factor (kgCO2e/ton)",null,null,"Percent \nImported"]
[null,null,"Domestic","Imported","Unknown"]
[null,"Aluminum",{"$f":"INDEX(Materials!$B$21:$D$30,MATCH(Assumptions!$B29,Materials!$B$21:$B$30,0),2)","v":6480},{"$f":"INDEX(Materials!$B$21:$D$30,MATCH(Assumptions!$B29,Materials!$B$21:$B$30,0),3)","v":6540},{"$f":"IFERROR((D29*F29)+(C29*(1-F29)),C29)","v":6498},0.3]
[null,"Asphalt",{"$f":"INDEX(Materials!$B$21:$D$30,MATCH(Assumptions!B30,Materials!$B$21:$B$30,0),2)","v":70.2},{"$f":"INDEX(Materials!$B$21:$D$30,MATCH(Assumptions!$B30,Materials!$B$21:$B$30,0),3)","v":"NA"},{"$f":"IFERROR((D30*F30)+(C30*(1-F30)),C30)","v":70.2},0]
[null,"Brick",{"$f":"INDEX(Materials!$B$21:$D$30,MATCH(Assumptions!B31,Materials!$B$21:$B$30,0),2)","v":406},{"$f":"INDEX(Materials!$B$21:$D$30,MATCH(Assumptions!$B31,Materials!$B$21:$B$30,0),3)","v":690},451.43999999999994,0.16]
[null,"Concrete",{"$f":"INDEX(Materials!$B$21:$D$30,MATCH(Assumptions!B32,Materials!$B$21:$B$30,0),2)","v":146.59061888141653},{"$f":"INDEX(Materials!$B$21:$D$30,MATCH(Assumptions!$B32,Materials!$B$21:$B$30,0),3)","v":"NA"},146.59061888141653,0]
[null,"Glass",{"$f":"INDEX(Materials!$B$21:$D$30,MATCH(Assumptions!B33,Materials!$B$21:$B$30,0),2)","v":1270},{"$f":"INDEX(Materials!$B$21:$D$30,MATCH(Assumptions!$B33,Materials!$B$21:$B$30,0),3)","v":1136},1259.2800000000002,0.08]
[null,"Insulation (residential)",{"$f":"INDEX(Materials!$B$21:$D$30,MATCH(Assumptions!B34,Materials!$B$21:$B$30,0),2)","v":2284.3817460090995},{"$f":"INDEX(Materials!$B$21:$D$30,MATCH(Assumptions!$B34,Materials!$B$21:$B$30,0),3)","v":2284.3817460090995},2284.3817460090995,0.16]
[null,"Insulation (commercial)",{"$f":"INDEX(Materials!$B$21:$D$30,MATCH(Assumptions!B35,Materials!$B$21:$B$30,0),2)","v":2284.3817460091},{"$f":"INDEX(Materials!$B$21:$D$30,MATCH(Assumptions!$B35,Materials!$B$21:$B$30,0),3)","v":2284.3817460091},2284.3817460091,0.16]
[null,"Steel",{"$f":"INDEX(Materials!$B$21:$D$30,MATCH(Assumptions!B36,Materials!$B$21:$B$30,0),2)","v":1574},{"$f":"INDEX(Materials!$B$21:$D$30,MATCH(Assumptions!$B36,Materials!$B$21:$B$30,0),3)","v":1584},1576.3,0.23]
[null,"Wood Products",{"$f":"INDEX(Materials!$B$21:$D$30,MATCH(Assumptions!B37,Materials!$B$21:$B$30,0),2)","v":338.90065359477126},{"$f":"INDEX(Materials!$B$21:$D$30,MATCH(Assumptions!$B37,Materials!$B$21:$B$30,0),3)","v":316.30727668845316},335.28571328976034,0.16]
[]
[null,"Transportation of Material Inputs Distance Traveled by Mode Assumptions"]
[null,"Material Type","Distance Traveled (miles)"]
[null,null,"Domestic",null,null,null,"Imported",null,null,null,"Source Unknown"]
[null,null,"Aircraft","Watercraft","Truck","Rail","Aircraft","Watercraft","Truck","Rail","Aircraft","Watercraft","Truck","Rail"]
[null,"Aluminum",{"$f":"INDEX(Materials!$B$112:$J$121,MATCH(Assumptions!$B43,Materials!$B$112:$B$121,0),3)","v":23.758137797465604},{"$f":"INDEX(Materials!$B$112:$J$121,MATCH(Assumptions!$B43,Materials!$B$112:$B$121,0),5)","v":0},{"$f":"INDEX(Materials!$B$112:$J$121,MATCH(Assumptions!$B43,Materials!$B$112:$B$121,0),2)","v":574.8234837934308},{"$f":"INDEX(Materials!$B$112:$J$121,MATCH(Assumptions!$B43,Materials!$B$112:$B$121,0),4)","v":8.5269013232422157},{"$f":"INDEX(Materials!$B$112:$J$121,MATCH(Assumptions!$B43,Materials!$B$112:$B$121,0),7)","v":36.276535260180118},{"$f":"INDEX(Materials!$B$112:$J$121,MATCH(Assumptions!$B43,Materials!$B$112:$B$121,0),9)","v":0},{"$f":"INDEX(Materials!$B$112:$J$121,MATCH(Assumptions!$B43,Materials!$B$112:$B$121,0),6)","v":877.70365488983805},{"$f":"INDEX(Materials!$B$112:$J$121,MATCH(Assumptions!$B43,Materials!$B$112:$B$121,0),8)","v":13.019809849982018},{"$f":"(G43*$F29)+(C43*(1-$F29))","v":27.513657036279959},{"$f":"(H43*$F29)+(D43*(1-$F29))","v":0},665.68753512235298,9.8747738812641561]
[null,"Asphalt",{"$f":"INDEX(Materials!$B$112:$J$121,MATCH(Assumptions!$B44,Materials!$B$112:$B$121,0),3)","v":0},{"$f":"INDEX(Materials!$B$112:$J$121,MATCH(Assumptions!$B44,Materials!$B$112:$B$121,0),5)","v":0},{"$f":"INDEX(Materials!$B$112:$J$121,MATCH(Assumptions!$B44,Materials!$B$112:$B$121,0),2)","v":30},{"$f":"INDEX(Materials!$B$112:$J$121,MATCH(Assumptions!$B44,Materials!$B$112:$B$121,0),4)","v":0},{"$f":"INDEX(Materials!$B$112:$J$121,MATCH(Assumptions!$B44,Materials!$B$112:$B$121,0),7)","v":0},{"$f":"INDEX(Materials!$B$112:$J$121,MATCH(Assumptions!$B44,Materials!$B$112:$B$121,0),9)","v":0},{"$f":"INDEX(Materials!$B$112:$J$121,MATCH(Assumptions!$B44,Materials!$B$112:$B$121,0),6)","v":0},{"$f":"INDEX(Materials!$B$112:$J$121,MATCH(Assumptions!$B44,Materials!$B$112:$B$121,0),8)","v":0},{"$f":"(G44*$F30)+(C44*(1-$F30))","v":0},{"$f":"(H44*$F30)+(D44*(1-$F30))","v":0},{"$f":"(I44*$F30)+(E44*(1-$F30))","v":30},{"$f":"(J44*$F30)+(F44*(1-$F30))","v":0}]
[null,"Brick",{"$f":"INDEX(Materials!$B$112:$J$121,MATCH(Assumptions!$B45,Materials!$B$112:$B$121,0),3)","v":0},{"$f":"INDEX(Materials!$B$112:$J$121,MATCH(Assumptions!$B45,Materials!$B$112:$B$121,0),5)","v":0},{"$f":"INDEX(Materials!$B$112:$J$121,MATCH(Assumptions!$B45,Materials!$B$112:$B$121,0),2)","v":192.43303028943404},{"$f":"INDEX(Materials!$B$112:$J$121,MATCH(Assumptions!$B45,Materials!$B$112:$B$121,0),4)","v":3.1566494860779288},{"$f":"INDEX(Materials!$B$112:$J$121,MATCH(Assumptions!$B45,Materials!$B$112:$B$121,0),7)","v":0},{"$f":"INDEX(Materials!$B$112:$J$121,MATCH(Assumptions!$B45,Materials!$B$112:$B$121,0),9)","v":7379},{"$f":"INDEX(Materials!$B$112:$J$121,MATCH(Assumptions!$B45,Materials!$B$112:$B$121,0),6)","v":1176.6975869601997},{"$f":"INDEX(Materials!$B$112:$J$121,MATCH(Assumptions!$B45,Materials!$B$112:$B$121,0),8)","v":19.302413039800275},0,1180.6400000000001,349.91535935675654,5.7399716546735045]
[null,"Concrete",{"$f":"INDEX(Materials!$B$112:$J$121,MATCH(Assumptions!$B46,Materials!$B$112:$B$121,0),3)","v":0},{"$f":"INDEX(Materials!$B$112:$J$121,MATCH(Assumptions!$B46,Materials!$B$112:$B$121,0),5)","v":0},{"$f":"INDEX(Materials!$B$112:$J$121,MATCH(Assumptions!$B46,Materials!$B$112:$B$121,0),2)","v":30},{"$f":"INDEX(Materials!$B$112:$J$121,MATCH(Assumptions!$B46,Materials!$B$112:$B$121,0),4)","v":0},{"$f":"INDEX(Materials!$B$112:$J$121,MATCH(Assumptions!$B46,Materials!$B$112:$B$121,0),7)","v":0},{"$f":"INDEX(Materials!$B$112:$J$121,MATCH(Assumptions!$B46,Materials!$B$112:$B$121,0),9)","v":0},{"$f":"INDEX(Materials!$B$112:$J$121,MATCH(Assumptions!$B46,Materials!$B$112:$B$121,0),6)","v":0},{"$f":"INDEX(Materials!$B$112:$J$121,MATCH(Assumptions!$B46,Materials!$B$112:$B$121,0),8)","v":0},0,0,30,0]
[null,"Glass",{"$f":"INDEX(Materials!$B$112:$J$121,MATCH(Assumptions!$B47,Materials!$B$112:$B$121,0),3)","v":0},{"$f":"INDEX(Materials!$B$112:$J$121,MATCH(Assumptions!$B47,Materials!$B$112:$B$121,0),5)","v":0},{"$f":"INDEX(Materials!$B$112:$J$121,MATCH(Assumptions!$B47,Materials!$B$112:$B$121,0),2)","v":192.43303028943404},{"$f":"INDEX(Materials!$B$112:$J$121,MATCH(Assumptions!$B47,Materials!$B$112:$B$121,0),4)","v":3.1566494860779288},{"$f":"INDEX(Materials!$B$112:$J$121,MATCH(Assumptions!$B47,Materials!$B$112:$B$121,0),7)","v":0},{"$f":"INDEX(Materials!$B$112:$J$121,MATCH(Assumptions!$B47,Materials!$B$112:$B$121,0),9)","v":3674},{"$f":"INDEX(Materials!$B$112:$J$121,MATCH(Assumptions!$B47,Materials!$B$112:$B$121,0),6)","v":1176.6975869601997},{"$f":"INDEX(Materials!$B$112:$J$121,MATCH(Assumptions!$B47,Materials!$B$112:$B$121,0),8)","v":19.302413039800275},0,293.92,271.17419482309532,4.4483105703757166]
[null,"Insulation (residential)",{"$f":"INDEX(Materials!$B$112:$J$121,MATCH(\"Insulation\",Materials!$B$112:$B$121,0),3)","v":0},{"$f":"INDEX(Materials!$B$112:$J$121,MATCH(\"Insulation\",Materials!$B$112:$B$121,0),5)","v":0},{"$f":"INDEX(Materials!$B$112:$J$121,MATCH(\"Insulation\",Materials!$B$112:$B$121,0),2)","v":192.43303028943404},{"$f":"INDEX(Materials!$B$112:$J$121,MATCH(\"Insulation\",Materials!$B$112:$B$121,0),4)","v":3.1566494860779288},{"$f":"INDEX(Materials!$B$112:$J$121,MATCH(\"Insulation\",Materials!$B$112:$B$121,0),7)","v":0},{"$f":"INDEX(Materials!$B$112:$J$121,MATCH(\"Insulation\",Materials!$B$112:$B$121,0),9)","v":0},{"$f":"INDEX(Materials!$B$112:$J$121,MATCH(\"Insulation\",Materials!$B$112:$B$121,0),6)","v":912.03901598002096},{"$f":"INDEX(Materials!$B$112:$J$121,MATCH(\"Insulation\",Materials!$B$112:$B$121,0),8)","v":14.960984019978977},0,0,307.56998799992795,5.0453430115020961]
[null,"Insulation (commercial)",{"$f":"INDEX(Materials!$B$112:$J$121,MATCH(\"Insulation\",Materials!$B$112:$B$121,0),3)","v":0},{"$f":"INDEX(Materials!$B$112:$J$121,MATCH(\"Insulation\",Materials!$B$112:$B$121,0),5)","v":0},{"$f":"INDEX(Materials!$B$112:$J$121,MATCH(\"Insulation\",Materials!$B$112:$B$121,0),2)","v":192.43303028943404},{"$f":"INDEX(Materials!$B$112:$J$121,MATCH(\"Insulation\",Materials!$B$112:$B$121,0),4)","v":3.1566494860779288},{"$f":"INDEX(Materials!$B$112:$J$121,MATCH(\"Insulation\",Materials!$B$112:$B$121,0),7)","v":0},{"$f":"INDEX(Materials!$B$112:$J$121,MATCH(\"Insulation\",Materials!$B$112:$B$121,0),9)","v":0},{"$f":"INDEX(Materials!$B$112:$J$121,MATCH(\"Insulation\",Materials!$B$112:$B$121,0),6)","v":912.03901598002096},{"$f":"INDEX(Materials!$B$112:$J$121,MATCH(\"Insulation\",Materials!$B$112:$B$121,0),8)","v":14.960984019978977},0,0,307.56998799992795,5.0453430115020961]
[null,"Steel",{"$f":"INDEX(Materials!$B$112:$J$121,MATCH(Assumptions!$B50,Materials!$B$112:$B$121,0),3)","v":8.4333770735751745},{"$f":"INDEX(Materials!$B$112:$J$121,MATCH(Assumptions!$B50,Materials!$B$112:$B$121,0),5)","v":0},{"$f":"INDEX(Materials!$B$112:$J$121,MATCH(Assumptions!$B50,Materials!$B$112:$B$121,0),2)","v":460.96533181726284},{"$f":"INDEX(Materials!$B$112:$J$121,MATCH(Assumptions!$B50,Materials!$B$112:$B$121,0),4)","v":1.028088871100066},{"$f":"INDEX(Materials!$B$112:$J$121,MATCH(Assumptions!$B50,Materials!$B$112:$B$121,0),7)","v":16.618399683855586},{"$f":"INDEX(Materials!$B$112:$J$121,MATCH(Assumptions!$B50,Materials!$B$112:$B$121,0),9)","v":0},{"$f":"INDEX(Materials!$B$112:$J$121,MATCH(Assumptions!$B50,Materials!$B$112:$B$121,0),6)","v":908.35569875602118},{"$f":"INDEX(Materials!$B$112:$J$121,MATCH(Assumptions!$B50,Materials!$B$112:$B$121,0),8)","v":2.025901560123391},10.315932273939669,0,563.86511621317732,1.2575857895754308]
[null,"Wood Products",{"$f":"INDEX(Materials!$B$112:$J$121,MATCH(Assumptions!$B51,Materials!$B$112:$B$121,0),3)","v":0},{"$f":"INDEX(Materials!$B$112:$J$121,MATCH(Assumptions!$B51,Materials!$B$112:$B$121,0),5)","v":0},{"$f":"INDEX(Materials!$B$112:$J$121,MATCH(Assumptions!$B51,Materials!$B$112:$B$121,0),2)","v":364.17119410053681},{"$f":"INDEX(Materials!$B$112:$J$121,MATCH(Assumptions!$B51,Materials!$B$112:$B$121,0),4)","v":16.840978328776504},{"$f":"INDEX(Materials!$B$112:$J$121,MATCH(Assumptions!$B51,Materials!$B$112:$B$121,0),7)","v":0},{"$f":"INDEX(Materials!$B$112:$J$121,MATCH(Assumptions!$B51,Materials!$B$112:$B$121,0),9)","v":0},{"$f":"INDEX(Materials!$B$112:$J$121,MATCH(Assumptions!$B51,Materials!$B$112:$B$121,0),6)","v":886.02601533374354},{"$f":"INDEX(Materials!$B$112:$J$121,MATCH(Assumptions!$B51,Materials!$B$112:$B$121,0),8)","v":40.973984666256662},0,0,447.66796549784988,{"$f":"(J51*$F37)+(F51*(1-$F37))","v":20.702259342773328}]
[]
[null,"Transportation of Material Inputs Emission Factors"]
[null,"Transportation Mode","Emission Factor (kgCO2e/ton-mile)"]
[null,null,2025,2030,2035,2040,2045,2050]
[null,"Truck",{"$f":"Materials!D79","v":8.8800754319372371E-2},{"$f":"Materials!E79","v":7.9998587712031902E-2},{"$f":"Materials!F79","v":7.4350148646470327E-2},{"$f":"Materials!G79","v":7.4287524249200251E-2},{"$f":"Materials!H79","v":7.4296682640688838E-2},{"$f":"Materials!I79","v":6.6464920993354493E-2}]
[null,"Rail",{"$f":"Materials!D83","v":2.616045104849515E-2},{"$f":"Materials!E83","v":2.5826585047185689E-2},{"$f":"Materials!F83","v":2.5849163709853188E-2},{"$f":"Materials!G83","v":2.5826609120332824E-2},{"$f":"Materials!H83","v":2.5829900770298123E-2},{"$f":"Materials!I83","v":2.5813095454508769E-2}]
[null,"Aircraft",{"$f":"Materials!D87","v":1.0209855148684595},{"$f":"Materials!E87","v":1.0088209619396427},{"$f":"Materials!F87","v":1.0096285966611285},{"$f":"Materials!G87","v":1.0088098861245698},{"$f":"Materials!H87","v":1.0089293699443407},{"$f":"Materials!I87","v":1.0082723916976901}]
[null,"Watercraft",{"$f":"Materials!D91","v":2.1624146553934718E-2},{"$f":"Materials!E91","v":2.13821746920046E-2},{"$f":"Materials!F91","v":2.1394210305900409E-2},{"$f":"Materials!G91","v":2.137827118690416E-2},{"$f":"Materials!H91","v":2.1380597365371897E-2},{"$f":"Materials!I91","v":2.1362717336361827E-2}]
[]
[null,"Construction Duration"]
[null,"Total Project Acreage",null,"Duration (Days/Acre)"]
[null,"Low","High","Demolition","Site Preparation","Grading","Building Construction","Architectural Coatings","Paving and Landscaping"]
[null,0.01,{"$f":"Equipment!C71","v":1.99},{"$f":"Equipment!D71","v":10},{"$f":"Equipment!E71","v":1},{"$f":"Equipment!F71","v":2},{"$f":"Equipment!G71","v":100},{"$f":"Equipment!H71","v":5},{"$f":"Equipment!I71","v":5}]
[null,{"$f":"Equipment!B72","v":2},{"$f":"Equipment!C72","v":2.99},{"$f":"Equipment!D72","v":10},{"$f":"Equipment!E72","v":1},{"$f":"Equipment!F72","v":2},{"$f":"Equipment!G72","v":100},{"$f":"Equipment!H72","v":5},{"$f":"Equipment!I72","v":5}]
[null,{"$f":"Equipment!B73","v":3},{"$f":"Equipment!C73","v":4.99},{"$f":"Equipment!D73","v":6.666666666666667},{"$f":"Equipment!E73","v":1},{"$f":"Equipment!F73","v":2},{"$f":"Equipment!G73","v":73.333333333333329},{"$f":"Equipment!H73","v":3.3333333333333335},{"$f":"Equipment!I73","v":3.3333333333333335}]
[null,{"$f":"Equipment!B74","v":5},{"$f":"Equipment!C74","v":9.99},{"$f":"Equipment!D74","v":4},{"$f":"Equipment!E74","v":1},{"$f":"Equipment!F74","v":1.6},{"$f":"Equipment!G74","v":46},{"$f":"Equipment!H74","v":3.6},{"$f":"Equipment!I74","v":3.6}]
[null,{"$f":"Equipment!B75","v":10},{"$f":"Equipment!C75","v":14.99},{"$f":"Equipment!D75","v":2},{"$f":"Equipment!E75","v":1},{"$f":"Equipment!F75","v":2},{"$f":"Equipment!G75","v":23},{"$f":"Equipment!H75","v":2},{"$f":"Equipment!I75","v":2}]
[null,{"$f":"Equipment!B76","v":15},{"$f":"Equipment!C76","v":19.989999999999998},{"$f":"Equipment!D76","v":1.3333333333333333},{"$f":"Equipment!E76","v":0.66666666666666663},{"$f":"Equipment!F76","v":2},{"$f":"Equipment!G76","v":20},{"$f":"Equipment!H76","v":1.3333333333333333},{"$f":"Equipment!I76","v":1.3333333333333333}]
[null,{"$f":"Equipment!B77","v":20},{"$f":"Equipment!C77","v":24.99},{"$f":"Equipment!D77","v":1},{"$f":"Equipment!E77","v":0.5},{"$f":"Equipment!F77","v":1.5},{"$f":"Equipment!G77","v":15},{"$f":"Equipment!H77","v":1},{"$f":"Equipment!I77","v":1}]
[null,{"$f":"Equipment!B78","v":25},{"$f":"Equipment!C78","v":29.99},{"$f":"Equipment!D78","v":0.8},{"$f":"Equipment!E78","v":0.4},{"$f":"Equipment!F78","v":1.4},{"$f":"Equipment!G78","v":14.8},{"$f":"Equipment!H78","v":0.8},{"$f":"Equipment!I78","v":0.8}]
[null,{"$f":"Equipment!B79","v":30},{"$f":"Equipment!C79","v":33.99},{"$f":"Equipment!D79","v":1},{"$f":"Equipment!E79","v":0.66666666666666663},{"$f":"Equipment!F79","v":1.5},{"$f":"Equipment!G79","v":14.666666666666666},{"$f":"Equipment!H79","v":1.1666666666666667},{"$f":"Equipment!I79","v":1.1666666666666667}]
[null,{"$f":"Equipment!B80","v":34},{"$f":"Equipment!C80","v":49.99},{"$f":"Equipment!D80","v":0.88235294117647056},{"$f":"Equipment!E80","v":0.58823529411764708},{"$f":"Equipment!F80","v":1.3235294117647058},{"$f":"Equipment!G80","v":14.705882352941176},{"$f":"Equipment!H80","v":1.0294117647058822},{"$f":"Equipment!I80","v":1.0294117647058822}]
[null,{"$f":"Equipment!B81","v":50},{"$f":"Equipment!C81","v":74.989999999999995},{"$f":"Equipment!D81","v":1},{"$f":"Equipment!E81","v":0.6},{"$f":"Equipment!F81","v":1.5},{"$f":"Equipment!G81","v":14.8},{"$f":"Equipment!H81","v":1.1000000000000001},{"$f":"Equipment!I81","v":1.1000000000000001}]
[null,{"$f":"Equipment!B82","v":75},{"$f":"Equipment!C82","v":99.99},{"$f":"Equipment!D82","v":0.93333333333333335},{"$f":"Equipment!E82","v":0.53333333333333333},{"$f":"Equipment!F82","v":1.4666666666666666},{"$f":"Equipment!G82","v":14.8},{"$f":"Equipment!H82","v":1},{"$f":"Equipment!I82","v":1}]
[null,{"$f":"Equipment!B83","v":100},{"$f":"Equipment!C83","v":10000},{"$f":"Equipment!D83","v":1},{"$f":"Equipment!E83","v":0.6},{"$f":"Equipment!F83","v":1.55},{"$f":"Equipment!G83","v":15.5},{"$f":"Equipment!H83","v":1.1000000000000001},{"$f":"Equipment!I83","v":1.1000000000000001}]
[]
[null,"Employee Commuting Transportation Mode Breakout Assumptions"]
[null,"Transportation Mode","Percent of Employees"]
[null,"Single Occupancy Vehicle",{"$f":"Commuting!D9","v":0.81699999999999995}]
[null,"Carpool",{"$f":"Commuting!D10","v":0.106}]
[null,"Motorcycle",{"$f":"Commuting!D11","v":2E-3}]
[null,"Bus",{"$f":"Commuting!D12","v":1.9E-2}]
[null,"Transit Rail",{"$f":"Commuting!D13","v":2.1999999999999999E-2}]
[null,"Bike/Walk",{"$f":"Commuting!D14","v":3.4000000000000002E-2}]
[]
[null,"Employee Commuting Emission Factors"]
[null,"Transportation Mode"," Emission Factor\n(kgCO2e/\npassenger-mile)"]
[null,"Single Occupancy Vehicle",{"$f":"Commuting!E60","v":0.38854191612443478}]
[null,"Carpool",{"$f":"Commuting!E61","v":0.15730441948357682}]
[null,"Motorcycle",{"$f":"Commuting!E62","v":0.43295985618145078}]
[null,"Bus",{"$f":"Commuting!E63","v":7.3593664643008899E-2}]
[null,"Transit Rail*",{"$f":"Commuting!E64","v":8.0336878478692392E-2}]
[null,"Bike/Walk",{"$f":"Commuting!E65","v":0}]
[null,"*Value varies based on the construction start date entered in the Project Background tab."]
[]
[null,"Employee Commuting Distance"]
[null,"Employee Commuting",null,"Distance (miles)"]
[null,"Average One-Way Commute Length",null,{"$f":"Commuting!C22","v":13.2}]
[]
[null,"Construction Equipment "]
[null,"Equipment Type ","Horsepower","Load Factor","Btu/hp-hr"]
[null,"Air Compressors",{"$f":"Equipment!D553","v":37},{"$f":"Equipment!E553","v":0.48},{"$f":"Equipment!G678","v":7684.7331467442827}]
[null,"Cement and Mortar Mixers",{"$f":"Equipment!D554","v":10},{"$f":"Equipment!E554","v":0.56000000000000005},{"$f":"Equipment!G679","v":7709.2352667212108}]
[null,"Concrete/Industrial Saws",{"$f":"Equipment!D555","v":33},{"$f":"Equipment!E555","v":0.73},{"$f":"Equipment!G680","v":7774.653609983282}]
[null,"Cranes",{"$f":"Equipment!D556","v":367},{"$f":"Equipment!E556","v":0.28999999999999998},{"$f":"Equipment!G681","v":7133.3762982662747}]
[null,"Excavators",{"$f":"Equipment!D557","v":36},{"$f":"Equipment!E557","v":0.38},{"$f":"Equipment!G682","v":7938.5846915429656}]
[null,"Forklifts",{"$f":"Equipment!D558","v":82},{"$f":"Equipment!E558","v":0.2},{"$f":"Equipment!G683","v":7126.9364479127207}]
[null,"Generator Sets",{"$f":"Equipment!D559","v":14},{"$f":"Equipment!E559","v":0.74},{"$f":"Equipment!G684","v":7684.183293408546}]
[null,"Graders",{"$f":"Equipment!D560","v":148},{"$f":"Equipment!E560","v":0.41},{"$f":"Equipment!G685","v":7182.1821756030158}]
[null,"Pavers",{"$f":"Equipment!D561","v":81},{"$f":"Equipment!E561","v":0.42},{"$f":"Equipment!G686","v":7119.2187908958904}]
[null,"Paving Equipment",{"$f":"Equipment!D562","v":89},{"$f":"Equipment!E562","v":0.36},{"$f":"Equipment!G687","v":7134.7533479606873}]
[null,"Rollers",{"$f":"Equipment!D563","v":36},{"$f":"Equipment!E563","v":0.38},{"$f":"Equipment!G688","v":7935.4021717084888}]
[null,"Rubber Tired Dozers",{"$f":"Equipment!D564","v":367},{"$f":"Equipment!E564","v":0.4},{"$f":"Equipment!G689","v":7195.3995643327553}]
[null,"Scrapers",{"$f":"Equipment!D565","v":423},{"$f":"Equipment!E565","v":0.48},{"$f":"Equipment!G690","v":7151.7354071943046}]
[null,"Tractors/Loaders/Backhoes",{"$f":"Equipment!D566","v":84},{"$f":"Equipment!E566","v":0.37},{"$f":"Equipment!G691","v":7164.179249179123}]
[null,"Welders",{"$f":"Equipment!D567","v":46},{"$f":"Equipment!E567","v":0.45},{"$f":"Equipment!G692","v":7683.893771648467}]
[null,null,null,null,null,null,"Project Acres",{"$f":"'Project Background'!D17","v":0}]
[null,"Construction Equipment Usage*"]
[null,"Equipment Type ","Number of Hours per Day"]
[null,null,"Demolition","Site Preparation","Grading","Building Construction","Architectural Coatings","Paving and Landscaping"]
[null,"Air Compressors",{"$f":"Equipment!C239","v":0},{"$f":"Equipment!D239","v":0},{"$f":"Equipment!E239","v":0},{"$f":"Equipment!F239","v":0},{"$f":"Equipment!G239","v":6},{"$f":"Equipment!H239","v":0}]
[null,"Cement and Mortar Mixers",{"$f":"Equipment!C240","v":0},{"$f":"Equipment!D240","v":0},{"$f":"Equipment!E240","v":0},{"$f":"Equipment!F240","v":0},{"$f":"Equipment!G240","v":0},{"$f":"Equipment!H240","v":24}]
[null,"Concrete/Industrial Saws",{"$f":"Equipment!C241","v":8},{"$f":"Equipment!D241","v":0},{"$f":"Equipment!E241","v":0},{"$f":"Equipment!F241","v":0},{"$f":"Equipment!G241","v":0},{"$f":"Equipment!H241","v":0}]
[null,"Cranes",{"$f":"Equipment!C242","v":0},{"$f":"Equipment!D242","v":0},{"$f":"Equipment!E242","v":0},{"$f":"Equipment!F242","v":4},{"$f":"Equipment!G242","v":0},{"$f":"Equipment!H242","v":0}]
[null,"Excavators",{"$f":"Equipment!C243","v":0},{"$f":"Equipment!D243","v":0},{"$f":"Equipment!E243","v":0},{"$f":"Equipment!F243","v":0},{"$f":"Equipment!G243","v":0},{"$f":"Equipment!H243","v":0}]
[null,"Forklifts",{"$f":"Equipment!C244","v":0},{"$f":"Equipment!D244","v":0},{"$f":"Equipment!E244","v":0},{"$f":"Equipment!F244","v":12},{"$f":"Equipment!G244","v":0},{"$f":"Equipment!H244","v":0}]
[null,"Generator Sets",{"$f":"Equipment!C245","v":0},{"$f":"Equipment!D245","v":0},{"$f":"Equipment!E245","v":0},{"$f":"Equipment!F245","v":0},{"$f":"Equipment!G245","v":0},{"$f":"Equipment!H245","v":0}]
[null,"Graders",{"$f":"Equipment!C246","v":0},{"$f":"Equipment!D246","v":8},{"$f":"Equipment!E246","v":6},{"$f":"Equipment!F246","v":0},{"$f":"Equipment!G246","v":0},{"$f":"Equipment!H246","v":0}]
[null,"Pavers",{"$f":"Equipment!C247","v":0},{"$f":"Equipment!D247","v":0},{"$f":"Equipment!E247","v":0},{"$f":"Equipment!F247","v":0},{"$f":"Equipment!G247","v":0},{"$f":"Equipment!H247","v":7}]
[null,"Paving Equipment",{"$f":"Equipment!C248","v":0},{"$f":"Equipment!D248","v":0},{"$f":"Equipment!E248","v":0},{"$f":"Equipment!F248","v":0},{"$f":"Equipment!G248","v":0},{"$f":"Equipment!H248","v":0}]
[null,"Rollers",{"$f":"Equipment!C249","v":0},{"$f":"Equipment!D249","v":0},{"$f":"Equipment!E249","v":0},{"$f":"Equipment!F249","v":0},{"$f":"Equipment!G249","v":0},{"$f":"Equipment!H249","v":7}]
[null,"Rubber Tired Dozers",{"$f":"Equipment!C250","v":1},{"$f":"Equipment!D250","v":0},{"$f":"Equipment!E250","v":6},{"$f":"Equipment!F250","v":0},{"$f":"Equipment!G250","v":0},{"$f":"Equipment!H250","v":0}]
[null,"Scrapers",{"$f":"Equipment!C251","v":0},{"$f":"Equipment!D251","v":0},{"$f":"Equipment!E251","v":0},{"$f":"Equipment!F251","v":0},{"$f":"Equipment!G251","v":0},{"$f":"Equipment!H251","v":0}]
[null,"Tractors/Loaders/Backhoes",{"$f":"Equipment!C252","v":12},{"$f":"Equipment!D252","v":8},{"$f":"Equipment!E252","v":7},{"$f":"Equipment!F252","v":16},{"$f":"Equipment!G252","v":0},{"$f":"Equipment!H252","v":7}]
[null,"Welders",{"$f":"Equipment!C253","v":0},{"$f":"Equipment!D253","v":0},{"$f":"Equipment!E253","v":0},{"$f":"Equipment!F253","v":0},{"$f":"Equipment!G253","v":0},{"$f":"Equipment!H253","v":0}]
[null,"* The values in this table are dependent on the total project acreage, as entered in the Project Background tab."]
[]
[null,"Construction Equipment Emission Factors"]
[null,"Equipment Type ","Emission Factor (kgCO2e/MMBtu)"]
[null,null,"Diesel","Biodiesel 100","Biodiesel 20","Renewable Diesel"]
[null,"Air Compressors",{"$f":"SUMIF(Equipment!$B$61:$B$64,VLOOKUP($B142,Equipment!$B$9:$C$23,2,FALSE),Equipment!C$61:C$64)","v":93.741064238574651},{"$f":"SUMIF(Equipment!$B$61:$B$64,VLOOKUP($B142,Equipment!$B$9:$C$23,2,FALSE),Equipment!D$61:D$64)","v":26.926332436339933},{"$f":"SUMIF(Equipment!$B$61:$B$64,VLOOKUP($B142,Equipment!$B$9:$C$23,2,FALSE),Equipment!E$61:E$64)","v":83.329107386486314},{"$f":"SUMIF(Equipment!$B$61:$B$64,VLOOKUP($B142,Equipment!$B$9:$C$23,2,FALSE),Equipment!F$61:F$64)","v":37.87421551905009}]
[null,"Cement and Mortar Mixers",{"$f":"SUMIF(Equipment!$B$61:$B$64,VLOOKUP($B143,Equipment!$B$9:$C$23,2,FALSE),Equipment!C$61:C$64)","v":93.741064238574651},{"$f":"SUMIF(Equipment!$B$61:$B$64,VLOOKUP($B143,Equipment!$B$9:$C$23,2,FALSE),Equipment!D$61:D$64)","v":26.926332436339933},{"$f":"SUMIF(Equipment!$B$61:$B$64,VLOOKUP($B143,Equipment!$B$9:$C$23,2,FALSE),Equipment!E$61:E$64)","v":83.329107386486314},{"$f":"SUMIF(Equipment!$B$61:$B$64,VLOOKUP($B143,Equipment!$B$9:$C$23,2,FALSE),Equipment!F$61:F$64)","v":37.87421551905009}]
[null,"Concrete/Industrial Saws",{"$f":"SUMIF(Equipment!$B$61:$B$64,VLOOKUP($B144,Equipment!$B$9:$C$23,2,FALSE),Equipment!C$61:C$64)","v":93.741064238574651},{"$f":"SUMIF(Equipment!$B$61:$B$64,VLOOKUP($B144,Equipment!$B$9:$C$23,2,FALSE),Equipment!D$61:D$64)","v":26.926332436339933},{"$f":"SUMIF(Equipment!$B$61:$B$64,VLOOKUP($B144,Equipment!$B$9:$C$23,2,FALSE),Equipment!E$61:E$64)","v":83.329107386486314},{"$f":"SUMIF(Equipment!$B$61:$B$64,VLOOKUP($B144,Equipment!$B$9:$C$23,2,FALSE),Equipment!F$61:F$64)","v":37.87421551905009}]
[null,"Cranes",{"$f":"SUMIF(Equipment!$B$61:$B$64,VLOOKUP($B145,Equipment!$B$9:$C$23,2,FALSE),Equipment!C$61:C$64)","v":97.083498197674189},{"$f":"SUMIF(Equipment!$B$61:$B$64,VLOOKUP($B145,Equipment!$B$9:$C$23,2,FALSE),Equipment!D$61:D$64)","v":32.96099739094808},{"$f":"SUMIF(Equipment!$B$61:$B$64,VLOOKUP($B145,Equipment!$B$9:$C$23,2,FALSE),Equipment!E$61:E$64)","v":85.056777783261325},{"$f":"SUMIF(Equipment!$B$61:$B$64,VLOOKUP($B145,Equipment!$B$9:$C$23,2,FALSE),Equipment!F$61:F$64)","v":39.278022059659882}]
[null,"Excavators",{"$f":"SUMIF(Equipment!$B$61:$B$64,VLOOKUP($B146,Equipment!$B$9:$C$23,2,FALSE),Equipment!C$61:C$64)","v":97.083498197674189},{"$f":"SUMIF(Equipment!$B$61:$B$64,VLOOKUP($B146,Equipment!$B$9:$C$23,2,FALSE),Equipment!D$61:D$64)","v":32.96099739094808},{"$f":"SUMIF(Equipment!$B$61:$B$64,VLOOKUP($B146,Equipment!$B$9:$C$23,2,FALSE),Equipment!E$61:E$64)","v":85.056777783261325},{"$f":"SUMIF(Equipment!$B$61:$B$64,VLOOKUP($B146,Equipment!$B$9:$C$23,2,FALSE),Equipment!F$61:F$64)","v":39.278022059659882}]
[null,"Forklifts",{"$f":"SUMIF(Equipment!$B$61:$B$64,VLOOKUP($B147,Equipment!$B$9:$C$23,2,FALSE),Equipment!C$61:C$64)","v":97.407362053839393},{"$f":"SUMIF(Equipment!$B$61:$B$64,VLOOKUP($B147,Equipment!$B$9:$C$23,2,FALSE),Equipment!D$61:D$64)","v":33.28486124711327},{"$f":"SUMIF(Equipment!$B$61:$B$64,VLOOKUP($B147,Equipment!$B$9:$C$23,2,FALSE),Equipment!E$61:E$64)","v":85.056777783261325},{"$f":"SUMIF(Equipment!$B$61:$B$64,VLOOKUP($B147,Equipment!$B$9:$C$23,2,FALSE),Equipment!F$61:F$64)","v":39.6018859158251}]
[null,"Generator Sets",{"$f":"SUMIF(Equipment!$B$61:$B$64,VLOOKUP($B148,Equipment!$B$9:$C$23,2,FALSE),Equipment!C$61:C$64)","v":93.741064238574651},{"$f":"SUMIF(Equipment!$B$61:$B$64,VLOOKUP($B148,Equipment!$B$9:$C$23,2,FALSE),Equipment!D$61:D$64)","v":26.926332436339933},{"$f":"SUMIF(Equipment!$B$61:$B$64,VLOOKUP($B148,Equipment!$B$9:$C$23,2,FALSE),Equipment!E$61:E$64)","v":83.329107386486314},{"$f":"SUMIF(Equipment!$B$61:$B$64,VLOOKUP($B148,Equipment!$B$9:$C$23,2,FALSE),Equipment!F$61:F$64)","v":37.87421551905009}]
[null,"Graders",{"$f":"SUMIF(Equipment!$B$61:$B$64,VLOOKUP($B149,Equipment!$B$9:$C$23,2,FALSE),Equipment!C$61:C$64)","v":98.118839055816821},{"$f":"SUMIF(Equipment!$B$61:$B$64,VLOOKUP($B149,Equipment!$B$9:$C$23,2,FALSE),Equipment!D$61:D$64)","v":33.996338249090726},{"$f":"SUMIF(Equipment!$B$61:$B$64,VLOOKUP($B149,Equipment!$B$9:$C$23,2,FALSE),Equipment!E$61:E$64)","v":85.768254785238781},{"$f":"SUMIF(Equipment!$B$61:$B$64,VLOOKUP($B149,Equipment!$B$9:$C$23,2,FALSE),Equipment!F$61:F$64)","v":40.313362917802571}]
[null,"Pavers",{"$f":"SUMIF(Equipment!$B$61:$B$64,VLOOKUP($B150,Equipment!$B$9:$C$23,2,FALSE),Equipment!C$61:C$64)","v":98.118839055816821},{"$f":"SUMIF(Equipment!$B$61:$B$64,VLOOKUP($B150,Equipment!$B$9:$C$23,2,FALSE),Equipment!D$61:D$64)","v":33.996338249090726},{"$f":"SUMIF(Equipment!$B$61:$B$64,VLOOKUP($B150,Equipment!$B$9:$C$23,2,FALSE),Equipment!E$61:E$64)","v":85.768254785238781},{"$f":"SUMIF(Equipment!$B$61:$B$64,VLOOKUP($B150,Equipment!$B$9:$C$23,2,FALSE),Equipment!F$61:F$64)","v":40.313362917802571}]
[null,"Paving Equipment",{"$f":"SUMIF(Equipment!$B$61:$B$64,VLOOKUP($B151,Equipment!$B$9:$C$23,2,FALSE),Equipment!C$61:C$64)","v":93.741064238574651},{"$f":"SUMIF(Equipment!$B$61:$B$64,VLOOKUP($B151,Equipment!$B$9:$C$23,2,FALSE),Equipment!D$61:D$64)","v":26.926332436339933},{"$f":"SUMIF(Equipment!$B$61:$B$64,VLOOKUP($B151,Equipment!$B$9:$C$23,2,FALSE),Equipment!E$61:E$64)","v":83.329107386486314},{"$f":"SUMIF(Equipment!$B$61:$B$64,VLOOKUP($B151,Equipment!$B$9:$C$23,2,FALSE),Equipment!F$61:F$64)","v":37.87421551905009}]
[null,"Rollers",{"$f":"SUMIF(Equipment!$B$61:$B$64,VLOOKUP($B152,Equipment!$B$9:$C$23,2,FALSE),Equipment!C$61:C$64)","v":97.083498197674189},{"$f":"SUMIF(Equipment!$B$61:$B$64,VLOOKUP($B152,Equipment!$B$9:$C$23,2,FALSE),Equipment!D$61:D$64)","v":32.96099739094808},{"$f":"SUMIF(Equipment!$B$61:$B$64,VLOOKUP($B152,Equipment!$B$9:$C$23,2,FALSE),Equipment!E$61:E$64)","v":85.056777783261325},{"$f":"SUMIF(Equipment!$B$61:$B$64,VLOOKUP($B152,Equipment!$B$9:$C$23,2,FALSE),Equipment!F$61:F$64)","v":39.278022059659882}]
[null,"Rubber Tired Dozers",{"$f":"SUMIF(Equipment!$B$61:$B$64,VLOOKUP($B153,Equipment!$B$9:$C$23,2,FALSE),Equipment!C$61:C$64)","v":97.083498197674189},{"$f":"SUMIF(Equipment!$B$61:$B$64,VLOOKUP($B153,Equipment!$B$9:$C$23,2,FALSE),Equipment!D$61:D$64)","v":32.96099739094808},{"$f":"SUMIF(Equipment!$B$61:$B$64,VLOOKUP($B153,Equipment!$B$9:$C$23,2,FALSE),Equipment!E$61:E$64)","v":85.056777783261325},{"$f":"SUMIF(Equipment!$B$61:$B$64,VLOOKUP($B153,Equipment!$B$9:$C$23,2,FALSE),Equipment!F$61:F$64)","v":39.278022059659882}]
[null,"Scrapers",{"$f":"SUMIF(Equipment!$B$61:$B$64,VLOOKUP($B154,Equipment!$B$9:$C$23,2,FALSE),Equipment!C$61:C$64)","v":97.083498197674189},{"$f":"SUMIF(Equipment!$B$61:$B$64,VLOOKUP($B154,Equipment!$B$9:$C$23,2,FALSE),Equipment!D$61:D$64)","v":32.96099739094808},{"$f":"SUMIF(Equipment!$B$61:$B$64,VLOOKUP($B154,Equipment!$B$9:$C$23,2,FALSE),Equipment!E$61:E$64)","v":85.056777783261325},{"$f":"SUMIF(Equipment!$B$61:$B$64,VLOOKUP($B154,Equipment!$B$9:$C$23,2,FALSE),Equipment!F$61:F$64)","v":39.278022059659882}]
[null,"Tractors/Loaders/Backhoes",{"$f":"SUMIF(Equipment!$B$61:$B$64,VLOOKUP($B155,Equipment!$B$9:$C$23,2,FALSE),Equipment!C$61:C$64)","v":97.083498197674189},{"$f":"SUMIF(Equipment!$B$61:$B$64,VLOOKUP($B155,Equipment!$B$9:$C$23,2,FALSE),Equipment!D$61:D$64)","v":32.96099739094808},{"$f":"SUMIF(Equipment!$B$61:$B$64,VLOOKUP($B155,Equipment!$B$9:$C$23,2,FALSE),Equipment!E$61:E$64)","v":85.056777783261325},{"$f":"SUMIF(Equipment!$B$61:$B$64,VLOOKUP($B155,Equipment!$B$9:$C$23,2,FALSE),Equipment!F$61:F$64)","v":39.278022059659882}]
[null,"Welders",{"$f":"SUMIF(Equipment!$B$61:$B$64,VLOOKUP($B156,Equipment!$B$9:$C$23,2,FALSE),Equipment!C$61:C$64)","v":93.741064238574651},{"$f":"SUMIF(Equipment!$B$61:$B$64,VLOOKUP($B156,Equipment!$B$9:$C$23,2,FALSE),Equipment!D$61:D$64)","v":26.926332436339933},{"$f":"SUMIF(Equipment!$B$61:$B$64,VLOOKUP($B156,Equipment!$B$9:$C$23,2,FALSE),Equipment!E$61:E$64)","v":83.329107386486314},{"$f":"SUMIF(Equipment!$B$61:$B$64,VLOOKUP($B156,Equipment!$B$9:$C$23,2,FALSE),Equipment!F$61:F$64)","v":37.87421551905009}]
[]
[null,"Construction Equipment Fuel Emission Factors"]
[null,"Fuel Type","Emission Factor (kgCO2e/MMBtu)",null,null,"Heating Value"]
[null,null,"Upstream","Combustion","Total","Btu/gallon"]
[null,"Diesel",{"$f":"INDEX(Fuels!$B$7:$E$29,MATCH(Assumptions!$B161,Fuels!$B$7:$B$29,0),MATCH(Assumptions!C$230,Fuels!$B$7:$E$7,0))","v":16.109621805630571},{"$f":"INDEX(Fuels!$B$7:$E$29,MATCH(Assumptions!$B161,Fuels!$B$7:$B$29,0),MATCH(Assumptions!D$230,Fuels!$B$7:$E$7,0))","v":74.202999999999989},{"$f":"INDEX(Fuels!$B$7:$E$29,MATCH(Assumptions!$B161,Fuels!$B$7:$B$29,0),MATCH(Assumptions!E$230,Fuels!$B$7:$E$7,0))","v":90.312621805630556},{"$f":"INDEX(Fuels!$B$7:$F$29,MATCH(Assumptions!$B161,Fuels!$B$7:$B$29,0),5)","v":138000}]
[null,"Biodiesel 100",{"$f":"INDEX(Fuels!$B$7:$E$29,MATCH(Assumptions!$B162,Fuels!$B$7:$B$29,0),MATCH(Assumptions!C$230,Fuels!$B$7:$E$7,0))","v":26.866382436339933},{"$f":"INDEX(Fuels!$B$7:$E$29,MATCH(Assumptions!$B162,Fuels!$B$7:$B$29,0),MATCH(Assumptions!D$230,Fuels!$B$7:$E$7,0))","v":5.9950000000000614E-2},{"$f":"INDEX(Fuels!$B$7:$E$29,MATCH(Assumptions!$B162,Fuels!$B$7:$B$29,0),MATCH(Assumptions!E$230,Fuels!$B$7:$E$7,0))","v":26.926332436339933},{"$f":"INDEX(Fuels!$B$7:$F$29,MATCH(Assumptions!$B162,Fuels!$B$7:$B$29,0),5)","v":128000}]
[null,"Biodiesel 20",{"$f":"INDEX(Fuels!$B$7:$E$29,MATCH(Assumptions!$B163,Fuels!$B$7:$B$29,0),MATCH(Assumptions!C$230,Fuels!$B$7:$E$7,0))","v":17.808131816933638},{"$f":"INDEX(Fuels!$B$7:$E$29,MATCH(Assumptions!$B163,Fuels!$B$7:$B$29,0),MATCH(Assumptions!D$230,Fuels!$B$7:$E$7,0))","v":65.520975569552689},{"$f":"INDEX(Fuels!$B$7:$E$29,MATCH(Assumptions!$B163,Fuels!$B$7:$B$29,0),MATCH(Assumptions!E$230,Fuels!$B$7:$E$7,0))","v":83.329107386486328},{"$f":"INDEX(Fuels!$B$7:$F$29,MATCH(Assumptions!$B163,Fuels!$B$7:$B$29,0),5)","v":128000}]
[null,"Renewable Diesel",{"$f":"INDEX(Fuels!$B$7:$E$29,MATCH(Assumptions!$B164,Fuels!$B$7:$B$29,0),MATCH(Assumptions!C$230,Fuels!$B$7:$E$7,0))","v":37.376394724181957},{"$f":"INDEX(Fuels!$B$7:$E$29,MATCH(Assumptions!$B164,Fuels!$B$7:$B$29,0),MATCH(Assumptions!D$230,Fuels!$B$7:$E$7,0))","v":0.49782079486814723},{"$f":"INDEX(Fuels!$B$7:$E$29,MATCH(Assumptions!$B164,Fuels!$B$7:$B$29,0),MATCH(Assumptions!E$230,Fuels!$B$7:$E$7,0))","v":37.874215519050104},{"$f":"INDEX(Fuels!$B$7:$F$29,MATCH(Assumptions!$B164,Fuels!$B$7:$B$29,0),5)","v":122887}]
[]
[null,"Land Use Carbon Stock"]
[null,"Land Use Type",null,"Carbon Stock \n(MT C/acre)"]
[null,"Wetlands: peatland, non forested",null,{"$f":"'Land Use'!D6","v":367.87088110131424}]
[null,"Wetlands: peatland, forested",null,{"$f":"'Land Use'!D7","v":436.18048028678282}]
[null,"Wetlands: mineral soil, non forested",null,{"$f":"'Land Use'!D8","v":55.564268739632432}]
[null,"Wetlands: mineral soil, forested",null,{"$f":"'Land Use'!D9","v":77.153906384852476}]
[null,"Forest ",null,{"$f":"'Land Use'!D10","v":99}]
[null,"Rivers and streams",null,{"$f":"'Land Use'!D11","v":0}]
[null,"Brush and grassland",null,{"$f":"'Land Use'!D12","v":40.798506395373956}]
[null,"Cropland",null,{"$f":"'Land Use'!D13","v":32.490790157128821}]
[null,"Livestock rangeland/pastureland",null,{"$f":"'Land Use'!D14","v":40.798506395373956}]
[null,"Lawn/landscaping",null,{"$f":"'Land Use'!D15","v":19.060723174359076}]
[null,"Green Infrastructure: Constructed wetlands, paved",null,{"$f":"'Land Use'!D16","v":0}]
[null,"Green Infrastructure: Constructed wetlands, vegetated",null,{"$f":"'Land Use'!D17","v":43.402602132696629}]
[null,"Green Infrastructure: Constructed green roofs",null,{"$f":"'Land Use'!D18","v":19.060723174359076}]
[null,"Green Infrastructure: Constructed permeable pavements ",null,{"$f":"'Land Use'!D19","v":0}]
[null,"Impervious surface ",null,{"$f":"'Land Use'!D20","v":0}]
[null,"Stormwater pond (wet sedimentation basin) ",null,{"$f":"'Land Use'!D21","v":0}]
[]
[null,"Vegetation",null,"Carbon Stock \n(MT C/tree)"]
[null,"Mature Tree",null,{"$f":"'Land Use'!G134","v":0.49532286804000009}]
[]
[null,"Construction Waste Generation"]
[null,"Material Type","Loss Rate (%)"]
[null,"Aluminum",{"$f":"Waste!C40","v":0}]
[null,"Asphalt",{"$f":"Waste!C41","v":0}]
[null,"Brick",{"$f":"Waste!C42","v":0.04}]
[null,"Concrete",{"$f":"Waste!C43","v":0.03}]
[null,"Glass",{"$f":"Waste!C44","v":0.03}]
[null,"Insulation",{"$f":"Waste!C45","v":0.1}]
[null,"Steel",{"$f":"Waste!C46","v":0}]
[null,"Wood Products",{"$f":"Waste!C47","v":0.05}]
[]
[null,"Construction Waste Emission Factors"]
[null,"Material Type","Landfill Emission Factor (MTCO2e/ton)"]
[null,"Aluminum",{"$f":"Waste!C138","v":0.02}]
[null,"Asphalt",{"$f":"Waste!C139","v":0.02}]
[null,"Brick",{"$f":"Waste!C140","v":0.02}]
[null,"Concrete",{"$f":"Waste!C141","v":0.02}]
[null,"Glass",{"$f":"Waste!C142","v":0.02}]
[null,"Insulation",{"$f":"Waste!C143","v":0.02}]
[null,"Steel",{"$f":"Waste!C144","v":0.02}]
[null,"Wood Products",{"$f":"Waste!C145","v":0.17}]
[null,"Mixed Waste",{"$f":"Waste!C146","v":5.1889999999999992E-2}]
[]
[null,"Building Energy Intensities"]
[null,"Building Type","Energy Intensity  (Btu/sq ft/year)"]
[null,null,"Electricity","Natural Gas ","Propane","Kerosene or \nFuel Oil"]
[null,"Residential",{"$f":"INDEX(Buildings!$B$90:$F$95,MATCH(Assumptions!$B214,Buildings!$B$90:$B$95,0),2)","v":18096.906012842966},{"$f":"INDEX(Buildings!$B$90:$F$95,MATCH(Assumptions!$B214,Buildings!$B$90:$B$95,0),3)","v":24460.011675423237},{"$f":"INDEX(Buildings!$B$90:$F$95,MATCH(Assumptions!$B214,Buildings!$B$90:$B$95,0),4)","v":3619.3812025685934},{"$f":"INDEX(Buildings!$B$90:$F$95,MATCH(Assumptions!$B214,Buildings!$B$90:$B$95,0),5)","v":233.50846468184471}]
[null,"Commercial",{"$f":"INDEX(Buildings!$B$90:$F$95,MATCH(Assumptions!$B215,Buildings!$B$90:$B$95,0),2)","v":30766.128999999997},{"$f":"INDEX(Buildings!$B$90:$F$95,MATCH(Assumptions!$B215,Buildings!$B$90:$B$95,0),3)","v":35534.875},{"$f":"INDEX(Buildings!$B$90:$F$95,MATCH(Assumptions!$B215,Buildings!$B$90:$B$95,0),4)","v":0},{"$f":"INDEX(Buildings!$B$90:$F$95,MATCH(Assumptions!$B215,Buildings!$B$90:$B$95,0),5)","v":1661.5642857142857}]
[null,"Industrial",{"$f":"INDEX(Buildings!$B$90:$F$95,MATCH(Assumptions!$B216,Buildings!$B$90:$B$95,0),2)","v":229952.19837444543},{"$f":"INDEX(Buildings!$B$90:$F$95,MATCH(Assumptions!$B216,Buildings!$B$90:$B$95,0),3)","v":656392.90150842944},{"$f":"INDEX(Buildings!$B$90:$F$95,MATCH(Assumptions!$B216,Buildings!$B$90:$B$95,0),4)","v":0},{"$f":"INDEX(Buildings!$B$90:$F$95,MATCH(Assumptions!$B216,Buildings!$B$90:$B$95,0),5)","v":8191.6592724046141}]
[null,"Institutional",{"$f":"INDEX(Buildings!$B$90:$F$95,MATCH(Assumptions!$B217,Buildings!$B$90:$B$95,0),2)","v":46860.056000000004},{"$f":"INDEX(Buildings!$B$90:$F$95,MATCH(Assumptions!$B217,Buildings!$B$90:$B$95,0),3)","v":48219.033333333333},{"$f":"INDEX(Buildings!$B$90:$F$95,MATCH(Assumptions!$B217,Buildings!$B$90:$B$95,0),4)","v":0},{"$f":"INDEX(Buildings!$B$90:$F$95,MATCH(Assumptions!$B217,Buildings!$B$90:$B$95,0),5)","v":3659.9321428571438}]
[]
[null,"Electricity Emission Factors"]
[null,"Electricity Provider","Emission Factor (kgCO2e/MMBtu)"]
[null,null,2025,2030,2035,2040,2045,2050]
[null,"Grid Average",{"$f":"Electricity!C46","v":116.61796503700428},{"$f":"Electricity!D46","v":42.633833633303503},{"$f":"Electricity!E46","v":21.316916816651752},{"$f":"Electricity!F46","v":0},{"$f":"Electricity!G46","v":0},{"$f":"Electricity!H46","v":0}]
[null,"Xcel Energy",{"$f":"Electricity!E66","v":69.746060446305151},{"$f":"Electricity!H66","v":19.844835990934421},{"$f":"Electricity!K66","v":12.968588531690633},{"$f":"Electricity!N66","v":0},{"$f":"Electricity!Q66","v":0},{"$f":"Electricity!T66","v":0}]
[null,"Minnesota Power",{"$f":"Electricity!E84","v":162.73921846139893},{"$f":"Electricity!H84","v":49.692771607360307},{"$f":"Electricity!K84","v":16.882410327379141},{"$f":"Electricity!N84","v":0},{"$f":"Electricity!Q84","v":0},{"$f":"Electricity!T84","v":0}]
[null,"Great River Energy",{"$f":"Electricity!E116","v":161.81307976920448},{"$f":"Electricity!H116","v":91.919008311841353},{"$f":"Electricity!K116","v":33.762047653136918},{"$f":"Electricity!N116","v":0},{"$f":"Electricity!Q116","v":0},{"$f":"Electricity!T116","v":0}]
[null,"Otter Tail Power Company",{"$f":"Electricity!E148","v":141.39808792342922},{"$f":"Electricity!H148","v":91.438749911099791},{"$f":"Electricity!K148","v":45.659334846572328},{"$f":"Electricity!N148","v":0},{"$f":"Electricity!Q148","v":0},{"$f":"Electricity!T148","v":0}]
[]
[null,"Fossil Fuel Emission Factors"]
[null,"Fuel Type","Emission Factor (kgCO2e/MMBtu)",null,null,"Heating Value","Unit"]
[null,null,"Upstream","Combustion","Total","Btu/unit"]
[null,"Mixed Coal",{"$f":"INDEX(Fuels!$B$7:$E$29,MATCH(Assumptions!$B231,Fuels!$B$7:$B$29,0),MATCH(Assumptions!C$230,Fuels!$B$7:$E$7,0))","v":5.7631379375573042},{"$f":"INDEX(Fuels!$B$7:$E$29,MATCH(Assumptions!$B231,Fuels!$B$7:$B$29,0),MATCH(Assumptions!D$230,Fuels!$B$7:$E$7,0))","v":96.251999999999995},{"$f":"INDEX(Fuels!$B$7:$E$29,MATCH(Assumptions!$B231,Fuels!$B$7:$B$29,0),MATCH(Assumptions!E$230,Fuels!$B$7:$E$7,0))","v":102.0151379375573},{"$f":"INDEX(Fuels!$B$7:$F$29,MATCH(Assumptions!$B231,Fuels!$B$7:$B$29,0),5)","v":19730000},"Btu/ton"]
[null,"Anthracite Coal",{"$f":"INDEX(Fuels!$B$7:$E$29,MATCH(Assumptions!$B232,Fuels!$B$7:$B$29,0),MATCH(Assumptions!C$230,Fuels!$B$7:$E$7,0))","v":5.7631379375573042},{"$f":"INDEX(Fuels!$B$7:$E$29,MATCH(Assumptions!$B232,Fuels!$B$7:$B$29,0),MATCH(Assumptions!D$230,Fuels!$B$7:$E$7,0))","v":104.422},{"$f":"INDEX(Fuels!$B$7:$E$29,MATCH(Assumptions!$B232,Fuels!$B$7:$B$29,0),MATCH(Assumptions!E$230,Fuels!$B$7:$E$7,0))","v":110.1851379375573},{"$f":"INDEX(Fuels!$B$7:$F$29,MATCH(Assumptions!$B232,Fuels!$B$7:$B$29,0),5)","v":25090000},"Btu/ton"]
[null,"Bituminous Coal",{"$f":"INDEX(Fuels!$B$7:$E$29,MATCH(Assumptions!$B233,Fuels!$B$7:$B$29,0),MATCH(Assumptions!C$230,Fuels!$B$7:$E$7,0))","v":5.7631379375573042},{"$f":"INDEX(Fuels!$B$7:$E$29,MATCH(Assumptions!$B233,Fuels!$B$7:$B$29,0),MATCH(Assumptions!D$230,Fuels!$B$7:$E$7,0))","v":94.012},{"$f":"INDEX(Fuels!$B$7:$E$29,MATCH(Assumptions!$B233,Fuels!$B$7:$B$29,0),MATCH(Assumptions!E$230,Fuels!$B$7:$E$7,0))","v":99.775137937557304},{"$f":"INDEX(Fuels!$B$7:$F$29,MATCH(Assumptions!$B233,Fuels!$B$7:$B$29,0),5)","v":24930000},"Btu/ton"]
[null,"Subbituminous Coal",{"$f":"INDEX(Fuels!$B$7:$E$29,MATCH(Assumptions!$B234,Fuels!$B$7:$B$29,0),MATCH(Assumptions!C$230,Fuels!$B$7:$E$7,0))","v":5.7631379375573042},{"$f":"INDEX(Fuels!$B$7:$E$29,MATCH(Assumptions!$B234,Fuels!$B$7:$B$29,0),MATCH(Assumptions!D$230,Fuels!$B$7:$E$7,0))","v":97.902000000000001},{"$f":"INDEX(Fuels!$B$7:$E$29,MATCH(Assumptions!$B234,Fuels!$B$7:$B$29,0),MATCH(Assumptions!E$230,Fuels!$B$7:$E$7,0))","v":103.6651379375573},{"$f":"INDEX(Fuels!$B$7:$F$29,MATCH(Assumptions!$B234,Fuels!$B$7:$B$29,0),5)","v":17250000},"Btu/ton"]
[null,"Lignite Coal",{"$f":"INDEX(Fuels!$B$7:$E$29,MATCH(Assumptions!$B235,Fuels!$B$7:$B$29,0),MATCH(Assumptions!C$230,Fuels!$B$7:$E$7,0))","v":5.7631379375573042},{"$f":"INDEX(Fuels!$B$7:$E$29,MATCH(Assumptions!$B235,Fuels!$B$7:$B$29,0),MATCH(Assumptions!D$230,Fuels!$B$7:$E$7,0))","v":98.451999999999998},{"$f":"INDEX(Fuels!$B$7:$E$29,MATCH(Assumptions!$B235,Fuels!$B$7:$B$29,0),MATCH(Assumptions!E$230,Fuels!$B$7:$E$7,0))","v":104.2151379375573},{"$f":"INDEX(Fuels!$B$7:$F$29,MATCH(Assumptions!$B235,Fuels!$B$7:$B$29,0),5)","v":14210000},"Btu/ton"]
[null,"Coal Coke",{"$f":"INDEX(Fuels!$B$7:$E$29,MATCH(Assumptions!$B236,Fuels!$B$7:$B$29,0),MATCH(Assumptions!C$230,Fuels!$B$7:$E$7,0))","v":5.7631379375573042},{"$f":"INDEX(Fuels!$B$7:$E$29,MATCH(Assumptions!$B236,Fuels!$B$7:$B$29,0),MATCH(Assumptions!D$230,Fuels!$B$7:$E$7,0))","v":114.402},{"$f":"INDEX(Fuels!$B$7:$E$29,MATCH(Assumptions!$B236,Fuels!$B$7:$B$29,0),MATCH(Assumptions!E$230,Fuels!$B$7:$E$7,0))","v":120.1651379375573},{"$f":"INDEX(Fuels!$B$7:$F$29,MATCH(Assumptions!$B236,Fuels!$B$7:$B$29,0),5)","v":24800000},"Btu/ton"]
[null,"Natural Gas",{"$f":"INDEX(Fuels!$B$7:$E$29,MATCH(Assumptions!$B237,Fuels!$B$7:$B$29,0),MATCH(Assumptions!C$230,Fuels!$B$7:$E$7,0))","v":12.034956379705699},{"$f":"INDEX(Fuels!$B$7:$E$29,MATCH(Assumptions!$B237,Fuels!$B$7:$B$29,0),MATCH(Assumptions!D$230,Fuels!$B$7:$E$7,0))","v":53.1145},{"$f":"INDEX(Fuels!$B$7:$E$29,MATCH(Assumptions!$B237,Fuels!$B$7:$B$29,0),MATCH(Assumptions!E$230,Fuels!$B$7:$E$7,0))","v":65.149456379705697},{"$f":"INDEX(Fuels!$B$7:$F$29,MATCH(Assumptions!$B237,Fuels!$B$7:$B$29,0),5)","v":1026},"Btu/cubic feet"]
[null,"Renewable Natural Gas",{"$f":"INDEX(Fuels!$B$7:$E$29,MATCH(Assumptions!$B238,Fuels!$B$7:$B$29,0),MATCH(Assumptions!C$230,Fuels!$B$7:$E$7,0))","v":18.500701323532361},{"$f":"INDEX(Fuels!$B$7:$E$29,MATCH(Assumptions!$B238,Fuels!$B$7:$B$29,0),MATCH(Assumptions!D$230,Fuels!$B$7:$E$7,0))","v":5.4499999999997328E-2},{"$f":"INDEX(Fuels!$B$7:$E$29,MATCH(Assumptions!$B238,Fuels!$B$7:$B$29,0),MATCH(Assumptions!E$230,Fuels!$B$7:$E$7,0))","v":18.555201323532359},{"$f":"INDEX(Fuels!$B$7:$F$29,MATCH(Assumptions!$B238,Fuels!$B$7:$B$29,0),5)","v":1026},"Btu/cubic feet"]
[null,"Propane",{"$f":"INDEX(Fuels!$B$7:$E$29,MATCH(Assumptions!$B239,Fuels!$B$7:$B$29,0),MATCH(Assumptions!C$230,Fuels!$B$7:$E$7,0))","v":18.166043991959029},{"$f":"INDEX(Fuels!$B$7:$E$29,MATCH(Assumptions!$B239,Fuels!$B$7:$B$29,0),MATCH(Assumptions!D$230,Fuels!$B$7:$E$7,0))","v":63.113},{"$f":"INDEX(Fuels!$B$7:$E$29,MATCH(Assumptions!$B239,Fuels!$B$7:$B$29,0),MATCH(Assumptions!E$230,Fuels!$B$7:$E$7,0))","v":81.279043991959028},{"$f":"INDEX(Fuels!$B$7:$F$29,MATCH(Assumptions!$B239,Fuels!$B$7:$B$29,0),5)","v":91000},"Btu/gallon"]
[null,"Gasoline",{"$f":"INDEX(Fuels!$B$7:$E$29,MATCH(Assumptions!$B240,Fuels!$B$7:$B$29,0),MATCH(Assumptions!C$230,Fuels!$B$7:$E$7,0))","v":22.863240499070681},{"$f":"INDEX(Fuels!$B$7:$E$29,MATCH(Assumptions!$B240,Fuels!$B$7:$B$29,0),MATCH(Assumptions!D$230,Fuels!$B$7:$E$7,0))","v":70.462999999999994},{"$f":"INDEX(Fuels!$B$7:$E$29,MATCH(Assumptions!$B240,Fuels!$B$7:$B$29,0),MATCH(Assumptions!E$230,Fuels!$B$7:$E$7,0))","v":93.326240499070678},{"$f":"INDEX(Fuels!$B$7:$F$29,MATCH(Assumptions!$B240,Fuels!$B$7:$B$29,0),5)","v":125000},"Btu/gallon"]
[null,"Distillate Fuel Oil No. 1",{"$f":"INDEX(Fuels!$B$7:$E$29,MATCH(Assumptions!$B241,Fuels!$B$7:$B$29,0),MATCH(Assumptions!C$230,Fuels!$B$7:$E$7,0))","v":16.109621805630571},{"$f":"INDEX(Fuels!$B$7:$E$29,MATCH(Assumptions!$B241,Fuels!$B$7:$B$29,0),MATCH(Assumptions!D$230,Fuels!$B$7:$E$7,0))","v":73.492999999999995},{"$f":"INDEX(Fuels!$B$7:$E$29,MATCH(Assumptions!$B241,Fuels!$B$7:$B$29,0),MATCH(Assumptions!E$230,Fuels!$B$7:$E$7,0))","v":89.602621805630562},{"$f":"INDEX(Fuels!$B$7:$F$29,MATCH(Assumptions!$B241,Fuels!$B$7:$B$29,0),5)","v":139000},"Btu/gallon"]
[null,"Distillate Fuel Oil No. 2",{"$f":"INDEX(Fuels!$B$7:$E$29,MATCH(Assumptions!$B242,Fuels!$B$7:$B$29,0),MATCH(Assumptions!C$230,Fuels!$B$7:$E$7,0))","v":16.109621805630571},{"$f":"INDEX(Fuels!$B$7:$E$29,MATCH(Assumptions!$B242,Fuels!$B$7:$B$29,0),MATCH(Assumptions!D$230,Fuels!$B$7:$E$7,0))","v":74.202999999999989},{"$f":"INDEX(Fuels!$B$7:$E$29,MATCH(Assumptions!$B242,Fuels!$B$7:$B$29,0),MATCH(Assumptions!E$230,Fuels!$B$7:$E$7,0))","v":90.312621805630556},{"$f":"INDEX(Fuels!$B$7:$F$29,MATCH(Assumptions!$B242,Fuels!$B$7:$B$29,0),5)","v":138000},"Btu/gallon"]
[null,"Distillate Fuel Oil No. 4",{"$f":"INDEX(Fuels!$B$7:$E$29,MATCH(Assumptions!$B243,Fuels!$B$7:$B$29,0),MATCH(Assumptions!C$230,Fuels!$B$7:$E$7,0))","v":16.109621805630571},{"$f":"INDEX(Fuels!$B$7:$E$29,MATCH(Assumptions!$B243,Fuels!$B$7:$B$29,0),MATCH(Assumptions!D$230,Fuels!$B$7:$E$7,0))","v":75.283000000000001},{"$f":"INDEX(Fuels!$B$7:$E$29,MATCH(Assumptions!$B243,Fuels!$B$7:$B$29,0),MATCH(Assumptions!E$230,Fuels!$B$7:$E$7,0))","v":91.392621805630569},{"$f":"INDEX(Fuels!$B$7:$F$29,MATCH(Assumptions!$B243,Fuels!$B$7:$B$29,0),5)","v":146000},"Btu/gallon"]
[null,"Residual Fuel Oil No. 5",{"$f":"INDEX(Fuels!$B$7:$E$29,MATCH(Assumptions!$B244,Fuels!$B$7:$B$29,0),MATCH(Assumptions!C$230,Fuels!$B$7:$E$7,0))","v":12.799415286810413},{"$f":"INDEX(Fuels!$B$7:$E$29,MATCH(Assumptions!$B244,Fuels!$B$7:$B$29,0),MATCH(Assumptions!D$230,Fuels!$B$7:$E$7,0))","v":73.173000000000002},{"$f":"INDEX(Fuels!$B$7:$E$29,MATCH(Assumptions!$B244,Fuels!$B$7:$B$29,0),MATCH(Assumptions!E$230,Fuels!$B$7:$E$7,0))","v":85.972415286810417},{"$f":"INDEX(Fuels!$B$7:$F$29,MATCH(Assumptions!$B244,Fuels!$B$7:$B$29,0),5)","v":140000},"Btu/gallon"]
[null,"Residual Fuel Oil No. 6",{"$f":"INDEX(Fuels!$B$7:$E$29,MATCH(Assumptions!$B245,Fuels!$B$7:$B$29,0),MATCH(Assumptions!C$230,Fuels!$B$7:$E$7,0))","v":12.799415286810413},{"$f":"INDEX(Fuels!$B$7:$E$29,MATCH(Assumptions!$B245,Fuels!$B$7:$B$29,0),MATCH(Assumptions!D$230,Fuels!$B$7:$E$7,0))","v":75.342999999999989},{"$f":"INDEX(Fuels!$B$7:$E$29,MATCH(Assumptions!$B245,Fuels!$B$7:$B$29,0),MATCH(Assumptions!E$230,Fuels!$B$7:$E$7,0))","v":88.142415286810404},{"$f":"INDEX(Fuels!$B$7:$F$29,MATCH(Assumptions!$B245,Fuels!$B$7:$B$29,0),5)","v":150000},"Btu/gallon"]
[null,"Liquified Petroleum Gas (LPG)",{"$f":"INDEX(Fuels!$B$7:$E$29,MATCH(Assumptions!$B246,Fuels!$B$7:$B$29,0),MATCH(Assumptions!C$230,Fuels!$B$7:$E$7,0))","v":18.756078074637752},{"$f":"INDEX(Fuels!$B$7:$E$29,MATCH(Assumptions!$B246,Fuels!$B$7:$B$29,0),MATCH(Assumptions!D$230,Fuels!$B$7:$E$7,0))","v":61.953000000000003},{"$f":"INDEX(Fuels!$B$7:$E$29,MATCH(Assumptions!$B246,Fuels!$B$7:$B$29,0),MATCH(Assumptions!E$230,Fuels!$B$7:$E$7,0))","v":80.709078074637759},{"$f":"INDEX(Fuels!$B$7:$F$29,MATCH(Assumptions!$B246,Fuels!$B$7:$B$29,0),5)","v":92000},"Btu/gallon"]
[null,"Kerosene",{"$f":"INDEX(Fuels!$B$7:$E$29,MATCH(Assumptions!$B247,Fuels!$B$7:$B$29,0),MATCH(Assumptions!C$230,Fuels!$B$7:$E$7,0))","v":16.109621805630571},{"$f":"INDEX(Fuels!$B$7:$E$29,MATCH(Assumptions!$B247,Fuels!$B$7:$B$29,0),MATCH(Assumptions!D$230,Fuels!$B$7:$E$7,0))","v":75.442999999999998},{"$f":"INDEX(Fuels!$B$7:$E$29,MATCH(Assumptions!$B247,Fuels!$B$7:$B$29,0),MATCH(Assumptions!E$230,Fuels!$B$7:$E$7,0))","v":91.552621805630565},{"$f":"INDEX(Fuels!$B$7:$F$29,MATCH(Assumptions!$B247,Fuels!$B$7:$B$29,0),5)","v":135000},"Btu/gallon"]
[null,"Kerosene Jet Fuel",{"$f":"INDEX(Fuels!$B$7:$E$29,MATCH(Assumptions!$B248,Fuels!$B$7:$B$29,0),MATCH(Assumptions!C$230,Fuels!$B$7:$E$7,0))","v":11.848449925485205},{"$f":"INDEX(Fuels!$B$7:$E$29,MATCH(Assumptions!$B248,Fuels!$B$7:$B$29,0),MATCH(Assumptions!D$230,Fuels!$B$7:$E$7,0))","v":72.462999999999994},{"$f":"INDEX(Fuels!$B$7:$E$29,MATCH(Assumptions!$B248,Fuels!$B$7:$B$29,0),MATCH(Assumptions!E$230,Fuels!$B$7:$E$7,0))","v":84.311449925485192},{"$f":"INDEX(Fuels!$B$7:$F$29,MATCH(Assumptions!$B248,Fuels!$B$7:$B$29,0),5)","v":135000},"Btu/gallon"]
[null,"Biodiesel 100",{"$f":"INDEX(Fuels!$B$7:$E$29,MATCH(Assumptions!$B249,Fuels!$B$7:$B$29,0),MATCH(Assumptions!C$230,Fuels!$B$7:$E$7,0))","v":26.866382436339933},{"$f":"INDEX(Fuels!$B$7:$E$29,MATCH(Assumptions!$B249,Fuels!$B$7:$B$29,0),MATCH(Assumptions!D$230,Fuels!$B$7:$E$7,0))","v":5.9950000000000614E-2},{"$f":"INDEX(Fuels!$B$7:$E$29,MATCH(Assumptions!$B249,Fuels!$B$7:$B$29,0),MATCH(Assumptions!E$230,Fuels!$B$7:$E$7,0))","v":26.926332436339933},{"$f":"INDEX(Fuels!$B$7:$F$29,MATCH(Assumptions!$B249,Fuels!$B$7:$B$29,0),5)","v":128000},"Btu/gallon"]
[null,"Biodiesel 20",{"$f":"INDEX(Fuels!$B$7:$E$29,MATCH(Assumptions!$B250,Fuels!$B$7:$B$29,0),MATCH(Assumptions!C$230,Fuels!$B$7:$E$7,0))","v":17.808131816933638},{"$f":"INDEX(Fuels!$B$7:$E$29,MATCH(Assumptions!$B250,Fuels!$B$7:$B$29,0),MATCH(Assumptions!D$230,Fuels!$B$7:$E$7,0))","v":65.520975569552689},{"$f":"INDEX(Fuels!$B$7:$E$29,MATCH(Assumptions!$B250,Fuels!$B$7:$B$29,0),MATCH(Assumptions!E$230,Fuels!$B$7:$E$7,0))","v":83.329107386486328},{"$f":"INDEX(Fuels!$B$7:$F$29,MATCH(Assumptions!$B250,Fuels!$B$7:$B$29,0),5)","v":128000},"Btu/gallon"]
[null,"Renewable Diesel",{"$f":"INDEX(Fuels!$B$7:$E$29,MATCH(Assumptions!$B251,Fuels!$B$7:$B$29,0),MATCH(Assumptions!C$230,Fuels!$B$7:$E$7,0))","v":37.376394724181957},{"$f":"INDEX(Fuels!$B$7:$E$29,MATCH(Assumptions!$B251,Fuels!$B$7:$B$29,0),MATCH(Assumptions!D$230,Fuels!$B$7:$E$7,0))","v":0.49782079486814723},{"$f":"INDEX(Fuels!$B$7:$E$29,MATCH(Assumptions!$B251,Fuels!$B$7:$B$29,0),MATCH(Assumptions!E$230,Fuels!$B$7:$E$7,0))","v":37.874215519050104},{"$f":"INDEX(Fuels!$B$7:$F$29,MATCH(Assumptions!$B251,Fuels!$B$7:$B$29,0),5)","v":122887},"Btu/gallon"]
[]
[null,"Methane Leakage and Venting"]
[null,"Fuel Type","Leakage and Venting Emissions (kgCO2e/MMBtu)"]
[null,"Natural Gas",{"$f":"Fuels!F39","v":4.2813020597097582}]
[]
[null,"Industrial Processes"]
[null,"Product Type","Emission Factor\n (kgCO2e/ton)"]
[null,"Cement",{"$f":"'Industrial Processes'!F8","v":863.12008726831129}]
[null,"Lime",{"$f":"'Industrial Processes'!F9","v":1162.633702818772}]
[null,"Limestone Use",{"$f":"'Industrial Processes'!F10","v":8.5874853556443913}]
[null,"Magnesium",{"$f":"'Industrial Processes'!F11","v":16178.309980080652}]
[null,"Iron and Steel",{"$f":"'Industrial Processes'!F12","v":1326.6024619739444}]
[null,"Ammonia",{"$f":"'Industrial Processes'!F13","v":937.36358469066101}]
[null,"Aluminum",{"$f":"'Industrial Processes'!F14","v":9332.1564599999983}]
[null,"Nitric Acid",{"$f":"'Industrial Processes'!F15","v":1804.3658058909436}]
[]
[null,"HFC Leakage"]
[null,"Building Type","Equipment Type",null,null,"Refrigerant Type","Refrigerant Capacity \n(kg /1000 ft2)","Annualized Leak Rate"]
[null,"Residential","Room A/C & Other residential A/C and heat pumps",null,null,{"$f":"INDEX(HFCs!$B$7:$C$12,MATCH(Assumptions!C270,HFCs!$B$7:$B$12,0),2)","v":"R-454B"},{"$f":"HFCs!D45","v":2.25},{"$f":"INDEX(HFCs!$B$53:$H$58,MATCH(Assumptions!C270,HFCs!$B$53:$B$58,0),7)","v":8.6066666666666666E-2}]
[null,"Commercial","Other commercial A/C and heat pumps",null,null,{"$f":"INDEX(HFCs!$B$7:$C$12,MATCH(Assumptions!C271,HFCs!$B$7:$B$12,0),2)","v":"R-454B"},{"$f":"HFCs!D46","v":1.8},{"$f":"INDEX(HFCs!$B$53:$H$58,MATCH(Assumptions!C271,HFCs!$B$53:$B$58,0),7)","v":8.9599999999999999E-2}]
[null,"Institutional","Walk-in refrigerators and freezers",null,null,{"$f":"INDEX(HFCs!$B$7:$C$12,MATCH(Assumptions!C272,HFCs!$B$7:$B$12,0),2)","v":"R-404A"},{"$f":"HFCs!D47","v":0.4},{"$f":"INDEX(HFCs!$B$53:$H$58,MATCH(Assumptions!C272,HFCs!$B$53:$B$58,0),7)","v":0.13450000000000001}]
[null,"Institutional","Other commercial A/C and heat pumps",null,null,{"$f":"INDEX(HFCs!$B$7:$C$12,MATCH(Assumptions!C273,HFCs!$B$7:$B$12,0),2)","v":"R-454B"},{"$f":"HFCs!D48","v":1.8},{"$f":"INDEX(HFCs!$B$53:$H$58,MATCH(Assumptions!C273,HFCs!$B$53:$B$58,0),7)","v":8.9599999999999999E-2}]
[null,"Industrial","Other commercial A/C and heat pumps",null,null,{"$f":"INDEX(HFCs!$B$7:$C$12,MATCH(Assumptions!C274,HFCs!$B$7:$B$12,0),2)","v":"R-454B"},{"$f":"HFCs!D49","v":0.3},{"$f":"INDEX(HFCs!$B$53:$H$58,MATCH(Assumptions!C274,HFCs!$B$53:$B$58,0),7)","v":8.9599999999999999E-2}]
[]
[null,"On Road Vehicle Emission Factor"]
[null,"Speed Bin","Emission Factor (gCO2e/mile)"]
[null,null,2025,2030,2035,2040,2045,2050]
[null,"Fleet Average",{"$f":"INDEX(OnRoad!$B$8:$AL$12,MATCH(Assumptions!$B279,OnRoad!$B$8:$B$12,0),MATCH(Assumptions!C$278,OnRoad!$B$8:$AL$8,0))","v":578.90617937608965},{"$f":"INDEX(OnRoad!$B$8:$AL$12,MATCH(Assumptions!$B279,OnRoad!$B$8:$B$12,0),MATCH(Assumptions!D$278,OnRoad!$B$8:$AL$8,0))","v":485.7328706492886},{"$f":"INDEX(OnRoad!$B$8:$AL$12,MATCH(Assumptions!$B279,OnRoad!$B$8:$B$12,0),MATCH(Assumptions!E$278,OnRoad!$B$8:$AL$8,0))","v":378.31123461411613},{"$f":"INDEX(OnRoad!$B$8:$AL$12,MATCH(Assumptions!$B279,OnRoad!$B$8:$B$12,0),MATCH(Assumptions!F$278,OnRoad!$B$8:$AL$8,0))","v":302.92113415633457},{"$f":"INDEX(OnRoad!$B$8:$AL$12,MATCH(Assumptions!$B279,OnRoad!$B$8:$B$12,0),MATCH(Assumptions!G$278,OnRoad!$B$8:$AL$8,0))","v":259.64658004377952},{"$f":"INDEX(OnRoad!$B$8:$AL$12,MATCH(Assumptions!$B279,OnRoad!$B$8:$B$12,0),MATCH(Assumptions!H$278,OnRoad!$B$8:$AL$8,0))","v":238.30985458984276}]
[null,"0-30",{"$f":"INDEX(OnRoad!$B$8:$AL$12,MATCH(Assumptions!$B280,OnRoad!$B$8:$B$12,0),MATCH(Assumptions!C$278,OnRoad!$B$8:$AL$8,0))","v":854.89464360101783},{"$f":"INDEX(OnRoad!$B$8:$AL$12,MATCH(Assumptions!$B280,OnRoad!$B$8:$B$12,0),MATCH(Assumptions!D$278,OnRoad!$B$8:$AL$8,0))","v":717.54666011306404},{"$f":"INDEX(OnRoad!$B$8:$AL$12,MATCH(Assumptions!$B280,OnRoad!$B$8:$B$12,0),MATCH(Assumptions!E$278,OnRoad!$B$8:$AL$8,0))","v":558.62217779679781},{"$f":"INDEX(OnRoad!$B$8:$AL$12,MATCH(Assumptions!$B280,OnRoad!$B$8:$B$12,0),MATCH(Assumptions!F$278,OnRoad!$B$8:$AL$8,0))","v":446.81205089399003},{"$f":"INDEX(OnRoad!$B$8:$AL$12,MATCH(Assumptions!$B280,OnRoad!$B$8:$B$12,0),MATCH(Assumptions!G$278,OnRoad!$B$8:$AL$8,0))","v":382.77843206278123},{"$f":"INDEX(OnRoad!$B$8:$AL$12,MATCH(Assumptions!$B280,OnRoad!$B$8:$B$12,0),MATCH(Assumptions!H$278,OnRoad!$B$8:$AL$8,0))","v":351.40371344514824}]
[null,"31-55",{"$f":"INDEX(OnRoad!$B$8:$AL$12,MATCH(Assumptions!$B281,OnRoad!$B$8:$B$12,0),MATCH(Assumptions!C$278,OnRoad!$B$8:$AL$8,0))","v":529.47271958866406},{"$f":"INDEX(OnRoad!$B$8:$AL$12,MATCH(Assumptions!$B281,OnRoad!$B$8:$B$12,0),MATCH(Assumptions!D$278,OnRoad!$B$8:$AL$8,0))","v":445.56786573767346},{"$f":"INDEX(OnRoad!$B$8:$AL$12,MATCH(Assumptions!$B281,OnRoad!$B$8:$B$12,0),MATCH(Assumptions!E$278,OnRoad!$B$8:$AL$8,0))","v":348.26689793578282},{"$f":"INDEX(OnRoad!$B$8:$AL$12,MATCH(Assumptions!$B281,OnRoad!$B$8:$B$12,0),MATCH(Assumptions!F$278,OnRoad!$B$8:$AL$8,0))","v":279.83427866068303},{"$f":"INDEX(OnRoad!$B$8:$AL$12,MATCH(Assumptions!$B281,OnRoad!$B$8:$B$12,0),MATCH(Assumptions!G$278,OnRoad!$B$8:$AL$8,0))","v":240.55835311239071},{"$f":"INDEX(OnRoad!$B$8:$AL$12,MATCH(Assumptions!$B281,OnRoad!$B$8:$B$12,0),MATCH(Assumptions!H$278,OnRoad!$B$8:$AL$8,0))","v":221.15920703107946}]
[null,"56-75",{"$f":"INDEX(OnRoad!$B$8:$AL$12,MATCH(Assumptions!$B282,OnRoad!$B$8:$B$12,0),MATCH(Assumptions!C$278,OnRoad!$B$8:$AL$8,0))","v":518.99263722567741},{"$f":"INDEX(OnRoad!$B$8:$AL$12,MATCH(Assumptions!$B282,OnRoad!$B$8:$B$12,0),MATCH(Assumptions!D$278,OnRoad!$B$8:$AL$8,0))","v":436.81263581747641},{"$f":"INDEX(OnRoad!$B$8:$AL$12,MATCH(Assumptions!$B282,OnRoad!$B$8:$B$12,0),MATCH(Assumptions!E$278,OnRoad!$B$8:$AL$8,0))","v":342.00336070660654},{"$f":"INDEX(OnRoad!$B$8:$AL$12,MATCH(Assumptions!$B282,OnRoad!$B$8:$B$12,0),MATCH(Assumptions!F$278,OnRoad!$B$8:$AL$8,0))","v":275.38415945947042},{"$f":"INDEX(OnRoad!$B$8:$AL$12,MATCH(Assumptions!$B282,OnRoad!$B$8:$B$12,0),MATCH(Assumptions!G$278,OnRoad!$B$8:$AL$8,0))","v":237.16809383973018},{"$f":"INDEX(OnRoad!$B$8:$AL$12,MATCH(Assumptions!$B282,OnRoad!$B$8:$B$12,0),MATCH(Assumptions!H$278,OnRoad!$B$8:$AL$8,0))","v":218.35656222406328}]
[]
[null,"Waste Emission Factors "]
[null,"Treatment Practice"," Emission Factor (MTCO2e/ton)"]
[null,"Landfilling (MSW)",{"$f":"Waste!C261","v":0.57999999999999996}]
[null,"Landfilling (C&D)",{"$f":"Waste!C262","v":5.1889999999999992E-2}]
[null,"Combustion",{"$f":"Waste!C263","v":0.43}]
[null,"Composting",{"$f":"Waste!C264","v":0.13}]
[null,"Anaerobic Digestion (Dry)",{"$f":"Waste!C265","v":0.12590000000000001}]
[null,"Anaerobic Digestion (Wet)",{"$f":"Waste!C266","v":0.11}]
[]
[null,"Municipal Wastewater "]
[null,"Assumption","Value","Unit"]
[null,"Per capita BOD",{"$f":"Waste!C279","v":0.09},"kg/person/day"]
[null,"BOD emission factor",{"$f":"Waste!C280","v":0.6},"kg CH4/kg BOD"]
[null,"Per capita protein consumption",{"$f":"Waste!C281","v":35.700000000000003},"kg/person/year"]
[null,"Fraction of nitrogen in protein",{"$f":"Waste!C282","v":0.16},"%"]
[null,"Fraction of nitrogen not consumed",{"$f":"Waste!C283","v":1.75},"kg N/kg N"]
[null,"Effluent N2O emission factor",{"$f":"Waste!C284","v":5.0000000000000001E-3},"kg N2O-N/kg N"]
[]
[null,"Municipal Wastewater System-Specific Emission Factors"]
[null,"System Type","Methane Correction Factor","Direct N2O Emissions Factor (kg N2O-N/kg N)"]
[null,"Septic system",{"$f":"Waste!C288","v":0.5},{"$f":"Waste!D288","v":4.4999999999999997E-3}]
[null,"Aerobic system",{"$f":"Waste!C289","v":0.03},{"$f":"Waste!D289","v":1.4999999999999999E-2}]
[null,"Anaerobic system",{"$f":"Waste!C290","v":0.8},{"$f":"Waste!D290","v":0}]
[null,"Constructed wetlands",{"$f":"Waste!C291","v":0.4},{"$f":"Waste!D291","v":1.2999999999999999E-3}]
[]
[null,"Industrial Wastewater "]
[null,"Product Type","Wastewater Outflow (m3/MT)","BOD/COD (g/L)","Fraction of BOD/COD anaerobically digested","BOD/COD Emission Factor (g CH4/g COD/BOD)"]
[null,"Fruits and Vegetables",{"$f":"Waste!C297","v":9.11},{"$f":"Waste!D297","v":5},{"$f":"Waste!E297","v":0},{"$f":"Waste!F297","v":0.25}]
[null,"Red Meat",{"$f":"Waste!C298","v":5.3},{"$f":"Waste!D298","v":4.0999999999999996},{"$f":"Waste!E298","v":0.33},{"$f":"Waste!F298","v":0.25}]
[null,"Poultry",{"$f":"Waste!C299","v":12.5},{"$f":"Waste!D299","v":4.0999999999999996},{"$f":"Waste!E299","v":0.25},{"$f":"Waste!F299","v":0.25}]
[null,"Pulp and Paper",{"$f":"Waste!C300","v":39},{"$f":"Waste!D300","v":0.3},{"$f":"Waste!E300","v":5.1999999999999998E-2},{"$f":"Waste!F300","v":0.6}]
[]
[null,"Operational Waste Generation"]
[null,"Building Type","Waste Generation Rate","Unit"]
[null,"Residential",{"$f":"Waste!D153","v":7.0042857142857144},"lb/household/day"]
[null,"Commercial",{"$f":"Waste!C157","v":10.53},"lb/employee/day"]
[null,"Industrial",{"$f":"Waste!C158","v":8.93},"lb/employee/day"]
[null,"Institutional",{"$f":"Waste!C159","v":3.55},"lb/employee/day"]
[null,"Public venues and events",{"$f":"Waste!C160/100","v":1.72},"lb/visitor"]
[]
[null,"Off-Site Waste Treatment Practice"]
[null,"County","Default Waste Disposal Rate"]
[null,null,"Landfilled","Combusted"]
[null,"Aitkin",{"$f":"Waste!E168","v":1},{"$f":"Waste!F168","v":0}]
[null,"Anoka",{"$f":"Waste!E169","v":0.91},{"$f":"Waste!F169","v":0.09}]
[null,"Becker",{"$f":"Waste!E170","v":0.44},{"$f":"Waste!F170","v":0.56000000000000005}]
[null,"Beltrami",{"$f":"Waste!E171","v":0.57999999999999996},{"$f":"Waste!F171","v":0.42}]
[null,"Benton",{"$f":"Waste!E172","v":0.56999999999999995},{"$f":"Waste!F172","v":0.43}]
[null,"Big Stone",{"$f":"Waste!E173","v":1},{"$f":"Waste!F173","v":0}]
[null,"Blue Earth",{"$f":"Waste!E174","v":0.57999999999999996},{"$f":"Waste!F174","v":0.42}]
[null,"Brown",{"$f":"Waste!E175","v":0.88},{"$f":"Waste!F175","v":0.12}]
[null,"Carlton",{"$f":"Waste!E176","v":1},{"$f":"Waste!F176","v":0}]
[null,"Carver",{"$f":"Waste!E177","v":1},{"$f":"Waste!F177","v":0}]
[null,"Cass",{"$f":"Waste!E178","v":1},{"$f":"Waste!F178","v":0}]
[null,"Chippewa",{"$f":"Waste!E179","v":1},{"$f":"Waste!F179","v":0}]
[null,"Chisago",{"$f":"Waste!E180","v":1},{"$f":"Waste!F180","v":0}]
[null,"Clay",{"$f":"Waste!E181","v":0.83},{"$f":"Waste!F181","v":0.17}]
[null,"Clearwater",{"$f":"Waste!E182","v":0.42},{"$f":"Waste!F182","v":0.57999999999999996}]
[null,"Cook",{"$f":"Waste!E183","v":1},{"$f":"Waste!F183","v":0}]
[null,"Cottonwood",{"$f":"Waste!E184","v":1},{"$f":"Waste!F184","v":0}]
[null,"Crow Wing",{"$f":"Waste!E185","v":1},{"$f":"Waste!F185","v":0}]
[null,"Dakota",{"$f":"Waste!E186","v":0.95},{"$f":"Waste!F186","v":0.05}]
[null,"Dodge",{"$f":"Waste!E187","v":0.1},{"$f":"Waste!F187","v":0.9}]
[null,"Faribault",{"$f":"Waste!E188","v":0.18},{"$f":"Waste!F188","v":0.82}]
[null,"Fillmore",{"$f":"Waste!E189","v":0.78},{"$f":"Waste!F189","v":0.22}]
[null,"Freeborn",{"$f":"Waste!E190","v":1},{"$f":"Waste!F190","v":0}]
[null,"Goodhue",{"$f":"Waste!E191","v":0.02},{"$f":"Waste!F191","v":0.98}]
[null,"Grant",{"$f":"Waste!E192","v":0},{"$f":"Waste!F192","v":1}]
[null,"Hennepin",{"$f":"Waste!E193","v":0.49},{"$f":"Waste!F193","v":0.51}]
[null,"Houston",{"$f":"Waste!E194","v":0.17},{"$f":"Waste!F194","v":0.83}]
[null,"Hubbard",{"$f":"Waste!E195","v":0.67},{"$f":"Waste!F195","v":0.33}]
[null,"Isanti",{"$f":"Waste!E196","v":1},{"$f":"Waste!F196","v":0}]
[null,"Itasca",{"$f":"Waste!E197","v":1},{"$f":"Waste!F197","v":0}]
[null,"Jackson",{"$f":"Waste!E198","v":1},{"$f":"Waste!F198","v":0}]
[null,"Kanabec",{"$f":"Waste!E199","v":1},{"$f":"Waste!F199","v":0}]
[null,"Kandiyohi",{"$f":"Waste!E200","v":1},{"$f":"Waste!F200","v":0}]
[null,"Kittson",{"$f":"Waste!E201","v":1},{"$f":"Waste!F201","v":0}]
[null,"Koochiching",{"$f":"Waste!E202","v":1},{"$f":"Waste!F202","v":0}]
[null,"Lac qui Parle",{"$f":"Waste!E203","v":1},{"$f":"Waste!F203","v":0}]
[null,"Lake",{"$f":"Waste!E204","v":1},{"$f":"Waste!F204","v":0}]
[null,"Lake of the Woods",{"$f":"Waste!E205","v":1},{"$f":"Waste!F205","v":0}]
[null,"Le Sueur",{"$f":"Waste!E206","v":0.7},{"$f":"Waste!F206","v":0.3}]
[null,"Lincoln",{"$f":"Waste!E207","v":1},{"$f":"Waste!F207","v":0}]
[null,"Lyon",{"$f":"Waste!E208","v":1},{"$f":"Waste!F208","v":0}]
[null,"Mahnomen ",{"$f":"Waste!E209","v":0.01},{"$f":"Waste!F209","v":0.99}]
[null,"Marshall ",{"$f":"Waste!E210","v":1},{"$f":"Waste!F210","v":0}]
[null,"Martin ",{"$f":"Waste!E211","v":0.28000000000000003},{"$f":"Waste!F211","v":0.72}]
[null,"McLeod ",{"$f":"Waste!E212","v":1},{"$f":"Waste!F212","v":0}]
[null,"Meeker ",{"$f":"Waste!E213","v":1},{"$f":"Waste!F213","v":0}]
[null,"Mille Lacs ",{"$f":"Waste!E214","v":1},{"$f":"Waste!F214","v":0}]
[null,"Morrison ",{"$f":"Waste!E215","v":1},{"$f":"Waste!F215","v":0}]
[null,"Mower ",{"$f":"Waste!E216","v":1},{"$f":"Waste!F216","v":0}]
[null,"Murray ",{"$f":"Waste!E217","v":1},{"$f":"Waste!F217","v":0}]
[null,"Nicollet ",{"$f":"Waste!E218","v":0.87},{"$f":"Waste!F218","v":0.13}]
[null,"Nobles ",{"$f":"Waste!E219","v":1},{"$f":"Waste!F219","v":0}]
[null,"Norman ",{"$f":"Waste!E220","v":0.19},{"$f":"Waste!F220","v":0.81}]
[null,"Olmsted ",{"$f":"Waste!E221","v":0.03},{"$f":"Waste!F221","v":0.97}]
[null,"Otter Tail ",{"$f":"Waste!E222","v":0.33},{"$f":"Waste!F222","v":0.67}]
[null,"Pennington ",{"$f":"Waste!E223","v":1},{"$f":"Waste!F223","v":0}]
[null,"Pine ",{"$f":"Waste!E224","v":1},{"$f":"Waste!F224","v":0}]
[null,"Pipestone ",{"$f":"Waste!E225","v":1},{"$f":"Waste!F225","v":0}]
[null,"Polk ",{"$f":"Waste!E226","v":0.65},{"$f":"Waste!F226","v":0.35}]
[null,"Pope/Douglas ",{"$f":"Waste!E227","v":0.22},{"$f":"Waste!F227","v":0.78}]
[null,"Ramsey ",{"$f":"Waste!E228","v":0.22},{"$f":"Waste!F228","v":0.78}]
[null,"Red Lake ",{"$f":"Waste!E229","v":1},{"$f":"Waste!F229","v":0}]
[null,"Redwood/Renville ",{"$f":"Waste!E230","v":1},{"$f":"Waste!F230","v":0}]
[null,"Rice ",{"$f":"Waste!E231","v":0.97},{"$f":"Waste!F231","v":0.03}]
[null,"Rock ",{"$f":"Waste!E232","v":1},{"$f":"Waste!F232","v":0}]
[null,"Roseau ",{"$f":"Waste!E233","v":1},{"$f":"Waste!F233","v":0}]
[null,"Scott ",{"$f":"Waste!E234","v":1},{"$f":"Waste!F234","v":0}]
[null,"Sherburne ",{"$f":"Waste!E235","v":0.89},{"$f":"Waste!F235","v":0.11}]
[null,"Sibley ",{"$f":"Waste!E236","v":0.8},{"$f":"Waste!F236","v":0.2}]
[null,"St. Louis - partial",{"$f":"Waste!E237","v":1},{"$f":"Waste!F237","v":0}]
[null,"Stearns ",{"$f":"Waste!E238","v":0.56999999999999995},{"$f":"Waste!F238","v":0.43}]
[null,"Steele ",{"$f":"Waste!E239","v":1},{"$f":"Waste!F239","v":0}]
[null,"Stevens ",{"$f":"Waste!E240","v":0.69},{"$f":"Waste!F240","v":0.31}]
[null,"Swift ",{"$f":"Waste!E241","v":1},{"$f":"Waste!F241","v":0}]
[null,"Todd ",{"$f":"Waste!E242","v":0.45},{"$f":"Waste!F242","v":0.55000000000000004}]
[null,"Traverse ",{"$f":"Waste!E243","v":1},{"$f":"Waste!F243","v":0}]
[null,"Wabasha ",{"$f":"Waste!E244","v":0.34},{"$f":"Waste!F244","v":0.66}]
[null,"Wadena ",{"$f":"Waste!E245","v":0.22},{"$f":"Waste!F245","v":0.78}]
[null,"Waseca ",{"$f":"Waste!E246","v":1},{"$f":"Waste!F246","v":0}]
[null,"Washington ",{"$f":"Waste!E247","v":0.21},{"$f":"Waste!F247","v":0.79}]
[null,"Watonwan ",{"$f":"Waste!E248","v":1},{"$f":"Waste!F248","v":0}]
[null,"Wilkin ",{"$f":"Waste!E249","v":1},{"$f":"Waste!F249","v":0}]
[null,"Winona ",{"$f":"Waste!E250","v":0.91},{"$f":"Waste!F250","v":0.09}]
[null,"WLSSD",{"$f":"Waste!E251","v":1},{"$f":"Waste!F251","v":0}]
[null,"Wright ",{"$f":"Waste!E252","v":1},{"$f":"Waste!F252","v":0}]
[null,"Yellow Medicine ",{"$f":"Waste!E253","v":1},{"$f":"Waste!F253","v":0}]
[]
[null,"Treatment of Waste Off-site Emission Factors"]
[null,"Treatment Practice","Emission Factor "]
[null,null,"(MTCO2e/ton)"]
[null,"Recycling",{"$f":"Waste!C269","v":0.09}]
[null,"Composted",{"$f":"Waste!C270","v":0.13}]
[null,"Landfilled",{"$f":"Waste!C271","v":0.57999999999999996}]
[null,"Combusted",{"$f":"Waste!C272","v":0.43}]
[]
[null,"Enteric Fermentation"]
[null,"Livestock Type","Emission Factor (kg CH4/ head/year)"]
[null,"Bulls",{"$f":"'MM + EF'!C23","v":95}]
[null,"Beef cows",{"$f":"'MM + EF'!C24","v":92}]
[null,"Beef heifers",{"$f":"'MM + EF'!C25","v":63}]
[null,"Steer stockers",{"$f":"'MM + EF'!C26","v":56}]
[null,"Heifer stockers",{"$f":"'MM + EF'!C27","v":58}]
[null,"Feedlot beef",{"$f":"'MM + EF'!C28","v":33}]
[null,"Beef calves",{"$f":"'MM + EF'!C29","v":10}]
[null,"Dairy heifers",{"$f":"'MM + EF'!C30","v":54}]
[null,"Dairy cows",{"$f":"'MM + EF'!C31","v":140}]
[null,"Dairy calves",{"$f":"'MM + EF'!C32","v":12}]
[null,"Swine, <55 lbs",{"$f":"'MM + EF'!C33","v":1.5}]
[null,"Swine 55-330 lbs",{"$f":"'MM + EF'!C34","v":1.5}]
[null,"Swine 330+ lbs",{"$f":"'MM + EF'!C35","v":1.5}]
[]
[null,"Manure Management "]
[null,"Livestock Type","Typical Animal Mass (kg)","Volatile Solids Production Rate (kg VS/kg animal mass/year)","Potential CH4 Production Rate (m3 CH4/kg VS)","Nitrogen Excretion Rate (kg N/kg animal mass/year)"]
[null,"Bulls",{"$f":"INDEX('MM + EF'!$B$74:$E$92,MATCH(Assumptions!B440,'MM + EF'!$B$74:$B$92,0),4)","v":874},{"$f":"INDEX('MM + EF'!$B$139:$E$158,MATCH(Assumptions!B440,'MM + EF'!$B$139:$B$158,0),4)","v":1.8798627002288331},{"$f":"INDEX('MM + EF'!$B$139:$F$158,MATCH(Assumptions!B440,'MM + EF'!$B$139:$B$158,0),5)","v":0.17},{"$f":"INDEX('MM + EF'!$B$204:$E$222,MATCH(Assumptions!B440,'MM + EF'!$B$204:$B$222,0),4)","v":9.7254004576659045E-2}]
[null,"Beef cows",{"$f":"INDEX('MM + EF'!$B$74:$E$92,MATCH(Assumptions!B441,'MM + EF'!$B$74:$B$92,0),4)","v":582.5},{"$f":"INDEX('MM + EF'!$B$139:$E$158,MATCH(Assumptions!B441,'MM + EF'!$B$139:$B$158,0),4)","v":2.7278969957081545},{"$f":"INDEX('MM + EF'!$B$139:$F$158,MATCH(Assumptions!B441,'MM + EF'!$B$139:$B$158,0),5)","v":0.17},{"$f":"INDEX('MM + EF'!$B$204:$E$222,MATCH(Assumptions!B441,'MM + EF'!$B$204:$B$222,0),4)","v":0.12875536480686695}]
[null,"Beef heifers",{"$f":"INDEX('MM + EF'!$B$74:$E$92,MATCH(Assumptions!B442,'MM + EF'!$B$74:$B$92,0),4)","v":351.5},{"$f":"INDEX('MM + EF'!$B$139:$E$158,MATCH(Assumptions!B442,'MM + EF'!$B$139:$B$158,0),4)","v":2.8819345661450924},{"$f":"INDEX('MM + EF'!$B$139:$F$158,MATCH(Assumptions!B442,'MM + EF'!$B$139:$B$158,0),5)","v":0.17},{"$f":"INDEX('MM + EF'!$B$204:$E$222,MATCH(Assumptions!B442,'MM + EF'!$B$204:$B$222,0),4)","v":0.13940256045519203}]
[null,"Steer stockers",{"$f":"INDEX('MM + EF'!$B$74:$E$92,MATCH(Assumptions!B443,'MM + EF'!$B$74:$B$92,0),4)","v":324.5},{"$f":"INDEX('MM + EF'!$B$139:$E$158,MATCH(Assumptions!B443,'MM + EF'!$B$139:$B$158,0),4)","v":2.856702619414484},{"$f":"INDEX('MM + EF'!$B$139:$F$158,MATCH(Assumptions!B443,'MM + EF'!$B$139:$B$158,0),5)","v":0.17},{"$f":"INDEX('MM + EF'!$B$204:$E$222,MATCH(Assumptions!B443,'MM + EF'!$B$204:$B$222,0),4)","v":0.13251155624036981}]
[null,"Heifer stockers",{"$f":"INDEX('MM + EF'!$B$74:$E$92,MATCH(Assumptions!B444,'MM + EF'!$B$74:$B$92,0),4)","v":351.5},{"$f":"INDEX('MM + EF'!$B$139:$E$158,MATCH(Assumptions!B444,'MM + EF'!$B$139:$B$158,0),4)","v":2.8819345661450924},{"$f":"INDEX('MM + EF'!$B$139:$F$158,MATCH(Assumptions!B444,'MM + EF'!$B$139:$B$158,0),5)","v":0.17},{"$f":"INDEX('MM + EF'!$B$204:$E$222,MATCH(Assumptions!B444,'MM + EF'!$B$204:$B$222,0),4)","v":0.13940256045519203}]
[null,"Feedlot beef",{"$f":"INDEX('MM + EF'!$B$74:$E$92,MATCH(Assumptions!B445,'MM + EF'!$B$74:$B$92,0),4)","v":422.5},{"$f":"INDEX('MM + EF'!$B$139:$E$158,MATCH(Assumptions!B445,'MM + EF'!$B$139:$B$158,0),4)","v":1.489940828402367},{"$f":"INDEX('MM + EF'!$B$139:$F$158,MATCH(Assumptions!B445,'MM + EF'!$B$139:$B$158,0),5)","v":0.33},{"$f":"INDEX('MM + EF'!$B$204:$E$222,MATCH(Assumptions!B445,'MM + EF'!$B$204:$B$222,0),4)","v":0.14201183431952663}]
[null,"Beef calves",{"$f":"INDEX('MM + EF'!$B$74:$E$92,MATCH(Assumptions!B446,'MM + EF'!$B$74:$B$92,0),4)","v":122.5},{"$f":"INDEX('MM + EF'!$B$139:$E$158,MATCH(Assumptions!B446,'MM + EF'!$B$139:$B$158,0),4)","v":2.8104999999999998},{"$f":"INDEX('MM + EF'!$B$139:$F$158,MATCH(Assumptions!B446,'MM + EF'!$B$139:$B$158,0),5)","v":0.17},{"$f":"INDEX('MM + EF'!$B$204:$E$222,MATCH(Assumptions!B446,'MM + EF'!$B$204:$B$222,0),4)","v":0.16425000000000001}]
[null,"Dairy heifers",{"$f":"INDEX('MM + EF'!$B$74:$E$92,MATCH(Assumptions!B447,'MM + EF'!$B$74:$B$92,0),4)","v":407},{"$f":"INDEX('MM + EF'!$B$139:$E$158,MATCH(Assumptions!B447,'MM + EF'!$B$139:$B$158,0),4)","v":3.0835380835380835},{"$f":"INDEX('MM + EF'!$B$139:$F$158,MATCH(Assumptions!B447,'MM + EF'!$B$139:$B$158,0),5)","v":0.17},{"$f":"INDEX('MM + EF'!$B$204:$E$222,MATCH(Assumptions!B447,'MM + EF'!$B$204:$B$222,0),4)","v":0.16953316953316952}]
[null,"Dairy cows",{"$f":"INDEX('MM + EF'!$B$74:$E$92,MATCH(Assumptions!B448,'MM + EF'!$B$74:$B$92,0),4)","v":680},{"$f":"INDEX('MM + EF'!$B$139:$E$158,MATCH(Assumptions!B448,'MM + EF'!$B$139:$B$158,0),4)","v":4.1602941176470587},{"$f":"INDEX('MM + EF'!$B$139:$F$158,MATCH(Assumptions!B448,'MM + EF'!$B$139:$B$158,0),5)","v":0.24},{"$f":"INDEX('MM + EF'!$B$204:$E$222,MATCH(Assumptions!B448,'MM + EF'!$B$204:$B$222,0),4)","v":0.2323529411764706}]
[null,"Dairy calves",{"$f":"INDEX('MM + EF'!$B$74:$E$92,MATCH(Assumptions!B449,'MM + EF'!$B$74:$B$92,0),4)","v":122.5},{"$f":"INDEX('MM + EF'!$B$139:$E$158,MATCH(Assumptions!B449,'MM + EF'!$B$139:$B$158,0),4)","v":2.8104999999999998},{"$f":"INDEX('MM + EF'!$B$139:$F$158,MATCH(Assumptions!B449,'MM + EF'!$B$139:$B$158,0),5)","v":0.17},{"$f":"INDEX('MM + EF'!$B$204:$E$222,MATCH(Assumptions!B449,'MM + EF'!$B$204:$B$222,0),4)","v":0.16425000000000001}]
[null,"Swine, <55 lbs",{"$f":"INDEX('MM + EF'!$B$74:$E$92,MATCH(Assumptions!B450,'MM + EF'!$B$74:$B$92,0),4)","v":13},{"$f":"INDEX('MM + EF'!$B$139:$E$158,MATCH(Assumptions!B450,'MM + EF'!$B$139:$B$158,0),4)","v":3.2120000000000002},{"$f":"INDEX('MM + EF'!$B$139:$F$158,MATCH(Assumptions!B450,'MM + EF'!$B$139:$B$158,0),5)","v":0.48},{"$f":"INDEX('MM + EF'!$B$204:$E$222,MATCH(Assumptions!B450,'MM + EF'!$B$204:$B$222,0),4)","v":0.33579999999999999}]
[null,"Swine 55-330 lbs",{"$f":"INDEX('MM + EF'!$B$74:$E$92,MATCH(Assumptions!B451,'MM + EF'!$B$74:$B$92,0),4)","v":41},{"$f":"INDEX('MM + EF'!$B$139:$E$158,MATCH(Assumptions!B451,'MM + EF'!$B$139:$B$158,0),4)","v":1.9710000000000001},{"$f":"INDEX('MM + EF'!$B$139:$F$158,MATCH(Assumptions!B451,'MM + EF'!$B$139:$B$158,0),5)","v":0.48},{"$f":"INDEX('MM + EF'!$B$204:$E$222,MATCH(Assumptions!B451,'MM + EF'!$B$204:$B$222,0),4)","v":0.1971}]
[null,"Swine 330+ lbs",{"$f":"INDEX('MM + EF'!$B$74:$E$92,MATCH(Assumptions!B452,'MM + EF'!$B$74:$B$92,0),4)","v":91},{"$f":"INDEX('MM + EF'!$B$139:$E$158,MATCH(Assumptions!B452,'MM + EF'!$B$139:$B$158,0),4)","v":1.9710000000000001},{"$f":"INDEX('MM + EF'!$B$139:$F$158,MATCH(Assumptions!B452,'MM + EF'!$B$139:$B$158,0),5)","v":0.48},{"$f":"INDEX('MM + EF'!$B$204:$E$222,MATCH(Assumptions!B452,'MM + EF'!$B$204:$B$222,0),4)","v":0.1971}]
[null,"Poultry, layers",{"$f":"INDEX('MM + EF'!$B$74:$E$92,MATCH(Assumptions!B453,'MM + EF'!$B$74:$B$92,0),4)","v":1.8},{"$f":"INDEX('MM + EF'!$B$139:$E$158,MATCH(Assumptions!B453,'MM + EF'!$B$139:$B$158,0),4)","v":3.7229999999999999},{"$f":"INDEX('MM + EF'!$B$139:$F$158,MATCH(Assumptions!B453,'MM + EF'!$B$139:$B$158,0),5)","v":0.39},{"$f":"INDEX('MM + EF'!$B$204:$E$222,MATCH(Assumptions!B453,'MM + EF'!$B$204:$B$222,0),4)","v":0.28835}]
[null,"Poultry, pullets",{"$f":"INDEX('MM + EF'!$B$74:$E$92,MATCH(Assumptions!B454,'MM + EF'!$B$74:$B$92,0),4)","v":1.8},{"$f":"INDEX('MM + EF'!$B$139:$E$158,MATCH(Assumptions!B454,'MM + EF'!$B$139:$B$158,0),4)","v":3.7229999999999999},{"$f":"INDEX('MM + EF'!$B$139:$F$158,MATCH(Assumptions!B454,'MM + EF'!$B$139:$B$158,0),5)","v":0.39},{"$f":"INDEX('MM + EF'!$B$204:$E$222,MATCH(Assumptions!B454,'MM + EF'!$B$204:$B$222,0),4)","v":0.28835}]
[null,"Poultry, chickens",{"$f":"INDEX('MM + EF'!$B$74:$E$92,MATCH(Assumptions!B455,'MM + EF'!$B$74:$B$92,0),4)","v":1.8},{"$f":"INDEX('MM + EF'!$B$139:$E$158,MATCH(Assumptions!B455,'MM + EF'!$B$139:$B$158,0),4)","v":4.0149999999999997},{"$f":"INDEX('MM + EF'!$B$139:$F$158,MATCH(Assumptions!B455,'MM + EF'!$B$139:$B$158,0),5)","v":0.39},{"$f":"INDEX('MM + EF'!$B$204:$E$222,MATCH(Assumptions!B455,'MM + EF'!$B$204:$B$222,0),4)","v":0.40150000000000002}]
[null,"Poultry, broilers",{"$f":"INDEX('MM + EF'!$B$74:$E$92,MATCH(Assumptions!B456,'MM + EF'!$B$74:$B$92,0),4)","v":0.9},{"$f":"INDEX('MM + EF'!$B$139:$E$158,MATCH(Assumptions!B456,'MM + EF'!$B$139:$B$158,0),4)","v":6.2050000000000001},{"$f":"INDEX('MM + EF'!$B$139:$F$158,MATCH(Assumptions!B456,'MM + EF'!$B$139:$B$158,0),5)","v":0.36},{"$f":"INDEX('MM + EF'!$B$204:$E$222,MATCH(Assumptions!B456,'MM + EF'!$B$204:$B$222,0),4)","v":0.35039999999999999}]
[null,"Turkeys",{"$f":"INDEX('MM + EF'!$B$74:$E$92,MATCH(Assumptions!B457,'MM + EF'!$B$74:$B$92,0),4)","v":6.8},{"$f":"INDEX('MM + EF'!$B$139:$E$158,MATCH(Assumptions!B457,'MM + EF'!$B$139:$B$158,0),4)","v":3.1025},{"$f":"INDEX('MM + EF'!$B$139:$F$158,MATCH(Assumptions!B457,'MM + EF'!$B$139:$B$158,0),5)","v":0.36},{"$f":"INDEX('MM + EF'!$B$204:$E$222,MATCH(Assumptions!B457,'MM + EF'!$B$204:$B$222,0),4)","v":0.22994999999999999}]
[]
[null,"Manure Management System","Methane Conversion Factor  (%)","Direct Emission Factor (kg N2O-N/kg N) "]
[null,"Anaerobic digester",{"$f":"INDEX('MM + EF'!$B$188:$C$200,MATCH(Assumptions!B460,'MM + EF'!$B$188:$B$200,0),2)","v":3.5499999999999997E-2},{"$f":"INDEX('MM + EF'!$B$249:$C$261,MATCH(Assumptions!B460,'MM + EF'!$B$249:$B$261,0),2)","v":5.9999999999999995E-4}]
[null,"Anaerobic lagoon - liquid",{"$f":"INDEX('MM + EF'!$B$188:$C$200,MATCH(Assumptions!B461,'MM + EF'!$B$188:$B$200,0),2)","v":0.68333333333333324},{"$f":"INDEX('MM + EF'!$B$249:$C$261,MATCH(Assumptions!B461,'MM + EF'!$B$249:$B$261,0),2)","v":0}]
[null,"Cattle deep litter",{"$f":"INDEX('MM + EF'!$B$188:$C$200,MATCH(Assumptions!B462,'MM + EF'!$B$188:$B$200,0),2)","v":0.2},{"$f":"INDEX('MM + EF'!$B$249:$C$261,MATCH(Assumptions!B462,'MM + EF'!$B$249:$B$261,0),2)","v":0.04}]
[null,"Composting",{"$f":"INDEX('MM + EF'!$B$188:$C$200,MATCH(Assumptions!B463,'MM + EF'!$B$188:$B$200,0),2)","v":7.4999999999999997E-3},{"$f":"INDEX('MM + EF'!$B$249:$C$261,MATCH(Assumptions!B463,'MM + EF'!$B$249:$B$261,0),2)","v":7.7499999999999999E-3}]
[null,"Daily spread",{"$f":"INDEX('MM + EF'!$B$188:$C$200,MATCH(Assumptions!B464,'MM + EF'!$B$188:$B$200,0),2)","v":1E-3},{"$f":"INDEX('MM + EF'!$B$249:$C$261,MATCH(Assumptions!B464,'MM + EF'!$B$249:$B$261,0),2)","v":0}]
[null,"Deep pit",{"$f":"INDEX('MM + EF'!$B$188:$C$200,MATCH(Assumptions!B465,'MM + EF'!$B$188:$B$200,0),2)","v":0.245},{"$f":"INDEX('MM + EF'!$B$249:$C$261,MATCH(Assumptions!B465,'MM + EF'!$B$249:$B$261,0),2)","v":2E-3}]
[null,"Dry lot",{"$f":"INDEX('MM + EF'!$B$188:$C$200,MATCH(Assumptions!B466,'MM + EF'!$B$188:$B$200,0),2)","v":0.01},{"$f":"INDEX('MM + EF'!$B$249:$C$261,MATCH(Assumptions!B466,'MM + EF'!$B$249:$B$261,0),2)","v":0.02}]
[null,"Liquid/slurry",{"$f":"INDEX('MM + EF'!$B$188:$C$200,MATCH(Assumptions!B467,'MM + EF'!$B$188:$B$200,0),2)","v":0.245},{"$f":"INDEX('MM + EF'!$B$249:$C$261,MATCH(Assumptions!B467,'MM + EF'!$B$249:$B$261,0),2)","v":5.0000000000000001E-3}]
[null,"Pasture, range, paddock",{"$f":"INDEX('MM + EF'!$B$188:$C$200,MATCH(Assumptions!B468,'MM + EF'!$B$188:$B$200,0),2)","v":4.6999999999999993E-3},{"$f":"INDEX('MM + EF'!$B$249:$C$261,MATCH(Assumptions!B468,'MM + EF'!$B$249:$B$261,0),2)","v":4.0000000000000001E-3}]
[null,"Poultry with litter",{"$f":"INDEX('MM + EF'!$B$188:$C$200,MATCH(Assumptions!B469,'MM + EF'!$B$188:$B$200,0),2)","v":1.4999999999999999E-2},{"$f":"INDEX('MM + EF'!$B$249:$C$261,MATCH(Assumptions!B469,'MM + EF'!$B$249:$B$261,0),2)","v":1E-3}]
[null,"Poultry without litter",{"$f":"INDEX('MM + EF'!$B$188:$C$200,MATCH(Assumptions!B470,'MM + EF'!$B$188:$B$200,0),2)","v":1.4999999999999999E-2},{"$f":"INDEX('MM + EF'!$B$249:$C$261,MATCH(Assumptions!B470,'MM + EF'!$B$249:$B$261,0),2)","v":1E-3}]
[null,"Solid storage",{"$f":"INDEX('MM + EF'!$B$188:$C$200,MATCH(Assumptions!B471,'MM + EF'!$B$188:$B$200,0),2)","v":0.02},{"$f":"INDEX('MM + EF'!$B$249:$C$261,MATCH(Assumptions!B471,'MM + EF'!$B$249:$B$261,0),2)","v":0.01}]
[]
[null,"Type","Direct Emission Factor (kg N2O-N/kg N) "]
[null,"Land application",{"$f":"'MM + EF'!H228","v":0.01}]
[]
[null,"Loss Type","Indirect Emission Factor (kg N2O-N/kg N) ","Fraction Lost when Applied to Soils"]
[null,"Volatilization ",{"$f":"'MM + EF'!D267","v":0.01},{"$f":"'MM + EF'!E316","v":0.21}]
[null,"Leaching and runoff ",{"$f":"'MM + EF'!D268","v":1.0999999999999999E-2},{"$f":"'MM + EF'!E317","v":0.24}]
[]
[null,"Manure Management System","Nitrogen lost to Volatization (%)"]
[null,null,"Beef Cattle","Dairy Cattle","Swine","Poultry"]
[null,"Anaerobic digester",{"$f":"'MM + EF'!C322","v":0},{"$f":"'MM + EF'!D322","v":0},{"$f":"'MM + EF'!E322","v":0},{"$f":"'MM + EF'!F322","v":0}]
[null,"Anaerobic lagoon - liquid",{"$f":"'MM + EF'!C323","v":0},{"$f":"'MM + EF'!D323","v":0.43},{"$f":"'MM + EF'!E323","v":0.57999999999999996},{"$f":"'MM + EF'!F323","v":0.54}]
[null,"Cattle deep litter",{"$f":"'MM + EF'!C324","v":0.25}]
[null,"Composting",{"$f":"'MM + EF'!C325","v":0.65},null,null,{"$f":"'MM + EF'!F325","v":0.65}]
[null,"Daily spread",{"$f":"'MM + EF'!C326","v":7.0000000000000007E-2},{"$f":"'MM + EF'!D326","v":0.1}]
[null,"Deep pit",{"$f":"'MM + EF'!C327","v":0.25},{"$f":"'MM + EF'!D327","v":0.24},{"$f":"'MM + EF'!E327","v":0.34},{"$f":"'MM + EF'!F327","v":0}]
[null,"Dry lot",{"$f":"'MM + EF'!C328","v":0.23},{"$f":"'MM + EF'!D328","v":0.15}]
[null,"Liquid/slurry",{"$f":"'MM + EF'!C329","v":0.26},{"$f":"'MM + EF'!D329","v":0.26},{"$f":"'MM + EF'!E329","v":0.26},{"$f":"'MM + EF'!F329","v":0.26}]
[null,"Pasture, range, paddock",{"$f":"'MM + EF'!C330","v":0.21},{"$f":"'MM + EF'!D330","v":0.21},{"$f":"'MM + EF'!E330","v":0.21},{"$f":"'MM + EF'!F330","v":0.21}]
[null,"Poultry with litter",null,null,null,{"$f":"'MM + EF'!F331","v":0.26}]
[null,"Poultry without litter",null,null,null,{"$f":"'MM + EF'!F332","v":0.34}]
[null,"Solid storage",{"$f":"'MM + EF'!C333","v":0.45},{"$f":"'MM + EF'!D333","v":0.27},{"$f":"'MM + EF'!E333","v":0.45},{"$f":"'MM + EF'!F333","v":0.08}]
[null,"Note: Blanks indicate NA."]
[]
[null,"Manure Management System","Nitrogen lost to runoff/leaching (%)"]
[null,null,"Beef Cattle","Dairy Cattle","Swine","Poultry"]
[null,"Anaerobic digester",{"$f":"'MM + EF'!C338","v":0},{"$f":"'MM + EF'!D338","v":0},{"$f":"'MM + EF'!E338","v":0},{"$f":"'MM + EF'!F338","v":0}]
[null,"Anaerobic lagoon - liquid",{"$f":"'MM + EF'!C339","v":0},{"$f":"'MM + EF'!D339","v":4.0000000000000001E-3},{"$f":"'MM + EF'!E339","v":4.0000000000000001E-3},{"$f":"'MM + EF'!F339","v":4.0000000000000001E-3}]
[null,"Cattle deep litter",{"$f":"'MM + EF'!C340","v":3.5000000000000005E-4}]
[null,"Composting",{"$f":"'MM + EF'!C341","v":5.9999999999999995E-4},null,null,{"$f":"'MM + EF'!F341","v":5.9999999999999995E-4}]
[null,"Daily spread",{"$f":"'MM + EF'!C342","v":0},{"$f":"'MM + EF'!D342","v":0}]
[null,"Deep pit",{"$f":"'MM + EF'!C343","v":0},{"$f":"'MM + EF'!D343","v":0},{"$f":"'MM + EF'!E343","v":0},{"$f":"'MM + EF'!F343","v":0}]
[null,"Dry lot",{"$f":"'MM + EF'!C344","v":1.9E-2},{"$f":"'MM + EF'!D344","v":9.0000000000000011E-3}]
[null,"Liquid/slurry",{"$f":"'MM + EF'!C345","v":0},{"$f":"'MM + EF'!D345","v":4.0000000000000001E-3},{"$f":"'MM + EF'!E345","v":4.0000000000000001E-3},{"$f":"'MM + EF'!F345","v":4.0000000000000001E-3}]
[null,"Pasture, range, paddock",{"$f":"'MM + EF'!C346","v":0.24},{"$f":"'MM + EF'!D346","v":0.24},{"$f":"'MM + EF'!E346","v":0.24},{"$f":"'MM + EF'!F346","v":0.24}]
[null,"Poultry with litter",null,null,null,{"$f":"'MM + EF'!F347","v":0}]
[null,"Poultry without litter",null,null,null,{"$f":"'MM + EF'!F348","v":0}]
[null,"Solid storage",{"$f":"'MM + EF'!C349","v":2.0000000000000001E-4},{"$f":"'MM + EF'!D349","v":0},{"$f":"'MM + EF'!E349","v":0},{"$f":"'MM + EF'!F349","v":0}]
[null,"Note: Blanks indicate NA."]

{"sheet":"Constants","index":15,"n_rows":40,"n_cols":13,"rows_kept":40,"cut":false,"hidden":false,"merged":[[4,10,4,12]]}
[null,"Constants"]
[]
[null,"This tab summarizes the constants used to calculate construction and operation GHG emissions. "]
[]
[null,"Fuel Type","Heat Content",null,"Unit","Conversion Factor",null,"GHG","GWP",null,"GHG Equivalency Factors"]
[null,"Solid Fuels","Btu/ton",null,"metric ton / kg",1E-3,null,"CO2",{"$f":"SUMIF(Lists!$D$4:$D$27,Constants!H6,Lists!$F$4:$F$27)","v":1},null,"Passenger vehicles per year",4.29,"MTCO2e/vehicle/year"]
[null,"Mixed Coal",{"$f":"Fuels!F8","v":19730000},null,"kg / metric ton",1000,null,"CH4",{"$f":"SUMIF(Lists!$D$4:$D$27,Constants!H7,Lists!$F$4:$F$27)","v":28},null,"Miles driven by gasoline-powered passenger vehicle",{"$f":"3.93/10000","v":3.9300000000000001E-4},"MTCO2e/mile"]
[null,"Anthracite Coal",{"$f":"Fuels!F9","v":25090000},null,"g / kg",1000,null,"N2O",{"$f":"SUMIF(Lists!$D$4:$D$27,Constants!H8,Lists!$F$4:$F$27)","v":265},null,"Gallons of gasoline",{"$f":"8.887/1000","v":8.8870000000000008E-3},"MTCO2e/gallon"]
[null,"Bituminous Coal",{"$f":"Fuels!F10","v":24930000},null,"metric ton / g",9.9999999999999995E-7,null,"HFC-134a",{"$f":"SUMIF(Lists!$D$4:$D$27,Constants!H9,Lists!$F$4:$F$27)","v":1300},null,"Home energy use",7.45,"MTCO2e/home/year"]
[null,"Subbituminous Coal",{"$f":"Fuels!F11","v":17250000},null,"kg / short ton",907.18499999999995,null,"R-32",{"$f":"SUMIF(Lists!$D$4:$D$27,Constants!H10,Lists!$F$4:$F$27)","v":677},null,"Acres of U.S. forests sequestering carbon for one year",1,"MTCO2e/acre of average U.S. forest"]
[null,"Lignite Coal",{"$f":"Fuels!F12","v":14210000},null,"lbs / short ton",2000,null,"R-404A",{"$f":"SUMIF(Lists!$D$4:$D$27,Constants!H11,Lists!$F$4:$F$27)","v":3942.8},null,"Tons of waste recycled instead of landfilled",2.83,"MTCO2e/ton of waste recycled instead of landfilled"]
[null,"Coal Coke",{"$f":"Fuels!F13","v":24800000},null,"gal / barrel",42,null,"R-407A",{"$f":"SUMIF(Lists!$D$4:$D$27,Constants!H12,Lists!$F$4:$F$27)","v":1923.4},null,"Source: EPA Greenhouse Gas Equivalencies Calculator, Updated November 2024. Available at https://www.epa.gov/energy/greenhouse-gas-equivalencies-calculator."]
[null,"Gaseous Fuels","Btu/cubic feet",null,"cubic yard / cubic foot",3.7037E-2,null,"R-407C",{"$f":"SUMIF(Lists!$D$4:$D$27,Constants!H13,Lists!$F$4:$F$27)","v":1624.21}]
[null,"Natural Gas",{"$f":"Fuels!F14","v":1026},null,"m2 / ft2",9.2902999999999999E-2,null,"R-407F",{"$f":"SUMIF(Lists!$D$4:$D$27,Constants!H14,Lists!$F$4:$F$27)","v":1674.1}]
[null,"Renewable Natural Gas",{"$f":"Fuels!F15","v":1026},null,"inches / meter",39.370100000000001,null,"R-441A",{"$f":"SUMIF(Lists!$D$4:$D$27,Constants!H15,Lists!$F$4:$F$27)","v":0}]
[null,"Liquid Fuels","Btu/gallon",null,"billion / trillion",1000,null,"R-448A",{"$f":"SUMIF(Lists!$D$4:$D$27,Constants!H16,Lists!$F$4:$F$27)","v":1273.22}]
[null,"Propane",{"$f":"Fuels!F16","v":91000},null,"million / billion",1000,null,"R-449A",{"$f":"SUMIF(Lists!$D$4:$D$27,Constants!H17,Lists!$F$4:$F$27)","v":1281.6010000000001}]
[null,"Gasoline",{"$f":"Fuels!F17","v":125000},null,"sq ft / thousand sq ft",1000,null,"R-449B",{"$f":"SUMIF(Lists!$D$4:$D$27,Constants!H18,Lists!$F$4:$F$27)","v":1295.8140000000001}]
[null,"Distillate Fuel Oil No. 1",{"$f":"Fuels!F18","v":139000},null,"kg / lb",0.45359237000000002,null,"R-450A",{"$f":"SUMIF(Lists!$D$4:$D$27,Constants!H19,Lists!$F$4:$F$27)","v":546}]
[null,"Distillate Fuel Oil No. 2",{"$f":"Fuels!F19","v":138000},null,"kWh / MWh",1000,null,"R-452B",{"$f":"SUMIF(Lists!$D$4:$D$27,Constants!H20,Lists!$F$4:$F$27)","v":675.49}]
[null,"Distillate Fuel Oil No. 4",{"$f":"Fuels!F20","v":146000},null,"btu / kWh",3412.14,null,"R-454A",{"$f":"SUMIF(Lists!$D$4:$D$27,Constants!H21,Lists!$F$4:$F$27)","v":236.95}]
[null,"Residual Fuel Oil No. 5",{"$f":"Fuels!F21","v":140000},null,"mmbtu / MJ",9.4781711999999995E-4,null,"R-454B",{"$f":"SUMIF(Lists!$D$4:$D$27,Constants!H22,Lists!$F$4:$F$27)","v":466.45300000000003}]
[null,"Residual Fuel Oil No. 6",{"$f":"Fuels!F22","v":150000},null,"mmbtu / btu",9.9999999999999995E-7,null,"R-454C",{"$f":"SUMIF(Lists!$D$4:$D$27,Constants!H23,Lists!$F$4:$F$27)","v":145.55500000000001}]
[null,"Liquified Petroleum Gas (LPG)",{"$f":"Fuels!F23","v":92000},null,"btu / mmbtu",1000000,null,"R-457A",{"$f":"SUMIF(Lists!$D$4:$D$27,Constants!H24,Lists!$F$4:$F$27)","v":138.41999999999999}]
[null,"Kerosene",{"$f":"Fuels!F24","v":135000},null,"MT / ton",1.1023113,null,"R-513A",{"$f":"SUMIF(Lists!$D$4:$D$27,Constants!H25,Lists!$F$4:$F$27)","v":572}]
[null,"Kerosene Jet Fuel",{"$f":"Fuels!F25","v":135000},null,"MT / Pg",1000000000,null,"HFO-1234ze",{"$f":"SUMIF(Lists!$D$4:$D$27,Constants!H26,Lists!$F$4:$F$27)","v":0}]
[null,"Diesel",{"$f":"Fuels!F26","v":138000},null,"L / cubic meter",1000,null,"HFO-1234yf",{"$f":"SUMIF(Lists!$D$4:$D$27,Constants!H27,Lists!$F$4:$F$27)","v":0}]
[null,"Biodiesel 100",{"$f":"Fuels!F27","v":128000},null,"acre / hectare",2.47105,null,"Non-HFC",{"$f":"SUMIF(Lists!$D$4:$D$27,Constants!H28,Lists!$F$4:$F$27)","v":0}]
[null,"Biodiesel 20",{"$f":"Fuels!F28","v":128000},null,"square km / hectare",0.01,null,"Source: IPCC Fifth Assessment Report (AR5)."]
[null,"Renewable Diesel II",{"$f":"Fuels!F29","v":122887},null,"square meter / hectare",10000]
[null,null,null,null,"days / year",365]
[]
[null,null,null,null,"Unit","Conversion Factor"]
[null,null,null,null,"N2O-N to N2O",{"$f":"44/28","v":1.5714285714285714}]
[null,null,null,null,"C to CO2",{"$f":"44/12","v":3.6666666666666665}]
[null,null,null,null,"Density of methane at 25˚C (kg CH4/ m3 CH4)",0.66200000000000003]
[null,null,null,null,"short ton / ft2 Insultation (residential)",{"$f":"Materials!$F$38","v":2.9996408324534606E-4}]
[null,null,null,null,"short ton / ft2 Insultation (commercial)",{"$f":"Materials!$F$39","v":2.1870798980926496E-4}]
[null,null,null,null,"short tons / cubic yard Concrete",{"$f":"Materials!F36","v":1.9578333333333333}]
[null,null,null,null,"short tons / cubic yard Wood Products",{"$f":"Materials!F37","v":0.44260758546472834}]

{"sheet":"Annual Assumptions","index":16,"n_rows":31,"n_cols":78,"rows_kept":31,"cut":false,"hidden":false,"merged":[]}
[null,"Annual Assumptions"]
[]
[null,"This tab summarizes the annual assumptions for emission factors that change over time. Refer to the final report for the detailed methodology and data sources."]
[]
[null,"Transportation of Material Inputs"]
[]
[null,"Transportation of Material Inputs Emission Factors (kgCO2e/ton-mile)"]
[null,"Transportation Mode",2025,2026,2027,2028,2029,2030,2031,2032,2033,2034,2035,2036,2037,2038,2039,2040,2041,2042,2043,2044,2045,2046,2047,2048,2049,2050,2051,2052,2053,2054,2055,2056,2057,2058,2059,2060,2061,2062,2063,2064,2065,2066,2067,2068,2069,2070,2071,2072,2073,2074,2075,2076,2077,2078,2079,2080,2081,2082,2083,2084,2085,2086,2087,2088,2089,2090,2091,2092,2093,2094,2095,2096,2097,2098,2099,2100]
[null,"Truck",{"$f":"Assumptions!C56","v":8.8800754319372371E-2},{"$f":"C9+($H9-$C9)/5","v":8.7040320997904277E-2},{"$f":"D9+($H9-$C9)/5","v":8.5279887676436184E-2},8.351945435496809E-2,8.1759021033499996E-2,{"$f":"Assumptions!D56","v":7.9998587712031902E-2},{"$f":"H9+($M9-$H9)/5","v":7.8868899898919584E-2},{"$f":"I9+($M9-$H9)/5","v":7.7739212085807266E-2},7.6609524272694948E-2,7.547983645958263E-2,{"$f":"Assumptions!E56","v":7.4350148646470327E-2},{"$f":"M9+($R9-$M9)/5","v":7.4337623767016317E-2},{"$f":"N9+($R9-$M9)/5","v":7.4325098887562308E-2},7.4312574008108298E-2,7.4300049128654289E-2,{"$f":"Assumptions!F56","v":7.4287524249200251E-2},{"$f":"R9+($W9-$R9)/5","v":7.4289355927497969E-2},{"$f":"S9+($W9-$R9)/5","v":7.4291187605795686E-2},7.4293019284093403E-2,7.4294850962391121E-2,{"$f":"Assumptions!G56","v":7.4296682640688838E-2},{"$f":"W9+($AB9-$W9)/5","v":7.2730330311221975E-2},{"$f":"X9+($AB9-$W9)/5","v":7.1163977981755111E-2},6.9597625652288247E-2,6.8031273322821384E-2,{"$f":"Assumptions!H56","v":6.6464920993354493E-2},{"$f":"AB9","v":6.6464920993354493E-2},{"$f":"AC9","v":6.6464920993354493E-2},6.6464920993354493E-2,6.6464920993354493E-2,6.6464920993354493E-2,6.6464920993354493E-2,6.6464920993354493E-2,6.6464920993354493E-2,6.6464920993354493E-2,6.6464920993354493E-2,6.6464920993354493E-2,6.6464920993354493E-2,6.6464920993354493E-2,6.6464920993354493E-2,6.6464920993354493E-2,6.6464920993354493E-2,6.6464920993354493E-2,6.6464920993354493E-2,6.6464920993354493E-2,6.6464920993354493E-2,6.6464920993354493E-2,6.6464920993354493E-2,6.6464920993354493E-2,6.6464920993354493E-2,6.6464920993354493E-2,6.6464920993354493E-2,6.6464920993354493E-2,6.6464920993354493E-2,6.6464920993354493E-2,6.6464920993354493E-2,6.6464920993354493E-2,6.6464920993354493E-2,6.6464920993354493E-2,6.6464920993354493E-2,6.6464920993354493E-2,6.6464920993354493E-2,6.6464920993354493E-2,6.6464920993354493E-2,6.6464920993354493E-2,6.6464920993354493E-2,6.6464920993354493E-2,6.6464920993354493E-2,6.6464920993354493E-2,6.6464920993354493E-2,6.6464920993354493E-2,6.6464920993354493E-2,6.6464920993354493E-2,6.6464920993354493E-2,6.6464920993354493E-2,6.6464920993354493E-2]
[null,"Rail",{"$f":"Assumptions!C57","v":2.616045104849515E-2},{"$f":"C10+($H10-$C10)/5","v":2.6093677848233257E-2},2.6026904647971364E-2,2.5960131447709471E-2,{"$f":"F10+($H10-$C10)/5","v":2.5893358247447578E-2},{"$f":"Assumptions!D57","v":2.5826585047185689E-2},{"$f":"H10+($M10-$H10)/5","v":2.5831100779719188E-2},2.5835616512252687E-2,2.5840132244786186E-2,2.5844647977319685E-2,{"$f":"Assumptions!E57","v":2.5849163709853188E-2},{"$f":"M10+($R10-$M10)/5","v":2.5844652791949117E-2},2.5840141874045045E-2,2.5835630956140974E-2,2.5831120038236902E-2,{"$f":"Assumptions!F57","v":2.5826609120332824E-2},{"$f":"R10+($W10-$R10)/5","v":2.5827267450325885E-2},2.5827925780318946E-2,2.5828584110312008E-2,2.5829242440305069E-2,{"$f":"Assumptions!G57","v":2.5829900770298123E-2},{"$f":"W10+($AB10-$W10)/5","v":2.5826539707140252E-2},2.582317864398238E-2,2.5819817580824508E-2,2.5816456517666637E-2,{"$f":"Assumptions!H57","v":2.5813095454508769E-2},{"$f":"AB10","v":2.5813095454508769E-2},2.5813095454508769E-2,2.5813095454508769E-2,2.5813095454508769E-2,2.5813095454508769E-2,2.5813095454508769E-2,2.5813095454508769E-2,2.5813095454508769E-2,2.5813095454508769E-2,2.5813095454508769E-2,2.5813095454508769E-2,2.5813095454508769E-2,2.5813095454508769E-2,2.5813095454508769E-2,2.5813095454508769E-2,2.5813095454508769E-2,2.5813095454508769E-2,2.5813095454508769E-2,2.5813095454508769E-2,2.5813095454508769E-2,2.5813095454508769E-2,2.5813095454508769E-2,2.5813095454508769E-2,2.5813095454508769E-2,2.5813095454508769E-2,2.5813095454508769E-2,2.5813095454508769E-2,2.5813095454508769E-2,2.5813095454508769E-2,2.5813095454508769E-2,2.5813095454508769E-2,2.5813095454508769E-2,2.5813095454508769E-2,2.5813095454508769E-2,2.5813095454508769E-2,2.5813095454508769E-2,2.5813095454508769E-2,2.5813095454508769E-2,2.5813095454508769E-2,2.5813095454508769E-2,2.5813095454508769E-2,2.5813095454508769E-2,2.5813095454508769E-2,2.5813095454508769E-2,2.5813095454508769E-2,2.5813095454508769E-2,2.5813095454508769E-2,2.5813095454508769E-2,2.5813095454508769E-2,2.5813095454508769E-2]
[null,"Aircraft",{"$f":"Assumptions!C58","v":1.0209855148684595},{"$f":"C11+($H11-$C11)/5","v":1.018552604282696},1.0161196936969326,1.0136867831111691,1.0112538725254057,{"$f":"Assumptions!D58","v":1.0088209619396427},{"$f":"H11+($M11-$H11)/5","v":1.0089824888839398},1.009144015828237,1.0093055427725341,1.0094670697168313,{"$f":"Assumptions!E58","v":1.0096285966611285},{"$f":"M11+($R11-$M11)/5","v":1.0094648545538167},1.009301112446505,1.0091373703391933,1.0089736282318815,{"$f":"Assumptions!F58","v":1.0088098861245698},{"$f":"R11+($W11-$R11)/5","v":1.0088337828885239},1.008857679652478,1.0088815764164321,1.0089054731803861,{"$f":"Assumptions!G58","v":1.0089293699443407},{"$f":"W11+($AB11-$W11)/5","v":1.0087979742950106},1.0086665786456805,1.0085351829963505,1.0084037873470204,{"$f":"Assumptions!H58","v":1.0082723916976901},1.0082723916976901,1.0082723916976901,1.0082723916976901,1.0082723916976901,1.0082723916976901,1.0082723916976901,1.0082723916976901,1.0082723916976901,1.0082723916976901,1.0082723916976901,1.0082723916976901,1.0082723916976901,1.0082723916976901,1.0082723916976901,1.0082723916976901,1.0082723916976901,1.0082723916976901,1.0082723916976901,1.0082723916976901,1.0082723916976901,1.0082723916976901,1.0082723916976901,1.0082723916976901,1.0082723916976901,1.0082723916976901,1.0082723916976901,1.0082723916976901,1.0082723916976901,1.0082723916976901,1.0082723916976901,1.0082723916976901,1.0082723916976901,1.0082723916976901,1.0082723916976901,1.0082723916976901,1.0082723916976901,1.0082723916976901,1.0082723916976901,1.0082723916976901,1.0082723916976901,1.0082723916976901,1.0082723916976901,1.0082723916976901,1.0082723916976901,1.0082723916976901,1.0082723916976901,1.0082723916976901,1.0082723916976901,1.0082723916976901,1.0082723916976901]
[null,"Watercraft",{"$f":"Assumptions!C59","v":2.1624146553934718E-2},{"$f":"C12+($H12-$C12)/5","v":2.1575752181548693E-2},2.1527357809162668E-2,2.1478963436776643E-2,2.1430569064390618E-2,{"$f":"Assumptions!D59","v":2.13821746920046E-2},{"$f":"H12+($M12-$H12)/5","v":2.1384581814783761E-2},2.1386988937562922E-2,2.1389396060342084E-2,2.1391803183121245E-2,{"$f":"Assumptions!E59","v":2.1394210305900409E-2},{"$f":"M12+($R12-$M12)/5","v":2.139102248210116E-2},2.1387834658301911E-2,2.1384646834502662E-2,{"$f":"P12+($R12-$M12)/5","v":2.1381459010703412E-2},{"$f":"Assumptions!F59","v":2.137827118690416E-2},{"$f":"R12+($W12-$R12)/5","v":2.1378736422597706E-2},2.1379201658291252E-2,2.1379666893984798E-2,2.1380132129678344E-2,{"$f":"Assumptions!G59","v":2.1380597365371897E-2},{"$f":"W12+($AB12-$W12)/5","v":2.1377021359569884E-2},2.137344535376787E-2,2.1369869347965857E-2,2.1366293342163844E-2,{"$f":"Assumptions!H59","v":2.1362717336361827E-2},2.1362717336361827E-2,2.1362717336361827E-2,2.1362717336361827E-2,2.1362717336361827E-2,2.1362717336361827E-2,2.1362717336361827E-2,2.1362717336361827E-2,2.1362717336361827E-2,2.1362717336361827E-2,2.1362717336361827E-2,2.1362717336361827E-2,2.1362717336361827E-2,2.1362717336361827E-2,2.1362717336361827E-2,2.1362717336361827E-2,2.1362717336361827E-2,2.1362717336361827E-2,2.1362717336361827E-2,2.1362717336361827E-2,2.1362717336361827E-2,2.1362717336361827E-2,2.1362717336361827E-2,2.1362717336361827E-2,2.1362717336361827E-2,2.1362717336361827E-2,2.1362717336361827E-2,2.1362717336361827E-2,2.1362717336361827E-2,2.1362717336361827E-2,2.1362717336361827E-2,2.1362717336361827E-2,2.1362717336361827E-2,2.1362717336361827E-2,2.1362717336361827E-2,2.1362717336361827E-2,2.1362717336361827E-2,2.1362717336361827E-2,2.1362717336361827E-2,2.1362717336361827E-2,2.1362717336361827E-2,2.1362717336361827E-2,2.1362717336361827E-2,2.1362717336361827E-2,2.1362717336361827E-2,2.1362717336361827E-2,2.1362717336361827E-2,2.1362717336361827E-2,2.1362717336361827E-2,2.1362717336361827E-2,2.1362717336361827E-2]
[]
[null,"Electricity Grid Emission Factors"]
[]
[null,"Electricity Emission Factor (kgCO2e/MMBtu)"]
[null,"Energy Provider",2025,2026,2027,2028,2029,2030,2031,2032,2033,2034,2035,2036,2037,2038,2039,2040,2041,2042,2043,2044,2045,2046,2047,2048,2049,2050,2051,2052,2053,2054,2055,2056,2057,2058,2059,2060,2061,2062,2063,2064,2065,2066,2067,2068,2069,2070,2071,2072,2073,2074,2075,2076,2077,2078,2079,2080,2081,2082,2083,2084,2085,2086,2087,2088,2089,2090,2091,2092,2093,2094,2095,2096,2097,2098,2099,2100]
[null,{"$f":"Assumptions!B222","v":"Grid Average"},{"$f":"Assumptions!C222","v":116.61796503700428},{"$f":"C18+($H18-$C18)/5","v":101.82113875626412},{"$f":"D18+($H18-$C18)/5","v":87.024312475523956},{"$f":"E18+($H18-$C18)/5","v":72.227486194783793},{"$f":"F18+($H18-$C18)/5","v":57.430659914043638},{"$f":"Assumptions!D222","v":42.633833633303503},{"$f":"H18+($M18-$H18)/5","v":38.370450269973155},{"$f":"I18+($M18-$H18)/5","v":34.107066906642807},{"$f":"J18+($M18-$H18)/5","v":29.843683543312459},{"$f":"K18+($M18-$H18)/5","v":25.58030017998211},{"$f":"Assumptions!E222","v":21.316916816651752},{"$f":"M18+($R18-$M18)/5","v":17.0535334533214},{"$f":"N18+($R18-$M18)/5","v":12.79015008999105},{"$f":"O18+($R18-$M18)/5","v":8.5267667266606999},{"$f":"P18+($R18-$M18)/5","v":4.26338336333035},{"$f":"Assumptions!F222","v":0},{"$f":"R18+($W18-$R18)/5","v":0},{"$f":"S18+($W18-$R18)/5","v":0},{"$f":"T18+($W18-$R18)/5","v":0},{"$f":"U18+($W18-$R18)/5","v":0},{"$f":"Assumptions!G222","v":0},{"$f":"W18+($AB18-$W18)/5","v":0},{"$f":"X18+($AB18-$W18)/5","v":0},{"$f":"Y18+($AB18-$W18)/5","v":0},{"$f":"Z18+($AB18-$W18)/5","v":0},{"$f":"Assumptions!H222","v":0},{"$f":"AB18","v":0},0,0,0,0,0,0,0,0,0,0,0,0,0,0,0,0,0,0,0,0,0,0,0,0,0,0,0,0,0,0,0,{"$f":"BH18","v":0},0,0,0,0,0,0,0,0,0,0,0,0,0,0,0,0,0]
[null,{"$f":"Assumptions!B223","v":"Xcel Energy"},{"$f":"Assumptions!C223","v":69.746060446305151},{"$f":"C19+($H19-$C19)/5","v":59.765815555231001},{"$f":"D19+($H19-$C19)/5","v":49.78557066415685},39.8053257730827,29.825080882008553,{"$f":"Assumptions!D223","v":19.844835990934421},{"$f":"H19+($M19-$H19)/5","v":18.469586499085665},17.094337007236909,15.719087515388152,14.343838023539394,{"$f":"Assumptions!E223","v":12.968588531690633},{"$f":"M19+($R19-$M19)/5","v":10.374870825352506},7.7811531190143794,5.187435412676253,2.5937177063381265,{"$f":"Assumptions!F223","v":0},{"$f":"R19+($W19-$R19)/5","v":0},0,0,0,{"$f":"Assumptions!G223","v":0},{"$f":"W19+($AB19-$W19)/5","v":0},0,0,0,{"$f":"Assumptions!H223","v":0},{"$f":"AB19","v":0},{"$f":"AC19","v":0},{"$f":"AD19","v":0},{"$f":"AE19","v":0},{"$f":"AF19","v":0},{"$f":"AG19","v":0},{"$f":"AH19","v":0},{"$f":"AI19","v":0},{"$f":"AJ19","v":0},{"$f":"AK19","v":0},{"$f":"AL19","v":0},{"$f":"AM19","v":0},{"$f":"AN19","v":0},{"$f":"AO19","v":0},{"$f":"AP19","v":0},{"$f":"AQ19","v":0},{"$f":"AR19","v":0},{"$f":"AS19","v":0},{"$f":"AT19","v":0},{"$f":"AU19","v":0},{"$f":"AV19","v":0},{"$f":"AW19","v":0},{"$f":"AX19","v":0},{"$f":"AY19","v":0},{"$f":"AZ19","v":0},{"$f":"BA19","v":0},{"$f":"BB19","v":0},{"$f":"BC19","v":0},{"$f":"BD19","v":0},{"$f":"BE19","v":0},{"$f":"BF19","v":0},{"$f":"BG19","v":0},{"$f":"BH19","v":0},{"$f":"BI19","v":0},{"$f":"BJ19","v":0},{"$f":"BK19","v":0},{"$f":"BL19","v":0},{"$f":"BM19","v":0},{"$f":"BN19","v":0},{"$f":"BO19","v":0},{"$f":"BP19","v":0},{"$f":"BQ19","v":0},{"$f":"BR19","v":0},{"$f":"BS19","v":0},{"$f":"BT19","v":0},{"$f":"BU19","v":0},{"$f":"BV19","v":0},{"$f":"BW19","v":0},{"$f":"BX19","v":0},{"$f":"BY19","v":0}]
[null,{"$f":"Assumptions!B224","v":"Minnesota Power"},{"$f":"Assumptions!C224","v":162.73921846139893},{"$f":"C20+($H20-$C20)/5","v":140.12992909059122},117.52063971978349,94.911350348975759,72.302060978168029,{"$f":"Assumptions!D224","v":49.692771607360307},{"$f":"H20+($M20-$H20)/5","v":43.130699351364072},36.568627095367837,30.006554839371603,23.444482583375368,{"$f":"Assumptions!E224","v":16.882410327379141},{"$f":"M20+($R20-$M20)/5","v":13.505928261903312},10.129446196427484,6.7529641309516553,3.3764820654758272,{"$f":"Assumptions!F224","v":0},{"$f":"R20+($W20-$R20)/5","v":0},0,0,0,{"$f":"Assumptions!G224","v":0},{"$f":"W20+($AB20-$W20)/5","v":0},0,0,0,{"$f":"Assumptions!H224","v":0},0,0,0,0,0,0,0,0,0,0,0,0,0,0,0,0,0,0,0,0,0,0,0,0,0,0,0,0,0,0,0,0,0,0,0,0,0,0,0,0,0,0,0,0,0,0,0,{"$f":"BW20","v":0},0,0]
[null,{"$f":"Assumptions!B225","v":"Great River Energy"},{"$f":"Assumptions!C225","v":161.81307976920448},{"$f":"C21+($H21-$C21)/5","v":147.83426547773186},133.85545118625924,119.87663689478661,105.89782260331398,{"$f":"Assumptions!D225","v":91.919008311841353},{"$f":"H21+($M21-$H21)/5","v":80.287616180100471},68.65622404835959,57.024831916618702,45.393439784877813,{"$f":"Assumptions!E225","v":33.762047653136918},{"$f":"M21+($R21-$M21)/5","v":27.009638122509536},20.257228591882154,13.50481906125477,6.7524095306273857,{"$f":"Assumptions!F225","v":0},{"$f":"R21+($W21-$R21)/5","v":0},0,0,0,{"$f":"Assumptions!G225","v":0},{"$f":"W21+($AB21-$W21)/5","v":0},{"$f":"X21+($AB21-$W21)/5","v":0},0,0,{"$f":"Assumptions!H225","v":0},0,0,0,0,0,0,0,0,0,0,0,0,0,0,0,0,0,0,0,0,0,0,0,0,0,0,0,0,0,0,0,0,0,0,0,0,0,0,0,0,0,0,0,0,0,0,0,0,0,0]
[null,{"$f":"Assumptions!B226","v":"Otter Tail Power Company"},{"$f":"Assumptions!C226","v":141.39808792342922},{"$f":"C22+($H22-$C22)/5","v":131.40622032096334},121.41435271849745,111.42248511603157,101.43061751356568,{"$f":"Assumptions!D226","v":91.438749911099791},{"$f":"H22+($M22-$H22)/5","v":82.2828668981943},73.126983885288809,63.971100872383317,54.815217859477826,{"$f":"Assumptions!E226","v":45.659334846572328},{"$f":"M22+($R22-$M22)/5","v":36.527467877257862},27.395600907943397,18.263733938628931,9.1318669693144656,{"$f":"Assumptions!F226","v":0},{"$f":"R22+($W22-$R22)/5","v":0},0,0,0,{"$f":"Assumptions!G226","v":0},{"$f":"W22+($AB22-$W22)/5","v":0},0,0,0,{"$f":"Assumptions!H226","v":0},0,0,0,0,0,0,0,0,0,0,0,0,0,0,0,0,0,0,0,0,0,0,0,0,0,0,0,0,0,0,0,0,0,0,0,0,0,0,0,0,0,0,0,0,0,0,0,0,0,{"$f":"BY22","v":0}]
[]
[null,"On-Road Emission Factors"]
[]
[null,"Lifecycle Emissions Factor (gCO2e/mile)"]
[null,"Speed Bins",2025,2026,2027,2028,2029,2030,2031,2032,2033,2034,2035,2036,2037,2038,2039,2040,2041,2042,2043,2044,2045,2046,2047,2048,2049,2050,2051,2052,2053,2054,2055,2056,2057,2058,2059,2060,2061,2062,2063,2064,2065,2066,2067,2068,2069,2070,2071,2072,2073,2074,2075,2076,2077,2078,2079,2080,2081,2082,2083,2084,2085,2086,2087,2088,2089,2090,2091,2092,2093,2094,2095,2096,2097,2098,2099,2100]
[null,"Fleet Average",{"$f":"OnRoad!C12","v":578.90617937608965},{"$f":"OnRoad!D12","v":561.6901994379474},{"$f":"OnRoad!E12","v":543.77522045128183},{"$f":"OnRoad!F12","v":525.45906177380209},{"$f":"OnRoad!G12","v":505.92427218279119},{"$f":"OnRoad!H12","v":485.7328706492886},{"$f":"OnRoad!I12","v":463.70646514040465},{"$f":"OnRoad!J12","v":440.63746255543282},{"$f":"OnRoad!K12","v":418.55059572231585},{"$f":"OnRoad!L12","v":397.76880375328363},{"$f":"OnRoad!M12","v":378.31123461411613},{"$f":"OnRoad!N12","v":360.28652010662375},{"$f":"OnRoad!O12","v":343.8758700575404},{"$f":"OnRoad!P12","v":328.81428315544372},{"$f":"OnRoad!Q12","v":315.19140257330076},{"$f":"OnRoad!R12","v":302.92113415633457},{"$f":"OnRoad!S12","v":292.02891810257353},{"$f":"OnRoad!T12","v":282.27670173353391},{"$f":"OnRoad!U12","v":273.70362016023773},{"$f":"OnRoad!V12","v":266.19082110845733},{"$f":"OnRoad!W12","v":259.64658004377952},{"$f":"OnRoad!X12","v":254.00410648714728},{"$f":"OnRoad!Y12","v":249.13886306482317},{"$f":"OnRoad!Z12","v":244.87346226133872},{"$f":"OnRoad!AA12","v":241.35313495648873},{"$f":"OnRoad!AB12","v":238.30985458984276},{"$f":"OnRoad!AC12","v":235.55252830071984},{"$f":"OnRoad!AD12","v":233.16524179426517},{"$f":"OnRoad!AE12","v":231.12971492963098},{"$f":"OnRoad!AF12","v":229.38190857432795},{"$f":"OnRoad!AG12","v":227.83638279025388},{"$f":"OnRoad!AH12","v":226.47734902674165},{"$f":"OnRoad!AI12","v":225.38116977728967},{"$f":"OnRoad!AJ12","v":224.37098135094232},{"$f":"OnRoad!AK12","v":223.52770632686051},{"$f":"OnRoad!AL12","v":222.80330489851715},{"$f":"AL28","v":222.80330489851715},{"$f":"AM28","v":222.80330489851715},222.80330489851715,222.80330489851715,222.80330489851715,222.80330489851715,222.80330489851715,222.80330489851715,222.80330489851715,222.80330489851715,222.80330489851715,222.80330489851715,222.80330489851715,222.80330489851715,222.80330489851715,222.80330489851715,222.80330489851715,222.80330489851715,222.80330489851715,222.80330489851715,222.80330489851715,222.80330489851715,222.80330489851715,222.80330489851715,222.80330489851715,222.80330489851715,222.80330489851715,222.80330489851715,222.80330489851715,222.80330489851715,222.80330489851715,222.80330489851715,222.80330489851715,222.80330489851715,222.80330489851715,222.80330489851715,222.80330489851715,222.80330489851715,222.80330489851715,222.80330489851715]
[null,"0-30",{"$f":"OnRoad!C9","v":854.89464360101783},{"$f":"OnRoad!D9","v":829.32202182010565},{"$f":"OnRoad!E9","v":802.84651237232265},{"$f":"OnRoad!F9","v":776.08888257713295},{"$f":"OnRoad!G9","v":747.34061147180682},{"$f":"OnRoad!H9","v":717.54666011306404},{"$f":"OnRoad!I9","v":684.9872766177723},{"$f":"OnRoad!J9","v":650.85812285768316},{"$f":"OnRoad!K9","v":618.17486140037386},{"$f":"OnRoad!L9","v":587.43054743402058},{"$f":"OnRoad!M9","v":558.62217779679781},{"$f":"OnRoad!N9","v":531.88468417218758},{"$f":"OnRoad!O9","v":507.53096291977806},{"$f":"OnRoad!P9","v":485.20550410796409},{"$f":"OnRoad!Q9","v":464.99725577209404},{"$f":"OnRoad!R9","v":446.81205089399003},{"$f":"OnRoad!S9","v":430.65200669361633},{"$f":"OnRoad!T9","v":416.20895121358404},{"$f":"OnRoad!U9","v":403.52873736533564},{"$f":"OnRoad!V9","v":392.43367399285296},{"$f":"OnRoad!W9","v":382.77843206278123},{"$f":"OnRoad!X9","v":374.4647707553608},{"$f":"OnRoad!Y9","v":367.30909081720517},{"$f":"OnRoad!Z9","v":361.03811769438425},{"$f":"OnRoad!AA9","v":355.8796051351332},{"$f":"OnRoad!AB9","v":351.40371344514824},{"$f":"OnRoad!AC9","v":347.36148515244093},{"$f":"OnRoad!AD9","v":343.86820112178555},{"$f":"OnRoad!AE9","v":340.8912485046859},{"$f":"OnRoad!AF9","v":338.3534557676644},{"$f":"OnRoad!AG9","v":336.10761364926094},{"$f":"OnRoad!AH9","v":334.14095548843119},{"$f":"OnRoad!AI9","v":332.55666668257328},{"$f":"OnRoad!AJ9","v":331.11074417150417},{"$f":"OnRoad!AK9","v":329.90704826210208},{"$f":"OnRoad!AL9","v":328.88593424167823},{"$f":"AL29","v":328.88593424167823},{"$f":"AM29","v":328.88593424167823},328.88593424167823,328.88593424167823,328.88593424167823,328.88593424167823,328.88593424167823,328.88593424167823,328.88593424167823,328.88593424167823,328.88593424167823,328.88593424167823,328.88593424167823,328.88593424167823,328.88593424167823,328.88593424167823,328.88593424167823,328.88593424167823,328.88593424167823,328.88593424167823,328.88593424167823,328.88593424167823,328.88593424167823,328.88593424167823,328.88593424167823,328.88593424167823,328.88593424167823,328.88593424167823,328.88593424167823,328.88593424167823,328.88593424167823,328.88593424167823,328.88593424167823,328.88593424167823,328.88593424167823,328.88593424167823,328.88593424167823,328.88593424167823,328.88593424167823,328.88593424167823]
[null,"31-55",{"$f":"OnRoad!C10","v":529.47271958866406},{"$f":"OnRoad!D10","v":514.01223577994529},{"$f":"OnRoad!E10","v":497.83219264151688},{"$f":"OnRoad!F10","v":481.33867748362997},{"$f":"OnRoad!G10","v":463.75928817069791},{"$f":"OnRoad!H10","v":445.56786573767346},{"$f":"OnRoad!I10","v":425.71853773033342},{"$f":"OnRoad!J10","v":404.82808601485334},{"$f":"OnRoad!K10","v":384.79431530001978},{"$f":"OnRoad!L10","v":365.93030369982364},{"$f":"OnRoad!M10","v":348.26689793578282},{"$f":"OnRoad!N10","v":331.90272319494017},{"$f":"OnRoad!O10","v":317.00560177861985},{"$f":"OnRoad!P10","v":303.33381417479808},{"$f":"OnRoad!Q10","v":290.97092537893627},{"$f":"OnRoad!R10","v":279.83427866068303},{"$f":"OnRoad!S10","v":269.94278189724355},{"$f":"OnRoad!T10","v":261.09087547442465},{"$f":"OnRoad!U10","v":253.31303038402615},{"$f":"OnRoad!V10","v":246.49728977910766},{"$f":"OnRoad!W10","v":240.55835311239071},{"$f":"OnRoad!X10","v":235.43931148672294},{"$f":"OnRoad!Y10","v":231.02271223337044},{"$f":"OnRoad!Z10","v":227.14631042669131},{"$f":"OnRoad!AA10","v":223.93914025829486},{"$f":"OnRoad!AB10","v":221.15920703107946},{"$f":"OnRoad!AC10","v":218.64468713903767},{"$f":"OnRoad!AD10","v":216.4611233911009},{"$f":"OnRoad!AE10","v":214.59336934697873},{"$f":"OnRoad!AF10","v":212.98693475895638},{"$f":"OnRoad!AG10","v":211.56282713065752},{"$f":"OnRoad!AH10","v":210.30662204723808},{"$f":"OnRoad!AI10","v":209.2840893612734},{"$f":"OnRoad!AJ10","v":208.3416945567256},{"$f":"OnRoad!AK10","v":207.5474222037754},{"$f":"OnRoad!AL10","v":206.86051324683734},{"$f":"AL30","v":206.86051324683734},206.86051324683734,206.86051324683734,206.86051324683734,206.86051324683734,206.86051324683734,206.86051324683734,206.86051324683734,206.86051324683734,206.86051324683734,206.86051324683734,206.86051324683734,206.86051324683734,206.86051324683734,206.86051324683734,206.86051324683734,206.86051324683734,206.86051324683734,206.86051324683734,206.86051324683734,206.86051324683734,206.86051324683734,206.86051324683734,206.86051324683734,206.86051324683734,206.86051324683734,206.86051324683734,206.86051324683734,206.86051324683734,206.86051324683734,206.86051324683734,206.86051324683734,206.86051324683734,206.86051324683734,206.86051324683734,206.86051324683734,206.86051324683734,206.86051324683734,206.86051324683734,206.86051324683734]
[null,"56-75",{"$f":"OnRoad!C11","v":518.99263722567741},{"$f":"OnRoad!D11","v":503.88721356454545},{"$f":"OnRoad!E11","v":488.04706816050384},{"$f":"OnRoad!F11","v":471.80007960041559},{"$f":"OnRoad!G11","v":454.58659943644318},{"$f":"OnRoad!H11","v":436.81263581747641},{"$f":"OnRoad!I11","v":417.45175032437294},{"$f":"OnRoad!J11","v":397.09643577941381},{"$f":"OnRoad!K11","v":377.58284710989307},{"$f":"OnRoad!L11","v":359.20981738112727},{"$f":"OnRoad!M11","v":342.00336070660654},{"$f":"OnRoad!N11","v":326.07971497622231},{"$f":"OnRoad!O11","v":311.57549702547152},{"$f":"OnRoad!P11","v":298.26030662451859},{"$f":"OnRoad!Q11","v":286.22410771148509},{"$f":"OnRoad!R11","v":275.38415945947042},{"$f":"OnRoad!S11","v":265.76804364739013},{"$f":"OnRoad!T11","v":257.15301330351309},{"$f":"OnRoad!U11","v":249.57950379015813},{"$f":"OnRoad!V11","v":242.94401429513573},{"$f":"OnRoad!W11","v":237.16809383973018},{"$f":"OnRoad!X11","v":232.18874255782896},{"$f":"OnRoad!Y11","v":227.90048048469311},{"$f":"OnRoad!Z11","v":224.14167055128127},{"$f":"OnRoad!AA11","v":221.03338574035601},{"$f":"OnRoad!AB11","v":218.35656222406328},{"$f":"OnRoad!AC11","v":215.92445482219574},{"$f":"OnRoad!AD11","v":213.8148892223567},{"$f":"OnRoad!AE11","v":212.01763745007787},{"$f":"OnRoad!AF11","v":210.47107553669829},{"$f":"OnRoad!AG11","v":209.10528873635303},{"$f":"OnRoad!AH11","v":207.90248918274935},{"$f":"OnRoad!AI11","v":206.93191887085203},{"$f":"OnRoad!AJ11","v":206.03552081605298},{"$f":"OnRoad!AK11","v":205.28616650327686},{"$f":"OnRoad!AL11","v":204.63939632607034},204.63939632607034,204.63939632607034,204.63939632607034,204.63939632607034,204.63939632607034,204.63939632607034,204.63939632607034,204.63939632607034,204.63939632607034,204.63939632607034,204.63939632607034,204.63939632607034,204.63939632607034,204.63939632607034,204.63939632607034,204.63939632607034,204.63939632607034,204.63939632607034,204.63939632607034,204.63939632607034,204.63939632607034,204.63939632607034,204.63939632607034,204.63939632607034,204.63939632607034,204.63939632607034,204.63939632607034,204.63939632607034,204.63939632607034,204.63939632607034,204.63939632607034,204.63939632607034,204.63939632607034,204.63939632607034,204.63939632607034,204.63939632607034,204.63939632607034,204.63939632607034,204.63939632607034,204.63939632607034]

{"sheet":"Materials","index":17,"n_rows":23350,"n_cols":24,"rows_kept":2250,"cut":true,"hidden":false,"merged":[[73,9,74,9],[18,1,18,4],[53,1,53,5],[97,6,97,9],[97,2,97,5],[111,2,111,5],[111,6,111,9],[73,1,74,1],[97,1,98,1],[73,3,73,8],[73,2,74,2],[75,1,78,1],[79,1,82,1],[83,1,86,1],[87,1,90,1],[75,9,78,9],[79,9,82,9],[83,9,86,9],[87,9,90,9]],"bounds":{"rows_first":1000,"rows_last":250,"rows_between":1000,"halvings":1}}
[null,"Material Inputs"]
[]
[null,"This tab documents the source data and calculations used to develop the assumptions used to calculate GHG emissions from material inputs and transportation of material inputs. Refer to the final report for the detailed methodology."]
[]
[null,"Emission Factors"]
[]
[null,"Emission Factors from EC3"]
[null,"Material Type","Average US","Average for Largest Import Country","Unit"]
[null,"Concrete",287,"NA","kgCO2e/y3"]
[null,"Asphalt",3.5099999999999999E-2,"NA","kgCO2e/lb"]
[null,"Aluminum",3.24,3.27,"kgCO2e/lb"]
[null,"Flat Glass",0.63500000000000001,0.56799999999999995,"kgCO2e/lb"]
[null,"Steel",0.78700000000000003,0.79200000000000004,"kgCO2e/lb"]
[null,"Wood Products",150,140,"kgCO2e/y3"]
[null,"Insulation (residential)",9.8500000000000004E-2,9.8500000000000004E-2,"kgCO2e/ft2 RSI=1"]
[null,"Insulation (commercial)",9.8500000000000004E-2,9.8500000000000004E-2,"kgCO2e/ft2 RSI=1"]
[null,"Brick",0.20300000000000001,0.34499999999999997,"kgCO2e/lb"]
[null,"Source: Embodied Carbon Calculator (EC3), https://buildingtransparency.org/ec3 "]
[null,"Note: Emission Factors derived from the EC3 database are reflective of the methodology and GWP values used in the individual Environmental Product Declarations (EPDs) from which they are sourced. As such, the GWP values may vary across individual EPDs and/or material types and cannot be modified or adjusted for the tool's calculations or assumptions. "]
[]
[null,"Material Type","Average US","Average for Largest Import Country","Unit"]
[null,"Concrete",{"$f":"C9/C42*Constants!F11","v":146.59061888141653},"NA","kgCO2e/short ton"]
[null,"Asphalt",{"$f":"C10*Constants!F11","v":70.2},"NA","kgCO2e/short ton"]
[null,"Aluminum",{"$f":"C11*Constants!F11","v":6480},{"$f":"D11*Constants!F11","v":6540},"kgCO2e/short ton"]
[null,"Glass",{"$f":"C12*Constants!F11","v":1270},{"$f":"D12*Constants!F11","v":1136},"kgCO2e/short ton"]
[null,"Steel",{"$f":"C13*Constants!F11","v":1574},{"$f":"D13*Constants!F11","v":1584},"kgCO2e/short ton"]
[null,"Wood Products",{"$f":"C14/$G$54*Constants!F11","v":338.90065359477126},{"$f":"D14/$G$54*Constants!F11","v":316.30727668845316},"kgCO2e/short ton"]
[null,"Insulation (residential)",{"$f":"$C$15*$F$65/$F$38","v":2284.3817460090995},{"$f":"$D$15*$F$65/$F$38","v":2284.3817460090995},"kgCO2e/short ton"]
[null,"Insulation (commercial)",{"$f":"$C$16*$F$66/$F$39","v":2284.3817460091},{"$f":"$D$16*$F$66/$F$39","v":2284.3817460091},"kgCO2e/short ton"]
[null,"Brick",{"$f":"C17*Constants!F11","v":406},{"$f":"D17*Constants!F11","v":690},"kgCO2e/short ton"]
[]
[null,"Conversion Factors"]
[]
[null,"Density of Ready Mix Concrete"]
[null,"Compressive Strength (psi)","Density (lbs/y3)",null,"Material","Conversion to Tons","Units"]
[null,"2500 psi",3862,null,"Concrete",{"$f":"$C$42/Constants!$F$11","v":1.9578333333333333},"tons/cubic yards"]
[null,"3000 psi",3850,null,"Wood Products",{"$f":"$G$54/Constants!$F$11","v":0.44260758546472834},"tons/cubic yards"]
[null,"4000 psi",3860,null,"Insulation (residential)",{"$f":"Constants!$F$14*$G$65*$C$58/Constants!$F$10","v":2.9996408324534606E-4},"tons/square foot"]
[null,"5000 psi",3843,null,"Insulation (commercial)",{"$f":"Constants!$F$14*$G$66*$C$58/Constants!$F$10","v":2.1870798980926496E-4},"tons/square foot"]
[null,"6000 psi",4032]
[null,"8000 psi",4047]
[null,"Average",{"$f":"AVERAGE(C36:C41)","v":3915.6666666666665}]
[null,"Source: National Ready Mixed Concrete Association (NRMCA). https://www.nrmca.org/wp-content/uploads/2022/02/NRMCA_LCAReportV3-2_20220224.pdf "]
[]
[null,"Density of Wood Products"]
[null,"Type of Wood","Range Density (lbs/ft3)","Min Density (lbs/ft3)","Max Density (lbs/ft3)","Average Density (lbs/ft3)","Average Density (lbs/y3)"]
[null,"Aspen",{"$f":"_xlfn.CONCAT(D47,\"-\",E47)","v":"26-26"},26,26,{"$f":"AVERAGE(D47:E47)","v":26},{"$f":"F47/Constants!$F$13","v":702.00070200070195}]
[null,"Hickory",{"$f":"_xlfn.CONCAT(D48,\"-\",E48)","v":"37-58"},37,58,{"$f":"AVERAGE(D48:E48)","v":47.5},{"$f":"F48/Constants!$F$13","v":1282.5012825012825}]
[null,"Balsa","7-9",7,9,8,{"$f":"F49/Constants!$F$13","v":216.000216000216}]
[null,"Pine","22-53",22,53,37.5,{"$f":"F50/Constants!$F$13","v":1012.5010125010125}]
[null,"Cedar","23-36",23,36,29.5,{"$f":"F51/Constants!$F$13","v":796.50079650079647}]
[null,"Spruce","25-44",25,44,34.5,{"$f":"F52/Constants!$F$13","v":931.50093150093153}]
[null,"Oak","37-56",37,56,46.5,{"$f":"F53/Constants!$F$13","v":1255.5012555012554}]
[null,"Average",null,null,null,null,{"$f":"AVERAGE(G47:G53)","v":885.21517092945669}]
[null,"Source: MT Copeland. https://mtcopeland.com/blog/wood-density-explained-plus-wood-density-chart/"]
[]
[null,"Insulation Assumptions"]
[null,"Density (kg/m3)",12.03]
[null,"Thickness per RSI-value (mm)",35]
[null,"R value to RSI value",{"$f":"1/5.678","v":0.17611835153222966}]
[null,"Mass (kg/m2 with RSI=1)",0.42099999999999999]
[null,"Source: https://smartepd.com/epd-library/64133a6cceeabedac05df74d"]
[]
[null,"Type","Ceiling R-Value","Wall R-Value","Average R-Value","Average RSI Value","Thickness (m)","Thickness (in)"]
[null,"Residential",49,30,{"$f":"AVERAGE(C65:D65)","v":39.5},{"$f":"E65*C60","v":6.9566748855230713},{"$f":"($C$59/1000)*$F$65","v":0.24348362099330753},{"$f":"G65*Constants!$F$15","v":9.5859745068686166}]
[null,"Commercial",38,19.600000000000001,{"$f":"AVERAGE(C66:D66)","v":28.8},{"$f":"E66*C60","v":5.0722085241282144},{"$f":"($C$59/1000)*$F$66","v":0.17752729834448752},{"$f":"G66*Constants!$F$15","v":6.9892674885523087}]
[null,"Source: 2024 International Energy Conservation Code for Minnesota’s specific climate type (6a). https://codes.iccsafe.org/content/IECC2024P1/index "]
[]
["Transportation of Material Inputs"]
[]
[null,"Emission Factors"]
[]
[null,"Transportation of Material Inputs Emission Factors"]
[null,"Transportation Mode","Unit","Emission Factor",null,null,null,null,null,"Notes"]
[null,null,null,2025,2030,2035,2040,2045,2050]
[null,"Truck","kgCO2/ton-mile",8.2958716103466362E-2,7.4504984340853134E-2,6.9038067662351099E-2,6.8977866824154604E-2,6.8986266780123456E-2,6.1410034474597724E-2,"Combination Long-Haul Trucks, Diesel WTW"]
[null,null,"kgCH4/ton-mile",9.8232156491211134E-5,8.7759987426235881E-5,8.1400149609147363E-5,8.1328693434921617E-5,8.1355383051050849E-5,7.2424521730813374E-5]
[null,null,"kgN2O/ton-mile",1.1666180506234313E-5,1.1457825370732686E-5,1.1444818094577725E-5,1.1443222674972991E-5,1.1443264660890377E-5,1.1422641170920761E-5]
[null,null,"kgCO2e/ton-mile",{"$f":"D76+(D77*Constants!$I$7)+(D78*Constants!$I$8)","v":8.8800754319372371E-2},{"$f":"E76+(E77*Constants!$I$7)+(E78*Constants!$I$8)","v":7.9998587712031902E-2},{"$f":"F76+(F77*Constants!$I$7)+(F78*Constants!$I$8)","v":7.4350148646470327E-2},{"$f":"G76+(G77*Constants!$I$7)+(G78*Constants!$I$8)","v":7.4287524249200251E-2},{"$f":"H76+(H77*Constants!$I$7)+(H78*Constants!$I$8)","v":7.4296682640688838E-2},{"$f":"I76+(I77*Constants!$I$7)+(I78*Constants!$I$8)","v":6.6464920993354493E-2}]
[null,"Rail","kgCO2/ton-mile",2.5106599918738353E-2,2.4789594760699144E-2,2.4810969995227854E-2,2.4789288543319823E-2,2.4792306951099272E-2,2.4776691159991555E-2,"Diesel Freight Rail WTW"]
[null,null,"kgCH4/ton-mile",3.1419891265182762E-5,3.0883440908610812E-5,3.0919146474982852E-5,3.0893402900571816E-5,3.0903018390433543E-5,3.0860575560167295E-5]
[null,null,"kgN2O/ton-mile",6.5695914842143686E-7,6.500148718695803E-7,6.5078344651250582E-7,6.5020866338485674E-7,6.5022378968569979E-7,6.5021954276426299E-7]
[null,null,"kgCO2e/ton-mile",{"$f":"D80+(D81*Constants!$I$7)+(D82*Constants!$I$8)","v":2.616045104849515E-2},{"$f":"E80+(E81*Constants!$I$7)+(E82*Constants!$I$8)","v":2.5826585047185689E-2},{"$f":"F80+(F81*Constants!$I$7)+(F82*Constants!$I$8)","v":2.5849163709853188E-2},{"$f":"G80+(G81*Constants!$I$7)+(G82*Constants!$I$8)","v":2.5826609120332824E-2},{"$f":"H80+(H81*Constants!$I$7)+(H82*Constants!$I$8)","v":2.5829900770298123E-2},{"$f":"I80+(I81*Constants!$I$7)+(I82*Constants!$I$8)","v":2.5813095454508769E-2}]
[null,"Aircraft","kgCO2/ton-mile",0.98790767501926691,0.97635837612594201,0.97712212791340403,0.97633511145677709,0.97644467684037384,0.9758351076055104,"Freight Aircraft, Large Twin Aisle, Petroleum Conventional Jet, WTW"]
[null,null,"kgCH4/ton-mile",1.1439956684761244E-3,1.1244094713201507E-3,1.1257026741947785E-3,1.1247682064847826E-3,1.1251172397871555E-3,1.1234176461679189E-3]
[null,null,"kgN2O/ton-mile",3.9470231390986444E-6,3.6947947801374843E-6,3.7237504538513244E-6,3.7028863630897884E-6,3.7034354336844065E-6,3.7041132055774806E-6]
[null,null,"kgCO2e/ton-mile",{"$f":"D84+(D85*Constants!$I$7)+(D86*Constants!$I$8)","v":1.0209855148684595},{"$f":"E84+(E85*Constants!$I$7)+(E86*Constants!$I$8)","v":1.0088209619396427},{"$f":"F84+(F85*Constants!$I$7)+(F86*Constants!$I$8)","v":1.0096285966611285},{"$f":"G84+(G85*Constants!$I$7)+(G86*Constants!$I$8)","v":1.0088098861245698},{"$f":"H84+(H85*Constants!$I$7)+(H86*Constants!$I$8)","v":1.0089293699443407},{"$f":"I84+(I85*Constants!$I$7)+(I86*Constants!$I$8)","v":1.0082723916976901}]
[null,"Watercraft","kgCO2/ton-mile",2.0703455591087858E-2,2.0473667634122304E-2,2.0484968226249872E-2,2.046964614549724E-2,2.0471779226249272E-2,2.0454994513484218E-2,"Medium Speed Diesel engine type; Marine Diesel Oil (MDO) 0.5% Sulfur fuel used to cruise; Large Container; Foreign Travel in Atlantic Ocean. "]
[null,null,"kgCH4/ton-mile",2.328643865981632E-5,2.2899061510350275E-5,2.2920048694543936E-5,2.2901855949534947E-5,2.2908651126941069E-5,2.2869517432396674E-5]
[null,null,"kgN2O/ton-mile",1.0138516240453025E-6,1.0088050399716615E-6,1.0093611932200174E-6,1.0089549993205288E-6,1.0089656889368882E-6,1.0089673010207625E-6]
[null,null,"kgCO2e/ton-mile",{"$f":"D88+(D89*Constants!$I$7)+(D90*Constants!$I$8)","v":2.1624146553934718E-2},{"$f":"E88+(E89*Constants!$I$7)+(E90*Constants!$I$8)","v":2.13821746920046E-2},{"$f":"F88+(F89*Constants!$I$7)+(F90*Constants!$I$8)","v":2.1394210305900409E-2},{"$f":"G88+(G89*Constants!$I$7)+(G90*Constants!$I$8)","v":2.137827118690416E-2},{"$f":"H88+(H89*Constants!$I$7)+(H90*Constants!$I$8)","v":2.1380597365371897E-2},{"$f":"I88+(I89*Constants!$I$7)+(I90*Constants!$I$8)","v":2.1362717336361827E-2}]
[null,"Source: GREET1 2024"]
[null,"Note: GREET assumes HEFA from soybean oil as the default aviation fuel type, but the aircraft emission factors in the tool are for conventional petroleum jet fuel aircraft, as to best represent the current limited availability of biofuels in freight aviation, relative to petroleum jet fuel."]
[]
[null,"Mode Breakout"]
[]
[null,"Mode Breakout Assumptions by Material Type and Source"]
[null,"Material","Domestically Sourced",null,null,null,"Import"]
[null,null,"Truck/Freight","Air","Rail","Water","Truck","Air","Rail","Water"]
[null,"Aluminum",{"$f":"SUMIFS($X$154:$X$23350,$N$154:$N$23350,C$99,$I$154:$I$23350,$D$125)/SUMIFS($X$154:$X$23350,$I$154:$I$23350,$D$125)","v":0.94682163418537002},{"$f":"SUMIFS($X$154:$X$23350,$N$154:$N$23350,D$99,$I$154:$I$23350,$D$125)/SUMIFS($X$154:$X$23350,$I$154:$I$23350,$D$125)","v":3.913326349533993E-2},{"$f":"SUMIFS($X$154:$X$23350,$N$154:$N$23350,E$99,$I$154:$I$23350,$D$125)/SUMIFS($X$154:$X$23350,$I$154:$I$23350,$D$125)","v":1.4045102319290202E-2},{"$f":"SUMIFS($X$154:$X$23350,$N$154:$N$23350,F$99,$I$154:$I$23350,$D$125)/SUMIFS($X$154:$X$23350,$I$154:$I$23350,$D$125)","v":0},{"$f":"C100","v":0.94682163418537002},{"$f":"D100","v":3.913326349533993E-2},1.4045102319290202E-2,0]
[null,"Asphalt",1,0,0,0,"NA","NA","NA","NA"]
[null,"Brick",{"$f":"SUMIFS($X$154:$X$23350,$N$154:$N$23350,C$99,$I$154:$I$23350,$D$129)/SUMIFS($X$154:$X$23350,$I$154:$I$23350,$D$129)","v":0.98386085866237427},{"$f":"SUMIFS($X$154:$X$23350,$N$154:$N$23350,D$99,$I$154:$I$23350,$D$129)/SUMIFS($X$154:$X$23350,$I$154:$I$23350,$D$129)","v":0},{"$f":"SUMIFS($X$154:$X$23350,$N$154:$N$23350,E$99,$I$154:$I$23350,$D$129)/SUMIFS($X$154:$X$23350,$I$154:$I$23350,$D$129)","v":1.6139141337625649E-2},{"$f":"SUMIFS($X$154:$X$23350,$N$154:$N$23350,F$99,$I$154:$I$23350,$D$129)/SUMIFS($X$154:$X$23350,$I$154:$I$23350,$D$129)","v":0},{"$f":"(C102*$D$144)/$F$144","v":0.13722420839186003},{"$f":"(D102*$D$144)/$F$144","v":0},{"$f":"(E102*$D$144)/$F$144","v":2.2510102670321021E-3},{"$f":"E144/F144","v":0.86052478134110788}]
[null,"Concrete",1,0,0,0,"NA","NA","NA","NA"]
[null,"Glass",{"$f":"SUMIFS($X$154:$X$23350,$N$154:$N$23350,C$99,$I$154:$I$23350,$D$129)/SUMIFS($X$154:$X$23350,$I$154:$I$23350,$D$129)","v":0.98386085866237427},0,1.6139141337625649E-2,0,{"$f":"(C104*$D$146)/$F$146","v":0.24162168110065702},{"$f":"(D104*$D$146)/$F$146","v":0},{"$f":"(E104*$D$146)/$F$146","v":3.9635345050924586E-3},{"$f":"E146/F146","v":0.75441478439425047}]
[null,"Insulation",0.98386085866237427,0,1.6139141337625649E-2,0,{"$f":"C105","v":0.98386085866237427},{"$f":"D105","v":0},1.6139141337625649E-2,0]
[null,"Steel",{"$f":"SUMIFS($X$154:$X$23350,$N$154:$N$23350,C99,$I$154:$I$23350,$D$131)/SUMIFS($X$154:$X$23350,$I$154:$I$23350,$D$131)","v":0.97988748517370139},{"$f":"SUMIFS($X$154:$X$23350,$N$154:$N$23350,D99,$I$154:$I$23350,$D$131)/SUMIFS($X$154:$X$23350,$I$154:$I$23350,$D$131)","v":1.7927076250113902E-2},{"$f":"SUMIFS($X$154:$X$23350,$N$154:$N$23350,E99,$I$154:$I$23350,$D$131)/SUMIFS($X$154:$X$23350,$I$154:$I$23350,$D$131)","v":2.1854385761848876E-3},{"$f":"SUMIFS($X$154:$X$23350,$N$154:$N$23350,F99,$I$154:$I$23350,$D$131)/SUMIFS($X$154:$X$23350,$I$154:$I$23350,$D$131)","v":0},{"$f":"C106","v":0.97988748517370139},1.7927076250113902E-2,2.1854385761848876E-3,0]
[null,"Wood Products",{"$f":"SUMIFS($X$154:$X$23350,$N$154:$N$23350,C$99,$I$154:$I$23350,$D$132)/SUMIFS($X$154:$X$23350,$I$154:$I$23350,$D$132)","v":0.95579936929206422},{"$f":"SUMIFS($X$154:$X$23350,$N$154:$N$23350,D$99,$I$154:$I$23350,$D$132)/SUMIFS($X$154:$X$23350,$I$154:$I$23350,$D$132)","v":0},{"$f":"SUMIFS($X$154:$X$23350,$N$154:$N$23350,E$99,$I$154:$I$23350,$D$132)/SUMIFS($X$154:$X$23350,$I$154:$I$23350,$D$132)","v":4.4200630707935992E-2},{"$f":"SUMIFS($X$154:$X$23350,$N$154:$N$23350,F$99,$I$154:$I$23350,$D$132)/SUMIFS($X$154:$X$23350,$I$154:$I$23350,$D$132)","v":0},0.95579936929206422,0,4.4200630707935992E-2,0]
[]
[null,"Distance Traveled"]
[]
[null,"Distance Travelled by Mode and Geographic Source (miles)"]
[null,"Material","Domestically Sourced",null,null,null,"Import"]
[null,null,"Truck/Freight","Air","Rail","Water","Truck","Air","Rail","Water"]
[null,"Aluminum",{"$f":"C100*$C$125","v":574.8234837934308},{"$f":"D100*$C$125","v":23.758137797465604},{"$f":"E100*$C$125","v":8.5269013232422157},{"$f":"F100*$C$125","v":0},{"$f":"G100*$F$142","v":877.70365488983805},{"$f":"H100*$F$142","v":36.276535260180118},{"$f":"I100*$F$142","v":13.019809849982018},{"$f":"J100*$F$142","v":0}]
[null,"Asphalt",{"$f":"C101*$C$126","v":30},{"$f":"D101*$C$126","v":0},{"$f":"E101*$C$126","v":0},{"$f":"F101*$C$126","v":0},0,0,0,0]
[null,"Brick",{"$f":"C102*$C$127","v":192.43303028943404},{"$f":"D102*$C$127","v":0},{"$f":"E102*$C$127","v":3.1566494860779288},{"$f":"F102*$C$127","v":0},{"$f":"G102*$F$144","v":1176.6975869601997},{"$f":"H102*$F$144","v":0},{"$f":"I102*$F$144","v":19.302413039800275},{"$f":"J102*$F$144","v":7379}]
[null,"Concrete",{"$f":"C103*$C$128","v":30},{"$f":"D103*$C$128","v":0},0,0,0,0,0,0]
[null,"Glass",{"$f":"C104*$C$129","v":192.43303028943404},{"$f":"D104*$C$129","v":0},{"$f":"E104*$C$129","v":3.1566494860779288},{"$f":"F104*$C$129","v":0},{"$f":"G104*$F$146","v":1176.6975869601997},{"$f":"H104*$F$146","v":0},{"$f":"I104*$F$146","v":19.302413039800275},{"$f":"J104*$F$146","v":3674}]
[null,"Insulation",{"$f":"C105*$C$130","v":192.43303028943404},{"$f":"D105*$C$130","v":0},{"$f":"E105*$C$130","v":3.1566494860779288},{"$f":"F105*$C$130","v":0},{"$f":"G105*$F$147","v":912.03901598002096},{"$f":"H105*$F$147","v":0},{"$f":"I105*$F$147","v":14.960984019978977},{"$f":"J105*$F$147","v":0}]
[null,"Steel",{"$f":"C106*$C$131","v":460.96533181726284},{"$f":"D106*$C$131","v":8.4333770735751745},{"$f":"E106*$C$131","v":1.028088871100066},{"$f":"F106*$C$131","v":0},{"$f":"G106*$F$148","v":908.35569875602118},{"$f":"H106*$F$148","v":16.618399683855586},{"$f":"I106*$F$148","v":2.025901560123391},{"$f":"J106*$F$148","v":0}]
[null,"Wood Products",{"$f":"C107*$C$132","v":364.17119410053681},{"$f":"D107*$C$132","v":0},{"$f":"E107*$C$132","v":16.840978328776504},{"$f":"F107*$C$132","v":0},{"$f":"G107*$F$149","v":886.02601533374354},{"$f":"H107*$F$149","v":0},{"$f":"I107*$F$149","v":40.973984666256662},{"$f":"J107*$F$149","v":0}]
[]
[null,"Average Distance Traveled by Materials Sourced Domestically"]
[null,"Material","Miles Traveled","NAICS Code"]
[null,"Aluminum",{"$f":"IFERROR(SUMIFS($X$154:$X$23350,$I$154:$I$23350,D125)/SUMIFS($W$154:$W$23350,$I$154:$I$23350,D125),0)","v":607.10852291413858},331]
[null,"Asphalt",30,"NA"]
[null,"Brick",{"$f":"IFERROR(SUMIFS($X$154:$X$23350,$I$154:$I$23350,D127)/SUMIFS($W$154:$W$23350,$I$154:$I$23350,D127),0)","v":195.589679775512},327]
[null,"Concrete",{"$f":"B137*C137/60","v":30},"NA"]
[null,"Glass",{"$f":"IFERROR(SUMIFS($X$154:$X$23350,$I$154:$I$23350,D129)/SUMIFS($W$154:$W$23350,$I$154:$I$23350,D129),0)","v":195.589679775512},327]
[null,"Insulation",{"$f":"IFERROR(SUMIFS($X$154:$X$23350,$I$154:$I$23350,D130)/SUMIFS($W$154:$W$23350,$I$154:$I$23350,D130),0)","v":195.589679775512},327]
[null,"Steel",{"$f":"IFERROR(SUMIFS($X$154:$X$23350,$I$154:$I$23350,D131)/SUMIFS($W$154:$W$23350,$I$154:$I$23350,D131),0)","v":470.42679776193802},332]
[null,"Wood Products",{"$f":"IFERROR(SUMIFS($X$154:$X$23350,$I$154:$I$23350,D132)/SUMIFS($W$154:$W$23350,$I$154:$I$23350,D132),0)","v":381.01217242931324},321]
[null,"Note: Asphalt miles traveled is a conservative estimate based on industry constraints for Asphalt to be delivered within 30 miles of the paving site.  See: https://lutonmachinery.com/how-far-can-asphalt-be-transported/"]
[]
[null,"Concrete Assumptions"]
[null,"Minutes of Travel Time (min)","Average Speed (mph)"]
[null,45,40]
[null,"Note: Conservative estimate based on industry constraint for Ready Mix Concrete to be delivered within a 30-60 minute drive of the project site. This 30-mile distance assumes a 45-minute drive at an average speed of 40mph. "]
[]
[null,"Average Distance Traveled by Materials Imported"]
[null,"Material","Top Importing Country","Land Distance to MN","Non-Land Distance to Newark, NJ Port","Miles Traveled"]
[null,"Aluminum","Canada",927,"NA",{"$f":"IF(SUM(D142:E142)=0,\"NA\",SUM(D142:E142))","v":927}]
[null,"Asphalt","NA","NA","NA",{"$f":"IF(SUM(D143:E143)=0,\"NA\",SUM(D143:E143))","v":"NA"}]
[null,"Brick","China",1196,7379,{"$f":"IF(SUM(D144:E144)=0,\"NA\",SUM(D144:E144))","v":8575}]
[null,"Concrete","NA","NA","NA",{"$f":"IF(SUM(D145:E145)=0,\"NA\",SUM(D145:E145))","v":"NA"}]
[null,"Glass","Belgium",1196,3674,4870]
[null,"Insulation","Canada",927,"NA",{"$f":"IF(SUM(D147:E147)=0,\"NA\",SUM(D147:E147))","v":927}]
[null,"Steel","Canada",927,"NA",927]
[null,"Wood Products","Canada",927,"NA",927]
[null,"Note: If the top Import Country is in North America, the tool uses the land distance from the largest metro area to Minneapolis. If the top import country is outside of North America, the tool uses the non-land distance to Newark, NJ Port and then the land distance to Minneapolis from Newark, NJ."]
[]
[null,"2017 Census Commodity Flow Survey (CFS) Dataset"]
[null,"SHIPMT_ID","ORIG_STATE","ORIG_MA","ORIG_CFS_AREA","DEST_STATE","DEST_MA","DEST_CFS_AREA","NAICS","QUARTER","SCTG","MODE","Mode Type","Agg. Mode Type","SHIPMT_VALUE","SHIPMT_WGHT","SHIPMT_DIST_GC","SHIPMT_DIST_ROUTED","TEMP_CNTL_YN","EXPORT_YN","EXPORT_CNTRY","HAZMAT","WGT_FACTOR","WGT * SHIPMT_Distance (total miles)"]
[null,"0000020",17,176,"17-176",27,378,"27-378",332,"02",32,"04","For-hire truck","Truck/Freight",58828,25033,348,406,"N","N","N","N",99.8,{"$f":"W154*R154","v":40518.799999999996}]
[null,"0000126",27,378,"27-378",27,378,"27-378",334,"02",35,"05","Company-owned truck","Truck/Freight",479,3,12,16,"N","N","N","N",314.89999999999998,{"$f":"W155*R155","v":5038.3999999999996}]
[null,"0000140",27,99999,"27-99999",27,378,"27-378",311,"04","07","04","For-hire truck","Truck/Freight",6467,47353,79,109,"N","N","N","N",315.60000000000002,{"$f":"W156*R156","v":34400.400000000001}]
[null,"0000152",27,378,"27-378",27,378,"27-378",45431,"01",19,"05","Company-owned truck","Truck/Freight",1820,7280,10,15,"N","N","N","H",174.7,2620.5]
[null,"0000169",27,99999,"27-99999",27,99999,"27-99999",331,"02",35,14,"Parcel, USPS, or courier","Truck/Freight",504,4,83,113,"N","N","N","N",137.30000000000001,15514.900000000001]
[null,"0000170",17,176,"17-176",27,99999,"27-99999",4238,"02",40,14,"Parcel, USPS, or courier","Truck/Freight",884,2,294,382,"N","N","N","N",1974.4,754220.8]
[null,"0000179",27,99999,"27-99999",27,99999,"27-99999",322,"04",24,"04","For-hire truck","Truck/Freight",6,119,13,13,"N","N","N","N",880.1,11441.300000000001]
[null,"0000190",27,378,"27-378",27,99999,"27-99999",4244,"02","06","05","Company-owned truck","Truck/Freight",7006,7456,78,97,"N","N","N","N",357.9,34716.299999999996]
[null,"0000191",27,378,"27-378",27,378,"27-378",4236,"04",35,"04","For-hire truck","Truck/Freight",173,36,3,3,"N","N","N","N",1043.5,3130.5]
[null,"0000193",17,99999,"17-99999",27,99999,"27-99999",4244,"01",43,"04","For-hire truck","Truck/Freight",82645,27930,470,585,"N","N","N","N",532.5,311512.5]
[null,"0000226",27,378,"27-378",27,378,"27-378",332,"02",32,"05","Company-owned truck","Truck/Freight",152,21,29,50,"N","N","N","N",1359.2,67960]
[null,"0000307",55,376,"55-376",27,378,"27-378",322,"03",27,"04","For-hire truck","Truck/Freight",540,10804,255,291,"N","N","N","N",358.6,104352.6]
[null,"0000347",24,99999,"24-99999",27,378,"27-378",327,"04",31,"04","For-hire truck","Truck/Freight",1791,22267,877,1049,"N","N","N","N",33,34617]
[null,"0000424",27,99999,"27-99999",27,378,"27-378",5111,"01",29,14,"Parcel, USPS, or courier","Truck/Freight",2,1,110,122,"N","N","N","N",1034.3,126184.59999999999]
[null,"0000445",37,450,"37-450",27,378,"27-378",332,"01",33,"04","For-hire truck","Truck/Freight",1037,42,995,1218,"N","N","N","N",225.6,274780.79999999999]
[null,"0000536",27,99999,"27-99999",27,99999,"27-99999",331,"01",40,"05","Company-owned truck","Truck/Freight",519,154,14,14,"N","N","N","N",47.7,667.80000000000007]
[null,"0000564",42,99999,"42-99999",27,99999,"27-99999",333,"03",24,"04","For-hire truck","Truck/Freight",374,290,678,837,"N","N","N","N",199.2,166730.4]
[null,"0000587",55,99999,"55-99999",27,99999,"27-99999",212,"03",11,"06","Rail","Rail",3956,210358,315,472,"N","Y","C","N",318.60000000000002,150379.20000000001]
[null,"0000593",46,99999,"46-99999",27,99999,"27-99999",325,"01","04","04","For-hire truck","Truck/Freight",1857,64035,152,183,"N","N","N","N",74.099999999999994,13560.3]
[null,"0000636",27,378,"27-378",27,99999,"27-99999",4246,"02",24,"04","For-hire truck","Truck/Freight",4985,2541,105,141,"N","N","N","N",97.8,13789.8]
[null,"0000766",55,376,"55-376",27,99999,"27-99999",311,"03","05",14,"Parcel, USPS, or courier","Truck/Freight",22,5,199,232,"Y","N","N","N",146.4,33964.800000000003]
[null,"0000833",27,99999,"27-99999",27,99999,"27-99999",337,"02",39,"04","For-hire truck","Truck/Freight",5677,981,158,202,"N","N","N","N",80.099999999999994,16180.199999999999]
[null,"0000895",19,99999,"19-99999",27,99999,"27-99999",333,"01",40,14,"Parcel, USPS, or courier","Truck/Freight",444,5,53,67,"N","N","N","N",82,5494]
[null,"0000979",27,99999,"27-99999",27,99999,"27-99999",5111,"02",29,"05","Company-owned truck","Truck/Freight",2,2,5,7,"N","N","N","N",1604.5,11231.5]
[null,"0000991",27,99999,"27-99999",27,99999,"27-99999",326,"04",26,"05","Company-owned truck","Truck/Freight",1103,1016,190,258,"N","N","N","N",537.20000000000005,138597.6]
[null,"0001013",39,178,"39-178",27,378,"27-378",4242,"04",21,14,"Parcel, USPS, or courier","Truck/Freight",250,9,600,724,"Y","N","N","N",570.20000000000005,412824.80000000005]
[null,"0001021",19,99999,"19-99999",27,99999,"27-99999",332,"03",40,"05","Company-owned truck","Truck/Freight",109934,49058,18,20,"N","N","N","N",13.2,264]
[null,"0001035",27,99999,"27-99999",27,99999,"27-99999",4236,"04",35,"04","For-hire truck","Truck/Freight",91,12,13,13,"N","N","N","N",2147.1999999999998,27913.599999999999]
[null,"0001037","09",99999,"09-99999",27,99999,"27-99999",335,"04",35,"04","For-hire truck","Truck/Freight",1134,252,1179,1540,"N","N","N","N",95.3,146762]
[null,"0001092",27,378,"27-378",27,378,"27-378",324,"01",17,"04","For-hire truck","Truck/Freight",11890,54231,28,41,"N","N","N","P",6589.4,270165.39999999997]
[null,"0001115",34,428,"34-428",27,378,"27-378",4931,"04",40,"04","For-hire truck","Truck/Freight",388,21,1007,1198,"N","N","N","N",1076.8,1290006.3999999999]
[null,"0001144",27,378,"27-378",27,378,"27-378",4244,"03",43,"04","For-hire truck","Truck/Freight",1518,758,3,3,"N","N","N","N",2928.5,8785.5]
[null,"0001185",38,99999,"38-99999",27,99999,"27-99999",4244,"04","07","05","Company-owned truck","Truck/Freight",150,690,53,77,"N","N","N","N",3864.9,297597.3]
[null,"0001206",25,148,"25-148",27,378,"27-378",332,"01",40,14,"Parcel, USPS, or courier","Truck/Freight",9531,5,1125,1425,"N","N","N","N",235.1,335017.5]
[null,"0001213",42,99999,"42-99999",27,378,"27-378",333,"04",40,"04","For-hire truck","Truck/Freight",6491,330,908,1081,"N","N","N","N",146.19999999999999,158042.19999999998]
[null,"0001245",27,378,"27-378",27,378,"27-378",4233,"01",26,"05","Company-owned truck","Truck/Freight",424,66,4,4,"N","N","N","N",333.6,1334.4]
[null,"0001248",29,476,"29-476",27,378,"27-378",325,"04",23,"04","For-hire truck","Truck/Freight",98,29,469,557,"N","N","N","N",829.9,462254.3]
[null,"0001257",27,378,"27-378",27,99999,"27-99999",4237,"04",33,"05","Company-owned truck","Truck/Freight",123,203,53,58,"N","N","N","N",15347.6,890160.8]
[null,"0001267",27,378,"27-378",27,378,"27-378",332,"01",33,"04","For-hire truck","Truck/Freight",934,231,65,73,"N","N","N","N",133.19999999999999,9723.5999999999985]
[null,"0001294",27,378,"27-378",27,378,"27-378",4244,"03","05","05","Company-owned truck","Truck/Freight",521,53,11,16,"Y","N","N","N",888.1,14209.6]
[null,"0001327",27,378,"27-378",27,378,"27-378",4231,"03",36,14,"Parcel, USPS, or courier","Truck/Freight",140,27,3,3,"N","N","N","N",7866.1,23598.300000000003]
[null,"0001348",46,99999,"46-99999",27,378,"27-378",334,"01",35,14,"Parcel, USPS, or courier","Truck/Freight",1021,4,195,222,"N","N","N","N",159.80000000000001,35475.600000000006]
[null,"0001360",27,378,"27-378",27,378,"27-378",332,"03",33,"04","For-hire truck","Truck/Freight",28,3,6,8,"N","N","N","N",130,1040]
[null,"0001364",27,378,"27-378",27,378,"27-378",551114,"01",34,"04","For-hire truck","Truck/Freight",535,91,25,35,"N","N","N","N",426.9,14941.5]
[null,"0001484",55,376,"55-376",27,378,"27-378",4244,"03",43,"05","Company-owned truck","Truck/Freight",15587,9849,306,358,"Y","N","N","N",1392.5,498515]
[null,"0001490",31,99999,"31-99999",27,378,"27-378",4931,"04",40,14,"Parcel, USPS, or courier","Truck/Freight",1565,48,550,797,"N","N","N","N",3475,2769575]
[null,"0001551",48,206,"48-206",27,99999,"27-99999",4238,"01",33,14,"Parcel, USPS, or courier","Truck/Freight",778,3,1025,1142,"N","N","N","N",9703.6,11081511.200000001]
[null,"0001563",27,378,"27-378",27,378,"27-378",4234,"01",20,14,"Parcel, USPS, or courier","Truck/Freight",124,7,79,93,"N","N","N","N",4397.3,408948.9]
[null,"0001589",27,378,"27-378",27,378,"27-378",322,"04",24,"04","For-hire truck","Truck/Freight",11074,1343,9,13,"N","N","N","N",170.9,2221.7000000000003]
[null,"0001600",47,99999,"47-99999",27,378,"27-378",325,"03",24,"04","For-hire truck","Truck/Freight",8006,7901,688,788,"N","N","N","N",229.8,181082.40000000002]
[null,"0001605",18,176,"18-176",27,378,"27-378",333,"03",30,"04","For-hire truck","Truck/Freight",10143,3294,388,470,"N","N","N","N",205.3,96491]
[null,"0001618",27,378,"27-378",27,378,"27-378",4931,"02","06","04","For-hire truck","Truck/Freight",740,39961,19,24,"N","N","N","N",85.1,2042.3999999999999]
[null,"0001682",27,378,"27-378",27,378,"27-378",334,"02",35,14,"Parcel, USPS, or courier","Truck/Freight",1856,7,25,36,"N","N","N","N",314.89999999999998,11336.4]
[null,"0001783",13,122,"13-122",27,378,"27-378",333,"02",34,14,"Parcel, USPS, or courier","Truck/Freight",13,1,889,1150,"N","N","N","N",1261.7,1450955]
[null,"0001823",26,99999,"26-99999",27,378,"27-378",333,"03",34,"04","For-hire truck","Truck/Freight",576,79,418,663,"N","N","N","N",204.8,135782.39999999999]
[null,"0001889",42,428,"42-428",27,378,"27-378",325,"02",24,"04","For-hire truck","Truck/Freight",102978,47238,975,1195,"N","N","N","N",61.2,73134]
[null,"0001915",13,122,"13-122",27,99999,"27-99999",4243,"02",30,14,"Parcel, USPS, or courier","Truck/Freight",282,12,823,1002,"N","N","N","N",1074.9000000000001,1077049.8]
[null,"0001992",17,176,"17-176",27,378,"27-378",4931,"02",30,"04","For-hire truck","Truck/Freight",381360,22271,347,424,"N","N","N","N",75.3,31927.199999999997]
[null,"0002021",48,41700,"48-41700",27,378,"27-378",335,"01",38,"04","For-hire truck","Truck/Freight",6843,498,1114,1225,"N","N","N","N",81.400000000000006,99715]
[null,"0002025",42,99999,"42-99999",27,378,"27-378",4232,"04",30,14,"Parcel, USPS, or courier","Truck/Freight",55,6,920,1133,"N","N","N","N",105.9,119984.70000000001]
[null,"0002039",27,378,"27-378",27,378,"27-378",334,"03",38,11,"Air (incl truck & air)","Air",81075,68,22,370,"N","Y","E","N",49.4,18278]
[null,"0002146",38,99999,"38-99999",27,378,"27-378",4541,"02",21,"04","For-hire truck","Truck/Freight",32125,379,206,226,"N","N","N","N",486.9,110039.4]
[null,"0002161",38,99999,"38-99999",27,99999,"27-99999",45431,"01",17,"05","Company-owned truck","Truck/Freight",42,108,65,67,"N","N","N","P",80.099999999999994,5366.7]
[null,"0002162",27,378,"27-378",27,378,"27-378",4248,"03","08","05","Company-owned truck","Truck/Freight",49,56,15,20,"N","N","N","N",901.6,18032]
[null,"0002212",27,99999,"27-99999",27,378,"27-378",326,"01",40,"05","Company-owned truck","Truck/Freight",104565,40719,144,172,"N","N","N","N",84.7,14568.4]
[null,"0002282",39,184,"39-184",27,378,"27-378",311,"02","07","04","For-hire truck","Truck/Freight",29103,18284,674,808,"Y","N","N","N",37.4,{"$f":"W219*R219","v":30219.199999999997}]
[null,"0002333",27,99999,"27-99999",27,99999,"27-99999",311,"02","04","05","Company-owned truck","Truck/Freight",1024,9334,79,116,"N","N","N","N",126.6,14685.599999999999]
[null,"0002444",27,378,"27-378",27,378,"27-378",4244,"03","03","05","Company-owned truck","Truck/Freight",131,17,6,10,"Y","N","N","N",2624.6,26246]
[null,"0002469",55,376,"55-376",27,378,"27-378",336,"01",35,"04","For-hire truck","Truck/Freight",187,5,308,360,"N","N","N","N",290,104400]
[null,"0002527",29,312,"29-312",27,378,"27-378",325,"02",23,"04","For-hire truck","Truck/Freight",168,9,410,435,"N","N","N","N",170,73950]
[null,"0002574",51,47900,"51-47900",27,378,"27-378",4238,"01",24,14,"Parcel, USPS, or courier","Truck/Freight",20,1,944,1180,"N","N","N","N",638.9,753902]
[null,"0002624","05",99999,"05-99999",27,378,"27-378",323,"01",29,14,"Parcel, USPS, or courier","Truck/Freight",8,3,655,719,"N","N","N","N",199.2,143224.79999999999]
[null,"0002723","06",348,"06-348",27,378,"27-378",4231,"03",35,14,"Parcel, USPS, or courier","Truck/Freight",20,5,1522,1914,"N","N","N","N",32160.5,61555197]
[null,"0002779",27,378,"27-378",27,378,"27-378",312,"03","07","05","Company-owned truck","Truck/Freight",424,929,28,40,"N","N","N","N",836.4,33456]
[null,"0002819",17,99999,"17-99999",27,378,"27-378",323,"04",29,"04","For-hire truck","Truck/Freight",113392,24891,311,377,"N","N","N","N",66.3,24995.1]
[null,"0002876",27,378,"27-378",27,378,"27-378",4238,"04",33,14,"Parcel, USPS, or courier","Truck/Freight",344,1,3,3,"N","N","N","N",3878.1,11634.3]
[null,"0002892",27,99999,"27-99999",27,99999,"27-99999",4247,"02",18,"05","Company-owned truck","Truck/Freight",216,110,9,9,"N","N","N","P",1113.7,10023.300000000001]
[null,"0002924",27,99999,"27-99999",27,99999,"27-99999",4236,"03",24,"04","For-hire truck","Truck/Freight",13653,1919,231,302,"N","N","N","N",158.30000000000001,47806.600000000006]
[null,"0002964","08",216,"08-216",27,378,"27-378",337,"03",40,14,"Parcel, USPS, or courier","Truck/Freight",168,15,694,920,"N","N","N","N",187.2,172224]
[null,"0002971",38,99999,"38-99999",27,378,"27-378",311,"01","04","04","For-hire truck","Truck/Freight",6308,53706,203,229,"N","N","N","N",120.2,27525.8]
[null,"0003021","09",408,"09-408",27,99999,"27-99999",4237,"04",33,14,"Parcel, USPS, or courier","Truck/Freight",110,5,1064,1267,"N","N","N","N",853.5,1081384.5]
[null,"0003198",27,99999,"27-99999",27,99999,"27-99999",325,"03",17,"04","For-hire truck","Truck/Freight",9526,46278,10,10,"N","N","N","P",88.7,887]
[null,"0003233",27,378,"27-378",27,99999,"27-99999",311,"01","04","04","For-hire truck","Truck/Freight",25169,39734,130,139,"N","N","N","N",36.1,5017.9000000000005]
[null,"0003318",17,99999,"17-99999",27,378,"27-378",327,"01",31,"04","For-hire truck","Truck/Freight",11232,19973,448,552,"N","N","N","N",109.2,60278.400000000001]
[null,"0003347",53,500,"53-500",27,99999,"27-99999",334,"04",38,14,"Parcel, USPS, or courier","Truck/Freight",3976,23,1444,1747,"N","N","N","N",432.9,756276.29999999993]
[null,"0003554",27,99999,"27-99999",27,99999,"27-99999",4238,"02",36,"05","Company-owned truck","Truck/Freight",189255,22530,8,12,"N","N","N","N",33.1,397.20000000000005]
[null,"0003583",27,378,"27-378",27,378,"27-378",4244,"04",43,"05","Company-owned truck","Truck/Freight",82,47,15,19,"Y","N","N","N",836.9,15901.1]
[null,"0003639",27,99999,"27-99999",27,99999,"27-99999",4237,"02",43,"04","For-hire truck","Truck/Freight",159,110,8,10,"N","N","N","N",1462.5,14625]
[null,"0003653",27,378,"27-378",27,378,"27-378",326,"04",24,14,"Parcel, USPS, or courier","Truck/Freight",1648,165,14,17,"N","N","N","N",105.2,1788.4]
[null,"0003714",55,99999,"55-99999",27,99999,"27-99999",311,"01","07","04","For-hire truck","Truck/Freight",11537,6593,289,335,"Y","N","N","N",140.30000000000001,47000.500000000007]
[null,"0003812",55,99999,"55-99999",27,378,"27-378",4931,"01",11,"04","For-hire truck","Truck/Freight",46983,21326,236,278,"N","N","N","N",71.900000000000006,19988.2]
[null,"0004077",27,378,"27-378",27,378,"27-378",4236,"04",35,14,"Parcel, USPS, or courier","Truck/Freight",202,18,22,29,"N","N","N","N",1611.2,46724.800000000003]
[null,"0004186",27,99999,"27-99999",27,99999,"27-99999",551114,"03",33,"05","Company-owned truck","Truck/Freight",489,451,13,13,"N","N","N","N",904.1,11753.300000000001]
[null,"0004263",26,99999,"26-99999",27,378,"27-378",333,"03",36,"04","For-hire truck","Truck/Freight",156,11,378,625,"N","N","N","N",82.7,51687.5]
[null,"0004319",27,378,"27-378",27,99999,"27-99999",4231,"04",34,14,"Parcel, USPS, or courier","Truck/Freight",413,14,147,169,"N","N","N","N",496.5,83908.5]
[null,"0004326",44,148,"44-148",27,99999,"27-99999",4239,"03",40,14,"Parcel, USPS, or courier","Truck/Freight",31,4,1282,1675,"N","N","N","N",11118.6,18623655]
[null,"0004377",55,99999,"55-99999",27,99999,"27-99999",339,"03",40,"05","Company-owned truck","Truck/Freight",534,297,331,396,"N","N","N","N",422,167112]
[null,"0004439",22,12940,"22-12940",27,99999,"27-99999",325,"03",20,"04","For-hire truck","Truck/Freight",4575,1082,1068,1337,"N","N","N","H",20.9,27943.3]
[null,"0004444",55,99999,"55-99999",27,378,"27-378",332,"04",34,"04","For-hire truck","Truck/Freight",6965,2197,28,54,"N","N","N","N",109.9,5934.6]
[null,"0004531",27,378,"27-378",27,378,"27-378",4234,"01",20,14,"Parcel, USPS, or courier","Truck/Freight",613,24,13,18,"N","N","N","N",30033.4,540601.20000000007]
[null,"0004561",38,99999,"38-99999",27,99999,"27-99999",4238,"02",36,14,"Parcel, USPS, or courier","Truck/Freight",539,16,71,77,"N","N","N","N",51653.7,3977334.9]
[null,"0004685",55,99999,"55-99999",27,99999,"27-99999",323,"01",29,"04","For-hire truck","Truck/Freight",3360,9,282,337,"N","N","N","N",309.39999999999998,104267.79999999999]
[null,"0004859",27,99999,"27-99999",27,378,"27-378",4238,"03",34,"05","Company-owned truck","Truck/Freight",185,9,17,17,"N","N","N","N",2073.4,35247.800000000003]
[null,"0004914",27,378,"27-378",27,378,"27-378",4244,"03",43,"04","For-hire truck","Truck/Freight",730,365,3,3,"N","N","N","N",2901.9,8705.7000000000007]
[null,"0004932",27,378,"27-378",27,378,"27-378",4231,"01",31,"05","Company-owned truck","Truck/Freight",343,166,19,25,"N","N","N","N",11669.2,291730]
[null,"0004951",27,378,"27-378",27,378,"27-378",4244,"04",43,"04","For-hire truck","Truck/Freight",783,391,3,3,"N","N","N","N",2871.9,8615.7000000000007]
[null,"0005260",55,99999,"55-99999",27,378,"27-378",4244,"04","03","05","Company-owned truck","Truck/Freight",3275,3727,66,73,"Y","N","N","N",343.2,25053.599999999999]
[null,"0005358",27,99999,"27-99999",27,99999,"27-99999",4239,"03",32,"05","Company-owned truck","Truck/Freight",3587,34942,14,14,"N","N","N","N",68.3,956.19999999999993]
[null,"0005393",29,476,"29-476",27,99999,"27-99999",333,"01",40,14,"Parcel, USPS, or courier","Truck/Freight",799,88,368,450,"N","N","N","N",503.4,226530]
[null,"0005492",47,400,"47-400",27,378,"27-378",333,"01",38,14,"Parcel, USPS, or courier","Truck/Freight",231,8,714,903,"N","N","N","N",124.9,112784.70000000001]
[null,"0005493",27,99999,"27-99999",27,99999,"27-99999",4931,"03",43,"04","For-hire truck","Truck/Freight",32954,38447,14,14,"N","N","N","N",13.9,194.6]
[null,"0005505",27,378,"27-378",27,378,"27-378",4236,"03",35,"04","For-hire truck","Truck/Freight",1,1,20,27,"N","N","N","N",3339.7,90171.9]
[null,"0005583",51,40060,"51-40060",27,99999,"27-99999",4249,"03","09",14,"Parcel, USPS, or courier","Truck/Freight",1200,48,1151,1476,"N","N","N","N",16.7,24649.200000000001]
[null,"0005606",12,422,"12-422",27,378,"27-378",4234,"04",23,14,"Parcel, USPS, or courier","Truck/Freight",346,48,1310,1585,"N","N","N","N",761.4,1206819]
[null,"0005641",27,378,"27-378",27,378,"27-378",45431,"01",19,"05","Company-owned truck","Truck/Freight",429,341,20,20,"N","N","N","H",346.1,6922]
[null,"0005645",27,378,"27-378",27,99999,"27-99999",4231,"03",19,"04","For-hire truck","Truck/Freight",6649,45852,107,131,"Y","N","N","P",439.4,57561.399999999994]
[null,"0005658",27,99999,"27-99999",27,378,"27-378",4249,"01","09",14,"Parcel, USPS, or courier","Truck/Freight",16,1,67,83,"N","N","N","N",2129.4,176740.2]
[null,"0005672",17,176,"17-176",27,378,"27-378",4237,"03",24,14,"Parcel, USPS, or courier","Truck/Freight",3,1,341,411,"N","N","N","N",1267.2,520819.20000000001]
[null,"0005680",27,99999,"27-99999",27,99999,"27-99999",4244,"03",43,"05","Company-owned truck","Truck/Freight",1560,1726,185,223,"Y","N","N","N",453,101019]
[null,"0005751",29,99999,"29-99999",27,99999,"27-99999",4239,"02",40,14,"Parcel, USPS, or courier","Truck/Freight",23,1,359,472,"N","N","N","N",4144.8999999999996,1956392.7999999998]
[null,"0005795",27,378,"27-378",27,378,"27-378",4247,"04",19,"04","For-hire truck","Truck/Freight",1538,9322,4,5,"Y","N","N","P",228.7,1143.5]
[null,"0005854",27,99999,"27-99999",27,99999,"27-99999",4236,"03",35,"04","For-hire truck","Truck/Freight",3,1,18,18,"N","N","N","N",21749.3,391487.39999999997]
[null,"0005882",38,99999,"38-99999",27,378,"27-378",311,"03","04","04","For-hire truck","Truck/Freight",5409,55230,110,127,"N","N","N","N",120.5,15303.5]
[null,"0005890",55,99999,"55-99999",27,378,"27-378",212,"02",12,"04","For-hire truck","Truck/Freight",946,42284,58,80,"N","N","N","N",1229.5999999999999,98368]
[null,"0005954",27,378,"27-378",27,378,"27-378",323,"01",29,"04","For-hire truck","Truck/Freight",4544,35526,52,61,"N","N","N","N",324.10000000000002,19770.100000000002]
[null,"0005999",27,378,"27-378",27,378,"27-378",4241,"02",24,"05","Company-owned truck","Truck/Freight",771,636,13,19,"N","N","N","N",1058.8,20117.2]
[null,"0006047",27,378,"27-378",27,378,"27-378",323,"03",29,14,"Parcel, USPS, or courier","Truck/Freight",289,2,11,17,"N","N","N","N",1414.5,24046.5]
[null,"0006104",53,500,"53-500",27,99999,"27-99999",332,"03",33,14,"Parcel, USPS, or courier","Truck/Freight",523,4,1310,1565,"N","N","N","N",672.4,1052306]
[null,"0006123",42,428,"42-428",27,378,"27-378",323,"01",29,"04","For-hire truck","Truck/Freight",902,1934,989,1194,"N","N","N","N",305.3,364528.2]
[null,"0006129",27,378,"27-378",27,99999,"27-99999",212,"02",12,"05","Company-owned truck","Truck/Freight",36,39081,34,47,"N","N","N","N",932.2,{"$f":"W283*R283","v":43813.4}]
[null,"0006182",27,378,"27-378",27,378,"27-378",4246,"02",23,"05","Company-owned truck","Truck/Freight",3792,50174,15,22,"N","N","N","H",637.9,14033.8]
[null,"0006312",27,378,"27-378",27,378,"27-378",336,"01",37,"05","Company-owned truck","Truck/Freight",1299,30,11,13,"N","N","N","N",106.3,1381.8999999999999]
[null,"0006371",55,99999,"55-99999",27,99999,"27-99999",4541,"04",33,"04","For-hire truck","Truck/Freight",273,165,167,219,"N","N","N","N",4681.3,1025204.7000000001]
[null,"0006388",27,99999,"27-99999",27,99999,"27-99999",331,"01",32,"05","Company-owned truck","Truck/Freight",255,142,43,47,"N","N","N","N",182.5,8577.5]
[null,"0006392",27,99999,"27-99999",27,378,"27-378",326,"01",24,"04","For-hire truck","Truck/Freight",8308,5781,101,109,"N","N","N","N",129.5,14115.5]
[null,"0006468",27,99999,"27-99999",27,99999,"27-99999",4244,"04","07","05","Company-owned truck","Truck/Freight",1939,241,4,6,"N","N","N","N",1045.2,6271.2000000000007]
[null,"0006517",27,99999,"27-99999",27,99999,"27-99999",4245,"01","03","05","Company-owned truck","Truck/Freight",8548,53504,34,35,"N","N","N","N",59.2,2072]
[null,"0006545",20,99999,"20-99999",27,378,"27-378",336,"01",35,14,"Parcel, USPS, or courier","Truck/Freight",147,3,534,660,"N","N","N","N",46.2,30492.000000000004]
[null,"0006562",27,378,"27-378",27,378,"27-378",4238,"03",34,14,"Parcel, USPS, or courier","Truck/Freight",18,2,6,8,"N","N","N","N",3698.9,29591.200000000001]
[null,"0006656",42,428,"42-428",27,378,"27-378",332,"04",32,"04","For-hire truck","Truck/Freight",3524,1419,980,1182,"N","N","N","N",106.6,126001.2]
[null,"0006683",27,378,"27-378",27,378,"27-378",4233,"01",24,"05","Company-owned truck","Truck/Freight",426,58,4,4,"N","N","N","N",227.8,911.2]
[null,"0006980",22,406,"22-406",27,378,"27-378",311,"01","07","04","For-hire truck","Truck/Freight",15835,38323,1047,1195,"N","N","N","N",239.7,286441.5]
[null,"0007002",27,99999,"27-99999",27,99999,"27-99999",4241,"01",43,"05","Company-owned truck","Truck/Freight",44,1,12,17,"N","N","N","N",753.3,12806.099999999999]
[null,"0007019","06",472,"06-472",27,378,"27-378",337,"03",30,14,"Parcel, USPS, or courier","Truck/Freight",57,7,1521,1973,"N","N","N","N",75.8,149553.4]
[null,"0007035",13,99999,"13-99999",27,99999,"27-99999",311,"01",43,"04","For-hire truck","Truck/Freight",64677,36243,970,1179,"N","N","N","N",68.2,80407.8]
[null,"0007044",27,99999,"27-99999",27,378,"27-378",4231,"04",34,"05","Company-owned truck","Truck/Freight",225,248,64,73,"N","N","N","N",2134.1999999999998,155796.59999999998]
[null,"0007079",27,378,"27-378",27,378,"27-378",339,"01",38,"05","Company-owned truck","Truck/Freight",180,1,7,10,"N","N","N","N",888.8,8888]
[null,"0007090",27,378,"27-378",27,378,"27-378",45431,"02",19,"05","Company-owned truck","Truck/Freight",60,184,12,14,"N","N","N","H",994,13916]
[null,"0007092",27,99999,"27-99999",27,99999,"27-99999",311,"03","04","05","Company-owned truck","Truck/Freight",562,5284,79,104,"N","N","N","N",127,13208]
[null,"0007204",47,400,"47-400",27,378,"27-378",4239,"01",40,14,"Parcel, USPS, or courier","Truck/Freight",2425,18,708,878,"N","N","N","N",95,83410]
[null,"0007262",19,99999,"19-99999",27,378,"27-378",4244,"03",43,"05","Company-owned truck","Truck/Freight",1203,962,248,264,"Y","N","N","N",424.1,111962.40000000001]
[null,"0007263",27,99999,"27-99999",27,99999,"27-99999",336,"02",37,14,"Parcel, USPS, or courier","Truck/Freight",66,20,12,12,"N","N","N","N",1298.8,15585.599999999999]
[null,"0007267",27,99999,"27-99999",27,99999,"27-99999",321,"02",26,"04","For-hire truck","Truck/Freight",1198,53257,103,113,"N","N","N","N",126.6,14305.8]
[null,"0007363",27,378,"27-378",27,99999,"27-99999",45431,"02",19,"05","Company-owned truck","Truck/Freight",248,992,9,10,"N","N","N","H",161.6,1616]
[null,"0007398","08",216,"08-216",27,378,"27-378",4541,"02",23,"04","For-hire truck","Truck/Freight",268,38,683,914,"N","N","N","N",1436.3,1312778.2]
[null,"0007430",27,99999,"27-99999",27,99999,"27-99999",325,"02","04","04","For-hire truck","Truck/Freight",2062,47342,11,11,"N","N","N","N",95.3,1048.3]
[null,"0007432",27,378,"27-378",27,99999,"27-99999",4231,"02",24,"05","Company-owned truck","Truck/Freight",285,90,155,179,"N","N","N","N",2411.8000000000002,431712.2]
[null,"0007448",27,378,"27-378",27,99999,"27-99999",4236,"02",43,14,"Parcel, USPS, or courier","Truck/Freight",70,2,152,168,"N","N","N","N",1707.4,286843.2]
[null,"0007569",20,99999,"20-99999",27,99999,"27-99999",333,"02",34,"04","For-hire truck","Truck/Freight",68965,27955,480,587,"N","N","N","N",69.8,40972.6]
[null,"0007570",27,378,"27-378",27,378,"27-378",4249,"02",23,"04","For-hire truck","Truck/Freight",38,27,6,6,"N","N","N","N",2254.6,13527.599999999999]
[null,"0007625",27,378,"27-378",27,378,"27-378",4247,"02",18,"05","Company-owned truck","Truck/Freight",1823,7900,22,25,"N","N","N","P",1273.0999999999999,31827.499999999996]
[null,"0007653",27,99999,"27-99999",27,99999,"27-99999",311,"01","04","05","Company-owned truck","Truck/Freight",4669,42763,15,19,"N","N","N","N",138.4,2629.6]
[null,"0007667",27,378,"27-378",27,99999,"27-99999",4238,"03",35,14,"Parcel, USPS, or courier","Truck/Freight",1373,7,43,47,"N","N","N","N",3875.9,182167.30000000002]
[null,"0007706",27,99999,"27-99999",27,99999,"27-99999",311,"04","05","04","For-hire truck","Truck/Freight",26068,26655,46,54,"Y","N","N","N",68.599999999999994,3704.3999999999996]
[null,"0007744",32,99999,"32-99999",27,378,"27-378",327,"01",13,"04","For-hire truck","Truck/Freight",11271,46124,1342,1756,"N","N","N","N",41.4,72698.399999999994]
[null,"0007784",47,368,"47-368",27,99999,"27-99999",4231,"01",36,"04","For-hire truck","Truck/Freight",8071,14,663,799,"N","N","N","N",24110.9,19264609.100000001]
[null,"0007814",27,378,"27-378",27,378,"27-378",323,"03",29,"05","Company-owned truck","Truck/Freight",2408,271,19,25,"N","N","N","N",90.5,2262.5]
[null,"0007948",13,99999,"13-99999",27,378,"27-378",4236,"02",35,"04","For-hire truck","Truck/Freight",27,2,973,1232,"N","N","N","H",177,218064]
[null,"0007969",27,99999,"27-99999",27,99999,"27-99999",4232,"03",43,"05","Company-owned truck","Truck/Freight",198,32,214,278,"N","N","N","N",1730.6,481106.8]
[null,"0008007",38,99999,"38-99999",27,99999,"27-99999",4245,"02","07","05","Company-owned truck","Truck/Freight",10455,59466,78,81,"N","N","N","N",114.2,9250.2000000000007]
[null,"0008008",27,378,"27-378",27,378,"27-378",323,"04",29,14,"Parcel, USPS, or courier","Truck/Freight",1826,4,17,22,"N","N","N","N",998.4,21964.799999999999]
[null,"0008079",27,99999,"27-99999",27,378,"27-378",325,"03",17,"04","For-hire truck","Truck/Freight",12646,57258,80,88,"N","N","N","P",128,11264]
[null,"0008109",27,99999,"27-99999",27,99999,"27-99999",325,"04",17,"04","For-hire truck","Truck/Freight",8990,48517,267,327,"N","N","N","P",153.69999999999999,50259.899999999994]
[null,"0008116",27,99999,"27-99999",27,99999,"27-99999",332,"02",32,"04","For-hire truck","Truck/Freight",684,1977,14,14,"N","N","N","H",1065.0999999999999,14911.399999999998]
[null,"0008142",27,378,"27-378",27,99999,"27-99999",4248,"01","08","05","Company-owned truck","Truck/Freight",23,8,126,140,"N","N","N","N",566.4,79296]
[null,"0008204",48,99999,"48-99999",27,378,"27-378",323,"02",40,"04","For-hire truck","Truck/Freight",6290,789,1028,1293,"N","N","N","N",256.89999999999998,332171.69999999995]
[null,"0008205",27,378,"27-378",27,378,"27-378",4231,"01",36,"05","Company-owned truck","Truck/Freight",27,4,7,9,"N","N","N","N",5564.5,50080.5]
[null,"0008300",27,99999,"27-99999",27,99999,"27-99999",321,"03",26,"04","For-hire truck","Truck/Freight",1440,64325,35,37,"N","Y","C","N",186.1,6885.7]
[null,"0008314",19,99999,"19-99999",27,378,"27-378",325,"04","04","04","For-hire truck","Truck/Freight",2538,47889,196,235,"N","N","N","N",263.8,61993]
[null,"0008321",27,99999,"27-99999",27,99999,"27-99999",4245,"04","03","04","For-hire truck","Truck/Freight",9038,58948,23,30,"Y","N","N","N",299.7,8991]
[null,"0008334",27,378,"27-378",27,378,"27-378",4248,"02","08","05","Company-owned truck","Truck/Freight",216,334,18,25,"N","N","N","N",1534.1,38352.5]
[null,"0008438",49,99999,"49-99999",27,99999,"27-99999",5111,"03",29,14,"Parcel, USPS, or courier","Truck/Freight",412,26,934,1385,"N","N","N","N",136.5,189052.5]
[null,"0008491",27,99999,"27-99999",27,99999,"27-99999",4241,"02",43,"05","Company-owned truck","Truck/Freight",32,3,18,18,"N","N","N","N",4652,83736]
[null,"0008527",29,312,"29-312",27,378,"27-378",339,"01",40,14,"Parcel, USPS, or courier","Truck/Freight",351,1,408,442,"N","N","N","N",355.4,157086.79999999999]
[null,"0008554",27,99999,"27-99999",27,99999,"27-99999",4247,"02",18,"05","Company-owned truck","Truck/Freight",536,275,9,10,"N","N","N","P",1114.9000000000001,11149]
[null,"0008592",27,378,"27-378",27,378,"27-378",4238,"03",35,11,"Air (incl truck & air)","Air",1208,9,10,350,"N","Y","A","N",90.4,31640.000000000004]
[null,"0008671",22,99999,"22-99999",27,99999,"27-99999",4232,"04",31,14,"Parcel, USPS, or courier","Truck/Freight",119,27,876,1067,"N","N","N","N",144.80000000000001,154501.6]
[null,"0008800",27,99999,"27-99999",27,99999,"27-99999",4236,"03",35,"04","For-hire truck","Truck/Freight",69,1,13,13,"N","N","N","N",5394.5,70128.5]
[null,"0008872",27,378,"27-378",27,378,"27-378",4236,"04",35,14,"Parcel, USPS, or courier","Truck/Freight",945,46,11,16,"N","N","N","N",1629.9,26078.400000000001]
[null,"0008881",40,416,"40-416",27,378,"27-378",314,"01",30,"04","For-hire truck","Truck/Freight",14975,225,701,801,"N","N","N","N",89.8,71929.8]
[null,"0008920",55,376,"55-376",27,378,"27-378",311,"01","07",14,"Parcel, USPS, or courier","Truck/Freight",42,45,263,308,"N","N","N","N",88.4,27227.200000000001]
[null,"0008921",27,378,"27-378",27,378,"27-378",4231,"01",36,"04","For-hire truck","Truck/Freight",142,26,4,4,"N","N","N","N",1615.8,6463.2]
[null,"0008955",41,99999,"41-99999",27,378,"27-378",332,"04",40,"04","For-hire truck","Truck/Freight",18562,1663,1369,1747,"N","N","N","H",164,286508]
[null,"0008966",38,99999,"38-99999",27,378,"27-378",4239,"01",41,"04","For-hire truck","Truck/Freight",4561,51345,380,420,"N","N","N","N",34.1,{"$f":"W347*R347","v":14322}]
[null,"0009143",27,99999,"27-99999",27,378,"27-378",333,"04",34,14,"Parcel, USPS, or courier","Truck/Freight",137,5,67,77,"N","N","N","N",298.10000000000002,22953.7]
[null,"0009258","06",348,"06-348",27,378,"27-378",327,"01",40,"04","For-hire truck","Truck/Freight",382,80,1519,1949,"N","N","N","N",534,1040766]
[null,"0009297",27,378,"27-378",27,378,"27-378",339,"03",38,14,"Parcel, USPS, or courier","Truck/Freight",3924,18,9,17,"N","N","N","N",96.1,1633.6999999999998]
[null,"0009301",55,99999,"55-99999",27,378,"27-378",327,"02",31,"04","For-hire truck","Truck/Freight",8533,24173,43,54,"N","N","N","N",465.6,25142.400000000001]
[null,"0009342",27,99999,"27-99999",27,99999,"27-99999",4246,"04",22,"05","Company-owned truck","Truck/Freight",1300,6874,10,12,"N","N","N","H",1114.0999999999999,13369.199999999999]
[null,"0009397",19,99999,"19-99999",27,99999,"27-99999",4237,"03",43,"04","For-hire truck","Truck/Freight",1387,184,367,441,"N","N","N","N",1846,814086]
[null,"0009441","06",99999,"06-99999",27,99999,"27-99999",4244,"01","03","04","For-hire truck","Truck/Freight",3662,143,1642,2066,"N","N","N","N",94.6,195443.59999999998]
[null,"0009458",38,99999,"38-99999",27,99999,"27-99999",4245,"03","07","05","Company-owned truck","Truck/Freight",9623,54065,65,67,"N","N","N","N",121.5,8140.5]
[null,"0009474",38,99999,"38-99999",27,378,"27-378",326,"03",24,"04","For-hire truck","Truck/Freight",22729,32745,236,267,"N","N","N","N",69.400000000000006,18529.800000000003]
[null,"0009519",27,99999,"27-99999",27,99999,"27-99999",4242,"04","03","04","For-hire truck","Truck/Freight",8108,57909,42,46,"N","N","N","N",26,1196]
[null,"0009629",27,378,"27-378",27,378,"27-378",4233,"04",32,"05","Company-owned truck","Truck/Freight",124,40,4,4,"N","N","N","N",849.3,3397.2]
[null,"0009689",25,148,"25-148",27,99999,"27-99999",326,"02",24,"04","For-hire truck","Truck/Freight",4415,2987,1122,1420,"N","N","N","N",129,183180]
[null,"0009722",27,99999,"27-99999",27,378,"27-378",326,"04",24,"05","Company-owned truck","Truck/Freight",2126,96,75,90,"N","N","N","N",34.4,3096]
[null,"0009770",46,99999,"46-99999",27,99999,"27-99999",4246,"02",20,"05","Company-owned truck","Truck/Freight",909,3366,41,54,"N","N","N","H",186,10044]
[null,"0009832",38,99999,"38-99999",27,99999,"27-99999",4237,"02",43,"05","Company-owned truck","Truck/Freight",522,213,93,99,"N","N","N","N",744.3,73685.7]
[null,"0009905",55,99999,"55-99999",27,378,"27-378",4541,"02",40,14,"Parcel, USPS, or courier","Truck/Freight",47,9,39,44,"N","N","N","N",6813.8,299807.2]
[null,"0009940",27,99999,"27-99999",27,99999,"27-99999",212,"03",31,"05","Company-owned truck","Truck/Freight",414,98670,81,96,"N","N","N","N",795.7,76387.200000000012]
[null,"0010051",27,99999,"27-99999",27,99999,"27-99999",326,"04",26,"05","Company-owned truck","Truck/Freight",13018,2454,106,124,"N","N","N","N",534.6,66290.400000000009]
[null,"0010061",31,420,"31-420",27,99999,"27-99999",326,"02",31,"04","For-hire truck","Truck/Freight",560,747,236,280,"N","N","N","N",29.2,8176]
[null,"0010179",39,198,"39-198",27,378,"27-378",331,"03",40,"04","For-hire truck","Truck/Freight",1253,125,624,731,"N","N","N","N",470.2,343716.2]
[null,"0010196",19,99999,"19-99999",27,378,"27-378",333,"04",34,"04","For-hire truck","Truck/Freight",7387,1324,197,274,"N","N","N","N",196.7,53895.799999999996]
[null,"0010197",27,378,"27-378",27,99999,"27-99999",4238,"01",33,14,"Parcel, USPS, or courier","Truck/Freight",29,1,88,103,"N","N","N","N",3809.9,392419.7]
[null,"0010251",29,476,"29-476",27,378,"27-378",333,"02",34,14,"Parcel, USPS, or courier","Truck/Freight",58,9,459,519,"N","N","N","N",2898.4,1504269.6]
[null,"0010314",27,378,"27-378",27,378,"27-378",4244,"04","07","05","Company-owned truck","Truck/Freight",4376,4515,14,26,"N","N","N","N",4950.8,128720.8]
[null,"0010347",27,378,"27-378",27,378,"27-378",4241,"02",28,14,"Parcel, USPS, or courier","Truck/Freight",259,18,9,13,"N","N","N","N",712,9256]
[null,"0010403",27,378,"27-378",27,378,"27-378",327,"03",31,"05","Company-owned truck","Truck/Freight",1123,47100,11,16,"N","N","N","N",1048.0999999999999,16769.599999999999]
[null,"0010416",19,99999,"19-99999",27,99999,"27-99999",333,"04",34,"05","Company-owned truck","Truck/Freight",122249,38349,209,284,"N","N","N","N",63.6,18062.400000000001]
[null,"0010434",53,500,"53-500",27,378,"27-378",4243,"01",30,14,"Parcel, USPS, or courier","Truck/Freight",50,2,1388,1656,"N","N","N","N",1089.9000000000001,1804874.4000000001]
[null,"0010472","04",38060,"04-38060",27,99999,"27-99999",4236,"03",35,"04","For-hire truck","Truck/Freight",60441,6304,1306,1869,"N","N","N","N",3166.1,5917440.8999999994]
[null,"0010496",27,99999,"27-99999",27,99999,"27-99999",4249,"01","04",14,"Parcel, USPS, or courier","Truck/Freight",16,1,9,9,"N","N","N","N",7706.8,69361.2]
[null,"0010535",55,376,"55-376",27,378,"27-378",325,"03",20,14,"Parcel, USPS, or courier","Truck/Freight",131,1,291,343,"N","N","N","N",6102.9,2093294.7]
[null,"0010626",27,99999,"27-99999",27,99999,"27-99999",4931,"01",43,"05","Company-owned truck","Truck/Freight",17566,19762,100,111,"Y","N","N","N",28.7,3185.7]
[null,"0010630",27,378,"27-378",27,99999,"27-99999",4231,"02",32,"04","For-hire truck","Truck/Freight",40,3,136,159,"N","N","N","N",3955,628845]
[null,"0010654","06",41740,"06-41740",27,378,"27-378",312,"04",40,14,"Parcel, USPS, or courier","Truck/Freight",164,12,1494,1960,"N","N","N","N",18889.7,37023812]
[null,"0010675",55,99999,"55-99999",27,378,"27-378",4931,"03",43,"04","For-hire truck","Truck/Freight",5861,7936,138,155,"Y","N","N","N",798.1,123705.5]
[null,"0010773",55,99999,"55-99999",27,378,"27-378",326,"02",24,"04","For-hire truck","Truck/Freight",384,110,245,288,"N","N","N","N",664.5,191376]
[null,"0010865",27,99999,"27-99999",27,99999,"27-99999",333,"01",34,"04","For-hire truck","Truck/Freight",25091,7243,19,23,"N","N","N","N",106.7,2454.1]
[null,"0010869",30,99999,"30-99999",27,378,"27-378",312,"04","08","04","For-hire truck","Truck/Freight",7578,11277,1021,1204,"Y","N","N","N",91.3,109925.2]
[null,"0010901",42,428,"42-428",27,99999,"27-99999",4239,"03",30,14,"Parcel, USPS, or courier","Truck/Freight",720,12,921,1117,"N","N","N","N",790.7,883211.9]
[null,"0010908",17,99999,"17-99999",27,378,"27-378",316,"04",24,14,"Parcel, USPS, or courier","Truck/Freight",1304,126,452,576,"N","N","N","N",48.3,27820.799999999999]
[null,"0011006",27,378,"27-378",27,378,"27-378",4248,"02","08","05","Company-owned truck","Truck/Freight",802,982,18,30,"N","N","N","N",740.3,22209]
[null,"0011016",27,99999,"27-99999",27,99999,"27-99999",332,"02",40,14,"Parcel, USPS, or courier","Truck/Freight",748,9,106,136,"N","N","N","N",835.8,113668.79999999999]
[null,"0011019",18,99999,"18-99999",27,99999,"27-99999",316,"04",30,"04","For-hire truck","Truck/Freight",616,5,512,624,"N","N","N","N",34.1,21278.400000000001]
[null,"0011101",55,376,"55-376",27,378,"27-378",311,"03","06","04","For-hire truck","Truck/Freight",38733,19149,264,304,"N","N","N","N",21.8,6627.2]
[null,"0011122",27,378,"27-378",27,378,"27-378",4239,"02",43,"04","For-hire truck","Truck/Freight",1485,1,5,5,"N","N","N","N",628.5,3142.5]
[null,"0011217",26,220,"26-220",27,378,"27-378",324,"01",23,14,"Parcel, USPS, or courier","Truck/Freight",94,3,508,678,"N","N","N","N",901.7,611352.6]
[null,"0011223",27,378,"27-378",27,378,"27-378",4231,"03",36,"05","Company-owned truck","Truck/Freight",294,33,21,27,"N","N","N","N",7689.6,207619.20000000001]
[null,"0011272",27,378,"27-378",27,378,"27-378",4231,"04",24,"05","Company-owned truck","Truck/Freight",415,119,31,37,"N","N","N","N",1752,64824]
[null,"0011294",46,99999,"46-99999",27,378,"27-378",212,"02",10,"04","For-hire truck","Truck/Freight",4348,45400,108,119,"N","N","N","N",26,3094]
[null,"0011304",55,99999,"55-99999",27,378,"27-378",212,"02",31,15,"Truck and rail","Rail",4842,90398,262,566,"N","N","N","N",133.6,75617.599999999991]
[null,"0011379",51,99999,"51-99999",27,99999,"27-99999",4246,"03",40,14,"Parcel, USPS, or courier","Truck/Freight",89,3,886,1096,"N","N","N","N",841.7,922503.20000000007]
[null,"0011531",55,376,"55-376",27,99999,"27-99999",325,"01",20,14,"Parcel, USPS, or courier","Truck/Freight",13,1,235,285,"Y","N","N","N",5949,1695465]
[null,"0011571",27,99999,"27-99999",27,99999,"27-99999",4237,"02",34,"05","Company-owned truck","Truck/Freight",117,10,12,15,"N","N","N","N",1040.3,15604.5]
[null,"0011637",27,378,"27-378",27,378,"27-378",4246,"04",20,"05","Company-owned truck","Truck/Freight",3869,18998,2,2,"N","N","N","P",193.6,387.2]
[null,"0011641",27,378,"27-378",27,378,"27-378",311,"03","03","04","For-hire truck","Truck/Freight",23124,4947,8,8,"Y","N","N","N",104.2,833.6]
[null,"0011685",27,378,"27-378",27,378,"27-378",4248,"01","08","05","Company-owned truck","Truck/Freight",7451,2501,30,41,"N","N","N","N",1049.3,43021.299999999996]
[null,"0011743",27,99999,"27-99999",27,378,"27-378",311,"01","07","04","For-hire truck","Truck/Freight",7274,43090,96,120,"Y","N","N","N",21.3,2556]
[null,"0011785",17,176,"17-176",27,378,"27-378",313,"03",40,"04","For-hire truck","Truck/Freight",2794,1389,303,364,"N","N","N","N",109.7,39930.800000000003]
[null,"0011856",38,99999,"38-99999",27,99999,"27-99999",4244,"04",43,"05","Company-owned truck","Truck/Freight",419,199,90,108,"Y","N","N","N",395.3,42692.4]
[null,"0012132",27,99999,"27-99999",27,99999,"27-99999",5111,"04",29,"04","For-hire truck","Truck/Freight",1,1,19,19,"N","N","N","N",27547.9,523410.10000000003]
[null,"0012163",27,378,"27-378",27,378,"27-378",4235,"01",32,"04","For-hire truck","Truck/Freight",9023,17430,52,59,"N","N","N","N",87.9,5186.1000000000004]
[null,"0012220",19,99999,"19-99999",27,378,"27-378",4239,"03",41,"04","For-hire truck","Truck/Freight",22451,41576,149,212,"N","N","N","N",69.7,14776.400000000001]
[null,"0012230",27,378,"27-378",27,378,"27-378",337,"01",39,"04","For-hire truck","Truck/Freight",28372,18045,24,30,"N","N","N","N",88.7,2661]
[null,"0012250",26,220,"26-220",27,99999,"27-99999",336,"03",36,"06","Rail","Rail",88280,8965,605,929,"N","Y","C","N",595,{"$f":"W411*R411","v":552755}]
[null,"0012268",55,99999,"55-99999",27,378,"27-378",322,"04",27,"04","For-hire truck","Truck/Freight",1952,1089,256,277,"N","N","N","N",319.60000000000002,88529.200000000012]
[null,"0012282",27,378,"27-378",27,378,"27-378",332,"02",33,"04","For-hire truck","Truck/Freight",12592,20016,9,11,"N","N","N","N",32.200000000000003,354.20000000000005]
[null,"0012414",22,12940,"22-12940",27,99999,"27-99999",325,"02",20,"06","Rail","Rail",72678,162592,1270,1698,"N","Y","C","H",39.700000000000003,67410.600000000006]
[null,"0012451","04",38060,"04-38060",27,378,"27-378",339,"02",40,14,"Parcel, USPS, or courier","Truck/Freight",563,7,1276,1681,"N","N","N","N",5559.8,9346023.8000000007]
[null,"0012478",37,99999,"37-99999",27,378,"27-378",4541,"03",43,14,"Parcel, USPS, or courier","Truck/Freight",83,5,1090,1351,"N","N","N","N",3697.9,4995862.9000000004]
[null,"0012693",27,99999,"27-99999",27,99999,"27-99999",4233,"03",26,"04","For-hire truck","Truck/Freight",2910,107765,104,139,"N","N","N","N",560.29999999999995,77881.7]
[null,"0012694",17,176,"17-176",27,378,"27-378",4238,"04",40,"04","For-hire truck","Truck/Freight",2841,1005,426,493,"N","N","N","N",253.7,125074.09999999999]
[null,"0012801",27,378,"27-378",27,378,"27-378",4244,"02",43,"05","Company-owned truck","Truck/Freight",24,23,5,7,"N","N","N","N",2712.1,18984.7]
[null,"0012951",27,378,"27-378",27,378,"27-378",4249,"04",23,"05","Company-owned truck","Truck/Freight",319,32,35,37,"N","N","N","N",700.3,25911.1]
[null,"0012967",55,99999,"55-99999",27,99999,"27-99999",321,"04",26,"05","Company-owned truck","Truck/Freight",2933,3534,83,96,"N","N","N","N",177.5,17040]
[null,"0012978",27,378,"27-378",27,99999,"27-99999",331,"03",32,"04","For-hire truck","Truck/Freight",40938,48763,194,227,"N","N","N","N",21.5,4880.5]
[null,"0013032",27,378,"27-378",27,378,"27-378",212,"02",12,"04","For-hire truck","Truck/Freight",180,31401,3,5,"N","N","N","N",256,1280]
[null,"0013057",38,99999,"38-99999",27,99999,"27-99999",4234,"02",43,14,"Parcel, USPS, or courier","Truck/Freight",316,50,146,197,"N","N","N","N",87.2,17178.400000000001]
[null,"0013076",27,99999,"27-99999",27,99999,"27-99999",4237,"01",43,"05","Company-owned truck","Truck/Freight",70,3,91,97,"N","N","N","N",290,28130]
[null,"0013083",44,148,"44-148",27,99999,"27-99999",4232,"01",30,"04","For-hire truck","Truck/Freight",71,26,1147,1390,"N","N","N","N",651.70000000000005,905863.00000000012]
[null,"0013133",39,184,"39-184",27,378,"27-378",339,"04",38,14,"Parcel, USPS, or courier","Truck/Freight",176,1,632,774,"N","N","N","N",1172.5999999999999,907592.39999999991]
[null,"0013137",27,378,"27-378",27,378,"27-378",4238,"02",34,14,"Parcel, USPS, or courier","Truck/Freight",46,3,10,17,"N","N","N","N",922,15674]
[null,"0013179",27,378,"27-378",27,99999,"27-99999",337,"01",39,14,"Parcel, USPS, or courier","Truck/Freight",181,86,247,301,"N","N","N","N",362.3,109052.3]
[null,"0013230",29,312,"29-312",27,99999,"27-99999",331,"04",33,"04","For-hire truck","Truck/Freight",14567,41508,316,402,"N","N","N","N",21.9,8803.7999999999993]
[null,"0013362",27,99999,"27-99999",27,99999,"27-99999",321,"02",26,"04","For-hire truck","Truck/Freight",11546,50509,238,302,"N","N","N","N",65.099999999999994,19660.199999999997]
[null,"0013436",27,378,"27-378",27,378,"27-378",4244,"04",43,"05","Company-owned truck","Truck/Freight",1378,440,5,7,"Y","N","N","N",2399.1999999999998,16794.399999999998]
[null,"0013458",27,378,"27-378",27,378,"27-378",331,"04",34,"05","Company-owned truck","Truck/Freight",52047,9884,48,57,"N","N","N","N",37.799999999999997,2154.6]
[null,"0013466",27,378,"27-378",27,378,"27-378",4238,"04",24,"05","Company-owned truck","Truck/Freight",44,5,23,40,"N","N","N","N",1436.5,57460]
[null,"0013496",12,45300,"12-45300",27,99999,"27-99999",311,"03","05","04","For-hire truck","Truck/Freight",37697,2964,1293,1560,"Y","N","N","N",167.6,261456]
[null,"0013512",55,99999,"55-99999",27,378,"27-378",4233,"02",31,"04","For-hire truck","Truck/Freight",975,2797,76,100,"N","N","N","N",153.19999999999999,15319.999999999998]
[null,"0013521",27,378,"27-378",27,378,"27-378",4249,"04",23,"05","Company-owned truck","Truck/Freight",425,61,8,13,"Y","N","N","P",104.6,1359.8]
[null,"0013542",27,99999,"27-99999",27,378,"27-378",325,"03",23,"04","For-hire truck","Truck/Freight",423,538,90,108,"N","N","N","N",457.8,49442.400000000001]
[null,"0013627",33,148,"33-148",27,378,"27-378",332,"04",33,14,"Parcel, USPS, or courier","Truck/Freight",237,8,1072,1397,"N","N","N","N",531.70000000000005,742784.9]
[null,"0013826",48,12420,"48-12420",27,378,"27-378",4236,"02",34,14,"Parcel, USPS, or courier","Truck/Freight",90,9,1022,1115,"N","N","N","N",122306,136371190]
[null,"0013846",27,378,"27-378",27,378,"27-378",4244,"01","05","05","Company-owned truck","Truck/Freight",84,11,39,50,"Y","N","N","N",933.2,46660]
[null,"0013869",27,378,"27-378",27,378,"27-378",4236,"04",35,"04","For-hire truck","Truck/Freight",7219,722,9,14,"N","N","N","N",1902.8,26639.200000000001]
[null,"0013932",55,99999,"55-99999",27,378,"27-378",333,"01",34,14,"Parcel, USPS, or courier","Truck/Freight",498,5,236,269,"N","N","N","N",333.4,89684.599999999991]
[null,"0013979",27,99999,"27-99999",27,99999,"27-99999",4244,"01","07","05","Company-owned truck","Truck/Freight",237,63,37,47,"N","N","N","N",1286.0999999999999,60446.7]
[null,"0014012",27,99999,"27-99999",27,99999,"27-99999",212,"02",13,"05","Company-owned truck","Truck/Freight",52,30033,24,26,"N","N","N","N",813.1,21140.600000000002]
[null,"0014148",27,99999,"27-99999",27,99999,"27-99999",4244,"02","03","05","Company-owned truck","Truck/Freight",800,861,126,140,"Y","N","N","N",508.8,71232]
[null,"0014156",27,378,"27-378",27,378,"27-378",336,"02",37,14,"Parcel, USPS, or courier","Truck/Freight",587,43,11,13,"N","N","N","N",212.3,2759.9]
[null,"0014177",27,378,"27-378",27,99999,"27-99999",339,"01",40,"04","For-hire truck","Truck/Freight",1439,442,38,52,"N","N","N","N",265.89999999999998,13826.8]
[null,"0014256",27,378,"27-378",27,378,"27-378",4238,"03",35,"05","Company-owned truck","Truck/Freight",13537,3249,4,5,"N","N","N","N",23.2,116]
[null,"0014294",27,99999,"27-99999",27,99999,"27-99999",45431,"01",18,"05","Company-owned truck","Truck/Freight",626,1944,19,19,"N","N","N","P",86.1,1635.8999999999999]
[null,"0014301",27,99999,"27-99999",27,99999,"27-99999",5111,"04",29,"04","For-hire truck","Truck/Freight",1451,580,21,26,"N","N","N","N",1016.6,26431.600000000002]
[null,"0014347",12,422,"12-422",27,378,"27-378",332,"01",32,14,"Parcel, USPS, or courier","Truck/Freight",334,14,1294,1585,"N","N","N","N",55.4,87809]
[null,"0014366",27,378,"27-378",27,378,"27-378",4246,"02",20,"04","For-hire truck","Truck/Freight",4809,2274,10,14,"N","N","N","H",213.6,2990.4]
[null,"0014447",27,378,"27-378",27,99999,"27-99999",4238,"01",19,"04","For-hire truck","Truck/Freight",90,22,22,31,"N","N","N","P",1438,44578]
[null,"0014448",27,99999,"27-99999",27,99999,"27-99999",312,"03","07","05","Company-owned truck","Truck/Freight",6799,10180,28,33,"N","N","N","N",51.8,1709.3999999999999]
[null,"0014458",27,99999,"27-99999",27,99999,"27-99999",311,"01","04","04","For-hire truck","Truck/Freight",98,65260,11,11,"N","N","N","N",358.3,3941.3]
[null,"0014533",47,400,"47-400",27,378,"27-378",331,"04",36,"04","For-hire truck","Truck/Freight",311,74,730,912,"N","N","N","N",160.19999999999999,146102.39999999999]
[null,"0014540",27,378,"27-378",27,378,"27-378",4244,"01",13,"04","For-hire truck","Truck/Freight",1805,40611,4,4,"N","N","N","N",236.8,947.2]
[null,"0014591",19,99999,"19-99999",27,378,"27-378",4237,"03",43,14,"Parcel, USPS, or courier","Truck/Freight",215,7,237,260,"N","N","N","N",516.29999999999995,134238]
[null,"0014697",27,99999,"27-99999",27,99999,"27-99999",212,"02",12,"05","Company-owned truck","Truck/Freight",217,40485,14,17,"N","N","N","N",207.2,3522.3999999999996]
[null,"0014750",20,312,"20-312",27,378,"27-378",4541,"03",21,14,"Parcel, USPS, or courier","Truck/Freight",4061,6,420,462,"Y","N","N","N",1554,717948]
[null,"0014864",25,148,"25-148",27,378,"27-378",326,"03",24,"04","For-hire truck","Truck/Freight",11584,9115,1082,1404,"N","N","N","N",173.5,243594]
[null,"0014909",27,378,"27-378",27,378,"27-378",212,"02",12,"04","For-hire truck","Truck/Freight",258,51655,23,31,"N","N","N","N",7783.9,241300.9]
[null,"0014976",10,428,"10-428",27,378,"27-378",4234,"02",33,14,"Parcel, USPS, or courier","Truck/Freight",290,2,955,1150,"N","N","N","N",3181.3,3658495]
[null,"0015065",27,99999,"27-99999",27,99999,"27-99999",322,"03",24,"04","For-hire truck","Truck/Freight",143,22,13,13,"N","N","N","N",886,11518]
[null,"0015086",25,148,"25-148",27,378,"27-378",322,"02",24,"04","For-hire truck","Truck/Freight",5165,36009,1096,1405,"N","N","N","N",81.2,114086]
[null,"0015092",27,378,"27-378",27,99999,"27-99999",311,"03","06","05","Company-owned truck","Truck/Freight",3267,4335,77,88,"N","N","N","N",155.19999999999999,13657.599999999999]
[null,"0015391",27,378,"27-378",27,378,"27-378",4244,"01","07","05","Company-owned truck","Truck/Freight",71,123,6,11,"Y","N","N","N",1953.7,21490.7]
[null,"0015442",27,378,"27-378",27,378,"27-378",339,"02",38,11,"Air (incl truck & air)","Air",34878,1489,19,363,"N","Y","E","N",408.8,148394.4]
[null,"0015478",45,273,"45-273",27,99999,"27-99999",334,"04",35,"04","For-hire truck","Truck/Freight",3113,202,1152,1428,"N","N","N","N",128.9,184069.2]
[null,"0015494",42,99999,"42-99999",27,99999,"27-99999",4232,"04",43,14,"Parcel, USPS, or courier","Truck/Freight",176,32,1051,1240,"N","N","N","N",1220.4000000000001,1513296]
[null,"0015520",27,99999,"27-99999",27,99999,"27-99999",4234,"03","04","05","Company-owned truck","Truck/Freight",2469,1097,58,68,"N","N","N","N",106,7208]
[null,"0015542",39,99999,"39-99999",27,378,"27-378",322,"03",28,"04","For-hire truck","Truck/Freight",1307,447,551,675,"N","N","N","N",383.6,258930.00000000003]
[null,"0015546",39,178,"39-178",27,378,"27-378",322,"02",28,"04","For-hire truck","Truck/Freight",11915,7181,594,722,"N","N","N","N",465.5,336091]
[null,"0015601",42,99999,"42-99999",27,378,"27-378",321,"02",26,"04","For-hire truck","Truck/Freight",13541,44638,730,889,"N","N","N","N",38.5,{"$f":"W475*R475","v":34226.5}]
[null,"0015825",55,99999,"55-99999",27,378,"27-378",4931,"03",43,"05","Company-owned truck","Truck/Freight",83233,41617,228,259,"N","N","N","N",197.1,51048.9]
[null,"0015884",27,378,"27-378",27,378,"27-378",4541,"03",21,"05","Company-owned truck","Truck/Freight",43,1,9,11,"N","N","N","N",23742.7,261169.7]
[null,"0015914",27,378,"27-378",27,378,"27-378",334,"04",38,14,"Parcel, USPS, or courier","Truck/Freight",54010,30,6,405,"N","Y","A","N",59.2,23976]
[null,"0015996",27,378,"27-378",27,378,"27-378",4235,"01",33,"05","Company-owned truck","Truck/Freight",431,835,19,25,"N","N","N","N",761.1,19027.5]
[null,"0016032",36,408,"36-408",27,99999,"27-99999",4232,"04",30,14,"Parcel, USPS, or courier","Truck/Freight",9,1,1164,1415,"N","N","N","N",10702.6,15144179]
[null,"0016065",46,99999,"46-99999",27,99999,"27-99999",45431,"01",19,"05","Company-owned truck","Truck/Freight",474,1991,19,26,"N","N","N","H",92.9,2415.4]
[null,"0016138",34,408,"34-408",27,378,"27-378",4236,"04",38,14,"Parcel, USPS, or courier","Truck/Freight",213,2,1005,1221,"N","N","N","N",531.4,648839.4]
[null,"0016176",27,99999,"27-99999",27,378,"27-378",334,"01",35,14,"Parcel, USPS, or courier","Truck/Freight",14916,36,57,67,"N","N","N","N",44.7,2994.9]
[null,"0016310",27,378,"27-378",27,378,"27-378",312,"03","08","05","Company-owned truck","Truck/Freight",88,181,8,10,"N","N","N","N",4908.3,49083]
[null,"0016343",27,378,"27-378",27,378,"27-378",212,"01",12,"04","For-hire truck","Truck/Freight",218,64829,41,54,"N","N","N","N",797.5,43065]
[null,"0016363",27,378,"27-378",27,378,"27-378",332,"03",32,"04","For-hire truck","Truck/Freight",2014,4683,12,16,"N","N","N","N",38.6,617.6]
[null,"0016378",27,99999,"27-99999",27,99999,"27-99999",4237,"04",43,"05","Company-owned truck","Truck/Freight",1062,1456,10,10,"N","N","N","N",66.3,663]
[null,"0016405",27,378,"27-378",27,99999,"27-99999",4233,"01",43,"05","Company-owned truck","Truck/Freight",6613,11229,149,174,"N","N","N","N",1118.9000000000001,194688.6]
[null,"0016452",27,99999,"27-99999",27,99999,"27-99999",4233,"01",26,"05","Company-owned truck","Truck/Freight",2150,8375,11,11,"N","N","N","N",411.9,4530.8999999999996]
[null,"0016461","01",99999,"01-99999",27,378,"27-378",327,"03",30,"04","For-hire truck","Truck/Freight",13417,11181,775,933,"N","N","N","N",39.200000000000003,36573.600000000006]
[null,"0016591",27,378,"27-378",27,378,"27-378",4238,"04",35,14,"Parcel, USPS, or courier","Truck/Freight",104,4,63,70,"N","N","N","N",719,50330]
[null,"0016619",27,378,"27-378",27,378,"27-378",4238,"04",36,11,"Air (incl truck & air)","Air",2321,1,10,405,"N","Y","A","N",89.9,36409.5]
[null,"0016663",27,99999,"27-99999",27,378,"27-378",4233,"01",33,"04","For-hire truck","Truck/Freight",36,2,16,26,"N","N","N","N",30.1,782.6]
[null,"0016711",28,99999,"28-99999",27,99999,"27-99999",333,"02",40,"04","For-hire truck","Truck/Freight",4247,482,821,1064,"N","N","N","N",160.69999999999999,170984.8]
[null,"0016740",27,378,"27-378",27,99999,"27-99999",4249,"03",43,"05","Company-owned truck","Truck/Freight",582,33,33,48,"N","N","N","N",1639.9,78715.200000000012]
[null,"0016760",55,99999,"55-99999",27,378,"27-378",333,"02",33,"05","Company-owned truck","Truck/Freight",428,398,203,260,"N","N","N","N",735.7,191282]
[null,"0016875",29,476,"29-476",27,99999,"27-99999",4249,"04",34,14,"Parcel, USPS, or courier","Truck/Freight",708,1,412,487,"N","N","N","N",133.6,65063.199999999997]
[null,"0016921",41,440,"41-440",27,99999,"27-99999",311,"03","05","04","For-hire truck","Truck/Freight",4305,1040,1393,1700,"Y","N","N","N",121.6,206720]
[null,"0016998",27,378,"27-378",27,378,"27-378",4248,"04","08","05","Company-owned truck","Truck/Freight",669,192,4,6,"Y","N","N","N",50.4,302.39999999999998]
[null,"0017104",27,99999,"27-99999",27,378,"27-378",4236,"02",35,"04","For-hire truck","Truck/Freight",4748,1592,213,254,"N","N","N","N",119,30226]
[null,"0017113",27,378,"27-378",27,378,"27-378",326,"04",24,"05","Company-owned truck","Truck/Freight",160,90,3,3,"N","N","N","N",270,810]
[null,"0017126",27,378,"27-378",27,378,"27-378",212,"04",12,"04","For-hire truck","Truck/Freight",115,52189,23,28,"N","N","N","N",7894,221032]
[null,"0017161",48,206,"48-206",27,378,"27-378",4238,"02",36,14,"Parcel, USPS, or courier","Truck/Freight",7,1,840,955,"N","N","N","N",9831.5,9389082.5]
[null,"0017196",27,378,"27-378",27,378,"27-378",4249,"02",22,"05","Company-owned truck","Truck/Freight",10973,46812,5,5,"N","N","N","H",484.8,2424]
[null,"0017239",27,378,"27-378",27,378,"27-378",4231,"03",36,"05","Company-owned truck","Truck/Freight",5,1,4,5,"N","N","N","N",14784.3,73921.5]
[null,"0017253",27,99999,"27-99999",27,378,"27-378",312,"03","08","05","Company-owned truck","Truck/Freight",23994,40259,77,102,"N","N","N","N",14.6,1489.2]
[null,"0017407",12,422,"12-422",27,378,"27-378",333,"02",43,14,"Parcel, USPS, or courier","Truck/Freight",228,72,1275,1577,"N","N","N","N",154,242858]
[null,"0017410",27,378,"27-378",27,378,"27-378",4238,"02",36,"04","For-hire truck","Truck/Freight",42,4,8,8,"N","N","N","N",941.4,7531.2]
[null,"0017733",20,99999,"20-99999",27,99999,"27-99999",326,"04",24,"04","For-hire truck","Truck/Freight",7303,2762,366,447,"N","N","N","N",64,28608]
[null,"0017740",27,378,"27-378",27,378,"27-378",4541,"04",30,14,"Parcel, USPS, or courier","Truck/Freight",451,30,3,3,"N","N","N","N",3840.5,11521.5]
[null,"0017788",39,184,"39-184",27,99999,"27-99999",4244,"03","07",14,"Parcel, USPS, or courier","Truck/Freight",95,20,539,658,"N","N","N","N",814.9,536204.19999999995]
[null,"0017802",27,378,"27-378",27,378,"27-378",4241,"01",27,"05","Company-owned truck","Truck/Freight",2648,4514,22,30,"N","N","N","N",355.1,10653]
[null,"0017946",27,99999,"27-99999",27,99999,"27-99999",4245,"03","04","05","Company-owned truck","Truck/Freight",2384,43332,86,110,"N","N","N","N",1152.8,126808]
[null,"0017998",27,99999,"27-99999",27,99999,"27-99999",5111,"02",29,"05","Company-owned truck","Truck/Freight",12,8,18,21,"N","N","N","N",1587,33327]
[null,"0018023",27,378,"27-378",27,378,"27-378",332,"01",36,"05","Company-owned truck","Truck/Freight",463,1097,13,16,"N","N","N","N",319.3,5108.8]
[null,"0018032",27,99999,"27-99999",27,378,"27-378",4232,"04",43,"05","Company-owned truck","Truck/Freight",245,40,115,129,"N","N","N","N",1041.5999999999999,134366.39999999999]
[null,"0018124",48,206,"48-206",27,378,"27-378",4931,"04","03","04","For-hire truck","Truck/Freight",6117,4227,858,940,"Y","N","N","N",87.1,81874]
[null,"0018173","06",348,"06-348",27,99999,"27-99999",4236,"02",35,"04","For-hire truck","Truck/Freight",1108,41,1503,1961,"N","N","N","N",373,731453]
[null,"0018233",27,378,"27-378",27,378,"27-378",4238,"03",23,"04","For-hire truck","Truck/Freight",279,451,3,3,"N","N","N","N",28902.9,86708.700000000012]
[null,"0018328",19,99999,"19-99999",27,378,"27-378",4242,"01",21,14,"Parcel, USPS, or courier","Truck/Freight",1328,3,322,353,"N","N","N","N",19832.400000000001,7000837.2000000002]
[null,"0018372",26,220,"26-220",27,99999,"27-99999",336,"02",36,"06","Rail","Rail",93555,8326,605,929,"N","Y","C","N",590,548110]
[null,"0018410",27,378,"27-378",27,99999,"27-99999",4246,"03",23,"05","Company-owned truck","Truck/Freight",3235,2630,174,203,"N","N","N","H",319.3,64817.9]
[null,"0018481",27,99999,"27-99999",27,378,"27-378",5111,"02",29,14,"Parcel, USPS, or courier","Truck/Freight",1,1,130,150,"N","N","N","N",1956.7,293505]
[null,"0018496",27,99999,"27-99999",27,99999,"27-99999",4248,"01","08","05","Company-owned truck","Truck/Freight",4765,6226,21,24,"N","N","N","N",52.2,1252.8000000000002]
[null,"0018501",27,378,"27-378",27,378,"27-378",4244,"04","07","05","Company-owned truck","Truck/Freight",197,20,25,33,"Y","N","N","N",1960.4,64693.200000000004]
[null,"0018506",19,99999,"19-99999",27,378,"27-378",311,"01","07","04","For-hire truck","Truck/Freight",6973,45374,117,145,"N","N","N","N",96.5,13992.5]
[null,"0018546",27,378,"27-378",27,378,"27-378",4248,"03","08","04","For-hire truck","Truck/Freight",93,33,10,12,"N","N","N","N",568.6,6823.2000000000007]
[null,"0018579",27,99999,"27-99999",27,99999,"27-99999",4238,"02",34,"04","For-hire truck","Truck/Freight",285281,72223,13,26,"N","N","N","N",32.6,847.6]
[null,"0018595",18,258,"18-258",27,378,"27-378",311,"03","06","04","For-hire truck","Truck/Freight",19640,12590,500,588,"N","N","N","N",21.8,12818.4]
[null,"0018600",27,378,"27-378",27,378,"27-378",4242,"04",21,"04","For-hire truck","Truck/Freight",1638756,24827,9,14,"Y","N","N","N",153.1,2143.4]
[null,"0018632",27,99999,"27-99999",27,99999,"27-99999",323,"02",29,"04","For-hire truck","Truck/Freight",271,11,15,15,"N","N","N","N",1326.5,19897.5]
[null,"0018708",55,99999,"55-99999",27,378,"27-378",4231,"04",36,"04","For-hire truck","Truck/Freight",33,1,24,41,"N","N","N","N",42848.3,1756780.3]
[null,"0018798",46,99999,"46-99999",27,99999,"27-99999",4244,"02","03","04","For-hire truck","Truck/Freight",609,36708,182,219,"N","N","N","N",17.3,3788.7000000000003]
[null,"0018814",27,378,"27-378",27,378,"27-378",4241,"04",24,"05","Company-owned truck","Truck/Freight",972,569,19,25,"N","N","N","N",872.1,21802.5]
[null,"0018834","04",99999,"04-99999",27,378,"27-378",333,"01",40,14,"Parcel, USPS, or courier","Truck/Freight",621,89,1148,1641,"N","N","N","N",266.5,437326.5]
[null,"0018846",27,378,"27-378",27,378,"27-378",311,"02","06","04","For-hire truck","Truck/Freight",11,1,2,2,"N","N","N","N",13411.6,26823.200000000001]
[null,"0018852",27,378,"27-378",27,378,"27-378",311,"01",43,"04","For-hire truck","Truck/Freight",14508,5169,6,8,"Y","N","N","N",73.5,588]
[null,"0018865",27,378,"27-378",27,378,"27-378",336,"01",36,"04","For-hire truck","Truck/Freight",491,23,3,3,"N","N","N","N",1210.3,3630.8999999999996]
[null,"0018931",27,378,"27-378",27,378,"27-378",339,"01",40,14,"Parcel, USPS, or courier","Truck/Freight",101,13,24,25,"N","N","N","N",6157.4,{"$f":"W539*R539","v":153935}]
[null,"0019019",48,12420,"48-12420",27,378,"27-378",4541,"03",36,14,"Parcel, USPS, or courier","Truck/Freight",14,1,1048,1154,"N","N","N","N",12694.4,14649337.6]
[null,"0019032",27,378,"27-378",27,378,"27-378",325,"04",24,14,"Parcel, USPS, or courier","Truck/Freight",804,126,39,46,"N","N","N","N",707.6,32549.600000000002]
[null,"0019089","06",488,"06-488",27,99999,"27-99999",4931,"02",30,14,"Parcel, USPS, or courier","Truck/Freight",99,5,1537,2059,"N","N","N","N",729.9,1502864.0999999999]
[null,"0019099",27,378,"27-378",27,99999,"27-99999",311,"03","06","05","Company-owned truck","Truck/Freight",8965,6169,58,67,"N","N","N","N",64.900000000000006,4348.3]
[null,"0019108",19,99999,"19-99999",27,99999,"27-99999",4249,"02",13,"05","Company-owned truck","Truck/Freight",1914,8706,85,109,"N","N","N","N",304.7,33212.299999999996]
[null,"0019126",17,176,"17-176",27,378,"27-378",4239,"04",31,14,"Parcel, USPS, or courier","Truck/Freight",122,23,349,408,"N","N","N","N",2467.4,1006699.2000000001]
[null,"0019144",27,99999,"27-99999",27,99999,"27-99999",311,"02","07","04","For-hire truck","Truck/Freight",7484,49078,13,13,"N","N","N","N",420.5,5466.5]
[null,"0019168",53,99999,"53-99999",27,378,"27-378",4243,"01",30,14,"Parcel, USPS, or courier","Truck/Freight",34,1,1375,1754,"N","N","N","N",481.2,844024.79999999993]
[null,"0019189",26,220,"26-220",27,378,"27-378",4237,"02",13,14,"Parcel, USPS, or courier","Truck/Freight",57,1,534,716,"N","N","N","N",2634,1885944]
[null,"0019196",27,378,"27-378",27,99999,"27-99999",4241,"02",27,"04","For-hire truck","Truck/Freight",985,549,105,123,"N","N","N","N",250.3,30786.9]
[null,"0019215",27,378,"27-378",27,378,"27-378",4238,"02",33,"04","For-hire truck","Truck/Freight",25,4,10,10,"N","N","N","N",46.7,467]
[null,"0019261",27,99999,"27-99999",27,99999,"27-99999",4238,"02",36,"04","For-hire truck","Truck/Freight",61,5,15,20,"N","N","N","N",866.4,17328]
[null,"0019339",55,376,"55-376",27,99999,"27-99999",4235,"01",32,"04","For-hire truck","Truck/Freight",1359,1058,262,321,"N","N","N","N",225.2,72289.2]
[null,"0019462",47,400,"47-400",27,99999,"27-99999",332,"04",40,"04","For-hire truck","Truck/Freight",41975,40087,847,1051,"N","N","N","N",59.5,62534.5]
[null,"0019472",27,378,"27-378",27,378,"27-378",324,"04",31,"04","For-hire truck","Truck/Freight",18,135,22,27,"N","N","N","N",89.1,2405.6999999999998]
[null,"0019487",55,99999,"55-99999",27,378,"27-378",325,"02","04","04","For-hire truck","Truck/Freight",1965,44150,114,120,"N","N","N","N",194.4,23328]
[null,"0019500",27,378,"27-378",27,378,"27-378",321,"02",26,"04","For-hire truck","Truck/Freight",21264,50396,17,27,"N","N","N","N",89.6,2419.1999999999998]
[null,"0019542",27,378,"27-378",27,378,"27-378",332,"01",33,"04","For-hire truck","Truck/Freight",69,12,13,18,"N","N","N","N",60.6,1090.8]
[null,"0019590",42,99999,"42-99999",27,378,"27-378",4931,"02",36,"04","For-hire truck","Truck/Freight",58,2,924,1112,"N","N","N","N",733.8,815985.6]
[null,"0019786",32,332,"32-332",27,378,"27-378",323,"02",27,14,"Parcel, USPS, or courier","Truck/Freight",542,90,1294,1673,"N","N","N","N",131.19999999999999,219497.59999999998]
[null,"0019819",27,99999,"27-99999",27,99999,"27-99999",4233,"02",43,"05","Company-owned truck","Truck/Freight",166,5,76,94,"N","N","N","N",46.4,4361.5999999999995]
[null,"0019839",27,378,"27-378",27,99999,"27-99999",326,"04",24,"04","For-hire truck","Truck/Freight",1979,362,75,103,"N","N","N","N",76.400000000000006,7869.2000000000007]
[null,"0020005",27,99999,"27-99999",27,99999,"27-99999",4247,"04",18,"04","For-hire truck","Truck/Freight",16533,63958,57,73,"N","N","N","P",516.5,37704.5]
[null,"0020051",27,378,"27-378",27,378,"27-378",332,"02",32,"05","Company-owned truck","Truck/Freight",291,121,7,10,"N","N","N","N",548.1,5481]
[null,"0020107",27,378,"27-378",27,99999,"27-99999",4233,"04",33,"04","For-hire truck","Truck/Freight",42,2,235,280,"N","N","N","N",7315.5,2048340]
[null,"0020153",27,378,"27-378",27,99999,"27-99999",337,"02",39,"04","For-hire truck","Truck/Freight",306,219,238,265,"N","N","N","N",146.9,38928.5]
[null,"0020223",55,99999,"55-99999",27,99999,"27-99999",325,"01",24,"04","For-hire truck","Truck/Freight",10215,1552,89,120,"N","N","N","N",35.6,4272]
[null,"0020247",27,99999,"27-99999",27,99999,"27-99999",311,"04","05","04","For-hire truck","Truck/Freight",88573,45314,208,247,"Y","N","N","N",68.3,16870.099999999999]
[null,"0020290",13,122,"13-122",27,378,"27-378",4237,"01",31,"04","For-hire truck","Truck/Freight",620,219,900,1139,"N","N","N","N",359.2,409128.8]
[null,"0020416",27,378,"27-378",27,99999,"27-99999",4231,"04",24,"05","Company-owned truck","Truck/Freight",136,45,161,195,"N","N","N","N",2397.1,467434.5]
[null,"0020445",17,176,"17-176",27,99999,"27-99999",4249,"02",29,14,"Parcel, USPS, or courier","Truck/Freight",305,33,471,550,"N","N","N","N",6174.2,3395810]
[null,"0020505",27,378,"27-378",27,378,"27-378",4231,"02",36,"05","Company-owned truck","Truck/Freight",21,1,8,12,"N","N","N","N",3768.7,45224.399999999994]
[null,"0020510",27,378,"27-378",27,378,"27-378",4249,"03",23,"05","Company-owned truck","Truck/Freight",131,23,36,47,"N","N","N","P",122.7,5766.9000000000005]
[null,"0020648",34,408,"34-408",27,378,"27-378",4931,"01",38,14,"Parcel, USPS, or courier","Truck/Freight",1320,10,1013,1213,"N","N","N","N",1005.7,1219914.1000000001]
[null,"0020657",27,99999,"27-99999",27,99999,"27-99999",336,"01",34,"05","Company-owned truck","Truck/Freight",93469,15907,45,53,"N","N","N","N",39.200000000000003,2077.6000000000004]
[null,"0020660",13,122,"13-122",27,378,"27-378",4249,"02",40,14,"Parcel, USPS, or courier","Truck/Freight",306,49,896,1106,"N","N","N","N",1071.4000000000001,1184968.4000000001]
[null,"0020664",27,99999,"27-99999",27,99999,"27-99999",4238,"02",40,"04","For-hire truck","Truck/Freight",1485,956,76,86,"N","N","N","N",4411.6000000000004,379397.60000000003]
[null,"0020671",55,99999,"55-99999",27,99999,"27-99999",4234,"03",35,"04","For-hire truck","Truck/Freight",267,11,347,388,"N","N","N","N",1607.5,623710]
[null,"0020755",27,378,"27-378",27,378,"27-378",4246,"03",20,"05","Company-owned truck","Truck/Freight",274,325,10,14,"N","N","N","N",384.2,5378.8]
[null,"0020794",19,99999,"19-99999",27,99999,"27-99999",4245,"01",22,"04","For-hire truck","Truck/Freight",9940,55225,298,366,"N","N","N","N",179,65514]
[null,"0020806",13,99999,"13-99999",27,378,"27-378",4236,"02",35,"04","For-hire truck","Truck/Freight",31,1,973,1232,"N","N","N","H",176.4,217324.80000000002]
[null,"0020903","08",99999,"08-99999",27,378,"27-378",4231,"01",24,"04","For-hire truck","Truck/Freight",63,55,740,1005,"N","N","N","N",10843.9,10898119.5]
[null,"0021028",27,378,"27-378",27,99999,"27-99999",339,"03",24,14,"Parcel, USPS, or courier","Truck/Freight",39,2,52,67,"N","N","N","N",163.9,10981.300000000001]
[null,"0021094","06",348,"06-348",27,378,"27-378",4243,"02",30,14,"Parcel, USPS, or courier","Truck/Freight",79,2,1495,1900,"N","N","N","N",7813.5,14845650]
[null,"0021136",27,99999,"27-99999",27,99999,"27-99999",325,"02","04","04","For-hire truck","Truck/Freight",188,46991,13,13,"N","N","N","N",235.6,3062.7999999999997]
[null,"0021156",53,500,"53-500",27,378,"27-378",332,"03",32,11,"Air (incl truck & air)","Air",384,60,1377,1452,"N","N","N","N",813.5,1181202]
[null,"0021168",27,378,"27-378",27,378,"27-378",4231,"02",24,"04","For-hire truck","Truck/Freight",68,23,8,13,"N","N","N","N",2398.6999999999998,31183.1]
[null,"0021173",27,99999,"27-99999",27,99999,"27-99999",4244,"03","03","05","Company-owned truck","Truck/Freight",57,17,155,211,"Y","N","N","N",503.9,106322.9]
[null,"0021185",31,99999,"31-99999",27,378,"27-378",325,"01",21,14,"Parcel, USPS, or courier","Truck/Freight",90,26,328,443,"N","N","N","N",15.9,7043.7]
[null,"0021200",26,99999,"26-99999",27,99999,"27-99999",321,"03",26,"04","For-hire truck","Truck/Freight",22810,39858,390,436,"N","N","N","N",28.4,12382.4]
[null,"0021237",13,122,"13-122",27,99999,"27-99999",4232,"03",30,14,"Parcel, USPS, or courier","Truck/Freight",6,1,982,1228,"N","N","N","N",23410,28747480]
[null,"0021285",39,99999,"39-99999",27,378,"27-378",4541,"03","03",14,"Parcel, USPS, or courier","Truck/Freight",8,2,637,771,"N","N","N","N",24233,18683643]
[null,"0021292",17,176,"17-176",27,378,"27-378",4244,"03","07","05","Company-owned truck","Truck/Freight",49,13,324,378,"N","N","N","N",951.5,359667]
[null,"0021341",27,378,"27-378",27,378,"27-378",325,"02",40,14,"Parcel, USPS, or courier","Truck/Freight",1366,11,19,24,"N","N","N","N",46.4,1113.5999999999999]
[null,"0021357",46,99999,"46-99999",27,99999,"27-99999",4245,"03","03","05","Company-owned truck","Truck/Freight",8982,59029,29,41,"N","N","N","N",55.3,2267.2999999999997]
[null,"0021391",27,378,"27-378",27,99999,"27-99999",4244,"03","05","04","For-hire truck","Truck/Freight",1668,116,80,97,"Y","N","N","N",1588.5,154084.5]
[null,"0021512",27,99999,"27-99999",27,99999,"27-99999",325,"02","04","04","For-hire truck","Truck/Freight",2083,49015,14,27,"N","N","N","N",86.6,2338.1999999999998]
[null,"0021593",27,378,"27-378",27,378,"27-378",332,"03",32,"05","Company-owned truck","Truck/Freight",790,5,20,26,"N","N","N","N",60.8,1580.8]
[null,"0021853",31,99999,"31-99999",27,99999,"27-99999",4235,"04",32,"05","Company-owned truck","Truck/Freight",5173,15125,301,370,"N","N","N","N",203.7,75369]
[null,"0021865",38,99999,"38-99999",27,99999,"27-99999",4244,"03",43,"05","Company-owned truck","Truck/Freight",30290,21923,53,59,"Y","N","N","N",110.6,6525.4]
[null,"0021866",27,378,"27-378",27,378,"27-378",332,"02",32,"04","For-hire truck","Truck/Freight",342,137,10,14,"N","N","N","N",687.3,9622.1999999999989]
[null,"0021898",27,378,"27-378",27,378,"27-378",4235,"04",33,"04","For-hire truck","Truck/Freight",519,327,18,25,"N","N","N","N",704.4,17610]
[null,"0021944",38,99999,"38-99999",27,99999,"27-99999",4234,"02",43,14,"Parcel, USPS, or courier","Truck/Freight",172,17,109,120,"N","N","N","N",87.4,10488]
[null,"0021993",27,378,"27-378",27,99999,"27-99999",4231,"02",34,"05","Company-owned truck","Truck/Freight",25,4,214,259,"N","N","N","N",7656.6,{"$f":"W603*R603","v":1983059.4000000001}]
[null,"0022099",27,378,"27-378",27,378,"27-378",4244,"04",43,"05","Company-owned truck","Truck/Freight",1034,480,12,19,"Y","N","N","N",2705,51395]
[null,"0022146",24,47900,"24-47900",27,378,"27-378",326,"03",24,"04","For-hire truck","Truck/Freight",730,3,923,1100,"N","N","N","N",202.3,222530]
[null,"0022154",41,440,"41-440",27,378,"27-378",332,"01",33,"04","For-hire truck","Truck/Freight",3317,1077,1368,1674,"N","N","N","N",586.1,981131.4]
[null,"0022173",26,220,"26-220",27,99999,"27-99999",4239,"02",35,14,"Parcel, USPS, or courier","Truck/Freight",48,1,641,801,"N","N","N","N",580.1,464660.10000000003]
[null,"0022178",27,378,"27-378",27,99999,"27-99999",4249,"03",43,"05","Company-owned truck","Truck/Freight",242,27,52,55,"N","N","N","N",1645.8,90519]
[null,"0022180",55,99999,"55-99999",27,378,"27-378",311,"03","07","04","For-hire truck","Truck/Freight",35315,13712,126,158,"Y","N","N","N",93.7,14804.6]
[null,"0022247",27,378,"27-378",27,378,"27-378",326,"03",24,14,"Parcel, USPS, or courier","Truck/Freight",206,2,16,22,"N","N","N","N",44.4,976.8]
[null,"0022265",27,99999,"27-99999",27,99999,"27-99999",335,"01",35,"04","For-hire truck","Truck/Freight",122207,19745,2,5,"N","N","N","N",15.6,78]
[null,"0022317",27,378,"27-378",27,378,"27-378",551114,"01",35,"05","Company-owned truck","Truck/Freight",5682,542,26,34,"N","N","N","N",570.29999999999995,19390.199999999997]
[null,"0022324",27,378,"27-378",27,378,"27-378",4235,"03",32,"04","For-hire truck","Truck/Freight",88,52,2,3,"N","N","N","N",8604.9,25814.699999999997]
[null,"0022341",27,378,"27-378",27,378,"27-378",4237,"02",33,14,"Parcel, USPS, or courier","Truck/Freight",519,33,27,38,"N","N","N","N",624.5,23731]
[null,"0022345",27,378,"27-378",27,378,"27-378",4238,"03",36,"04","For-hire truck","Truck/Freight",16,5,12,20,"N","N","N","N",35.1,702]
[null,"0022395",55,376,"55-376",27,378,"27-378",311,"03","06","04","For-hire truck","Truck/Freight",51442,25431,264,304,"N","N","N","N",21.5,6536]
[null,"0022468",27,99999,"27-99999",27,99999,"27-99999",4237,"03",33,"05","Company-owned truck","Truck/Freight",6,2,15,15,"N","N","N","N",2281.9,34228.5]
[null,"0022506",55,376,"55-376",27,378,"27-378",312,"02","08","04","For-hire truck","Truck/Freight",13718,40336,295,336,"N","N","N","N",113.6,38169.599999999999]
[null,"0022533",27,378,"27-378",27,378,"27-378",4237,"03",43,"05","Company-owned truck","Truck/Freight",1338,90,18,25,"N","N","N","N",2368.4,59210]
[null,"0022556",34,408,"34-408",27,378,"27-378",337,"03",39,"04","For-hire truck","Truck/Freight",4637,455,1021,1233,"N","N","N","N",54.1,66705.3]
[null,"0022593",42,99999,"42-99999",27,378,"27-378",316,"04",30,14,"Parcel, USPS, or courier","Truck/Freight",598,12,715,851,"N","N","N","N",69.400000000000006,59059.4]
[null,"0022612",49,482,"49-482",27,99999,"27-99999",335,"02",31,"04","For-hire truck","Truck/Freight",34751,3159,1063,1324,"N","N","N","N",52.2,69112.800000000003]
[null,"0022811","06",41740,"06-41740",27,99999,"27-99999",4236,"04",33,14,"Parcel, USPS, or courier","Truck/Freight",9091,33,1551,2049,"N","N","N","N",1912.8,3919327.1999999997]
[null,"0022844",53,99999,"53-99999",27,378,"27-378",331,"03",32,"04","For-hire truck","Truck/Freight",3141,349,1139,1355,"N","N","N","N",468.1,634275.5]
[null,"0022903",27,378,"27-378",27,378,"27-378",4238,"04",24,"04","For-hire truck","Truck/Freight",89,9,10,10,"N","N","N","N",34.299999999999997,343]
[null,"0023019",27,99999,"27-99999",27,99999,"27-99999",321,"03",26,"04","For-hire truck","Truck/Freight",706,1806,23,36,"N","N","N","N",450.9,16232.4]
[null,"0023115",55,99999,"55-99999",27,378,"27-378",327,"03",31,"05","Company-owned truck","Truck/Freight",7107,10134,60,83,"N","N","N","N",102.8,8532.4]
[null,"0023150",37,99999,"37-99999",27,378,"27-378",4246,"01",23,"04","For-hire truck","Truck/Freight",6569,3526,1084,1333,"N","N","N","N",70.099999999999994,93443.299999999988]
[null,"0023165",27,378,"27-378",27,378,"27-378",4241,"01",43,"05","Company-owned truck","Truck/Freight",5709,1643,7,8,"N","N","N","N",1963,15704]
[null,"0023289",27,378,"27-378",27,378,"27-378",4241,"01",43,"05","Company-owned truck","Truck/Freight",160,63,12,18,"N","N","N","N",9456,170208]
[null,"0023406",55,99999,"55-99999",27,378,"27-378",212,"04",12,"04","For-hire truck","Truck/Freight",224,41183,38,53,"N","N","N","N",1608,85224]
[null,"0023427",27,378,"27-378",27,378,"27-378",4231,"03",36,"05","Company-owned truck","Truck/Freight",150,36,9,26,"N","N","N","N",3753.9,97601.400000000009]
[null,"0023449",27,99999,"27-99999",27,99999,"27-99999",4249,"01","04",14,"Parcel, USPS, or courier","Truck/Freight",110,3,9,9,"N","N","N","N",7716.7,69450.3]
[null,"0023471",42,428,"42-428",27,378,"27-378",322,"03",30,"04","For-hire truck","Truck/Freight",5910,456,994,1203,"N","N","N","N",91.1,109593.29999999999]
[null,"0023493",31,99999,"31-99999",27,99999,"27-99999",322,"04",28,"04","For-hire truck","Truck/Freight",2755,10736,235,288,"N","N","N","N",15.8,4550.4000000000005]
[null,"0023523","06",488,"06-488",27,378,"27-378",331,"04",32,11,"Air (incl truck & air)","Air",2355,2,1571,2559,"N","N","N","N",154.1,394341.89999999997]
[null,"0023590",27,378,"27-378",27,378,"27-378",4244,"04","03","05","Company-owned truck","Truck/Freight",410,228,9,12,"Y","N","N","N",3311.9,39742.800000000003]
[null,"0023619",27,378,"27-378",27,378,"27-378",4238,"04",33,14,"Parcel, USPS, or courier","Truck/Freight",361,3,8,12,"N","N","N","N",3891.9,46702.8]
[null,"0023620",27,99999,"27-99999",27,99999,"27-99999",4248,"02","08","05","Company-owned truck","Truck/Freight",18732,22608,42,45,"N","N","N","N",78.900000000000006,3550.5000000000005]
[null,"0023703",27,378,"27-378",27,378,"27-378",4541,"03",21,"05","Company-owned truck","Truck/Freight",26,1,5,7,"N","N","N","N",39433.800000000003,276036.60000000003]
[null,"0023813",38,99999,"38-99999",27,99999,"27-99999",4235,"02",32,"05","Company-owned truck","Truck/Freight",1402,3288,24,25,"N","N","N","N",775.8,19395]
[null,"0023814",20,556,"20-556",27,99999,"27-99999",4541,"01",39,14,"Parcel, USPS, or courier","Truck/Freight",26,12,680,787,"N","N","N","N",4640.2,3651837.4]
[null,"0023832",27,378,"27-378",27,378,"27-378",212,"01",13,"04","For-hire truck","Truck/Freight",182,44218,3,3,"N","N","N","N",124.7,374.1]
[null,"0024024",27,378,"27-378",27,378,"27-378",551114,"04",38,14,"Parcel, USPS, or courier","Truck/Freight",11328,4,7,8,"N","N","N","N",1071.8,8574.4]
[null,"0024107",38,99999,"38-99999",27,99999,"27-99999",4237,"03",43,"05","Company-owned truck","Truck/Freight",266,2,91,102,"N","N","N","N",546.29999999999995,55722.6]
[null,"0024141",27,99999,"27-99999",27,99999,"27-99999",4234,"01","04","05","Company-owned truck","Truck/Freight",146,55,54,63,"Y","N","N","N",105.9,6671.7000000000007]
[null,"0024241",27,99999,"27-99999",27,378,"27-378",311,"03","07","04","For-hire truck","Truck/Freight",26362,39268,74,85,"Y","N","N","N",50.7,4309.5]
[null,"0024289",27,378,"27-378",27,378,"27-378",4248,"03","08","05","Company-owned truck","Truck/Freight",1019,1031,5,7,"N","N","N","N",725.5,5078.5]
[null,"0024306",27,378,"27-378",27,378,"27-378",4236,"04",38,"04","For-hire truck","Truck/Freight",46,1,20,29,"N","N","N","N",3518.7,102042.29999999999]
[null,"0024318",55,99999,"55-99999",27,99999,"27-99999",212,"03",11,"06","Rail","Rail",3954,210262,315,472,"N","Y","C","N",317.10000000000002,149671.20000000001]
[null,"0024320",27,378,"27-378",27,378,"27-378",326,"03",23,14,"Parcel, USPS, or courier","Truck/Freight",1100,9,15,21,"N","N","N","N",294.2,6178.2]
[null,"0024326",19,99999,"19-99999",27,378,"27-378",325,"01","04",15,"Truck and rail","Rail",9508,212892,108,167,"N","N","N","N",132.80000000000001,22177.600000000002]
[null,"0024341",47,400,"47-400",27,378,"27-378",331,"04",31,"04","For-hire truck","Truck/Freight",20061,8172,714,897,"N","N","N","N",56.5,50680.5]
[null,"0024418",27,378,"27-378",27,378,"27-378",311,"03","06","05","Company-owned truck","Truck/Freight",8226,54840,16,24,"N","N","N","N",52.1,1250.4000000000001]
[null,"0024557",27,378,"27-378",27,378,"27-378",4231,"03",36,"05","Company-owned truck","Truck/Freight",9,13,25,31,"N","N","N","N",7705.5,238870.5]
[null,"0024586",27,99999,"27-99999",27,99999,"27-99999",4241,"01",43,"05","Company-owned truck","Truck/Freight",66,4,14,14,"N","N","N","N",754.5,10563]
[null,"0024668",27,99999,"27-99999",27,99999,"27-99999",45431,"02",19,"05","Company-owned truck","Truck/Freight",296,870,8,10,"N","N","N","H",579,5790]
[null,"0024690",27,99999,"27-99999",27,99999,"27-99999",4541,"02",24,"04","For-hire truck","Truck/Freight",163,6,15,15,"N","N","N","N",13447.5,201712.5]
[null,"0024724",23,99999,"23-99999",27,378,"27-378",316,"01",40,14,"Parcel, USPS, or courier","Truck/Freight",38,5,1123,1480,"N","N","N","N",184.1,272468]
[null,"0024726",28,99999,"28-99999",27,378,"27-378",551114,"01",24,"04","For-hire truck","Truck/Freight",361,181,887,1032,"N","N","N","N",169.6,175027.19999999998]
[null,"0024735",47,314,"47-314",27,378,"27-378",4238,"04",33,14,"Parcel, USPS, or courier","Truck/Freight",497,5,811,978,"N","N","N","N",408.7,399708.6]
[null,"0024817",55,376,"55-376",27,99999,"27-99999",4232,"03",31,14,"Parcel, USPS, or courier","Truck/Freight",12,1,269,323,"N","N","N","N",320.3,103456.90000000001]
[null,"0024840",48,206,"48-206",27,378,"27-378",314,"01",30,"04","For-hire truck","Truck/Freight",24057,524,863,941,"N","N","N","N",43.5,40933.5]
[null,"0024842",27,378,"27-378",27,378,"27-378",4242,"03",20,14,"Parcel, USPS, or courier","Truck/Freight",396,19,18,21,"N","N","N","N",4789.3,100575.3]
[null,"0025055",27,378,"27-378",27,378,"27-378",4236,"04",34,"04","For-hire truck","Truck/Freight",389,35,2,4,"N","N","N","N",3487.8,13951.2]
[null,"0025075",27,378,"27-378",27,378,"27-378",4231,"04",36,"04","For-hire truck","Truck/Freight",461,50,4,4,"N","N","N","N",1602.3,6409.2]
[null,"0025088",27,378,"27-378",27,378,"27-378",4931,"04","07","04","For-hire truck","Truck/Freight",191,581,3,8,"Y","N","N","N",88,{"$f":"W667*R667","v":704}]
[null,"0025150",51,99999,"51-99999",27,99999,"27-99999",4931,"02",38,14,"Parcel, USPS, or courier","Truck/Freight",285,3,1019,1253,"N","N","N","N",1101.9000000000001,1380680.7000000002]
[null,"0025298",27,378,"27-378",27,378,"27-378",4238,"04",36,"04","For-hire truck","Truck/Freight",754,45,4,4,"N","N","N","N",81.2,324.8]
[null,"0025415",27,378,"27-378",27,378,"27-378",314,"02",30,"04","For-hire truck","Truck/Freight",1210,395,61,79,"N","N","N","N",37.9,2994.1]
[null,"0025472",27,378,"27-378",27,378,"27-378",4231,"01",36,14,"Parcel, USPS, or courier","Truck/Freight",133,14,6,7,"N","N","N","N",855.4,5987.8]
[null,"0025481",17,176,"17-176",27,378,"27-378",4236,"03",38,14,"Parcel, USPS, or courier","Truck/Freight",2615,32,333,386,"N","N","N","N",1632.5,630145]
[null,"0025501",27,99999,"27-99999",27,99999,"27-99999",4237,"02",32,"05","Company-owned truck","Truck/Freight",91,5,21,28,"N","N","N","N",1038.0999999999999,29066.799999999996]
[null,"0025516",27,99999,"27-99999",27,99999,"27-99999",45431,"01",19,"05","Company-owned truck","Truck/Freight",325,937,16,16,"N","N","N","H",75.099999999999994,1201.5999999999999]
[null,"0025527",13,122,"13-122",27,99999,"27-99999",311,"04",43,"04","For-hire truck","Truck/Freight",43430,26502,970,1243,"Y","N","N","N",60.8,75574.399999999994]
[null,"0025669",55,99999,"55-99999",27,378,"27-378",4931,"01",26,"04","For-hire truck","Truck/Freight",66901,19741,3,8,"N","N","N","N",47.4,379.2]
[null,"0025690",55,99999,"55-99999",27,378,"27-378",4931,"04",43,"05","Company-owned truck","Truck/Freight",127221,32601,66,76,"N","N","N","N",267.10000000000002,20299.600000000002]
[null,"0025697",27,378,"27-378",27,378,"27-378",4244,"04","07","05","Company-owned truck","Truck/Freight",24,11,9,12,"N","N","N","N",8796,105552]
[null,"0025699",36,464,"36-464",27,378,"27-378",316,"02",26,14,"Parcel, USPS, or courier","Truck/Freight",81,32,791,1057,"N","N","N","N",619,654283]
[null,"0025762",27,378,"27-378",27,378,"27-378",4243,"01",30,"04","For-hire truck","Truck/Freight",19,1,2,2,"N","N","N","N",31366.5,62733]
[null,"0025821",53,500,"53-500",27,378,"27-378",333,"01",34,14,"Parcel, USPS, or courier","Truck/Freight",1834,7,1397,1679,"N","N","N","N",164.5,276195.5]
[null,"0025822",26,266,"26-266",27,99999,"27-99999",333,"03",43,14,"Parcel, USPS, or courier","Truck/Freight",24,5,499,737,"N","N","N","N",884.1,651581.70000000007]
[null,"0025932",27,99999,"27-99999",27,99999,"27-99999",325,"03",33,"05","Company-owned truck","Truck/Freight",3773,384,2,5,"N","N","N","N",24.6,123]
[null,"0025978",27,378,"27-378",27,378,"27-378",4234,"02",35,"04","For-hire truck","Truck/Freight",86,2,5,9,"N","N","N","N",731.3,6581.7]
[null,"0026007",55,99999,"55-99999",27,378,"27-378",4237,"04",34,"04","For-hire truck","Truck/Freight",32,9,12,19,"N","N","N","N",2831.8,53804.200000000004]
[null,"0026024",27,378,"27-378",27,378,"27-378",5111,"01",29,14,"Parcel, USPS, or courier","Truck/Freight",15,1,36,39,"N","N","N","N",56.3,2195.6999999999998]
[null,"0026051",27,99999,"27-99999",27,99999,"27-99999",212,"04",14,"06","Rail","Rail",677646,25097979,33,51,"N","N","N","N",6.6,336.59999999999997]
[null,"0026087",27,99999,"27-99999",27,99999,"27-99999",332,"02",32,"04","For-hire truck","Truck/Freight",4,13,14,14,"N","N","N","H",1038.9000000000001,14544.600000000002]
[null,"0026097",29,312,"29-312",27,99999,"27-99999",339,"04",40,14,"Parcel, USPS, or courier","Truck/Freight",148,1,361,411,"N","N","N","N",355.6,146151.6]
[null,"0026135",27,99999,"27-99999",27,99999,"27-99999",4245,"02","02","04","For-hire truck","Truck/Freight",56,943,11,11,"N","N","N","N",802.3,8825.2999999999993]
[null,"0026164",17,176,"17-176",27,378,"27-378",314,"03",30,"04","For-hire truck","Truck/Freight",1174,2775,356,426,"N","N","N","N",22.7,9670.1999999999989]
[null,"0026324",27,378,"27-378",27,378,"27-378",4236,"02",33,"04","For-hire truck","Truck/Freight",300,68,3,3,"N","N","N","N",1046.0999999999999,3138.2999999999997]
[null,"0026338",38,99999,"38-99999",27,99999,"27-99999",321,"02",43,"04","For-hire truck","Truck/Freight",17547,80519,244,276,"N","N","N","N",21.3,5878.8]
[null,"0026343",42,430,"42-430",27,378,"27-378",335,"03",35,14,"Parcel, USPS, or courier","Truck/Freight",76,19,739,889,"N","N","N","N",711.2,632256.80000000005]
[null,"0026354",27,99999,"27-99999",27,378,"27-378",311,"01","07","04","For-hire truck","Truck/Freight",36385,39065,20,24,"Y","N","N","N",50.7,1216.8000000000002]
[null,"0026363",27,378,"27-378",27,378,"27-378",4236,"01",24,"04","For-hire truck","Truck/Freight",23,4,14,19,"N","N","N","N",2820.4,53587.6]
[null,"0026418",46,99999,"46-99999",27,378,"27-378",333,"01",34,"04","For-hire truck","Truck/Freight",126,3,202,239,"N","N","N","N",98.6,23565.399999999998]
[null,"0026449",27,99999,"27-99999",27,99999,"27-99999",326,"02",24,"04","For-hire truck","Truck/Freight",3593,1437,316,385,"N","Y","C","N",60,23100]
[null,"0026752",27,378,"27-378",27,378,"27-378",4238,"03",34,14,"Parcel, USPS, or courier","Truck/Freight",3598,2,20,25,"N","N","N","N",662.7,16567.5]
[null,"0026776",27,99999,"27-99999",27,99999,"27-99999",325,"01","04","04","For-hire truck","Truck/Freight",2245,49864,11,11,"N","N","N","N",100.2,1102.2]
[null,"0026866","09",99999,"09-99999",27,378,"27-378",326,"03",24,"04","For-hire truck","Truck/Freight",6374,29,1107,1381,"N","N","N","N",29.4,40601.4]
[null,"0026903",46,99999,"46-99999",27,99999,"27-99999",325,"04","04","04","For-hire truck","Truck/Freight",3155,61873,60,72,"N","N","N","N",38,2736]
[null,"0026933",27,378,"27-378",27,378,"27-378",327,"03",31,"05","Company-owned truck","Truck/Freight",204,8554,16,21,"N","N","N","N",1052,22092]
[null,"0027009",55,99999,"55-99999",27,99999,"27-99999",321,"04",26,"05","Company-owned truck","Truck/Freight",2811,2983,83,117,"N","N","N","N",177.5,20767.5]
[null,"0027050",27,378,"27-378",27,378,"27-378",4243,"01",30,"04","For-hire truck","Truck/Freight",43,1,2,2,"N","N","N","N",31302.1,62604.2]
[null,"0027159",27,378,"27-378",27,378,"27-378",325,"02",32,"04","For-hire truck","Truck/Freight",221,369,38,51,"N","N","N","N",39.6,2019.6000000000001]
[null,"0027216",27,99999,"27-99999",27,99999,"27-99999",311,"02","07","06","Rail","Rail",272577,194698,14,14,"N","N","N","N",45.9,642.6]
[null,"0027312",27,378,"27-378",27,99999,"27-99999",4239,"04",41,"04","For-hire truck","Truck/Freight",3943,44172,111,124,"N","N","N","N",68.900000000000006,8543.6]
[null,"0027341",19,99999,"19-99999",27,378,"27-378",325,"03","07","04","For-hire truck","Truck/Freight",14997,50840,159,216,"N","N","N","N",214.2,46267.199999999997]
[null,"0027378",42,99999,"42-99999",27,378,"27-378",322,"01",40,"04","For-hire truck","Truck/Freight",30849,34235,860,1033,"N","N","N","N",140.5,145136.5]
[null,"0027440",27,99999,"27-99999",27,99999,"27-99999",4238,"01",28,"04","For-hire truck","Truck/Freight",159,42,8,8,"N","N","N","N",1730,13840]
[null,"0027472",55,99999,"55-99999",27,378,"27-378",322,"03",27,"04","For-hire truck","Truck/Freight",13768,39153,179,229,"N","N","N","N",183.6,42044.4]
[null,"0027516","06",99999,"06-99999",27,378,"27-378",311,"02","07","04","For-hire truck","Truck/Freight",12237,36541,1559,2078,"N","N","N","N",107.8,224008.4]
[null,"0027529",27,378,"27-378",27,99999,"27-99999",4249,"03",23,"05","Company-owned truck","Truck/Freight",1964,50,55,69,"N","N","N","N",705.2,48658.8]
[null,"0027564",27,99999,"27-99999",27,99999,"27-99999",4233,"01",33,"05","Company-owned truck","Truck/Freight",1130,208,84,97,"N","N","N","N",1109.7,107640.90000000001]
[null,"0027565",27,378,"27-378",27,378,"27-378",336,"04",37,14,"Parcel, USPS, or courier","Truck/Freight",554,5,4,7,"N","N","N","N",526.9,3688.2999999999997]
[null,"0027679",27,378,"27-378",27,378,"27-378",4931,"04",34,"04","For-hire truck","Truck/Freight",9761,1297,12,14,"N","N","N","N",44.9,628.6]
[null,"0027750",27,99999,"27-99999",27,378,"27-378",333,"03",36,"05","Company-owned truck","Truck/Freight",103453,4558,102,121,"N","N","N","N",43.7,5287.7000000000007]
[null,"0027757",55,99999,"55-99999",27,378,"27-378",4238,"02",36,14,"Parcel, USPS, or courier","Truck/Freight",187,12,179,188,"N","N","N","N",998.3,187680.4]
[null,"0027758",27,378,"27-378",27,99999,"27-99999",331,"02",32,"04","For-hire truck","Truck/Freight",14896,50071,134,154,"N","N","N","N",159.30000000000001,24532.2]
[null,"0027803",27,378,"27-378",27,378,"27-378",4244,"01",43,"05","Company-owned truck","Truck/Freight",11364,9996,19,28,"Y","N","N","N",1547,43316]
[null,"0027806",27,378,"27-378",27,378,"27-378",4233,"02",43,"05","Company-owned truck","Truck/Freight",175,178,10,15,"N","N","N","N",189.9,2848.5]
[null,"0027873",27,378,"27-378",27,99999,"27-99999",311,"01","07","04","For-hire truck","Truck/Freight",61310,36022,96,119,"Y","N","N","N",34.1,4057.9]
[null,"0027959",12,422,"12-422",27,378,"27-378",4243,"01",30,14,"Parcel, USPS, or courier","Truck/Freight",45,2,1315,1579,"N","N","N","N",925.6,1461522.4000000001]
[null,"0027980",27,99999,"27-99999",27,99999,"27-99999",4233,"02",26,"04","For-hire truck","Truck/Freight",522,746,90,92,"N","N","N","N",154.6,14223.199999999999]
[null,"0027991","06",488,"06-488",27,378,"27-378",4541,"02",35,14,"Parcel, USPS, or courier","Truck/Freight",577,12,1574,2062,"N","N","N","N",3291.6,6787279.2000000002]
[null,"0028039",41,99999,"41-99999",27,378,"27-378",321,"04",26,"04","For-hire truck","Truck/Freight",34109,50663,1414,1859,"N","N","N","N",205.8,382582.2]
[null,"0028109",27,378,"27-378",27,99999,"27-99999",311,"02","07","04","For-hire truck","Truck/Freight",12524,36588,102,133,"Y","N","N","N",54.5,7248.5]
[null,"0028184",27,378,"27-378",27,99999,"27-99999",4246,"03",20,"05","Company-owned truck","Truck/Freight",817,2193,46,57,"N","N","N","H",319.39999999999998,18205.8]
[null,"0028246",27,99999,"27-99999",27,99999,"27-99999",4232,"03",43,"05","Company-owned truck","Truck/Freight",322,41,2,5,"N","N","N","N",1723.2,8616]
[null,"0028272",27,378,"27-378",27,378,"27-378",334,"01",35,14,"Parcel, USPS, or courier","Truck/Freight",1015,18,13,16,"N","N","N","N",230.2,{"$f":"W731*R731","v":3683.2}]
[null,"0028320",27,378,"27-378",27,378,"27-378",4245,"03","03","04","For-hire truck","Truck/Freight",8892,59609,68,76,"N","N","N","N",1647.8,125232.8]
[null,"0028414",44,148,"44-148",27,378,"27-378",4231,"01",36,14,"Parcel, USPS, or courier","Truck/Freight",13,1,1128,1395,"N","N","N","N",1353.1,1887574.4999999998]
[null,"0028496",19,99999,"19-99999",27,99999,"27-99999",4239,"02",41,"04","For-hire truck","Truck/Freight",9397,41847,295,341,"N","N","N","N",29.4,10025.4]
[null,"0028497",27,378,"27-378",27,99999,"27-99999",4249,"03","09","05","Company-owned truck","Truck/Freight",161,13,105,124,"N","N","N","N",1627.5,201810]
[null,"0028580",27,378,"27-378",27,99999,"27-99999",4244,"01","02","04","For-hire truck","Truck/Freight",4883,5483,294,357,"N","N","N","N",1146.8,409407.6]
[null,"0028625",16,99999,"16-99999",27,378,"27-378",333,"03",34,14,"Parcel, USPS, or courier","Truck/Freight",199,1,1128,1439,"N","N","N","N",1851.5,2664308.5]
[null,"0028704",27,99999,"27-99999",27,99999,"27-99999",332,"02",24,"05","Company-owned truck","Truck/Freight",27417,6323,33,40,"N","N","N","N",40,1600]
[null,"0028738",27,99999,"27-99999",27,378,"27-378",311,"02","07","04","For-hire truck","Truck/Freight",30850,38666,20,24,"Y","N","N","N",49.3,1183.1999999999998]
[null,"0028765",12,45300,"12-45300",27,378,"27-378",5111,"02",29,14,"Parcel, USPS, or courier","Truck/Freight",362,15,1304,1570,"N","N","N","N",659.3,1035100.9999999999]
[null,"0028794",19,99999,"19-99999",27,99999,"27-99999",311,"02","04","04","For-hire truck","Truck/Freight",1273,38927,68,90,"N","N","N","N",105.8,9522]
[null,"0028821",27,378,"27-378",27,378,"27-378",212,"02",12,"04","For-hire truck","Truck/Freight",66,43072,11,15,"N","N","N","N",7801.1,117016.5]
[null,"0028854",27,378,"27-378",27,378,"27-378",4244,"01",43,"04","For-hire truck","Truck/Freight",81,41,3,3,"N","N","N","N",2867.5,8602.5]
[null,"0028921",55,99999,"55-99999",27,378,"27-378",4233,"04",26,"05","Company-owned truck","Truck/Freight",11,2,128,155,"N","N","N","N",1076.3,166826.5]
[null,"0028965",47,400,"47-400",27,99999,"27-99999",325,"04",23,"04","For-hire truck","Truck/Freight",251,80,646,804,"N","N","N","N",58.7,47194.8]
[null,"0028971",27,99999,"27-99999",27,99999,"27-99999",5111,"02",29,"04","For-hire truck","Truck/Freight",2,1,19,19,"N","N","N","N",27395.1,520506.89999999997]
[null,"0028989",27,378,"27-378",27,378,"27-378",337,"01",39,"04","For-hire truck","Truck/Freight",384,493,65,78,"N","N","N","N",277.2,21621.599999999999]
[null,"0029016",27,99999,"27-99999",27,99999,"27-99999",4247,"04",17,"04","For-hire truck","Truck/Freight",13754,43337,9,12,"N","N","N","P",520.79999999999995,6249.5999999999995]
[null,"0029080",19,99999,"19-99999",27,99999,"27-99999",4249,"02","02","05","Company-owned truck","Truck/Freight",3326,59497,20,32,"N","N","N","N",177.4,5676.8]
[null,"0029142",27,99999,"27-99999",27,99999,"27-99999",321,"03",26,"04","For-hire truck","Truck/Freight",1215,54028,103,113,"N","N","N","N",79.5,8983.5]
[null,"0029167",27,99999,"27-99999",27,99999,"27-99999",311,"01","07",16,"Truck and water","Water",541,119,180,995,"N","Y","C","N",21.5,21392.5]
[null,"0029188",36,104,"36-104",27,378,"27-378",4249,"02",20,"04","For-hire truck","Truck/Freight",36675,37940,1050,1321,"N","N","N","H",138.9,183486.9]
[null,"0029233",27,378,"27-378",27,378,"27-378",4231,"04",36,"04","For-hire truck","Truck/Freight",5373,1097,6,7,"N","N","N","N",163.19999999999999,1142.3999999999999]
[null,"0029237",27,99999,"27-99999",27,99999,"27-99999",4248,"01","08","05","Company-owned truck","Truck/Freight",534,917,17,21,"N","N","N","N",421.1,8843.1]
[null,"0029358",27,99999,"27-99999",27,378,"27-378",325,"04","04","04","For-hire truck","Truck/Freight",1410,49474,118,168,"N","N","N","N",146.80000000000001,24662.400000000001]
[null,"0029540",27,99999,"27-99999",27,99999,"27-99999",4249,"03",23,"05","Company-owned truck","Truck/Freight",30000,3188,124,137,"N","N","N","H",577,79049]
[null,"0029542",41,440,"41-440",27,378,"27-378",333,"01",35,14,"Parcel, USPS, or courier","Truck/Freight",136,5,1444,1750,"N","N","N","N",4901.8999999999996,8578325]
[null,"0029622",27,99999,"27-99999",27,99999,"27-99999",337,"02",39,"05","Company-owned truck","Truck/Freight",3967,417,7,7,"N","N","N","N",245.5,1718.5]
[null,"0029702",27,378,"27-378",27,378,"27-378",4244,"01","03","05","Company-owned truck","Truck/Freight",1582,2012,23,33,"Y","N","N","N",883,29139]
[null,"0029765",31,420,"31-420",27,99999,"27-99999",4241,"03",24,14,"Parcel, USPS, or courier","Truck/Freight",819,45,190,265,"N","N","N","N",857.4,227211]
[null,"0029897",39,198,"39-198",27,99999,"27-99999",4931,"02",30,14,"Parcel, USPS, or courier","Truck/Freight",18,2,910,1137,"N","N","N","N",111129.2,126353900.39999999]
[null,"0029916",27,378,"27-378",27,378,"27-378",4238,"02",34,"04","For-hire truck","Truck/Freight",31,1,19,28,"N","N","N","N",3889.1,108894.8]
[null,"0030009",55,99999,"55-99999",27,378,"27-378",4238,"02",40,"04","For-hire truck","Truck/Freight",2343,385,197,206,"N","N","N","N",233.8,48162.8]
[null,"0030022",27,378,"27-378",27,378,"27-378",334,"03",35,11,"Air (incl truck & air)","Air",2804,14,15,351,"N","Y","E","N",86.5,30361.5]
[null,"0030051","06",488,"06-488",27,99999,"27-99999",339,"03",38,11,"Air (incl truck & air)","Air",2056,5,1656,2679,"N","N","N","N",181.8,487042.2]
[null,"0030069",47,400,"47-400",27,378,"27-378",4243,"04",30,"04","For-hire truck","Truck/Freight",51367,20836,693,889,"N","N","N","N",19.3,17157.7]
[null,"0030115",27,99999,"27-99999",27,99999,"27-99999",4236,"02",34,"04","For-hire truck","Truck/Freight",3978,556,92,100,"N","N","N","N",118.7,11870]
[null,"0030146",27,378,"27-378",27,378,"27-378",333,"02",33,11,"Air (incl truck & air)","Air",4164,88,7,347,"N","Y","E","N",206.3,71586.100000000006]
[null,"0030172",27,99999,"27-99999",27,99999,"27-99999",5111,"04",29,14,"Parcel, USPS, or courier","Truck/Freight",102,2,13,13,"N","N","N","N",7958.9,103465.7]
[null,"0030220",19,99999,"19-99999",27,99999,"27-99999",4238,"01",34,14,"Parcel, USPS, or courier","Truck/Freight",522,136,113,148,"N","N","N","N",4327.2,640425.6]
[null,"0030222",55,99999,"55-99999",27,378,"27-378",325,"01",20,"05","Company-owned truck","Truck/Freight",1425,43858,88,107,"Y","N","N","H",82.6,8838.1999999999989]
[null,"0030281",27,99999,"27-99999",27,378,"27-378",312,"03","08","05","Company-owned truck","Truck/Freight",20033,40585,77,102,"N","N","N","N",14.8,1509.6000000000001]
[null,"0030293",27,378,"27-378",27,378,"27-378",4238,"03",36,"04","For-hire truck","Truck/Freight",2152,90,4,4,"N","N","N","N",120.9,483.6]
[null,"0030299",27,99999,"27-99999",27,99999,"27-99999",311,"02","07","04","For-hire truck","Truck/Freight",7925,60173,29,42,"N","N","N","N",197.4,8290.8000000000011]
[null,"0030305",27,378,"27-378",27,378,"27-378",4231,"03",35,14,"Parcel, USPS, or courier","Truck/Freight",89,1,3,3,"N","N","N","N",14778.2,44334.600000000006]
[null,"0030429",37,450,"37-450",27,378,"27-378",4248,"03","08","04","For-hire truck","Truck/Freight",39207,41906,1012,1242,"N","N","N","N",256.2,318200.39999999997]
[null,"0030526",27,378,"27-378",27,378,"27-378",4931,"02",34,"04","For-hire truck","Truck/Freight",1928,136,20,26,"N","N","N","N",74.599999999999994,1939.6]
[null,"0030570",27,99999,"27-99999",27,99999,"27-99999",4238,"01",33,14,"Parcel, USPS, or courier","Truck/Freight",95,2,73,92,"N","N","N","N",1225.5999999999999,112755.2]
[null,"0030625",27,378,"27-378",27,99999,"27-99999",4249,"03",43,"05","Company-owned truck","Truck/Freight",145,5,57,66,"N","N","N","N",1619,106854]
[null,"0030885",55,99999,"55-99999",27,99999,"27-99999",4246,"01",20,"05","Company-owned truck","Truck/Freight",911,2998,234,282,"N","N","N","H",463.2,130622.39999999999]
[null,"0030932",27,99999,"27-99999",27,378,"27-378",332,"02",33,"04","For-hire truck","Truck/Freight",642,1645,58,68,"N","N","N","N",66.900000000000006,4549.2000000000007]
[null,"0030940",18,99999,"18-99999",27,378,"27-378",337,"03",39,"04","For-hire truck","Truck/Freight",23855,18058,570,704,"N","N","N","N",128.4,90393.600000000006]
[null,"0030969",27,378,"27-378",27,378,"27-378",4238,"04",34,"04","For-hire truck","Truck/Freight",669,7,4,5,"N","N","N","N",1200.3,6001.5]
[null,"0031019",46,99999,"46-99999",27,99999,"27-99999",4237,"02",33,"05","Company-owned truck","Truck/Freight",350,43,372,432,"N","N","N","N",398.3,172065.6]
[null,"0031061",55,376,"55-376",27,378,"27-378",339,"04",40,14,"Parcel, USPS, or courier","Truck/Freight",14,2,295,340,"N","N","N","N",344.3,117062]
[null,"0031091",27,99999,"27-99999",27,99999,"27-99999",4249,"04","04","04","For-hire truck","Truck/Freight",3280,30705,73,102,"N","N","N","N",231.4,23602.799999999999]
[null,"0031107",27,378,"27-378",27,378,"27-378",4239,"04",43,"04","For-hire truck","Truck/Freight",13,1,5,5,"N","N","N","N",640.5,3202.5]
[null,"0031120",27,378,"27-378",27,378,"27-378",4244,"01",29,"05","Company-owned truck","Truck/Freight",90,35,10,10,"N","N","N","N",797,7970]
[null,"0031162",27,99999,"27-99999",27,99999,"27-99999",311,"01","07","04","For-hire truck","Truck/Freight",7133,49337,105,145,"N","N","N","N",412,59740]
[null,"0031166",29,476,"29-476",27,99999,"27-99999",4237,"01",40,14,"Parcel, USPS, or courier","Truck/Freight",614,43,537,640,"N","N","N","N",3766.5,2410560]
[null,"0031231",27,99999,"27-99999",27,99999,"27-99999",322,"04",29,"05","Company-owned truck","Truck/Freight",2904,565,13,13,"N","N","N","N",301.2,3915.6]
[null,"0031295",18,99999,"18-99999",27,99999,"27-99999",327,"01",31,"04","For-hire truck","Truck/Freight",12388,30616,616,755,"N","N","N","N",113,85315]
[null,"0031332",27,99999,"27-99999",27,99999,"27-99999",321,"01",26,"04","For-hire truck","Truck/Freight",8625,49462,12,13,"N","N","N","N",64.8,842.4]
[null,"0031367",27,378,"27-378",27,99999,"27-99999",333,"03",33,14,"Parcel, USPS, or courier","Truck/Freight",48,1,67,84,"N","N","N","N",875.3,73525.2]
[null,"0031368",17,176,"17-176",27,378,"27-378",326,"01",24,"04","For-hire truck","Truck/Freight",14320,9861,339,402,"N","N","N","N",70.400000000000006,{"$f":"W795*R795","v":28300.800000000003}]
[null,"0031376",27,99999,"27-99999",27,99999,"27-99999",312,"04","07","04","For-hire truck","Truck/Freight",1729,6375,26,29,"N","N","N","N",215.3,6243.7000000000007]
[null,"0031420",19,99999,"19-99999",27,378,"27-378",325,"03","04","04","For-hire truck","Truck/Freight",5098,50982,301,352,"N","N","N","N",46.6,16403.2]
[null,"0031433",27,99999,"27-99999",27,99999,"27-99999",4237,"04",33,14,"Parcel, USPS, or courier","Truck/Freight",489,68,12,18,"N","N","N","N",258.3,4649.4000000000005]
[null,"0031489",23,99999,"23-99999",27,378,"27-378",315,"02",30,14,"Parcel, USPS, or courier","Truck/Freight",139,11,1196,1630,"N","N","N","N",61.6,100408]
[null,"0031512",27,99999,"27-99999",27,99999,"27-99999",311,"04","07","04","For-hire truck","Truck/Freight",14940,48196,113,143,"N","N","N","N",309.89999999999998,44315.7]
[null,"0031516","06",488,"06-488",27,378,"27-378",4234,"04",34,14,"Parcel, USPS, or courier","Truck/Freight",10964,114,1565,2056,"N","N","N","N",1302.7,2678351.2000000002]
[null,"0031527",27,99999,"27-99999",27,99999,"27-99999",4238,"03",34,"05","Company-owned truck","Truck/Freight",14006,1310,42,46,"N","N","N","N",38.799999999999997,1784.8]
[null,"0031548",38,99999,"38-99999",27,99999,"27-99999",4245,"03","07","05","Company-owned truck","Truck/Freight",9993,51977,65,67,"N","N","N","N",121.8,8160.5999999999995]
[null,"0031550",27,378,"27-378",27,99999,"27-99999",4231,"03",24,"05","Company-owned truck","Truck/Freight",138,23,123,133,"N","N","N","N",2384.8000000000002,317178.40000000002]
[null,"0031576",27,378,"27-378",27,378,"27-378",4236,"04",33,"05","Company-owned truck","Truck/Freight",70,1,29,39,"N","N","N","N",3790.1,147813.9]
[null,"0031590",27,378,"27-378",27,378,"27-378",337,"02",26,"05","Company-owned truck","Truck/Freight",219,11,31,38,"N","N","N","N",629,23902]
[null,"0031696","09",25540,"09-25540",27,99999,"27-99999",4246,"04",21,14,"Parcel, USPS, or courier","Truck/Freight",99,5,1041,1270,"Y","N","N","H",1438.8,1827276]
[null,"0031772",55,99999,"55-99999",27,378,"27-378",4239,"01",41,"04","For-hire truck","Truck/Freight",8786,53217,72,76,"N","N","N","N",65.400000000000006,4970.4000000000005]
[null,"0031806",25,148,"25-148",27,99999,"27-99999",311,"04","04","04","For-hire truck","Truck/Freight",5348,48842,1272,1614,"N","N","N","N",36.1,58265.4]
[null,"0031808",18,258,"18-258",27,99999,"27-99999",332,"02",34,"04","For-hire truck","Truck/Freight",2915,297,511,613,"N","N","N","N",165.4,101390.2]
[null,"0031851",27,378,"27-378",27,378,"27-378",337,"01",39,14,"Parcel, USPS, or courier","Truck/Freight",66,9,34,39,"N","N","N","N",2835,110565]
[null,"0031941",36,408,"36-408",27,378,"27-378",325,"04",21,14,"Parcel, USPS, or courier","Truck/Freight",1006,21,1060,1268,"N","N","N","N",187.6,237876.8]
[null,"0031949",27,99999,"27-99999",27,99999,"27-99999",4244,"01","07","05","Company-owned truck","Truck/Freight",112,99,4,4,"N","N","N","N",1844.2,7376.8]
[null,"0031987",27,99999,"27-99999",27,99999,"27-99999",4238,"03",36,"04","For-hire truck","Truck/Freight",154,5,28,40,"N","N","N","N",877.1,35084]
[null,"0032080",42,99999,"42-99999",27,378,"27-378",321,"02",26,"04","For-hire truck","Truck/Freight",3177,10238,730,889,"N","N","N","N",38.700000000000003,34404.300000000003]
[null,"0032082",27,99999,"27-99999",27,378,"27-378",326,"01",24,"04","For-hire truck","Truck/Freight",1546,258,117,143,"N","N","N","N",127.2,18189.600000000002]
[null,"0032097",41,440,"41-440",27,378,"27-378",325,"03",40,"04","For-hire truck","Truck/Freight",1470,1229,1416,1741,"N","N","N","N",20.8,36212.800000000003]
[null,"0032103",27,99999,"27-99999",27,99999,"27-99999",4245,"01","02","05","Company-owned truck","Truck/Freight",6298,55159,12,12,"N","N","N","N",279.60000000000002,3355.2000000000003]
[null,"0032115",27,99999,"27-99999",27,378,"27-378",334,"01",35,14,"Parcel, USPS, or courier","Truck/Freight",10209,53,57,67,"N","N","N","N",44.9,3008.2999999999997]
[null,"0032147",26,266,"26-266",27,378,"27-378",4233,"02",26,"04","For-hire truck","Truck/Freight",247,89,389,569,"N","N","N","N",488.9,278184.09999999998]
[null,"0032219",27,378,"27-378",27,378,"27-378",212,"02",12,"05","Company-owned truck","Truck/Freight",102,41178,5,5,"N","N","N","N",206.2,1031]
[null,"0032235",27,378,"27-378",27,378,"27-378",4241,"01",24,"05","Company-owned truck","Truck/Freight",41,18,12,16,"N","N","N","N",1040.0999999999999,16641.599999999999]
[null,"0032287",55,99999,"55-99999",27,378,"27-378",325,"04",38,14,"Parcel, USPS, or courier","Truck/Freight",28,6,201,221,"N","N","N","N",109.7,24243.7]
[null,"0032339",17,99999,"17-99999",27,378,"27-378",316,"01",30,14,"Parcel, USPS, or courier","Truck/Freight",149,5,296,413,"N","N","N","N",1354.3,559325.9]
[null,"0032352",27,378,"27-378",27,378,"27-378",45431,"04",19,"05","Company-owned truck","Truck/Freight",1615,754,10,13,"N","N","N","H",347,4511]
[null,"0032443",27,378,"27-378",27,378,"27-378",4541,"02",21,14,"Parcel, USPS, or courier","Truck/Freight",16,1,11,14,"N","N","N","N",40069.5,560973]
[null,"0032448",27,378,"27-378",27,378,"27-378",321,"04",26,14,"Parcel, USPS, or courier","Truck/Freight",219,88,88,113,"N","N","N","N",245.5,27741.5]
[null,"0032468",27,378,"27-378",27,378,"27-378",4244,"03",43,14,"Parcel, USPS, or courier","Truck/Freight",184,16,21,30,"N","N","N","N",5257.9,157737]
[null,"0032469",27,378,"27-378",27,378,"27-378",4238,"02",34,"04","For-hire truck","Truck/Freight",3592,384,6,6,"N","N","N","N",1767.3,10603.8]
[null,"0032489","06",348,"06-348",27,378,"27-378",4236,"04",35,"04","For-hire truck","Truck/Freight",415,6,1499,1903,"N","N","N","N",1984.7,3776884.1]
[null,"0032633",27,378,"27-378",27,378,"27-378",4236,"04",35,"04","For-hire truck","Truck/Freight",255,1,18,29,"N","N","N","N",873.1,25319.9]
[null,"0032673",31,420,"31-420",27,378,"27-378",333,"01",34,"04","For-hire truck","Truck/Freight",23768,6578,282,383,"N","N","N","N",87.2,33397.599999999999]
[null,"0032684",27,99999,"27-99999",27,378,"27-378",332,"02",36,"05","Company-owned truck","Truck/Freight",68,9,22,24,"N","N","N","N",259.89999999999998,6237.5999999999995]
[null,"0032708",12,45300,"12-45300",27,99999,"27-99999",4232,"01",24,14,"Parcel, USPS, or courier","Truck/Freight",76,15,1263,1509,"N","N","N","N",263.8,398074.2]
[null,"0032717",27,378,"27-378",27,378,"27-378",4244,"01",43,"05","Company-owned truck","Truck/Freight",644,305,22,36,"Y","N","N","N",2737.7,98557.2]
[null,"0032797",28,99999,"28-99999",27,378,"27-378",316,"04",30,"04","For-hire truck","Truck/Freight",261,4,873,1014,"N","N","N","N",18.3,18556.2]
[null,"0032826",27,99999,"27-99999",27,99999,"27-99999",325,"03","04","04","For-hire truck","Truck/Freight",2482,48673,32,50,"N","N","N","N",366.5,18325]
[null,"0032839",55,376,"55-376",27,378,"27-378",4238,"04",33,14,"Parcel, USPS, or courier","Truck/Freight",1914,52,354,409,"N","N","N","N",269.89999999999998,110389.09999999999]
[null,"0032921",27,99999,"27-99999",27,99999,"27-99999",311,"04","07","04","For-hire truck","Truck/Freight",81837,43810,124,148,"Y","N","N","N",35.6,5268.8]
[null,"0032944",12,99999,"12-99999",27,378,"27-378",314,"02",30,14,"Parcel, USPS, or courier","Truck/Freight",7,1,1086,1322,"N","N","N","N",678.1,896448.20000000007]
[null,"0032995",27,378,"27-378",27,378,"27-378",325,"03",20,"05","Company-owned truck","Truck/Freight",381,30726,22,31,"Y","N","N","H",644.29999999999995,19973.3]
[null,"0033034",27,378,"27-378",27,378,"27-378",325,"02",21,"05","Company-owned truck","Truck/Freight",12638,1236,8,12,"N","N","N","N",34.9,418.79999999999995]
[null,"0033073","09",408,"09-408",27,378,"27-378",335,"03",35,14,"Parcel, USPS, or courier","Truck/Freight",61,2,1043,1291,"N","N","N","N",191.4,247097.4]
[null,"0033101",36,408,"36-408",27,378,"27-378",4242,"04",23,"04","For-hire truck","Truck/Freight",145,16,1027,1227,"N","N","N","N",580.79999999999995,712641.6]
[null,"0033106",27,378,"27-378",27,378,"27-378",4248,"04","08","05","Company-owned truck","Truck/Freight",123,84,22,30,"N","N","N","N",1078.2,32346]
[null,"0033148",27,378,"27-378",27,378,"27-378",212,"01",11,"05","Company-owned truck","Truck/Freight",71,33349,10,17,"N","N","N","N",467.6,7949.2000000000007]
[null,"0033154",27,99999,"27-99999",27,99999,"27-99999",4236,"01",35,14,"Parcel, USPS, or courier","Truck/Freight",468,23,36,43,"N","N","N","N",235.1,10109.299999999999]
[null,"0033244",27,99999,"27-99999",27,378,"27-378",334,"01",33,14,"Parcel, USPS, or courier","Truck/Freight",10184,7,58,68,"N","N","N","N",8.3000000000000007,564.40000000000009]
[null,"0033260",47,368,"47-368",27,378,"27-378",339,"02",38,14,"Parcel, USPS, or courier","Truck/Freight",1835,8,710,841,"N","N","N","N",164.6,138428.6]
[null,"0033279",27,378,"27-378",27,378,"27-378",4248,"01","08","05","Company-owned truck","Truck/Freight",893,643,23,30,"N","N","N","N",738.3,22149]
[null,"0033333",55,99999,"55-99999",27,99999,"27-99999",212,"03",11,"06","Rail","Rail",2178,210928,239,297,"N","Y","C","N",693.2,205880.40000000002]
[null,"0033372",42,99999,"42-99999",27,378,"27-378",325,"01",20,"04","For-hire truck","Truck/Freight",26409,4519,919,1114,"N","N","N","N",82,91348]
[null,"0033415",27,378,"27-378",27,378,"27-378",4931,"04","07","04","For-hire truck","Truck/Freight",202,481,13,20,"Y","N","N","N",89,1780]
[null,"0033477",27,378,"27-378",27,378,"27-378",212,"02",12,"05","Company-owned truck","Truck/Freight",52,34467,14,14,"N","N","N","N",206.5,2891]
[null,"0033507",27,378,"27-378",27,99999,"27-99999",4231,"04",36,"05","Company-owned truck","Truck/Freight",445,274,68,94,"N","N","N","N",5412.5,508775]
[null,"0033559",27,378,"27-378",27,99999,"27-99999",323,"03",27,14,"Parcel, USPS, or courier","Truck/Freight",2596,6,166,182,"N","N","N","N",139.19999999999999,25334.399999999998]
[null,"0033572",34,428,"34-428",27,378,"27-378",4244,"03","05","04","For-hire truck","Truck/Freight",4571,2014,1002,1193,"Y","N","N","N",110,131230]
[null,"0033582",21,99999,"21-99999",27,378,"27-378",322,"01",28,"04","For-hire truck","Truck/Freight",51944,25367,676,845,"N","N","N","N",46.8,39546]
[null,"0033590",27,378,"27-378",27,99999,"27-99999",314,"03",30,"04","For-hire truck","Truck/Freight",1160,22,27,38,"N","N","N","N",82.5,{"$f":"W859*R859","v":3135}]
[null,"0033592",27,378,"27-378",27,378,"27-378",332,"02",32,"04","For-hire truck","Truck/Freight",912,13,14,19,"N","N","N","N",26.5,503.5]
[null,"0033617",10,428,"10-428",27,378,"27-378",331,"01",33,"04","For-hire truck","Truck/Freight",8589,15896,1003,1213,"N","N","N","N",327.5,397257.5]
[null,"0033661",27,378,"27-378",27,378,"27-378",327,"02",31,"05","Company-owned truck","Truck/Freight",1020,42754,3,5,"N","N","N","N",1073.5,5367.5]
[null,"0033663",27,378,"27-378",27,378,"27-378",4231,"02",36,"05","Company-owned truck","Truck/Freight",86,43,6,10,"N","N","N","N",15635.6,156356]
[null,"0033693",29,99999,"29-99999",27,378,"27-378",335,"02",35,14,"Parcel, USPS, or courier","Truck/Freight",6503,3,557,600,"N","N","N","H",264.3,158580]
[null,"0033802",27,99999,"27-99999",27,99999,"27-99999",4245,"04","02","04","For-hire truck","Truck/Freight",3338,60908,34,47,"N","N","N","N",300.7,14132.9]
[null,"0033810",20,99999,"20-99999",27,378,"27-378",311,"03","05","04","For-hire truck","Truck/Freight",12470,5172,584,737,"Y","N","N","N",353.2,260308.4]
[null,"0033864",13,122,"13-122",27,378,"27-378",4238,"02",40,14,"Parcel, USPS, or courier","Truck/Freight",353,5,874,1135,"N","N","N","N",931.1,1056798.5]
[null,"0033890",27,378,"27-378",27,99999,"27-99999",4231,"03",34,14,"Parcel, USPS, or courier","Truck/Freight",199,18,73,91,"N","N","N","N",1814.7,165137.70000000001]
[null,"0033900",27,378,"27-378",27,378,"27-378",4231,"03",24,"04","For-hire truck","Truck/Freight",616,90,16,20,"N","N","N","N",2418.6,48372]
[null,"0033935",27,99999,"27-99999",27,378,"27-378",4238,"04",34,14,"Parcel, USPS, or courier","Truck/Freight",520,2,201,224,"N","N","N","N",3530.5,790832]
[null,"0033964",27,378,"27-378",27,378,"27-378",45431,"02",19,"05","Company-owned truck","Truck/Freight",79,532,20,25,"N","N","N","H",1365.2,34130]
[null,"0033969",27,378,"27-378",27,378,"27-378",4244,"03","02","05","Company-owned truck","Truck/Freight",2638,3289,4,7,"N","N","N","N",1148.4000000000001,8038.8000000000011]
[null,"0033973",27,378,"27-378",27,378,"27-378",334,"03",35,"04","For-hire truck","Truck/Freight",343,5,13,19,"N","N","N","N",191.3,3634.7000000000003]
[null,"0033985",27,378,"27-378",27,378,"27-378",326,"01",38,14,"Parcel, USPS, or courier","Truck/Freight",1781,1,3,4,"N","N","N","N",52,208]
[null,"0034015",41,99999,"41-99999",27,378,"27-378",321,"01",26,"04","For-hire truck","Truck/Freight",893,57913,1456,1836,"N","N","N","N",410,752760]
[null,"0034090",38,99999,"38-99999",27,99999,"27-99999",4244,"04",43,"05","Company-owned truck","Truck/Freight",856,209,174,223,"Y","N","N","N",494.3,110228.90000000001]
[null,"0034160",27,378,"27-378",27,99999,"27-99999",4238,"04",31,"04","For-hire truck","Truck/Freight",2129,2892,103,121,"N","N","N","N",433.8,52489.8]
[null,"0034292",20,556,"20-556",27,378,"27-378",326,"03",24,"04","For-hire truck","Truck/Freight",8023,7022,549,642,"N","N","N","N",40.200000000000003,25808.400000000001]
[null,"0034429",38,99999,"38-99999",27,99999,"27-99999",4239,"01",43,"05","Company-owned truck","Truck/Freight",611,32,4,6,"N","N","N","N",50.7,304.20000000000005]
[null,"0034441",19,99999,"19-99999",27,378,"27-378",311,"03","07","04","For-hire truck","Truck/Freight",16922,52881,245,349,"N","N","N","N",607.5,212017.5]
[null,"0034783",27,378,"27-378",27,378,"27-378",334,"02",34,14,"Parcel, USPS, or courier","Truck/Freight",2504,1,21,30,"N","N","N","N",219.8,6594]
[null,"0034881",37,172,"37-172",27,378,"27-378",4238,"04",38,14,"Parcel, USPS, or courier","Truck/Freight",208,2,957,1207,"N","N","N","N",3101.7,3743751.9]
[null,"0034882",19,99999,"19-99999",27,378,"27-378",321,"01",33,"04","For-hire truck","Truck/Freight",2537,1542,212,233,"N","N","N","N",149.30000000000001,34786.9]
[null,"0034943",27,99999,"27-99999",27,99999,"27-99999",4238,"02",19,"04","For-hire truck","Truck/Freight",47,3,10,13,"N","N","N","N",37.799999999999997,491.4]
[null,"0034945",17,99999,"17-99999",27,99999,"27-99999",325,"03",20,"04","For-hire truck","Truck/Freight",18431,3124,301,419,"N","N","N","N",124.6,52207.399999999994]
[null,"0034959",55,99999,"55-99999",27,99999,"27-99999",311,"01","07","04","For-hire truck","Truck/Freight",5968,1473,101,135,"Y","N","N","N",468.2,63207]
[null,"0034970",27,378,"27-378",27,378,"27-378",311,"01",43,"05","Company-owned truck","Truck/Freight",79,31,16,21,"Y","N","N","N",3994.6,83886.599999999991]
[null,"0035000","04",536,"04-536",27,378,"27-378",4541,"02",40,14,"Parcel, USPS, or courier","Truck/Freight",41,7,1304,1625,"N","N","N","N",414.3,673237.5]
[null,"0035006",27,99999,"27-99999",27,99999,"27-99999",322,"01",28,"05","Company-owned truck","Truck/Freight",12957,4468,13,13,"N","N","N","N",85.5,1111.5]
[null,"0035101",27,378,"27-378",27,378,"27-378",323,"01",29,"04","For-hire truck","Truck/Freight",210,22,8,9,"N","N","N","N",843.2,7588.8]
[null,"0035108",19,99999,"19-99999",27,99999,"27-99999",311,"01","04","04","For-hire truck","Truck/Freight",31168,50750,76,107,"N","N","N","N",31.8,3402.6]
[null,"0035120",41,99999,"41-99999",27,378,"27-378",321,"01",26,"04","For-hire truck","Truck/Freight",9293,8335,1382,1733,"N","N","N","N",63.3,109698.9]
[null,"0035131",27,99999,"27-99999",27,99999,"27-99999",4238,"04",36,14,"Parcel, USPS, or courier","Truck/Freight",71,2,13,13,"N","N","N","N",2662.5,34612.5]
[null,"0035181",27,378,"27-378",27,378,"27-378",332,"02",38,14,"Parcel, USPS, or courier","Truck/Freight",1271,9,31,39,"N","N","N","N",612.6,23891.4]
[null,"0035221",27,378,"27-378",27,378,"27-378",4239,"01",41,"05","Company-owned truck","Truck/Freight",7884,47091,57,61,"N","N","N","N",34.5,2104.5]
[null,"0035246",31,99999,"31-99999",27,99999,"27-99999",332,"04",33,"04","For-hire truck","Truck/Freight",564,1128,329,466,"N","N","N","N",57,26562]
[null,"0035251",12,45300,"12-45300",27,378,"27-378",335,"03",35,"04","For-hire truck","Truck/Freight",10802,680,1319,1622,"N","N","N","N",148.5,240867]
[null,"0035258",27,378,"27-378",27,378,"27-378",4931,"04",39,"04","For-hire truck","Truck/Freight",425,181,2,3,"N","N","N","N",3602.4,10807.2]
[null,"0035272",55,99999,"55-99999",27,378,"27-378",212,"02",31,"04","For-hire truck","Truck/Freight",3961,39590,191,205,"N","N","N","N",574.1,117690.5]
[null,"0035304",27,378,"27-378",27,378,"27-378",339,"02",38,"05","Company-owned truck","Truck/Freight",59,1,13,20,"N","N","N","N",8514.2000000000007,170284]
[null,"0035322",27,378,"27-378",27,378,"27-378",4235,"01",32,"05","Company-owned truck","Truck/Freight",12482,32257,14,17,"N","N","N","N",180.6,3070.2]
[null,"0035332","06",348,"06-348",27,378,"27-378",4239,"04",40,14,"Parcel, USPS, or courier","Truck/Freight",2466,1,1495,1956,"N","N","N","N",104.5,204402]
[null,"0035420",38,99999,"38-99999",27,99999,"27-99999",322,"02",27,"04","For-hire truck","Truck/Freight",11076,12239,43,62,"N","N","N","N",41.6,2579.2000000000003]
[null,"0035430",27,378,"27-378",27,378,"27-378",212,"01",12,"04","For-hire truck","Truck/Freight",159,22845,4,6,"N","N","N","N",793.2,4759.2000000000007]
[null,"0035431",27,99999,"27-99999",27,378,"27-378",322,"04",29,"05","Company-owned truck","Truck/Freight",1212,49,103,116,"N","N","N","N",301,34916]
[null,"0035479","06",348,"06-348",27,99999,"27-99999",339,"03",21,11,"Air (incl truck & air)","Air",5,2,1462,1659,"N","N","N","N",959,1590981]
[null,"0035492",27,378,"27-378",27,378,"27-378",337,"01",39,"05","Company-owned truck","Truck/Freight",661,123,4,6,"N","N","N","N",92.8,556.79999999999995]
[null,"0035523",39,184,"39-184",27,99999,"27-99999",4231,"03",36,"04","For-hire truck","Truck/Freight",249,29,672,819,"N","N","N","N",1655.5,1355854.5]
[null,"0035703",55,376,"55-376",27,99999,"27-99999",337,"02",39,"04","For-hire truck","Truck/Freight",943,329,411,460,"N","N","N","N",111.3,51198]
[null,"0035712",27,378,"27-378",27,378,"27-378",4241,"04",24,"05","Company-owned truck","Truck/Freight",418,217,13,21,"N","N","N","N",1040.4000000000001,21848.400000000001]
[null,"0035727",27,378,"27-378",27,378,"27-378",4234,"01",35,14,"Parcel, USPS, or courier","Truck/Freight",21,2,39,49,"N","N","N","N",947.4,46422.6]
[null,"0035763",19,99999,"19-99999",27,378,"27-378",337,"02",32,"04","For-hire truck","Truck/Freight",6388,2237,204,289,"N","N","N","N",65.900000000000006,19045.100000000002]
[null,"0035857",27,378,"27-378",27,99999,"27-99999",4238,"02",34,"05","Company-owned truck","Truck/Freight",78636,12733,68,90,"N","N","N","N",46.4,4176]
[null,"0035867",27,99999,"27-99999",27,99999,"27-99999",4231,"01",36,"04","For-hire truck","Truck/Freight",134,27,70,87,"N","N","N","N",62.3,5420.0999999999995]
[null,"0035873",27,99999,"27-99999",27,99999,"27-99999",325,"02","04","04","For-hire truck","Truck/Freight",1356,45193,13,13,"N","N","N","N",35.200000000000003,457.6]
[null,"0035886",27,378,"27-378",27,378,"27-378",4233,"02",26,"05","Company-owned truck","Truck/Freight",418,55,13,17,"N","N","N","N",1980.1,33661.699999999997]
[null,"0035900",27,378,"27-378",27,378,"27-378",4233,"03",26,"04","For-hire truck","Truck/Freight",196,453,44,50,"N","N","N","N",555.1,27755]
[null,"0035919",38,99999,"38-99999",27,99999,"27-99999",326,"04",24,"04","For-hire truck","Truck/Freight",22804,28914,193,249,"N","N","N","N",33.799999999999997,8416.1999999999989]
[null,"0035936",19,99999,"19-99999",27,378,"27-378",331,"01",32,"04","For-hire truck","Truck/Freight",563,179,292,358,"N","N","N","N",65,23270]
[null,"0035982",27,99999,"27-99999",27,99999,"27-99999",4233,"03",26,"04","For-hire truck","Truck/Freight",23,77,140,161,"N","N","N","N",123.4,19867.400000000001]
[null,"0036078",27,99999,"27-99999",27,99999,"27-99999",4237,"04",40,"04","For-hire truck","Truck/Freight",6159,3319,57,67,"N","N","N","N",235.2,15758.4]
[null,"0036128",27,99999,"27-99999",27,99999,"27-99999",4237,"01",43,"05","Company-owned truck","Truck/Freight",727,117,23,36,"N","N","N","N",405.2,14587.199999999999]
[null,"0036199",38,99999,"38-99999",27,99999,"27-99999",4232,"04",39,"05","Company-owned truck","Truck/Freight",50421,2631,101,140,"N","N","N","N",45.5,{"$f":"W923*R923","v":6370}]
[null,"0036316",27,99999,"27-99999",27,99999,"27-99999",5111,"01",29,"05","Company-owned truck","Truck/Freight",8,7,6,8,"N","N","N","N",1608.6,12868.8]
[null,"0036398",27,378,"27-378",27,378,"27-378",311,"01","06","04","For-hire truck","Truck/Freight",13,2,2,2,"N","N","N","N",4472,8944]
[null,"0036469",48,288,"48-288",27,99999,"27-99999",4239,"03",40,14,"Parcel, USPS, or courier","Truck/Freight",62,2,968,1114,"N","N","N","N",1211,1349054]
[null,"0036470",55,99999,"55-99999",27,378,"27-378",4238,"04",34,"05","Company-owned truck","Truck/Freight",8221,3836,30,42,"N","N","N","N",23,966]
[null,"0036501",17,176,"17-176",27,99999,"27-99999",4238,"04",34,14,"Parcel, USPS, or courier","Truck/Freight",201,14,341,422,"N","N","N","N",455.7,192305.4]
[null,"0036619",18,176,"18-176",27,378,"27-378",4541,"01",28,14,"Parcel, USPS, or courier","Truck/Freight",46,3,377,457,"N","N","N","N",234.1,106983.7]
[null,"0036620",27,99999,"27-99999",27,99999,"27-99999",327,"03",31,"05","Company-owned truck","Truck/Freight",342,13153,13,13,"N","N","N","N",1476.7,19197.100000000002]
[null,"0036628",27,99999,"27-99999",27,99999,"27-99999",332,"02",32,"04","For-hire truck","Truck/Freight",11244,15479,15,15,"N","N","N","N",82.6,1239]
[null,"0036804",27,378,"27-378",27,378,"27-378",315,"02",30,14,"Parcel, USPS, or courier","Truck/Freight",133,3,26,35,"N","N","N","N",39.1,1368.5]
[null,"0036827",19,99999,"19-99999",27,378,"27-378",4236,"01",35,14,"Parcel, USPS, or courier","Truck/Freight",1228,44,215,247,"N","N","N","N",906.3,223856.09999999998]
[null,"0036891",31,420,"31-420",27,378,"27-378",4231,"02",36,14,"Parcel, USPS, or courier","Truck/Freight",266,2,307,371,"N","N","N","N",395.3,146656.30000000002]
[null,"0036918","06",488,"06-488",27,99999,"27-99999",4236,"04",35,14,"Parcel, USPS, or courier","Truck/Freight",1204,2,1456,1840,"N","N","N","N",1150.8,2117472]
[null,"0036981",27,378,"27-378",27,378,"27-378",4249,"01",23,"04","For-hire truck","Truck/Freight",4690,271,31,35,"N","N","N","N",57.5,2012.5]
[null,"0037222",54,99999,"54-99999",27,378,"27-378",324,"02",19,"04","For-hire truck","Truck/Freight",11314,43515,710,854,"N","N","N","N",27.7,23655.8]
[null,"0037242",46,99999,"46-99999",27,99999,"27-99999",4245,"03","03","04","For-hire truck","Truck/Freight",7960,55556,63,89,"N","N","N","N",54.2,4823.8]
[null,"0037302",27,99999,"27-99999",27,99999,"27-99999",4238,"01",36,14,"Parcel, USPS, or courier","Truck/Freight",1,1,13,13,"N","N","N","N",1775.3,23078.899999999998]
[null,"0037306",41,440,"41-440",27,99999,"27-99999",339,"03",38,11,"Air (incl truck & air)","Air",8371,1,1490,2519,"N","N","N","N",330.4,832277.6]
[null,"0037307",27,378,"27-378",27,378,"27-378",4235,"02",33,"04","For-hire truck","Truck/Freight",44,3,2,2,"N","N","N","N",6344.9,12689.8]
[null,"0037314",29,476,"29-476",27,99999,"27-99999",4239,"03",24,14,"Parcel, USPS, or courier","Truck/Freight",45,7,542,670,"N","N","N","N",41890,28066300]
[null,"0037373",27,378,"27-378",27,99999,"27-99999",4247,"02",19,"05","Company-owned truck","Truck/Freight",5119,47620,130,144,"Y","N","N","P",228,32832]
[null,"0037480",27,378,"27-378",27,378,"27-378",4238,"03",34,"04","For-hire truck","Truck/Freight",4768,886,14,19,"N","N","N","N",908.8,17267.2]
[null,"0037486",12,370,"12-370",27,378,"27-378",4238,"02",33,"04","For-hire truck","Truck/Freight",651,33,1515,1809,"N","N","N","N",243.6,440672.39999999997]
[null,"0037514",19,99999,"19-99999",27,378,"27-378",325,"03","04",15,"Truck and rail","Rail",13404,207000,108,167,"N","N","N","N",44.2,7381.4000000000005]
[null,"0037562","04",536,"04-536",27,378,"27-378",334,"03",37,14,"Parcel, USPS, or courier","Truck/Freight",1,1,1296,2250,"N","Y","C","N",228.4,513900]
[null,"0037587",29,312,"29-312",27,99999,"27-99999",4243,"04",31,14,"Parcel, USPS, or courier","Truck/Freight",101,14,537,624,"N","N","N","N",345.6,215654.40000000002]
[null,"0037628",38,99999,"38-99999",27,378,"27-378",4247,"02",18,"04","For-hire truck","Truck/Freight",3250,14801,226,250,"N","N","N","P",161.9,40475]
[null,"0037674","01",99999,"01-99999",27,99999,"27-99999",334,"03",35,14,"Parcel, USPS, or courier","Truck/Freight",99,3,875,1093,"N","N","N","N",64.599999999999994,70607.799999999988]
[null,"0037684",27,378,"27-378",27,378,"27-378",339,"03",24,"04","For-hire truck","Truck/Freight",10837,1841,47,59,"N","N","N","N",274.3,16183.7]
[null,"0037718",27,378,"27-378",27,378,"27-378",4235,"04",34,"04","For-hire truck","Truck/Freight",16,3,2,2,"N","N","N","N",4256.2,8512.4]
[null,"0037867",27,378,"27-378",27,378,"27-378",4238,"01",34,14,"Parcel, USPS, or courier","Truck/Freight",126,1,3,3,"N","N","N","N",2053.1999999999998,6159.5999999999995]
[null,"0037879",27,99999,"27-99999",27,378,"27-378",326,"03",24,"04","For-hire truck","Truck/Freight",665,15,107,120,"N","N","N","N",128.69999999999999,15443.999999999998]
[null,"0038027",55,99999,"55-99999",27,378,"27-378",4235,"01",32,"05","Company-owned truck","Truck/Freight",1702,1031,49,62,"N","N","N","N",161.69999999999999,10025.4]
[null,"0038073",19,99999,"19-99999",27,99999,"27-99999",337,"04",39,14,"Parcel, USPS, or courier","Truck/Freight",136,5,114,152,"N","N","N","N",418.1,63551.200000000004]
[null,"0038077",38,99999,"38-99999",27,99999,"27-99999",4245,"02","02","04","For-hire truck","Truck/Freight",4656,47839,346,407,"N","N","N","N",3322.6,1352298.2]
[null,"0038091",55,99999,"55-99999",27,378,"27-378",326,"04",24,"05","Company-owned truck","Truck/Freight",2712,9040,63,74,"N","N","N","N",614.20000000000005,45450.8]
[null,"0038124",27,378,"27-378",27,378,"27-378",321,"01",41,"05","Company-owned truck","Truck/Freight",362,43391,40,49,"N","N","N","N",157.69999999999999,7727.2999999999993]
[null,"0038125",55,99999,"55-99999",27,378,"27-378",4931,"02",26,"04","For-hire truck","Truck/Freight",66857,16440,3,8,"N","N","N","N",46.8,374.4]
[null,"0038310",44,148,"44-148",27,99999,"27-99999",4239,"02",40,14,"Parcel, USPS, or courier","Truck/Freight",106,4,1110,1364,"N","N","N","N",16106,21968584]
[null,"0038335",27,99999,"27-99999",27,99999,"27-99999",4233,"01",23,"05","Company-owned truck","Truck/Freight",13,2,6,6,"N","N","N","N",47.6,285.60000000000002]
[null,"0038383",17,176,"17-176",27,99999,"27-99999",4232,"02",39,"04","For-hire truck","Truck/Freight",14194,5925,394,457,"N","N","N","N",200.6,91674.2]
[null,"0038411",17,176,"17-176",27,99999,"27-99999",4241,"04",24,14,"Parcel, USPS, or courier","Truck/Freight",67,3,619,754,"N","N","N","N",4515.7,3404837.8]
[null,"0038452",25,99999,"25-99999",27,378,"27-378",4541,"01",40,14,"Parcel, USPS, or courier","Truck/Freight",53,1,1040,1336,"N","N","N","N",2248.3000000000002,3003728.8000000003]
[null,"0038458",27,378,"27-378",27,378,"27-378",4238,"02",38,14,"Parcel, USPS, or courier","Truck/Freight",2497,2,32,41,"N","N","N","N",916.1,37560.1]
[null,"0038497",27,99999,"27-99999",27,99999,"27-99999",332,"01",24,14,"Parcel, USPS, or courier","Truck/Freight",357,27,33,45,"N","N","N","N",216.5,9742.5]
[null,"0038559",27,378,"27-378",27,378,"27-378",316,"01",30,"04","For-hire truck","Truck/Freight",52485,62167,34,41,"N","N","N","N",19.3,791.30000000000007]
[null,"0038563",25,148,"25-148",27,378,"27-378",4541,"04","04",14,"Parcel, USPS, or courier","Truck/Freight",14,5,1183,1461,"N","N","N","N",119050.3,173932488.30000001]
[null,"0038577",17,176,"17-176",27,378,"27-378",4242,"04",23,14,"Parcel, USPS, or courier","Truck/Freight",36,1,331,396,"N","N","N","N",6090.3,2411758.8000000003]
[null,"0038615",27,378,"27-378",27,378,"27-378",4241,"01",24,14,"Parcel, USPS, or courier","Truck/Freight",113,17,15,24,"N","N","N","N",497.7,11944.8]
[null,"0038624",27,378,"27-378",27,378,"27-378",4241,"02",28,"05","Company-owned truck","Truck/Freight",559,327,6,8,"N","N","N","N",1056.5999999999999,8452.7999999999993]
[null,"0038641",27,99999,"27-99999",27,378,"27-378",327,"04",31,"05","Company-owned truck","Truck/Freight",339,3580,79,93,"N","N","N","N",116.6,10843.8]
[null,"0038651",26,220,"26-220",27,378,"27-378",4236,"04",35,11,"Air (incl truck & air)","Air",1050,174,515,921,"N","Y","C","N",564.5,519904.5]
[null,"0038669",27,378,"27-378",27,99999,"27-99999",322,"04",28,"04","For-hire truck","Truck/Freight",3741,4121,82,111,"N","N","N","N",580.9,64479.899999999994]
[null,"0038677",55,99999,"55-99999",27,99999,"27-99999",332,"03",24,14,"Parcel, USPS, or courier","Truck/Freight",68,4,404,495,"N","N","N","N",1584.7,784426.5]
[null,"0038717",27,378,"27-378",27,378,"27-378",4238,"04",34,"05","Company-owned truck","Truck/Freight",19,5,14,18,"N","N","N","N",1610.6,28990.799999999999]
[null,"0038718",39,178,"39-178",27,378,"27-378",335,"02",35,14,"Parcel, USPS, or courier","Truck/Freight",137,2,601,723,"N","N","N","N",176.6,127681.8]
[null,"0038759","06",488,"06-488",27,378,"27-378",4243,"02",30,14,"Parcel, USPS, or courier","Truck/Freight",147,3,1553,2014,"N","N","N","N",480.2,967122.79999999993]
[null,"0038806",25,148,"25-148",27,99999,"27-99999",323,"01",24,14,"Parcel, USPS, or courier","Truck/Freight",271,27,1213,1544,"N","N","N","N",792.1,1223002.4000000001]
[null,"0038838",34,428,"34-428",27,378,"27-378",5111,"04",29,"04","For-hire truck","Truck/Freight",101,13,980,1188,"N","N","N","N",146,173448]
[null,"0038892",27,378,"27-378",27,378,"27-378",4234,"01",20,14,"Parcel, USPS, or courier","Truck/Freight",1367,33,10,15,"N","N","N","N",4397.8999999999996,65968.5]
[null,"0039003",27,378,"27-378",27,378,"27-378",4238,"01",35,14,"Parcel, USPS, or courier","Truck/Freight",963,14,33,38,"N","N","N","N",832.2,31623.600000000002]
[null,"0039026",27,378,"27-378",27,378,"27-378",311,"01","06","04","For-hire truck","Truck/Freight",46281,24531,8,8,"N","N","N","N",47.2,377.6]
[null,"0039178",27,378,"27-378",27,99999,"27-99999",311,"04",43,"05","Company-owned truck","Truck/Freight",95,39,81,93,"Y","N","N","N",4045,376185]
[null,"0039264",27,99999,"27-99999",27,99999,"27-99999",4541,"02",34,"04","For-hire truck","Truck/Freight",90,6,15,15,"N","N","N","N",13435.1,201526.5]
[null,"0039266",27,378,"27-378",27,378,"27-378",4237,"03",43,"05","Company-owned truck","Truck/Freight",79,12,18,24,"N","N","N","N",725,{"$f":"W987*R987","v":17400}]
[null,"0039295",27,378,"27-378",27,99999,"27-99999",212,"02",12,"05","Company-owned truck","Truck/Freight",46,37701,35,47,"N","N","N","N",933.3,43865.1]
[null,"0039311",21,99999,"21-99999",27,378,"27-378",325,"03",21,"04","For-hire truck","Truck/Freight",109507,33297,686,817,"N","N","N","N",58.4,47712.799999999996]
[null,"0039312",17,99999,"17-99999",27,378,"27-378",4237,"01",43,14,"Parcel, USPS, or courier","Truck/Freight",11,7,283,378,"N","N","N","N",1232.0999999999999,465733.8]
[null,"0039366",27,378,"27-378",27,378,"27-378",212,"03",12,"04","For-hire truck","Truck/Freight",191,55305,45,62,"N","N","N","N",2545.8000000000002,157839.6]
[null,"0039370",27,378,"27-378",27,378,"27-378",311,"02","07","04","For-hire truck","Truck/Freight",9043,42508,18,24,"Y","N","N","N",125.9,3021.6000000000004]
[null,"0039396",19,99999,"19-99999",27,378,"27-378",336,"03",34,11,"Air (incl truck & air)","Air",1815,1,230,569,"N","Y","C","N",120.5,68564.5]
[null,"0039431",27,378,"27-378",27,378,"27-378",4233,"04",31,"05","Company-owned truck","Truck/Freight",126,121,2,2,"N","N","N","N",7400.4,14800.8]
[null,"0039467","04",536,"04-536",27,378,"27-378",4541,"04",29,14,"Parcel, USPS, or courier","Truck/Freight",4,3,1294,1624,"N","N","N","N",4806.8,7806243.2000000002]
[null,"0039556",27,378,"27-378",27,99999,"27-99999",4249,"02",23,"05","Company-owned truck","Truck/Freight",11575,542,74,92,"N","N","N","N",24.4,2244.7999999999997]
[null,"0039557",46,99999,"46-99999",27,99999,"27-99999",4236,"02",35,"04","For-hire truck","Truck/Freight",175,1718,227,258,"N","N","N","N",3660.3,944357.4]
[null,"0039580",27,99999,"27-99999",27,99999,"27-99999",312,"01","07","05","Company-owned truck","Truck/Freight",57,219,30,34,"N","N","N","N",467.2,15884.8]
[null,"0039600","06",348,"06-348",27,378,"27-378",334,"04",35,14,"Parcel, USPS, or courier","Truck/Freight",54,3,1521,1926,"N","N","N","N",9052.6,17435307.600000001]
[null,"0039709",27,378,"27-378",27,378,"27-378",4238,"04",36,"04","For-hire truck","Truck/Freight",56,1,12,20,"N","N","N","N",34.5,690]
[null,"0039831",23,99999,"23-99999",27,99999,"27-99999",325,"04",34,11,"Air (incl truck & air)","Air",4,1,1179,1313,"N","N","N","N",78.8,103464.4]
[null,"0040785",55,99999,"55-99999",27,378,"27-378",311,"02","04","04","For-hire truck","Truck/Freight",9194,17781,255,312,"N","N","N","N",193.1,60247.199999999997]
[null,"0042351",27,378,"27-378",27,378,"27-378",311,"04","06","05","Company-owned truck","Truck/Freight",24,6,9,13,"N","N","N","N",4222.8999999999996,54897.7]
[null,"0043422",20,99999,"20-99999",27,99999,"27-99999",326,"03",24,"04","For-hire truck","Truck/Freight",1421,326,366,447,"N","N","N","N",48.5,21679.5]
[null,"0043964",56,99999,"56-99999",27,378,"27-378",4233,"03",31,"06","Rail","Rail",7622,202558,528,1085,"N","N","N","N",79,85715]
[null,"0044870",27,378,"27-378",27,378,"27-378",4244,"01","06","05","Company-owned truck","Truck/Freight",43,33,19,22,"N","N","N","N",2736.9,60211.8]
[null,"0045627",27,99999,"27-99999",27,378,"27-378",326,"03",24,"05","Company-owned truck","Truck/Freight",910,19,75,90,"N","N","N","N",34.299999999999997,3086.9999999999995]
[null,"0046150",18,99999,"18-99999",27,378,"27-378",312,"03","07","04","For-hire truck","Truck/Freight",13155,46470,566,679,"N","N","N","N",175.2,118960.79999999999]
[null,"0046848",13,122,"13-122",27,378,"27-378",4931,"04",30,"04","For-hire truck","Truck/Freight",110,110,844,1066,"N","N","N","N",597,636402]
[null,"0048239",27,378,"27-378",27,378,"27-378",4231,"02",32,"05","Company-owned truck","Truck/Freight",57,5,15,22,"N","N","N","N",3946.1,86814.2]
[null,"0049463",27,99999,"27-99999",27,99999,"27-99999",325,"04","04","04","For-hire truck","Truck/Freight",2289,41772,11,11,"N","N","N","N",56.7,623.70000000000005]
[null,"0050459",27,378,"27-378",27,378,"27-378",4234,"01",21,"05","Company-owned truck","Truck/Freight",1160,490,24,34,"N","N","N","N",18540.2,630366.80000000005]
[null,"0051201",27,378,"27-378",27,378,"27-378",4238,"04",35,14,"Parcel, USPS, or courier","Truck/Freight",273,3,14,19,"N","N","N","N",729.3,13856.699999999999]
[null,"0051921",27,99999,"27-99999",27,378,"27-378",335,"04",35,14,"Parcel, USPS, or courier","Truck/Freight",2409,47,64,82,"N","N","N","N",103.4,8478.8000000000011]
[null,"0053283",27,378,"27-378",27,99999,"27-99999",4231,"03",19,"04","For-hire truck","Truck/Freight",6795,46864,107,131,"Y","N","N","P",441.8,57875.8]
[null,"0055379",27,378,"27-378",27,99999,"27-99999",4239,"03",41,"04","For-hire truck","Truck/Freight",4378,38074,133,153,"N","N","N","N",597.5,91417.5]
[null,"0056620",27,378,"27-378",27,99999,"27-99999",4244,"01","07","05","Company-owned truck","Truck/Freight",419,353,71,75,"Y","N","N","N",2595.4,{"$f":"W1371*R1371","v":194655}]
[null,"0057725",38,99999,"38-99999",27,99999,"27-99999",4231,"02",36,"04","For-hire truck","Truck/Freight",1118,45,34,36,"N","N","N","N",2858.7,102913.2]
[null,"0058565",48,99999,"48-99999",27,378,"27-378",311,"03","04","04","For-hire truck","Truck/Freight",27117,42182,919,1030,"N","N","N","N",337.4,347522]
[null,"0059206",27,378,"27-378",27,378,"27-378",4238,"04",34,"05","Company-owned truck","Truck/Freight",425,5,6,8,"N","N","N","N",77.099999999999994,616.79999999999995]
[null,"0060338",48,206,"48-206",27,378,"27-378",4249,"04","09","04","For-hire truck","Truck/Freight",10263,519,837,913,"N","N","N","N",205.4,187530.2]
[null,"0060904",27,99999,"27-99999",27,99999,"27-99999",4233,"01",31,"05","Company-owned truck","Truck/Freight",3013,5376,8,11,"N","N","N","N",410.9,4519.8999999999996]
[null,"0062308",27,378,"27-378",27,378,"27-378",4236,"02",35,"04","For-hire truck","Truck/Freight",956,262,78,92,"N","N","N","N",635.79999999999995,58493.599999999999]
[null,"0063109",27,99999,"27-99999",27,99999,"27-99999",4245,"02","02","04","For-hire truck","Truck/Freight",3890,62605,14,20,"N","N","N","N",301.60000000000002,6032]
[null,"0064169",27,378,"27-378",27,99999,"27-99999",4233,"01",40,"05","Company-owned truck","Truck/Freight",11034,115,97,113,"N","N","N","N",2892.8,326886.40000000002]
[null,"0065114",39,178,"39-178",27,378,"27-378",325,"01",23,"04","For-hire truck","Truck/Freight",2228,197,589,699,"N","N","N","N",163.9,114566.1]
[null,"0065929",47,99999,"47-99999",27,378,"27-378",321,"01",26,"04","For-hire truck","Truck/Freight",1853,252,660,784,"N","N","N","N",314.2,246332.79999999999]
[null,"0066558",27,378,"27-378",27,378,"27-378",551114,"03","07","04","For-hire truck","Truck/Freight",301,100,6,12,"N","N","N","N",557.70000000000005,6692.4000000000005]
[null,"0068217",12,370,"12-370",27,378,"27-378",311,"01","05","04","For-hire truck","Truck/Freight",11527,2339,1517,1819,"Y","N","N","N",34.5,62755.5]
[null,"0069450",42,99999,"42-99999",27,99999,"27-99999",4238,"02",36,14,"Parcel, USPS, or courier","Truck/Freight",12,1,980,1170,"N","N","N","N",6262.2,7326774]
[null,"0070341",27,378,"27-378",27,378,"27-378",4236,"02",35,"04","For-hire truck","Truck/Freight",290,3,2,2,"N","N","N","N",863.1,1726.2]
[null,"0071231",27,378,"27-378",27,378,"27-378",4241,"01",28,"05","Company-owned truck","Truck/Freight",505,302,11,16,"N","N","N","N",730.6,11689.6]
[null,"0072368",27,378,"27-378",27,378,"27-378",4248,"03","08","05","Company-owned truck","Truck/Freight",157,183,40,58,"Y","N","N","N",342.6,19870.800000000003]
[null,"0073089",27,99999,"27-99999",27,99999,"27-99999",4249,"02",23,"05","Company-owned truck","Truck/Freight",356,47,112,140,"N","N","N","N",205.4,28756]
[null,"0074785",27,378,"27-378",27,378,"27-378",4238,"02",34,"04","For-hire truck","Truck/Freight",909,27,31,40,"N","N","N","N",67.7,2708]
[null,"0075704",55,99999,"55-99999",27,378,"27-378",551114,"02",40,14,"Parcel, USPS, or courier","Truck/Freight",362,10,300,343,"N","N","N","N",4262.7,1462106.0999999999]
[null,"0076695",32,332,"32-332",27,378,"27-378",4242,"02",23,14,"Parcel, USPS, or courier","Truck/Freight",1678,43,1285,1680,"N","N","N","N",689.7,1158696]
[null,"0077485",27,378,"27-378",27,99999,"27-99999",4237,"04",34,14,"Parcel, USPS, or courier","Truck/Freight",117,14,84,105,"N","N","N","N",1967.2,206556]
[null,"0078048",27,378,"27-378",27,378,"27-378",4237,"04",35,"04","For-hire truck","Truck/Freight",697,91,18,23,"N","N","N","N",594.20000000000005,13666.6]
[null,"0079706",27,378,"27-378",27,378,"27-378",337,"02",39,"05","Company-owned truck","Truck/Freight",2926,797,65,74,"N","N","N","N",70.7,5231.8]
[null,"0081152",13,99999,"13-99999",27,378,"27-378",4236,"02",35,"04","For-hire truck","Truck/Freight",22,1,973,1232,"N","N","N","H",176.7,217694.4]
[null,"0081821",29,312,"29-312",27,99999,"27-99999",334,"02",34,14,"Parcel, USPS, or courier","Truck/Freight",204,10,361,458,"N","N","N","N",286.7,131308.6]
[null,"0083064",27,378,"27-378",27,99999,"27-99999",311,"01","04","04","For-hire truck","Truck/Freight",7495,51691,80,100,"N","N","N","N",150.19999999999999,15019.999999999998]
[null,"0083920",27,378,"27-378",27,378,"27-378",4931,"04",35,14,"Parcel, USPS, or courier","Truck/Freight",5,1,14,19,"N","N","N","N",12698.6,241273.4]
[null,"0084549","06",348,"06-348",27,378,"27-378",4234,"03",38,"04","For-hire truck","Truck/Freight",1117,161,1514,1938,"N","N","N","N",1860.2,3605067.6]
[null,"0085515",39,184,"39-184",27,378,"27-378",324,"02",23,"04","For-hire truck","Truck/Freight",236,87,650,780,"N","N","N","N",153.30000000000001,119574.00000000001]
[null,"0087146",48,288,"48-288",27,378,"27-378",332,"03",32,"04","For-hire truck","Truck/Freight",2566,4618,1062,1206,"N","N","N","N",194.1,234084.6]
[null,"0087910",27,378,"27-378",27,378,"27-378",4244,"02",43,"05","Company-owned truck","Truck/Freight",400,87,50,54,"Y","N","N","N",2726.3,147220.20000000001]
[null,"0088658",39,178,"39-178",27,378,"27-378",335,"04",32,14,"Parcel, USPS, or courier","Truck/Freight",217,4,624,739,"N","N","N","N",72.400000000000006,53503.600000000006]
[null,"0089918",27,378,"27-378",27,378,"27-378",333,"03",40,14,"Parcel, USPS, or courier","Truck/Freight",1195,11,6,10,"N","N","N","N",1020.5,10205]
[null,"0090715",27,99999,"27-99999",27,99999,"27-99999",321,"04",26,"04","For-hire truck","Truck/Freight",15112,50640,151,163,"N","N","N","N",64,10432]
[null,"0091153",27,378,"27-378",27,378,"27-378",4244,"04","06","05","Company-owned truck","Truck/Freight",249,47,15,20,"N","N","N","N",1953.4,39068]
[null,"0092903",44,148,"44-148",27,378,"27-378",311,"01",24,"04","For-hire truck","Truck/Freight",639,163,1124,1391,"N","N","N","N",142,197522]
[null,"0094238",27,378,"27-378",27,378,"27-378",4231,"03",34,"05","Company-owned truck","Truck/Freight",218,8,29,31,"N","N","N","N",3738.1,115881.09999999999]
[null,"0094915",46,99999,"46-99999",27,99999,"27-99999",4246,"02",23,14,"Parcel, USPS, or courier","Truck/Freight",45,2,145,171,"N","N","N","N",1538.6,263100.59999999998]
[null,"0095612",19,99999,"19-99999",27,99999,"27-99999",331,"02",32,15,"Truck and rail","Rail",96827,161377,202,336,"N","N","N","N",104.2,35011.200000000004]
[null,"0096483",27,378,"27-378",27,99999,"27-99999",331,"02",32,"04","For-hire truck","Truck/Freight",14746,49564,134,154,"N","N","N","N",165.3,25456.2]
[null,"0097207",51,99999,"51-99999",27,378,"27-378",339,"01",40,14,"Parcel, USPS, or courier","Truck/Freight",140,47,915,1157,"N","N","N","N",527,609739]
[null,"0098097",27,378,"27-378",27,378,"27-378",4231,"03",36,"05","Company-owned truck","Truck/Freight",122,19,3,3,"N","N","N","N",7729.1,23187.300000000003]
[null,"0099671",17,176,"17-176",27,378,"27-378",332,"02",33,"04","For-hire truck","Truck/Freight",13962,4750,349,404,"N","N","N","N",63.3,25573.199999999997]
[null,"0101251",17,176,"17-176",27,378,"27-378",4248,"01","08","04","For-hire truck","Truck/Freight",141,19,340,401,"Y","N","N","N",9040.4,3625200.4]
[null,"0102247","09",408,"09-408",27,378,"27-378",335,"03",34,14,"Parcel, USPS, or courier","Truck/Freight",1257,3,1029,1731,"N","Y","C","N",26.8,46390.8]
[null,"0103216",27,99999,"27-99999",27,378,"27-378",335,"01",38,14,"Parcel, USPS, or courier","Truck/Freight",11064,36,133,184,"N","N","N","N",36.9,6789.5999999999995]
[null,"0104088",27,378,"27-378",27,378,"27-378",311,"04","06","04","For-hire truck","Truck/Freight",41261,27162,8,8,"N","N","N","N",47.1,376.8]
[null,"0104835",27,378,"27-378",27,378,"27-378",335,"04",35,"04","For-hire truck","Truck/Freight",145,5,34,35,"N","N","N","N",252.8,8848]
[null,"0106858",55,99999,"55-99999",27,378,"27-378",4931,"01",13,"04","For-hire truck","Truck/Freight",36947,17067,227,260,"N","N","N","N",70.8,18408]
[null,"0108173","09",25540,"09-25540",27,378,"27-378",4236,"01",35,14,"Parcel, USPS, or courier","Truck/Freight",617,7,1056,1324,"N","N","N","N",990.7,1311686.8]
[null,"0109015",27,378,"27-378",27,378,"27-378",4247,"03",17,"05","Company-owned truck","Truck/Freight",12704,48118,40,50,"N","N","N","P",5412,270600]
[null,"0109914",38,99999,"38-99999",27,378,"27-378",311,"03",43,"04","For-hire truck","Truck/Freight",11788,36215,234,260,"Y","N","N","N",118.9,30914]
[null,"0111191",27,99999,"27-99999",27,99999,"27-99999",4245,"03","02","05","Company-owned truck","Truck/Freight",3730,59015,74,95,"N","N","N","N",81.3,7723.5]
[null,"0111483",12,422,"12-422",27,378,"27-378",323,"01",29,14,"Parcel, USPS, or courier","Truck/Freight",44,2,1367,1636,"N","N","N","N",22310,36499160]
[null,"0112506",27,378,"27-378",27,378,"27-378",327,"04",31,"05","Company-owned truck","Truck/Freight",700,34980,8,8,"N","N","N","N",790.8,6326.4]
[null,"0114316",27,378,"27-378",27,378,"27-378",324,"02",31,"04","For-hire truck","Truck/Freight",12434,42690,10,16,"N","N","N","N",54,864]
[null,"0115245","06",41740,"06-41740",27,378,"27-378",4234,"04",38,14,"Parcel, USPS, or courier","Truck/Freight",5294,3,1503,1940,"N","N","N","N",1331.9,2583886]
[null,"0116578",17,176,"17-176",27,378,"27-378",326,"02",24,"04","For-hire truck","Truck/Freight",4263,6349,380,450,"N","N","N","N",818.5,368325]
[null,"0117295",27,99999,"27-99999",27,99999,"27-99999",4248,"04","08","05","Company-owned truck","Truck/Freight",5784,7288,97,135,"N","N","N","N",49.9,6736.5]
[null,"0118142",12,99999,"12-99999",27,378,"27-378",332,"02",33,"04","For-hire truck","Truck/Freight",6844,1530,1370,1651,"N","N","N","N",432.7,714387.7]
[null,"0119028",46,99999,"46-99999",27,378,"27-378",4239,"01",40,"04","For-hire truck","Truck/Freight",3241,552,492,575,"N","N","N","H",202.3,116322.5]
[null,"0121032",38,99999,"38-99999",27,378,"27-378",337,"02",39,"05","Company-owned truck","Truck/Freight",1503,656,285,344,"N","N","N","N",58.3,20055.2]
[null,"0121802",42,99999,"42-99999",27,99999,"27-99999",311,"03","07","04","For-hire truck","Truck/Freight",18527,38248,651,778,"N","N","N","N",82.9,64496.200000000004]
[null,"0123220",55,99999,"55-99999",27,378,"27-378",4231,"04",36,14,"Parcel, USPS, or courier","Truck/Freight",279,1,171,201,"N","N","N","N",16350.9,3286530.9]
[null,"0123590",27,378,"27-378",27,378,"27-378",4248,"04","08","05","Company-owned truck","Truck/Freight",116,115,50,65,"N","N","N","N",1844,119860]
[null,"0124972",25,148,"25-148",27,378,"27-378",334,"04",20,11,"Air (incl truck & air)","Air",2988,82,1110,1212,"N","N","N","H",110,133320]
[null,"0125708",27,99999,"27-99999",27,99999,"27-99999",4231,"01",36,14,"Parcel, USPS, or courier","Truck/Freight",7,1,90,110,"N","N","N","N",5143.1000000000004,565741]
[null,"0126648",27,378,"27-378",27,99999,"27-99999",4238,"01",35,14,"Parcel, USPS, or courier","Truck/Freight",389,1,75,84,"N","N","N","N",834.5,70098]
[null,"0128258",51,545,"51-545",27,99999,"27-99999",4234,"03",38,14,"Parcel, USPS, or courier","Truck/Freight",273,2,1208,1478,"N","N","N","N",389.3,575385.4]
[null,"0129043",29,312,"29-312",27,99999,"27-99999",333,"03",32,15,"Truck and rail","Rail",112969,224814,577,987,"N","N","N","N",18.3,18062.100000000002]
[null,"0130820",27,378,"27-378",27,378,"27-378",4244,"04","05","05","Company-owned truck","Truck/Freight",176,16,2,5,"Y","N","N","N",1590.2,7951]
[null,"0131641",46,99999,"46-99999",27,378,"27-378",325,"04",45452,"02","Single mode","Other",31883,171697,179,312,"N","N","N","P",203,63336]
[null,"0132802",17,176,"17-176",27,378,"27-378",323,"02",29,"04","For-hire truck","Truck/Freight",3192,180,363,422,"N","N","N","N",96.4,40680.800000000003]
[null,"0133301",27,99999,"27-99999",27,378,"27-378",4237,"04",43,"04","For-hire truck","Truck/Freight",1414,481,138,163,"N","N","N","N",398.7,64988.1]
[null,"0135211",27,378,"27-378",27,378,"27-378",323,"03",27,14,"Parcel, USPS, or courier","Truck/Freight",2606,5,7,10,"N","N","N","N",138.6,1386]
[null,"0135844",27,378,"27-378",27,378,"27-378",4241,"01",27,"05","Company-owned truck","Truck/Freight",6768,9545,14,18,"N","N","N","N",1516.9,27304.2]
[null,"0136630",27,378,"27-378",27,378,"27-378",4236,"04",35,14,"Parcel, USPS, or courier","Truck/Freight",55,1,19,23,"N","N","N","N",1279.3,29423.899999999998]
[null,"0137464",27,378,"27-378",27,378,"27-378",325,"02",23,"04","For-hire truck","Truck/Freight",66,2,3,3,"N","N","N","P",362.2,1086.5999999999999]
[null,"0138186","08",216,"08-216",27,378,"27-378",333,"02",38,11,"Air (incl truck & air)","Air",7669,2,699,741,"N","N","N","N",111.1,82325.099999999991]
[null,"0138888",39,198,"39-198",27,378,"27-378",4232,"04",40,14,"Parcel, USPS, or courier","Truck/Freight",81,12,597,754,"N","N","N","N",382.7,288555.8]
[null,"0139886",36,160,"36-160",27,378,"27-378",311,"01","06","04","For-hire truck","Truck/Freight",1929,60848,729,950,"N","N","N","N",34.9,33155]
[null,"0141814",27,99999,"27-99999",27,378,"27-378",4238,"03",34,"05","Company-owned truck","Truck/Freight",155,54,14,21,"N","N","N","N",2063.6,43335.6]
[null,"0142270",13,99999,"13-99999",27,99999,"27-99999",335,"04",35,"04","For-hire truck","Truck/Freight",130059,7306,1230,1526,"N","N","N","H",3.7,5646.2]
[null,"0143718",27,378,"27-378",27,378,"27-378",4244,"03","07","05","Company-owned truck","Truck/Freight",280,1835,17,21,"N","N","N","N",4953.7,104027.7]
[null,"0144231",46,99999,"46-99999",27,99999,"27-99999",4233,"02",31,"05","Company-owned truck","Truck/Freight",2842,46895,61,68,"N","N","N","N",69.7,4739.6000000000004]
[null,"0144939",27,378,"27-378",27,378,"27-378",4232,"02",24,"05","Company-owned truck","Truck/Freight",154,83,10,11,"N","N","N","N",3848.9,42337.9]
[null,"0145563",27,378,"27-378",27,378,"27-378",325,"03",23,"04","For-hire truck","Truck/Freight",49074,19397,6,12,"N","N","N","N",26.2,314.39999999999998]
[null,"0147369",17,176,"17-176",27,99999,"27-99999",4249,"04",23,"04","For-hire truck","Truck/Freight",938,2184,340,426,"Y","N","N","H",722.2,307657.2]
[null,"0148202",18,294,"18-294",27,378,"27-378",326,"03",24,"04","For-hire truck","Truck/Freight",18625,9511,565,680,"N","N","N","N",132.5,90100]
[null,"0149086",27,378,"27-378",27,378,"27-378",4247,"02",19,"04","For-hire truck","Truck/Freight",5107,46430,8,9,"Y","N","N","P",226.9,2042.1000000000001]
[null,"0150088",27,378,"27-378",27,378,"27-378",4241,"01",28,"04","For-hire truck","Truck/Freight",80,5,15,19,"N","N","N","N",5637,107103]
[null,"0150993",27,378,"27-378",27,378,"27-378",4244,"02",43,"05","Company-owned truck","Truck/Freight",811,509,18,22,"Y","N","N","N",2728.4,60024.800000000003]
[null,"0153207",19,99999,"19-99999",27,99999,"27-99999",4249,"03",22,"05","Company-owned truck","Truck/Freight",5404,45034,31,45,"Y","N","N","H",111.5,5017.5]
[null,"0154088",27,99999,"27-99999",27,99999,"27-99999",325,"04",20,"05","Company-owned truck","Truck/Freight",593,39245,173,198,"Y","N","N","H",134.9,26710.2]
[null,"0154915",17,176,"17-176",27,378,"27-378",4235,"04",32,"04","For-hire truck","Truck/Freight",6010,2504,339,407,"N","N","N","N",149.4,60805.8]
[null,"0155733",39,198,"39-198",27,378,"27-378",322,"04",27,"04","For-hire truck","Truck/Freight",37790,45861,628,756,"N","N","N","N",86.4,65318.400000000001]
[null,"0156383",20,556,"20-556",27,378,"27-378",311,"03","07","04","For-hire truck","Truck/Freight",46293,28332,569,735,"N","N","N","N",46.6,34251]
[null,"0157257",27,378,"27-378",27,378,"27-378",4238,"04",28,"04","For-hire truck","Truck/Freight",199,55,3,5,"N","N","N","N",394.9,1974.5]
[null,"0157913",27,378,"27-378",27,378,"27-378",4236,"01",35,"04","For-hire truck","Truck/Freight",25,3,4,5,"N","N","N","N",1520.4,7602]
[null,"0159568",19,99999,"19-99999",27,378,"27-378",337,"04",26,"04","For-hire truck","Truck/Freight",9406,9827,321,368,"N","N","N","N",377.6,138956.80000000002]
[null,"0160300",27,99999,"27-99999",27,99999,"27-99999",4237,"03",43,"05","Company-owned truck","Truck/Freight",261,57,13,14,"N","N","N","N",1575,22050]
[null,"0161388",27,378,"27-378",27,378,"27-378",4236,"02",35,"04","For-hire truck","Truck/Freight",55,43,3,3,"N","N","N","N",521.6,1564.8000000000002]
[null,"0162175",39,198,"39-198",27,378,"27-378",322,"01",28,"04","For-hire truck","Truck/Freight",31090,30185,593,701,"N","N","N","N",40.700000000000003,28530.7]
[null,"0162971",55,99999,"55-99999",27,99999,"27-99999",311,"01","07","04","For-hire truck","Truck/Freight",61433,33941,123,167,"Y","N","N","N",19.600000000000001,3273.2000000000003]
[null,"0163765",27,99999,"27-99999",27,99999,"27-99999",321,"04",26,"04","For-hire truck","Truck/Freight",44,43597,154,181,"N","N","N","N",81.599999999999994,14769.599999999999]
[null,"0165266",27,378,"27-378",27,378,"27-378",311,"04",43,"05","Company-owned truck","Truck/Freight",75,29,46,53,"Y","N","N","N",4016.4,212869.2]
[null,"0165984",38,99999,"38-99999",27,99999,"27-99999",339,"04",32,"05","Company-owned truck","Truck/Freight",4562,45,98,110,"N","N","N","N",20.9,2299]
[null,"0167296",22,99999,"22-99999",27,378,"27-378",326,"01",24,"04","For-hire truck","Truck/Freight",23673,18680,871,1043,"N","N","N","N",60.7,63310.100000000006]
[null,"0168171",55,99999,"55-99999",27,99999,"27-99999",4244,"03","07","04","For-hire truck","Truck/Freight",606,186,218,264,"N","N","N","N",477.7,126112.8]
[null,"0169105",19,99999,"19-99999",27,99999,"27-99999",4931,"02",36,"05","Company-owned truck","Truck/Freight",27,1,177,225,"N","N","N","N",633,142425]
[null,"0169964",55,99999,"55-99999",27,378,"27-378",4239,"04",40,14,"Parcel, USPS, or courier","Truck/Freight",29,2,134,164,"N","N","N","N",3675.2,602732.79999999993]
[null,"0172124",19,99999,"19-99999",27,99999,"27-99999",4238,"03",36,14,"Parcel, USPS, or courier","Truck/Freight",13,1,176,263,"N","N","N","N",2592.1,681722.29999999993]
[null,"0172298",47,400,"47-400",27,378,"27-378",333,"01",38,14,"Parcel, USPS, or courier","Truck/Freight",486,4,714,903,"N","N","N","N",125,112875]
[null,"0173619",27,99999,"27-99999",27,99999,"27-99999",4246,"04",34,14,"Parcel, USPS, or courier","Truck/Freight",117,55,17,19,"N","N","N","N",7917.8,150438.20000000001]
[null,"0174501",48,206,"48-206",27,378,"27-378",325,"04",38,14,"Parcel, USPS, or courier","Truck/Freight",289,4,852,958,"N","N","N","N",19.3,18489.400000000001]
[null,"0175076",55,99999,"55-99999",27,99999,"27-99999",4238,"02",34,14,"Parcel, USPS, or courier","Truck/Freight",1853,45,24,29,"N","N","N","N",7264.5,210670.5]
[null,"0176028",21,99999,"21-99999",27,378,"27-378",322,"04",28,"04","For-hire truck","Truck/Freight",19548,24325,664,834,"N","N","N","N",46.1,38447.4]
[null,"0177231",42,99999,"42-99999",27,378,"27-378",325,"01",20,"04","For-hire truck","Truck/Freight",26551,4543,919,1114,"N","N","N","N",81.2,90456.8]
[null,"0179598",38,99999,"38-99999",27,99999,"27-99999",4244,"03",43,"05","Company-owned truck","Truck/Freight",12413,10003,123,139,"Y","N","N","N",53,7367]
[null,"0180388",27,99999,"27-99999",27,99999,"27-99999",311,"02","05","04","For-hire truck","Truck/Freight",79851,36530,36,40,"Y","N","N","N",32.1,1284]
[null,"0181172",27,99999,"27-99999",27,99999,"27-99999",45431,"01",19,"05","Company-owned truck","Truck/Freight",57,65,14,14,"N","N","N","H",7669.3,107370.2]
[null,"0181814",27,378,"27-378",27,99999,"27-99999",4234,"01",20,14,"Parcel, USPS, or courier","Truck/Freight",128,3,59,68,"N","N","N","N",4405.7,{"$f":"W4059*R4059","v":299587.59999999998}]
[null,"0182674",27,99999,"27-99999",27,378,"27-378",321,"03",26,"04","For-hire truck","Truck/Freight",7760,54563,262,310,"N","N","N","N",526.1,163091]
[null,"0182891",27,378,"27-378",27,378,"27-378",311,"03","06","04","For-hire truck","Truck/Freight",10491,37849,36,49,"N","N","N","N",182.9,8962.1]
[null,"0184274",27,378,"27-378",27,378,"27-378",4238,"01",34,"04","For-hire truck","Truck/Freight",112,15,32,42,"N","N","N","N",4308.8,180969.60000000001]
[null,"0185239",27,378,"27-378",27,99999,"27-99999",4238,"04",38,14,"Parcel, USPS, or courier","Truck/Freight",218,1,114,133,"N","N","N","N",3261.1,433726.3]
[null,"0185872",51,99999,"51-99999",27,99999,"27-99999",551114,"04",30,14,"Parcel, USPS, or courier","Truck/Freight",335,10,979,1220,"N","N","N","N",7691.3,9383386]
[null,"0186798",19,99999,"19-99999",27,99999,"27-99999",4239,"01",40,14,"Parcel, USPS, or courier","Truck/Freight",242,21,417,441,"N","N","N","N",1601.6,706305.6]
[null,"0187899",27,378,"27-378",27,378,"27-378",4236,"01",43,"04","For-hire truck","Truck/Freight",233,16,16,25,"N","N","N","N",2787.4,69685]
[null,"0188741","09",408,"09-408",27,99999,"27-99999",325,"01",24,"04","For-hire truck","Truck/Freight",2211,655,969,1185,"N","N","N","N",18,21330]
[null,"0189476",41,440,"41-440",27,378,"27-378",333,"03",34,"04","For-hire truck","Truck/Freight",4609,51,1435,1750,"N","N","N","N",213.6,{"$f":"W4251*R4251","v":373800}]
[null,"0191216",27,378,"27-378",27,378,"27-378",4238,"03",36,"04","For-hire truck","Truck/Freight",127,11,6,7,"N","N","N","N",612.29999999999995,4286.0999999999995]
[null,"0191325",27,99999,"27-99999",27,99999,"27-99999",4237,"02",43,"05","Company-owned truck","Truck/Freight",1393,109,56,58,"N","N","N","N",83.7,4854.6000000000004]
[null,"0192695",27,378,"27-378",27,378,"27-378",4236,"01",35,"05","Company-owned truck","Truck/Freight",678,232,5,5,"N","N","N","N",475.1,2375.5]
[null,"0193195",27,378,"27-378",27,378,"27-378",4241,"04",28,"05","Company-owned truck","Truck/Freight",89,32,10,16,"N","N","N","N",719.4,11510.4]
[null,"0194333",27,99999,"27-99999",27,99999,"27-99999",322,"02",28,"05","Company-owned truck","Truck/Freight",8943,4958,13,13,"N","N","N","N",85,1105]
[null,"0195137",27,378,"27-378",27,378,"27-378",4247,"01",19,"05","Company-owned truck","Truck/Freight",10162,5876,15,19,"N","N","N","P",10214.299999999999,194071.69999999998]
[null,"0196693",55,99999,"55-99999",27,378,"27-378",334,"03",35,14,"Parcel, USPS, or courier","Truck/Freight",1093,5,47,69,"N","N","N","N",174.5,12040.5]
[null,"0197322",34,408,"34-408",27,378,"27-378",314,"02",30,14,"Parcel, USPS, or courier","Truck/Freight",1462,153,996,1190,"N","N","N","N",26.6,31654]
[null,"0197810",55,99999,"55-99999",27,378,"27-378",322,"03",28,"04","For-hire truck","Truck/Freight",3270,2805,37,59,"N","N","N","N",289,17051]
[null,"0198647",27,378,"27-378",27,378,"27-378",4235,"02",33,"04","For-hire truck","Truck/Freight",5,1,2,2,"N","N","N","N",6308.3,12616.6]
[null,"0199620",19,99999,"19-99999",27,99999,"27-99999",4245,"02","03","04","For-hire truck","Truck/Freight",9242,59561,26,37,"N","N","N","N",330.9,12243.3]
[null,"0200915",26,220,"26-220",27,99999,"27-99999",332,"01",36,"04","For-hire truck","Truck/Freight",4,1,557,731,"N","N","N","N",1365.8,998399.79999999993]
[null,"0201301",27,378,"27-378",27,378,"27-378",4244,"01",43,"04","For-hire truck","Truck/Freight",122,120,17,26,"Y","N","N","N",2721.3,70753.8]
[null,"0203279",27,378,"27-378",27,378,"27-378",314,"04",30,"04","For-hire truck","Truck/Freight",648,13,9,10,"N","N","N","N",105.2,1052]
[null,"0203963",18,99999,"18-99999",27,99999,"27-99999",4236,"02",36,14,"Parcel, USPS, or courier","Truck/Freight",52,5,538,657,"N","N","N","N",146,95922]
[null,"0204391",17,99999,"17-99999",27,378,"27-378",4233,"01",26,"05","Company-owned truck","Truck/Freight",769,779,288,342,"N","N","N","N",126.3,43194.6]
[null,"0204721",27,378,"27-378",27,378,"27-378",334,"01",35,14,"Parcel, USPS, or courier","Truck/Freight",115,1,3,4,"N","N","N","N",224.4,897.6]
[null,"0205623",27,378,"27-378",27,378,"27-378",4236,"02",35,14,"Parcel, USPS, or courier","Truck/Freight",63,2,19,23,"N","N","N","N",1226.3,28204.899999999998]
[null,"0206469",38,99999,"38-99999",27,378,"27-378",311,"02","07","05","Company-owned truck","Truck/Freight",5721,56368,161,202,"N","N","N","N",223.6,45167.199999999997]
[null,"0208067",27,378,"27-378",27,378,"27-378",4235,"02",32,"04","For-hire truck","Truck/Freight",730,423,54,61,"N","N","N","N",1261.5999999999999,76957.599999999991]
[null,"0208734",42,428,"42-428",27,378,"27-378",4249,"04",30,14,"Parcel, USPS, or courier","Truck/Freight",25,1,967,1166,"N","N","N","N",3571.7,4164602.1999999997]
[null,"0209207",27,378,"27-378",27,99999,"27-99999",321,"02",26,"04","For-hire truck","Truck/Freight",9813,40500,188,228,"N","N","N","N",88,20064]
[null,"0210488",27,378,"27-378",27,378,"27-378",4242,"04",40,14,"Parcel, USPS, or courier","Truck/Freight",569,5,76,87,"N","N","N","N",1076.8,93681.599999999991]
[null,"0211723",17,176,"17-176",27,378,"27-378",4249,"04","03",14,"Parcel, USPS, or courier","Truck/Freight",713,1,338,407,"Y","N","N","N",50638.7,20609950.899999999]
[null,"0212231",25,148,"25-148",27,378,"27-378",4244,"02","05",14,"Parcel, USPS, or courier","Truck/Freight",208,16,1157,1438,"Y","N","N","N",115.5,166089]
[null,"0212910",27,99999,"27-99999",27,99999,"27-99999",332,"03",40,"04","For-hire truck","Truck/Freight",1606,277,20,31,"N","N","N","N",1121.9000000000001,34778.9]
[null,"0214276",26,266,"26-266",27,99999,"27-99999",4243,"03",30,"04","For-hire truck","Truck/Freight",563,26,400,711,"N","N","N","N",878.3,624471.29999999993]
[null,"0214941",27,378,"27-378",27,99999,"27-99999",311,"03","04","04","For-hire truck","Truck/Freight",25465,40101,130,139,"N","N","N","N",35.700000000000003,4962.3]
[null,"0215863",27,99999,"27-99999",27,99999,"27-99999",4247,"02",18,"05","Company-owned truck","Truck/Freight",2072,7252,11,11,"N","N","N","P",763.5,8398.5]
[null,"0216800",19,99999,"19-99999",27,99999,"27-99999",336,"03",36,"05","Company-owned truck","Truck/Freight",23203,3820,114,142,"N","N","N","N",64.5,9159]
[null,"0217379",55,376,"55-376",27,99999,"27-99999",327,"03",31,"04","For-hire truck","Truck/Freight",30924,39717,347,403,"N","N","N","N",42,16926]
[null,"0219416",27,378,"27-378",27,99999,"27-99999",311,"04","04","04","For-hire truck","Truck/Freight",27788,34089,130,139,"N","N","N","N",36.200000000000003,5031.8]
[null,"0220360",27,99999,"27-99999",27,378,"27-378",551114,"02",34,"04","For-hire truck","Truck/Freight",11825,136,134,159,"N","N","N","N",55.5,8824.5]
[null,"0221471",39,99999,"39-99999",27,378,"27-378",4232,"03",31,14,"Parcel, USPS, or courier","Truck/Freight",36,12,527,654,"N","N","N","N",350.2,229030.8]
[null,"0222221",27,378,"27-378",27,378,"27-378",4248,"01","08","05","Company-owned truck","Truck/Freight",346,410,5,7,"N","N","N","N",917,6419]
[null,"0222909",47,99999,"47-99999",27,378,"27-378",315,"02",30,14,"Parcel, USPS, or courier","Truck/Freight",1,1,801,977,"N","N","N","N",2326.5,2272990.5]
[null,"0224275",27,378,"27-378",27,378,"27-378",4233,"04",26,"04","For-hire truck","Truck/Freight",823,793,20,27,"N","N","N","N",7368.6,198952.2]
[null,"0225068",19,99999,"19-99999",27,378,"27-378",4242,"01",38,14,"Parcel, USPS, or courier","Truck/Freight",19,1,268,290,"N","N","N","N",19993.3,5798057]
[null,"0226848",19,99999,"19-99999",27,99999,"27-99999",4249,"04",22,"05","Company-owned truck","Truck/Freight",6944,42084,37,52,"Y","N","N","H",671,34892]
[null,"0227389",27,378,"27-378",27,378,"27-378",4238,"01",34,14,"Parcel, USPS, or courier","Truck/Freight",25,2,13,17,"N","N","N","N",922,15674]
[null,"0228227",27,99999,"27-99999",27,378,"27-378",325,"03",17,"04","For-hire truck","Truck/Freight",9694,47024,130,144,"N","N","N","P",126.3,18187.2]
[null,"0229490",27,378,"27-378",27,378,"27-378",4238,"03",24,14,"Parcel, USPS, or courier","Truck/Freight",146,2,29,33,"N","N","N","N",760.9,25109.7]
[null,"0230047",53,500,"53-500",27,378,"27-378",321,"01",26,14,"Parcel, USPS, or courier","Truck/Freight",45,8,1376,1643,"N","N","N","N",283.89999999999998,466447.69999999995]
[null,"0230982",26,220,"26-220",27,378,"27-378",323,"02",29,14,"Parcel, USPS, or courier","Truck/Freight",1,1,512,664,"N","N","N","N",99.7,66200.800000000003]
[null,"0233313",29,99999,"29-99999",27,378,"27-378",332,"04",40,"04","For-hire truck","Truck/Freight",2068,146,479,586,"N","N","N","H",25.8,15118.800000000001]
[null,"0234155",27,378,"27-378",27,378,"27-378",4238,"03",34,14,"Parcel, USPS, or courier","Truck/Freight",373,20,15,21,"N","N","N","N",913.7,19187.7]
[null,"0235292",50,99999,"50-99999",27,99999,"27-99999",4231,"01",33,14,"Parcel, USPS, or courier","Truck/Freight",423,19,1038,1622,"N","N","N","N",1189.2,1928882.4000000001]
[null,"0236184",27,378,"27-378",27,378,"27-378",4236,"01",35,"04","For-hire truck","Truck/Freight",11,3,6,7,"N","N","N","N",625.4,4377.8]
[null,"0236853",27,99999,"27-99999",27,99999,"27-99999",312,"01","07","05","Company-owned truck","Truck/Freight",15385,53303,202,234,"N","N","N","N",142.1,33251.4]
[null,"0237648",27,99999,"27-99999",27,99999,"27-99999",311,"01","07","04","For-hire truck","Truck/Freight",19501,54959,48,77,"N","N","N","N",49.1,3780.7000000000003]
[null,"0239375",55,99999,"55-99999",27,99999,"27-99999",321,"04",26,"04","For-hire truck","Truck/Freight",9282,43630,70,103,"N","N","N","N",155.9,16057.7]
[null,"0239601",27,99999,"27-99999",27,99999,"27-99999",212,"04",31,"05","Company-owned truck","Truck/Freight",892,29120,16,16,"N","N","N","N",66,1056]
[null,"0240864",38,99999,"38-99999",27,99999,"27-99999",4249,"01",22,"04","For-hire truck","Truck/Freight",10237,54602,215,266,"N","N","N","N",75.900000000000006,20189.400000000001]
[null,"0241465",27,99999,"27-99999",27,99999,"27-99999",321,"01",26,"04","For-hire truck","Truck/Freight",1189,52819,103,113,"N","N","N","N",79.400000000000006,8972.2000000000007]
[null,"0242607",33,148,"33-148",27,378,"27-378",326,"01",24,14,"Parcel, USPS, or courier","Truck/Freight",3875,8,1111,1443,"N","N","N","N",112.7,162626.1]
[null,"0243256",46,99999,"46-99999",27,99999,"27-99999",4233,"03",26,"05","Company-owned truck","Truck/Freight",2280,6489,36,50,"N","N","N","N",431.6,21580]
[null,"0244904",27,99999,"27-99999",27,99999,"27-99999",331,"03",32,"04","For-hire truck","Truck/Freight",11630,5137,59,68,"N","N","N","N",61.4,4175.2]
[null,"0245910",56,99999,"56-99999",27,99999,"27-99999",4245,"03","02",14,"Parcel, USPS, or courier","Truck/Freight",121,13,820,945,"N","N","N","N",23,21735]
[null,"0246827",46,99999,"46-99999",27,99999,"27-99999",314,"02",30,14,"Parcel, USPS, or courier","Truck/Freight",492,65,336,456,"N","N","N","N",81,36936]
[null,"0247993",20,312,"20-312",27,378,"27-378",332,"02",33,14,"Parcel, USPS, or courier","Truck/Freight",144,11,430,470,"N","N","N","N",375.3,176391]
[null,"0248529",37,450,"37-450",27,99999,"27-99999",334,"01",35,"04","For-hire truck","Truck/Freight",1451,27,1216,1491,"N","N","N","N",1738.1,2591507.1]
[null,"0249506",27,99999,"27-99999",27,99999,"27-99999",311,"03","07","04","For-hire truck","Truck/Freight",7872,53530,29,45,"N","N","N","N",244.2,10989]
[null,"0250451",39,99999,"39-99999",27,99999,"27-99999",336,"04",36,15,"Truck and rail","Rail",18280,2697,839,1085,"N","N","N","N",3205.4,3477859]
[null,"0252912",45,99999,"45-99999",27,378,"27-378",4234,"01",20,"04","For-hire truck","Truck/Freight",169,28,947,1190,"N","N","N","P",1206.8,1436092]
[null,"0253823","06",348,"06-348",27,378,"27-378",4243,"01",30,14,"Parcel, USPS, or courier","Truck/Freight",46,1,1495,1900,"N","N","N","N",8751,16626900]
[null,"0254753",27,378,"27-378",27,99999,"27-99999",311,"02","04","04","For-hire truck","Truck/Freight",2179,8717,75,91,"N","N","N","N",24.8,2256.8000000000002]
[null,"0255715",34,408,"34-408",27,378,"27-378",323,"02",29,11,"Air (incl truck & air)","Air",397,17,1005,1574,"N","Y","C","N",1610.9,2535556.6]
[null,"0256871",27,378,"27-378",27,378,"27-378",4233,"01",43,14,"Parcel, USPS, or courier","Truck/Freight",12,5,3,3,"N","N","N","N",190.3,570.90000000000009]
[null,"0257645",32,99999,"32-99999",27,99999,"27-99999",4237,"03",33,"04","For-hire truck","Truck/Freight",1872,1336,1262,1570,"N","N","N","N",78.3,122931]
[null,"0259340",46,99999,"46-99999",27,99999,"27-99999",337,"01",39,"04","For-hire truck","Truck/Freight",329,72,89,115,"N","N","N","N",68,7820]
[null,"0260666",46,99999,"46-99999",27,99999,"27-99999",312,"03","08","04","For-hire truck","Truck/Freight",6537,35411,177,261,"N","N","N","N",107.1,27953.1]
[null,"0260959",27,99999,"27-99999",27,99999,"27-99999",4244,"02","07","05","Company-owned truck","Truck/Freight",3715,6846,4,4,"N","N","N","N",2041.7,8166.8]
[null,"0262816",28,99999,"28-99999",27,378,"27-378",4541,"02",36,14,"Parcel, USPS, or courier","Truck/Freight",9,1,1023,1168,"N","N","N","N",30961.5,36163032]
[null,"0264022",27,99999,"27-99999",27,99999,"27-99999",4245,"02",22,"05","Company-owned truck","Truck/Freight",518,1662,14,14,"N","N","N","N",3505.5,49077]
[null,"0264752",46,99999,"46-99999",27,99999,"27-99999",311,"02","01","04","For-hire truck","Truck/Freight",25319,30505,184,248,"Y","N","N","N",78.2,19393.600000000002]
[null,"0265767",27,378,"27-378",27,99999,"27-99999",311,"01","06","05","Company-owned truck","Truck/Freight",6491,4466,58,67,"N","N","N","N",70.7,4736.9000000000005]
[null,"0267490",27,378,"27-378",27,378,"27-378",4246,"02",20,"05","Company-owned truck","Truck/Freight",44413,14411,12,16,"N","N","N","N",191.8,3068.8]
[null,"0267999","08",99999,"08-99999",27,378,"27-378",321,"03",26,"04","For-hire truck","Truck/Freight",14539,42798,865,1202,"N","N","N","N",52.1,62624.200000000004]
[null,"0269335",29,312,"29-312",27,99999,"27-99999",326,"01",24,14,"Parcel, USPS, or courier","Truck/Freight",392,10,358,379,"N","N","N","N",2017.6,764670.4]
[null,"0270078",27,378,"27-378",27,99999,"27-99999",45431,"04",18,"05","Company-owned truck","Truck/Freight",441,1293,11,13,"N","N","N","P",264.5,3438.5]
[null,"0270855",46,99999,"46-99999",27,99999,"27-99999",4233,"03",33,"05","Company-owned truck","Truck/Freight",624,68,56,62,"N","N","N","N",427.3,26492.600000000002]
[null,"0272280",27,378,"27-378",27,378,"27-378",327,"04",31,"05","Company-owned truck","Truck/Freight",1013,42484,16,22,"N","N","N","N",495.7,10905.4]
[null,"0273024",27,378,"27-378",27,99999,"27-99999",4238,"03",38,14,"Parcel, USPS, or courier","Truck/Freight",490,1,133,165,"N","N","N","N",615.29999999999995,101524.49999999999]
[null,"0273985",38,99999,"38-99999",27,99999,"27-99999",4233,"02",24,"04","For-hire truck","Truck/Freight",36,12,61,70,"N","N","N","N",348.2,24374]
[null,"0274733",19,99999,"19-99999",27,99999,"27-99999",45431,"01",19,"05","Company-owned truck","Truck/Freight",268,66,45,68,"N","N","N","H",629.6,42812.800000000003]
[null,"0275020",17,99999,"17-99999",27,99999,"27-99999",311,"01","05","04","For-hire truck","Truck/Freight",13693,50716,333,447,"Y","N","N","N",180.3,80594.100000000006]
[null,"0275682",36,160,"36-160",27,378,"27-378",4238,"01",40,14,"Parcel, USPS, or courier","Truck/Freight",1361,16,741,968,"N","N","N","N",8125.4,7865387.1999999993]
[null,"0276582",27,99999,"27-99999",27,99999,"27-99999",4931,"02","07","05","Company-owned truck","Truck/Freight",55,51,9,11,"N","N","N","N",29.8,327.8]
[null,"0277550",42,99999,"42-99999",27,378,"27-378",333,"04",35,"04","For-hire truck","Truck/Freight",16184,1340,760,904,"N","N","N","N",278.3,251583.2]
[null,"0279259",27,378,"27-378",27,99999,"27-99999",4238,"01",35,14,"Parcel, USPS, or courier","Truck/Freight",26,1,97,116,"N","N","N","N",921.3,106870.79999999999]
[null,"0279892",27,378,"27-378",27,378,"27-378",327,"01",31,"04","For-hire truck","Truck/Freight",3600,49391,19,25,"N","N","N","N",50.3,1257.5]
[null,"0280721",42,428,"42-428",27,378,"27-378",4247,"01",20,"04","For-hire truck","Truck/Freight",755,16,977,1180,"N","N","N","H",534,630120]
[null,"0281841",26,220,"26-220",27,378,"27-378",4239,"02",35,14,"Parcel, USPS, or courier","Truck/Freight",258,1,522,669,"N","N","N","N",585.5,391699.5]
[null,"0283198",46,99999,"46-99999",27,99999,"27-99999",314,"03",30,14,"Parcel, USPS, or courier","Truck/Freight",558,65,254,339,"N","N","N","N",32.4,10983.6]
[null,"0284087",38,99999,"38-99999",27,99999,"27-99999",4541,"02",21,"04","For-hire truck","Truck/Freight",39263,362,220,251,"N","N","N","N",491.3,123316.3]
[null,"0285929",39,212,"39-212",27,378,"27-378",335,"03",35,14,"Parcel, USPS, or courier","Truck/Freight",41,1,588,723,"N","N","N","N",846.5,612019.5]
[null,"0286652",27,99999,"27-99999",27,99999,"27-99999",4233,"02",33,14,"Parcel, USPS, or courier","Truck/Freight",111,2,217,252,"N","N","N","N",180.4,45460.800000000003]
[null,"0287402",27,378,"27-378",27,99999,"27-99999",321,"03",26,"05","Company-owned truck","Truck/Freight",6772,43726,89,118,"N","N","N","N",156.5,{"$f":"W6427*R6427","v":18467}]
[null,"0288298",27,99999,"27-99999",27,99999,"27-99999",212,"03",14,17,{"$error":"#N/A"},{"$error":"#N/A"},1060558,39023056,65,534,"N","Y","C","N",26.1,13937.400000000001]
[null,"0289267","08",216,"08-216",27,378,"27-378",333,"01",40,14,"Parcel, USPS, or courier","Truck/Freight",173,57,689,907,"N","N","N","N",262.89999999999998,238450.3]
[null,"0289951",29,312,"29-312",27,378,"27-378",4931,"02",43,14,"Parcel, USPS, or courier","Truck/Freight",65,35,398,427,"N","N","N","N",843.9,360345.3]
[null,"0290863",39,184,"39-184",27,99999,"27-99999",4234,"04",38,14,"Parcel, USPS, or courier","Truck/Freight",32,1,595,718,"N","N","N","N",11232.7,8065078.6000000006]
[null,"0292627",17,176,"17-176",27,378,"27-378",4238,"01",20,"04","For-hire truck","Truck/Freight",20634,48131,375,445,"N","N","N","N",61.3,27278.5]
[null,"0293556",18,99999,"18-99999",27,378,"27-378",325,"02","04","04","For-hire truck","Truck/Freight",2207,45499,529,640,"N","N","N","N",223,142720]
[null,"0294373",27,378,"27-378",27,378,"27-378",4241,"04",28,"05","Company-owned truck","Truck/Freight",396,451,13,18,"N","N","N","N",718,12924]
[null,"0295214",27,99999,"27-99999",27,378,"27-378",4244,"04",43,"05","Company-owned truck","Truck/Freight",466,1127,120,156,"Y","N","N","N",1341,209196]
[null,"0296380",28,99999,"28-99999",27,378,"27-378",321,"01",26,"04","For-hire truck","Truck/Freight",6890,45690,924,1099,"N","N","N","N",538.29999999999995,{"$f":"W6619*R6619","v":591591.69999999995}]
[null,"0296986",46,99999,"46-99999",27,99999,"27-99999",4233,"01",26,"05","Company-owned truck","Truck/Freight",1139,1761,27,30,"N","N","N","N",277.39999999999998,8322]
[null,"0298603",20,556,"20-556",27,99999,"27-99999",4231,"01",36,14,"Parcel, USPS, or courier","Truck/Freight",436,98,439,583,"N","N","N","N",3057.1,1782289.3]
[null,"0299234",26,220,"26-220",27,378,"27-378",339,"03",40,"04","For-hire truck","Truck/Freight",2623,282,534,702,"N","N","N","N",109.5,76869]
[null,"0299822",27,378,"27-378",27,378,"27-378",4249,"04",18,"05","Company-owned truck","Truck/Freight",576,2557,17,23,"N","N","N","P",1741.6,40056.799999999996]
[null,"0300623",38,99999,"38-99999",27,99999,"27-99999",4233,"02",43,"05","Company-owned truck","Truck/Freight",256,65,86,94,"N","N","N","N",349.9,32890.6]
[null,"0301633",27,378,"27-378",27,378,"27-378",551114,"03",35,"05","Company-owned truck","Truck/Freight",692,137,23,28,"N","N","N","N",580.6,16256.800000000001]
[null,"0302402",27,378,"27-378",27,378,"27-378",4231,"03",32,"05","Company-owned truck","Truck/Freight",160,11,12,17,"N","N","N","N",5185.6000000000004,88155.200000000012]
[null,"0303802",27,99999,"27-99999",27,378,"27-378",326,"04","07","05","Company-owned truck","Truck/Freight",12917,5923,46,55,"N","N","N","N",287.89999999999998,15834.499999999998]
[null,"0304669",27,99999,"27-99999",27,99999,"27-99999",4245,"03","02","05","Company-owned truck","Truck/Freight",3126,59139,36,47,"N","N","N","N",4259.3,200187.1]
[null,"0305028",27,99999,"27-99999",27,99999,"27-99999",4238,"01",36,14,"Parcel, USPS, or courier","Truck/Freight",30,1,13,13,"N","N","N","N",1740.4,22625.200000000001]
[null,"0305982",27,99999,"27-99999",27,99999,"27-99999",325,"02",13,12,"Pipeline","Other",2028,127160,12,12,"N","N","N","N",8.9,106.80000000000001]
[null,"0306942",27,378,"27-378",27,378,"27-378",4235,"04",34,14,"Parcel, USPS, or courier","Truck/Freight",960,4,29,44,"N","N","N","N",615.5,27082]
[null,"0307987",27,378,"27-378",27,378,"27-378",334,"04",35,"04","For-hire truck","Truck/Freight",1869,3,13,19,"N","N","N","N",323.39999999999998,6144.5999999999995]
[null,"0309850",27,99999,"27-99999",27,99999,"27-99999",321,"02",41,"04","For-hire truck","Truck/Freight",462,51289,35,37,"N","Y","C","N",184.2,6815.4]
[null,"0310694",27,378,"27-378",27,378,"27-378",325,"02",20,"05","Company-owned truck","Truck/Freight",549,41323,34,43,"Y","N","N","H",627.20000000000005,26969.600000000002]
[null,"0311938",27,378,"27-378",27,378,"27-378",4241,"04",28,"04","For-hire truck","Truck/Freight",189,179,4,6,"N","N","N","N",1043.3,6259.7999999999993]
[null,"0313134",27,99999,"27-99999",27,99999,"27-99999",4244,"04","07","05","Company-owned truck","Truck/Freight",583,1937,4,4,"N","N","N","N",1651.7,6606.8]
[null,"0313784",31,99999,"31-99999",27,378,"27-378",325,"03","04","04","For-hire truck","Truck/Freight",2548,55995,372,502,"N","N","N","N",74.099999999999994,37198.199999999997]
[null,"0314879",27,378,"27-378",27,378,"27-378",212,"04",11,"05","Company-owned truck","Truck/Freight",101,40297,10,15,"N","N","N","N",1951.6,29274]
[null,"0316698",27,378,"27-378",27,378,"27-378",4249,"01","07","05","Company-owned truck","Truck/Freight",336,16,4,5,"N","N","N","N",1610.1,8050.5]
[null,"0317577",17,176,"17-176",27,378,"27-378",4237,"02",24,14,"Parcel, USPS, or courier","Truck/Freight",670,24,330,387,"N","N","N","N",1268,490716]
[null,"0318555","06",348,"06-348",27,378,"27-378",4239,"03",40,14,"Parcel, USPS, or courier","Truck/Freight",2279,2,1498,1893,"N","N","N","N",1868.6,3537259.8]
[null,"0319336",27,378,"27-378",27,378,"27-378",4244,"01","08","05","Company-owned truck","Truck/Freight",117,36,3,3,"N","N","N","N",1052,3156]
[null,"0320172",27,99999,"27-99999",27,99999,"27-99999",212,"04",14,17,{"$error":"#N/A"},{"$error":"#N/A"},1039035,38482772,65,260,"N","Y","C","N",26.1,6786]
[null,"0321465",48,206,"48-206",27,99999,"27-99999",4239,"02",40,14,"Parcel, USPS, or courier","Truck/Freight",328,66,986,1128,"N","N","N","N",3095.5,3491724]
[null,"0322720",27,99999,"27-99999",27,378,"27-378",336,"02",32,"04","For-hire truck","Truck/Freight",181,163,57,68,"N","N","N","N",478.1,32510.800000000003]
[null,"0323715",27,378,"27-378",27,378,"27-378",4244,"03",43,"05","Company-owned truck","Truck/Freight",9812,8802,90,102,"Y","N","N","N",346.8,35373.599999999999]
[null,"0324325",27,378,"27-378",27,378,"27-378",4238,"04",35,11,"Air (incl truck & air)","Air",5976,2,10,350,"N","Y","E","N",89,31150]
[null,"0325202",49,482,"49-482",27,378,"27-378",339,"03",38,11,"Air (incl truck & air)","Air",230,1,956,2044,"N","N","N","N",136.30000000000001,278597.2]
[null,"0325827",27,378,"27-378",27,378,"27-378",4241,"02",27,"04","For-hire truck","Truck/Freight",106,36,11,16,"N","N","N","N",5597,89552]
[null,"0326681",27,99999,"27-99999",27,99999,"27-99999",4237,"04",43,14,"Parcel, USPS, or courier","Truck/Freight",56,1,23,36,"N","N","N","N",270.2,9727.1999999999989]
[null,"0327398",55,99999,"55-99999",27,378,"27-378",337,"04",39,"04","For-hire truck","Truck/Freight",4777,2538,98,127,"N","N","N","N",498.8,63347.6]
[null,"0328788",27,378,"27-378",27,378,"27-378",311,"03","06","04","For-hire truck","Truck/Freight",44580,26622,8,8,"N","N","N","N",47.8,382.4]
[null,"0329568",27,378,"27-378",27,378,"27-378",4244,"01",43,"05","Company-owned truck","Truck/Freight",2997,111,26,34,"Y","N","N","N",2349.1,79869.399999999994]
[null,"0329853",19,99999,"19-99999",27,99999,"27-99999",4249,"02",23,"04","For-hire truck","Truck/Freight",3925,947,33,61,"N","N","N","N",766.8,46774.799999999996]
[null,"0331575",27,99999,"27-99999",27,99999,"27-99999",4247,"04",17,"04","For-hire truck","Truck/Freight",8740,31889,56,61,"N","N","N","P",520.79999999999995,31768.799999999996]
[null,"0332329",27,378,"27-378",27,378,"27-378",4233,"04",24,"05","Company-owned truck","Truck/Freight",7066,5471,4,7,"N","N","N","N",662.9,4640.3]
[null,"0332967",12,99999,"12-99999",27,378,"27-378",337,"02",39,"04","For-hire truck","Truck/Freight",40076,4282,1350,1635,"N","N","N","N",85.1,139138.5]
[null,"0334849",37,99999,"37-99999",27,378,"27-378",335,"02",35,"04","For-hire truck","Truck/Freight",445,46,884,1136,"N","N","N","N",111.8,127004.8]
[null,"0335528",27,99999,"27-99999",27,378,"27-378",4239,"02",40,14,"Parcel, USPS, or courier","Truck/Freight",15,1,173,199,"N","N","N","N",535.20000000000005,106504.8]
[null,"0336229",27,99999,"27-99999",27,99999,"27-99999",312,"04","07","04","For-hire truck","Truck/Freight",4232,17770,83,110,"N","N","N","N",217.5,23925]
[null,"0337595",27,378,"27-378",27,378,"27-378",323,"01",29,"04","For-hire truck","Truck/Freight",4155,1003,15,19,"N","N","N","N",380.2,7223.8]
[null,"0338517",49,482,"49-482",27,378,"27-378",4541,"01",30,11,"Air (incl truck & air)","Air",206,1,992,1976,"N","N","N","N",29410.2,58114555.200000003]
[null,"0339129",17,176,"17-176",27,378,"27-378",4234,"02","08","04","For-hire truck","Truck/Freight",20,28,303,381,"N","N","N","P",8079.1,3078137.1]
[null,"0340916",48,99999,"48-99999",27,99999,"27-99999",4931,"01",35,11,"Air (incl truck & air)","Air",1273,1,1536,1818,"N","N","N","N",2594,4715892]
[null,"0342004",40,538,"40-538",27,99999,"27-99999",4541,"04",34,14,"Parcel, USPS, or courier","Truck/Freight",111,85,679,817,"N","N","N","N",20733.3,16939106.099999998]
[null,"0342774",27,378,"27-378",27,378,"27-378",4249,"03","02","04","For-hire truck","Truck/Freight",3265,59363,17,26,"N","N","N","N",64.7,1682.2]
[null,"0343432",30,99999,"30-99999",27,99999,"27-99999",332,"01",32,14,"Parcel, USPS, or courier","Truck/Freight",83,30,1017,1252,"N","N","N","N",51.4,64352.799999999996]
[null,"0343847",27,378,"27-378",27,378,"27-378",311,"01","06","04","For-hire truck","Truck/Freight",17160,81433,8,8,"N","N","N","N",38.299999999999997,306.39999999999998]
[null,"0344674",55,99999,"55-99999",27,378,"27-378",4238,"03",40,14,"Parcel, USPS, or courier","Truck/Freight",64,12,162,172,"N","N","N","N",239.4,41176.800000000003]
[null,"0345133",26,99999,"26-99999",27,378,"27-378",4246,"03",23,14,"Parcel, USPS, or courier","Truck/Freight",113,54,449,585,"N","N","N","N",951,556335]
[null,"0346837",55,99999,"55-99999",27,378,"27-378",327,"03",31,"04","For-hire truck","Truck/Freight",8486,44417,68,104,"N","N","N","N",109.2,11356.800000000001]
[null,"0347783",21,99999,"21-99999",27,378,"27-378",325,"03",27,"04","For-hire truck","Truck/Freight",3812,5440,669,823,"N","N","N","N",179.3,147563.90000000002]
[null,"0348612",27,378,"27-378",27,378,"27-378",321,"02",26,"04","For-hire truck","Truck/Freight",16706,13408,28,35,"N","N","N","N",12.5,437.5]
[null,"0349842",47,368,"47-368",27,378,"27-378",334,"01",38,14,"Parcel, USPS, or courier","Truck/Freight",119,8,702,1027,"N","Y","C","N",718.7,738104.9]
[null,"0350544",27,378,"27-378",27,378,"27-378",4233,"04",31,"05","Company-owned truck","Truck/Freight",32,68,8,8,"N","N","N","N",1665.3,13322.4]
[null,"0351620",48,206,"48-206",27,378,"27-378",333,"04",34,14,"Parcel, USPS, or courier","Truck/Freight",120,10,845,921,"N","N","N","N",1866,1718586]
[null,"0352781",49,99999,"49-99999",27,99999,"27-99999",325,"03",22,15,"Truck and rail","Rail",17979,218767,838,1496,"N","N","N","N",50.4,75398.399999999994]
[null,"0354475",37,99999,"37-99999",27,378,"27-378",337,"02",39,"04","For-hire truck","Truck/Freight",506,32,895,1140,"N","N","N","N",210.4,239856]
[null,"0355323",27,378,"27-378",27,378,"27-378",4541,"03",20,14,"Parcel, USPS, or courier","Truck/Freight",90,1,33,44,"N","N","N","N",17420.8,766515.19999999995]
[null,"0356394",27,378,"27-378",27,378,"27-378",4231,"01",36,14,"Parcel, USPS, or courier","Truck/Freight",268,14,31,40,"N","N","N","N",3864,154560]
[null,"0357220",27,378,"27-378",27,378,"27-378",334,"04",38,14,"Parcel, USPS, or courier","Truck/Freight",1364,12,6,405,"N","Y","A","N",58.5,23692.5]
[null,"0358082",27,378,"27-378",27,378,"27-378",332,"02",40,"05","Company-owned truck","Truck/Freight",2590,109,29,31,"N","N","N","N",693.7,21504.7]
[null,"0359002",31,99999,"31-99999",27,99999,"27-99999",4236,"02",35,"04","For-hire truck","Truck/Freight",326,55,367,469,"N","N","N","N",45.9,21527.1]
[null,"0360638",27,378,"27-378",27,378,"27-378",4931,"03",43,"04","For-hire truck","Truck/Freight",135964,39889,31,35,"N","N","N","N",88.4,3094]
[null,"0361999","06",41740,"06-41740",27,99999,"27-99999",4238,"01",38,14,"Parcel, USPS, or courier","Truck/Freight",120,1,1526,1929,"N","N","N","N",1110.2,2141575.8000000003]
[null,"0362609",27,378,"27-378",27,378,"27-378",4248,"04","08","05","Company-owned truck","Truck/Freight",237,233,12,18,"N","N","N","N",2224.1,40033.799999999996]
[null,"0363776",27,378,"27-378",27,378,"27-378",45431,"03",19,"05","Company-owned truck","Truck/Freight",129,864,12,19,"N","N","N","H",383.7,7290.3]
[null,"0364635",40,416,"40-416",27,378,"27-378",4234,"01",35,"04","For-hire truck","Truck/Freight",21925,870,706,811,"N","N","N","N",300.60000000000002,243786.6]
[null,"0365219",27,378,"27-378",27,99999,"27-99999",4238,"03",24,"05","Company-owned truck","Truck/Freight",1060,744,268,312,"N","N","N","N",1351.8,421761.6]
[null,"0365986",18,99999,"18-99999",27,378,"27-378",337,"04",39,"04","For-hire truck","Truck/Freight",725,182,562,699,"N","N","N","N",313.5,219136.5]
[null,"0367529",27,99999,"27-99999",27,99999,"27-99999",4237,"02",24,"05","Company-owned truck","Truck/Freight",4872,986,113,155,"N","N","N","N",236.9,36719.5]
[null,"0368173",27,378,"27-378",27,378,"27-378",339,"02",21,"04","For-hire truck","Truck/Freight",393,1,2,3,"N","N","N","N",39.299999999999997,117.89999999999999]
[null,"0368801",27,99999,"27-99999",27,99999,"27-99999",311,"04","04","05","Company-owned truck","Truck/Freight",2784,23997,62,82,"N","N","N","N",105.2,8626.4]
[null,"0369435",38,99999,"38-99999",27,99999,"27-99999",4236,"02",38,"05","Company-owned truck","Truck/Freight",495,2,46,49,"N","N","N","N",865.7,42419.3]
[null,"0370801",39,198,"39-198",27,378,"27-378",325,"02",24,"04","For-hire truck","Truck/Freight",2267,2385,624,768,"N","N","N","N",124.7,95769.600000000006]
[null,"0371426",27,378,"27-378",27,378,"27-378",4235,"02",33,"04","For-hire truck","Truck/Freight",9859,39178,11,17,"N","N","N","N",151.6,2577.1999999999998]
[null,"0372996",27,378,"27-378",27,378,"27-378",551114,"02",40,"04","For-hire truck","Truck/Freight",580,637,7,10,"N","N","N","N",525.9,5259]
[null,"0373779",27,99999,"27-99999",27,99999,"27-99999",321,"02",30,"05","Company-owned truck","Truck/Freight",53103,26554,44,65,"N","N","N","N",22.4,1456]
[null,"0374680",27,99999,"27-99999",27,378,"27-378",4241,"03",43,"05","Company-owned truck","Truck/Freight",59,54,35,47,"N","N","N","N",763,35861]
[null,"0375261",37,268,"37-268",27,378,"27-378",312,"02","09","04","For-hire truck","Truck/Freight",847638,26937,935,1141,"N","N","N","N",37,42217]
[null,"0375673",27,378,"27-378",27,378,"27-378",4244,"03","05","05","Company-owned truck","Truck/Freight",135,44,19,24,"Y","N","N","N",1270.3,30487.199999999997]
[null,"0376243",27,99999,"27-99999",27,378,"27-378",4241,"02",43,"05","Company-owned truck","Truck/Freight",70,2,48,57,"N","N","N","N",764.3,43565.1]
[null,"0377847",20,556,"20-556",27,378,"27-378",332,"01",19,"04","For-hire truck","Truck/Freight",1795,1380,550,656,"N","N","N","H",59.5,39032]
[null,"0378812",46,99999,"46-99999",27,378,"27-378",334,"01",35,"05","Company-owned truck","Truck/Freight",21216,365,192,247,"N","N","N","N",106,26182]
[null,"0379550",45,99999,"45-99999",27,378,"27-378",4232,"02",39,14,"Parcel, USPS, or courier","Truck/Freight",9,5,1011,1285,"N","N","N","N",392.7,504619.5]
[null,"0380241",27,378,"27-378",27,378,"27-378",4244,"03","05","05","Company-owned truck","Truck/Freight",117,9,12,16,"Y","N","N","N",1566.8,25068.799999999999]
[null,"0381191",27,378,"27-378",27,378,"27-378",4234,"01",20,14,"Parcel, USPS, or courier","Truck/Freight",18,2,20,29,"N","N","N","N",29651.4,859890.60000000009]
[null,"0382282",27,378,"27-378",27,99999,"27-99999",334,"03",35,14,"Parcel, USPS, or courier","Truck/Freight",16660,3,80,95,"N","N","N","N",35.200000000000003,3344.0000000000005]
[null,"0383956",48,206,"48-206",27,378,"27-378",4541,"02",21,14,"Parcel, USPS, or courier","Truck/Freight",67,1,845,937,"N","N","N","N",15277.4,14314923.799999999]
[null,"0384673",27,378,"27-378",27,99999,"27-99999",4233,"03",31,"05","Company-owned truck","Truck/Freight",1005,345,49,58,"N","N","N","N",775.5,44979]
[null,"0385673",17,176,"17-176",27,378,"27-378",4235,"04",33,"04","For-hire truck","Truck/Freight",718,207,321,381,"N","N","N","N",7489.3,2853423.3000000003]
[null,"0386504",13,122,"13-122",27,378,"27-378",321,"03",26,"04","For-hire truck","Truck/Freight",246,88,893,1144,"N","N","N","N",266,304304]
[null,"0387360",27,378,"27-378",27,378,"27-378",4241,"03",43,14,"Parcel, USPS, or courier","Truck/Freight",140,37,20,24,"N","N","N","N",1921.9,46125.600000000006]
[null,"0388752",16,99999,"16-99999",27,99999,"27-99999",333,"02",34,14,"Parcel, USPS, or courier","Truck/Freight",220,1,1090,1443,"N","N","N","N",1807.6,2608366.7999999998]
[null,"0390055",13,99999,"13-99999",27,99999,"27-99999",212,"03",13,"06","Rail","Rail",6389,127789,1077,1512,"N","N","N","N",257.7,389642.39999999997]
[null,"0390961",27,99999,"27-99999",27,99999,"27-99999",4238,"04",34,14,"Parcel, USPS, or courier","Truck/Freight",40,1,74,81,"N","N","N","N",3576.5,289696.5]
[null,"0391974",40,99999,"40-99999",27,378,"27-378",325,"03",23,"04","For-hire truck","Truck/Freight",185,26,720,865,"N","N","N","N",11,{"$f":"W8795*R8795","v":9515}]
[null,"0393009",27,378,"27-378",27,378,"27-378",327,"01",24,"05","Company-owned truck","Truck/Freight",3968,952,15,19,"N","N","N","N",595.20000000000005,11308.800000000001]
[null,"0394521",55,376,"55-376",27,378,"27-378",332,"03",40,"04","For-hire truck","Truck/Freight",2014,157,306,357,"N","N","N","N",314.5,112276.5]
[null,"0395340",27,99999,"27-99999",27,378,"27-378",4244,"04","07","05","Company-owned truck","Truck/Freight",736,101,39,49,"N","N","N","N",1046.3,51268.7]
[null,"0397157",27,378,"27-378",27,378,"27-378",4249,"01",21,"04","For-hire truck","Truck/Freight",272,1,20,36,"N","N","N","N",2005.2,72187.199999999997]
[null,"0398066",27,378,"27-378",27,378,"27-378",4246,"02",20,"05","Company-owned truck","Truck/Freight",817,702,12,16,"N","N","N","P",211.2,3379.2]
[null,"0398911",27,378,"27-378",27,378,"27-378",327,"01",31,"05","Company-owned truck","Truck/Freight",1011,42396,13,19,"N","N","N","N",444.7,8449.2999999999993]
[null,"0399454",27,99999,"27-99999",27,99999,"27-99999",4248,"02","08","05","Company-owned truck","Truck/Freight",714,694,8,10,"N","N","N","N",550.70000000000005,5507]
[null,"0401025",27,378,"27-378",27,378,"27-378",4244,"01","06","04","For-hire truck","Truck/Freight",36,5,2,2,"N","N","N","N",11743.5,23487]
[null,"0401568",27,378,"27-378",27,378,"27-378",332,"03",33,"05","Company-owned truck","Truck/Freight",293,38,6,8,"N","N","N","N",355.2,2841.6]
[null,"0402729",48,206,"48-206",27,99999,"27-99999",336,"04",36,"04","For-hire truck","Truck/Freight",110727,20963,793,907,"N","N","N","N",321.5,291600.5]
[null,"0404625",27,378,"27-378",27,99999,"27-99999",334,"03",35,14,"Parcel, USPS, or courier","Truck/Freight",6950,26,49,59,"N","N","N","N",215.3,12702.7]
[null,"0405505",28,99999,"28-99999",27,378,"27-378",4249,"02",22,"04","For-hire truck","Truck/Freight",5146,47870,873,1016,"N","N","N","H",41.5,42164]
[null,"0406269",34,408,"34-408",27,378,"27-378",4243,"01",30,14,"Parcel, USPS, or courier","Truck/Freight",282,1,1003,1190,"N","N","N","N",1969.3,2343467]
[null,"0406872",55,376,"55-376",27,378,"27-378",4244,"04",43,"05","Company-owned truck","Truck/Freight",2912,2547,305,355,"Y","N","N","N",1399.9,496964.50000000006]
[null,"0408031",29,476,"29-476",27,378,"27-378",322,"04",29,14,"Parcel, USPS, or courier","Truck/Freight",164,69,459,556,"N","N","N","N",1018.9,566508.4]
[null,"0408712",55,376,"55-376",27,99999,"27-99999",322,"03",28,14,"Parcel, USPS, or courier","Truck/Freight",383,117,322,390,"N","N","N","N",578.9,225771]
[null,"0409581",51,545,"51-545",27,99999,"27-99999",339,"01",40,14,"Parcel, USPS, or courier","Truck/Freight",626,152,1163,1485,"N","N","N","N",211.1,313483.5]
[null,"0411219",31,420,"31-420",27,378,"27-378",326,"02",31,14,"Parcel, USPS, or courier","Truck/Freight",38,3,303,396,"N","N","N","N",29.4,11642.4]
[null,"0412033",27,378,"27-378",27,378,"27-378",334,"02",37,"04","For-hire truck","Truck/Freight",1133,5,3,3,"N","N","N","N",1315.5,3946.5]
[null,"0412871",27,378,"27-378",27,378,"27-378",311,"02",43,"04","For-hire truck","Truck/Freight",23253,18830,6,8,"Y","N","N","N",72.3,578.4]
[null,"0413537",17,176,"17-176",27,378,"27-378",324,"03",32,"04","For-hire truck","Truck/Freight",28910,4782,340,395,"N","N","N","N",43.3,17103.5]
[null,"0414465",27,99999,"27-99999",27,378,"27-378",311,"03","07","04","For-hire truck","Truck/Freight",23542,37549,20,24,"Y","N","N","N",49.4,1185.5999999999999]
[null,"0415481",13,122,"13-122",27,99999,"27-99999",331,"01",32,"04","For-hire truck","Truck/Freight",12090,42006,931,1179,"N","N","N","N",377.5,445072.5]
[null,"0417339",55,376,"55-376",27,99999,"27-99999",327,"04",31,"04","For-hire truck","Truck/Freight",31049,41880,347,403,"N","N","N","N",41.4,16684.2]
[null,"0418412",27,99999,"27-99999",27,378,"27-378",332,"04",40,"04","For-hire truck","Truck/Freight",8770,1543,124,148,"N","N","N","N",1096.8,162326.39999999999]
[null,"0419185",39,184,"39-184",27,378,"27-378",335,"03",35,14,"Parcel, USPS, or courier","Truck/Freight",73,9,642,769,"N","N","N","N",605.29999999999995,465475.69999999995]
[null,"0420180",27,99999,"27-99999",27,99999,"27-99999",332,"03",40,"04","For-hire truck","Truck/Freight",40,1,20,31,"N","N","N","N",1116,34596]
[null,"0420746","06",41740,"06-41740",27,378,"27-378",4244,"01","03",14,"Parcel, USPS, or courier","Truck/Freight",33,7,1486,2384,"N","N","N","N",31604.9,75346081.600000009]
[null,"0421369",19,99999,"19-99999",27,99999,"27-99999",4238,"03",36,14,"Parcel, USPS, or courier","Truck/Freight",50,1,256,363,"N","N","N","N",2576.1999999999998,935160.6]
[null,"0422661",27,378,"27-378",27,378,"27-378",551114,"02",34,"04","For-hire truck","Truck/Freight",1101,214,34,42,"N","N","N","N",414.9,17425.8]
[null,"0423473",26,266,"26-266",27,378,"27-378",325,"03",24,14,"Parcel, USPS, or courier","Truck/Freight",574,24,402,585,"N","N","N","N",113.1,66163.5]
[null,"0423958",20,312,"20-312",27,378,"27-378",339,"01",30,14,"Parcel, USPS, or courier","Truck/Freight",27,1,402,435,"N","N","N","N",214.9,93481.5]
[null,"0424727",27,99999,"27-99999",27,378,"27-378",332,"01",33,"04","For-hire truck","Truck/Freight",3266,141,108,119,"N","N","N","N",195.3,23240.7]
[null,"0425380",27,378,"27-378",27,378,"27-378",4239,"03",33,"04","For-hire truck","Truck/Freight",297,16,6,6,"N","N","N","N",580,3480]
[null,"0426086",27,378,"27-378",27,378,"27-378",311,"03","07","04","For-hire truck","Truck/Freight",286,602,86,93,"Y","N","N","N",669.4,62254.2]
[null,"0427083",12,45300,"12-45300",27,378,"27-378",326,"03",24,14,"Parcel, USPS, or courier","Truck/Freight",11410,11,1313,1609,"N","N","N","N",26.4,42477.599999999999]
[null,"0428459",27,378,"27-378",27,378,"27-378",323,"03",29,14,"Parcel, USPS, or courier","Truck/Freight",11,8,19,25,"N","N","N","N",6870.9,171772.5]
[null,"0430043",32,99999,"32-99999",27,99999,"27-99999",335,"03",35,14,"Parcel, USPS, or courier","Truck/Freight",480,7,1324,1699,"N","N","N","N",66.2,112473.8]
[null,"0431031",31,420,"31-420",27,99999,"27-99999",326,"03",31,14,"Parcel, USPS, or courier","Truck/Freight",5,3,269,355,"N","N","N","N",29.6,10508]
[null,"0432001",27,378,"27-378",27,378,"27-378",339,"04",38,11,"Air (incl truck & air)","Air",501,10,19,363,"N","Y","E","N",572,207636]
[null,"0432816",46,99999,"46-99999",27,99999,"27-99999",332,"04",40,14,"Parcel, USPS, or courier","Truck/Freight",157,14,267,312,"N","N","N","N",1227.4000000000001,382948.80000000005]
[null,"0433402",37,450,"37-450",27,99999,"27-99999",4931,"01",26,14,"Parcel, USPS, or courier","Truck/Freight",21,3,1183,1424,"N","N","N","N",1174.3,1672203.2]
[null,"0435640",23,99999,"23-99999",27,378,"27-378",311,"04","07","04","For-hire truck","Truck/Freight",22249,23677,1265,1733,"Y","N","N","N",17.8,30847.4]
[null,"0437044",12,45300,"12-45300",27,378,"27-378",326,"03",24,14,"Parcel, USPS, or courier","Truck/Freight",12820,11,1313,1609,"N","N","N","N",26.4,42477.599999999999]
[null,"0437968",29,99999,"29-99999",27,378,"27-378",4236,"03",35,"04","For-hire truck","Truck/Freight",10326,4312,582,670,"N","N","N","N",256.8,172056]
[null,"0438632",27,378,"27-378",27,378,"27-378",4231,"04",24,"05","Company-owned truck","Truck/Freight",4511,869,25,30,"N","N","N","N",3711.9,111357]
[null,"0439097",26,220,"26-220",27,99999,"27-99999",325,"03",23,14,"Parcel, USPS, or courier","Truck/Freight",356,46,615,821,"N","N","N","N",52.9,43430.9]
[null,"0439878",19,99999,"19-99999",27,99999,"27-99999",333,"01",34,"04","For-hire truck","Truck/Freight",1720,1222,158,211,"N","N","N","N",2535.6,535011.6]
[null,"0441003",27,99999,"27-99999",27,99999,"27-99999",325,"01",22,"04","For-hire truck","Truck/Freight",1222,49041,15,15,"N","N","N","N",70.2,1053]
[null,"0442989",37,172,"37-172",27,378,"27-378",4541,"03",30,14,"Parcel, USPS, or courier","Truck/Freight",28,2,927,1161,"N","N","N","N",129,149769]
[null,"0443764",27,378,"27-378",27,378,"27-378",4244,"02","05","05","Company-owned truck","Truck/Freight",219,13,4,5,"Y","N","N","N",2153,10765]
[null,"0445056",17,476,"17-476",27,378,"27-378",332,"03",40,"04","For-hire truck","Truck/Freight",3672,16915,480,588,"N","N","N","N",266,156408]
[null,"0445717",19,99999,"19-99999",27,378,"27-378",331,"04",32,"04","For-hire truck","Truck/Freight",5861,2996,193,256,"N","N","N","N",39.5,10112]
[null,"0446789",27,378,"27-378",27,378,"27-378",4541,"01",21,"05","Company-owned truck","Truck/Freight",27,1,10,13,"N","N","N","N",5899.8,76697.400000000009]
[null,"0447574",19,99999,"19-99999",27,99999,"27-99999",4245,"02","03","04","For-hire truck","Truck/Freight",8617,55554,26,37,"N","N","N","N",332.6,12306.2]
[null,"0449026",27,378,"27-378",27,378,"27-378",4233,"02",26,"05","Company-owned truck","Truck/Freight",5744,8473,26,35,"N","N","N","N",7414.8,259518]
[null,"0450909",34,408,"34-408",27,378,"27-378",4236,"04",35,14,"Parcel, USPS, or courier","Truck/Freight",31039,62,984,1170,"N","N","N","N",284.89999999999998,333333]
[null,"0452025",27,378,"27-378",27,378,"27-378",326,"03",24,"05","Company-owned truck","Truck/Freight",733,366,24,31,"N","N","N","N",261.39999999999998,8103.4]
[null,"0452829",27,378,"27-378",27,378,"27-378",312,"03","08","04","For-hire truck","Truck/Freight",43927,43851,3,4,"N","N","N","N",28.4,113.6]
[null,"0453948",20,312,"20-312",27,99999,"27-99999",327,"01",31,"04","For-hire truck","Truck/Freight",18714,37173,334,394,"N","N","N","N",72,28368]
[null,"0454972",19,99999,"19-99999",27,378,"27-378",322,"04",28,14,"Parcel, USPS, or courier","Truck/Freight",134,70,284,354,"N","N","N","N",66,23364]
[null,"0457193",24,99999,"24-99999",27,99999,"27-99999",332,"03",33,"04","For-hire truck","Truck/Freight",2206,128,1017,1233,"N","N","N","N",528.70000000000005,651887.10000000009]
[null,"0458159",27,378,"27-378",27,378,"27-378",4248,"04","08","05","Company-owned truck","Truck/Freight",193,154,12,19,"N","N","N","N",1176,22344]
[null,"0458999",27,99999,"27-99999",27,99999,"27-99999",4541,"03",24,"04","For-hire truck","Truck/Freight",66,10,86,98,"N","N","N","N",32326.1,3167957.8]
[null,"0459891",27,99999,"27-99999",27,99999,"27-99999",4244,"01","07","05","Company-owned truck","Truck/Freight",111,110,5,7,"N","N","N","N",1045.8,7320.5999999999995]
[null,"0460653",27,99999,"27-99999",27,99999,"27-99999",4245,"03","04","05","Company-owned truck","Truck/Freight",1209,17378,8,8,"N","N","N","N",532.29999999999995,4258.3999999999996]
[null,"0462555",27,378,"27-378",27,378,"27-378",334,"03",35,14,"Parcel, USPS, or courier","Truck/Freight",627337,40,2,392,"N","Y","A","N",13.7,5370.4]
[null,"0463391",19,99999,"19-99999",27,99999,"27-99999",4238,"01",34,"04","For-hire truck","Truck/Freight",259,3,16,17,"N","N","N","N",4322.7,73485.899999999994]
[null,"0464051",27,378,"27-378",27,378,"27-378",4238,"03",34,14,"Parcel, USPS, or courier","Truck/Freight",231,11,16,23,"N","N","N","N",651,14973]
[null,"0465171",27,378,"27-378",27,378,"27-378",4244,"02",43,"04","For-hire truck","Truck/Freight",208,101,3,3,"N","N","N","N",4328.5,12985.5]
[null,"0465419",47,368,"47-368",27,378,"27-378",4243,"02",30,14,"Parcel, USPS, or courier","Truck/Freight",19,1,749,858,"N","N","N","N",210.6,180694.8]
[null,"0466494",55,99999,"55-99999",27,378,"27-378",325,"04",20,"05","Company-owned truck","Truck/Freight",977,43441,75,89,"Y","N","N","H",85,7565]
[null,"0467149",27,378,"27-378",27,99999,"27-99999",325,"04","04","04","For-hire truck","Truck/Freight",4040,66356,25,32,"N","N","N","N",124.3,3977.6]
[null,"0468579",19,99999,"19-99999",27,378,"27-378",325,"03",24,"04","For-hire truck","Truck/Freight",4040,3122,296,360,"N","N","N","N",13.7,4932]
[null,"0469809",27,378,"27-378",27,378,"27-378",323,"03",29,14,"Parcel, USPS, or courier","Truck/Freight",178,15,6,9,"N","N","N","N",4395.1000000000004,39555.9]
[null,"0470258",55,376,"55-376",27,378,"27-378",335,"01",35,"04","For-hire truck","Truck/Freight",652,215,301,342,"N","N","N","N",748.6,256021.2]
[null,"0471118",39,198,"39-198",27,99999,"27-99999",332,"02",36,"04","For-hire truck","Truck/Freight",8849,9109,813,1014,"N","N","N","N",105,106470]
[null,"0472278",55,99999,"55-99999",27,99999,"27-99999",4231,"03",36,"04","For-hire truck","Truck/Freight",112,3,176,205,"N","N","N","N",54841.4,11242487]
[null,"0473213",18,294,"18-294",27,378,"27-378",4234,"04",43,14,"Parcel, USPS, or courier","Truck/Freight",148,22,489,590,"N","N","N","N",1770.7,1044713]
[null,"0473814",27,378,"27-378",27,378,"27-378",326,"01",24,"04","For-hire truck","Truck/Freight",30,1,19,24,"N","N","N","N",769.5,18468]
[null,"0475012",55,99999,"55-99999",27,378,"27-378",335,"01",35,"05","Company-owned truck","Truck/Freight",2634,296,52,72,"N","N","N","N",280.39999999999998,20188.8]
[null,"0475852",27,99999,"27-99999",27,378,"27-378",4249,"04",20,"05","Company-owned truck","Truck/Freight",251,495,27,31,"N","N","N","H",2359.6999999999998,73150.7]
[null,"0476766",27,378,"27-378",27,378,"27-378",4231,"01",24,"05","Company-owned truck","Truck/Freight",43,4,37,49,"N","N","N","N",1756.3,86058.7]
[null,"0477270",27,378,"27-378",27,378,"27-378",332,"01",32,"05","Company-owned truck","Truck/Freight",2614,2704,12,14,"N","N","N","N",3499.7,48995.799999999996]
[null,"0478130",27,378,"27-378",27,378,"27-378",4931,"02",33,"04","For-hire truck","Truck/Freight",509,34,63,70,"N","N","N","N",216.2,15134]
[null,"0478970",42,99999,"42-99999",27,378,"27-378",332,"03",33,14,"Parcel, USPS, or courier","Truck/Freight",164,117,846,1069,"N","N","N","N",327.8,350418.2]
[null,"0480166",27,378,"27-378",27,378,"27-378",4931,"01",39,"05","Company-owned truck","Truck/Freight",489,137,22,32,"N","N","N","N",5382.1,172227.20000000001]
[null,"0482247",42,408,"42-408",27,378,"27-378",326,"04",24,"04","For-hire truck","Truck/Freight",12085,4998,975,1164,"N","N","N","N",42.7,49702.8]
[null,"0482846",19,99999,"19-99999",27,99999,"27-99999",4249,"02",43,"05","Company-owned truck","Truck/Freight",815,450,141,195,"Y","N","N","N",2341.6999999999998,456631.49999999994]
[null,"0483603",27,378,"27-378",27,99999,"27-99999",4242,"03",21,"05","Company-owned truck","Truck/Freight",259,5,69,86,"N","N","N","N",1641,141126]
[null,"0484717",27,99999,"27-99999",27,378,"27-378",311,"02","07","04","For-hire truck","Truck/Freight",33816,38747,20,24,"Y","N","N","N",48.2,1156.8000000000002]
[null,"0485401",27,99999,"27-99999",27,99999,"27-99999",4248,"04","07","05","Company-owned truck","Truck/Freight",187,4065,3,4,"N","N","N","N",64.099999999999994,256.39999999999998]
[null,"0487124",27,378,"27-378",27,378,"27-378",325,"03",23,"05","Company-owned truck","Truck/Freight",118,497,31,45,"N","N","N","P",767,34515]
[null,"0488335",51,40060,"51-40060",27,378,"27-378",4249,"04",23,"04","For-hire truck","Truck/Freight",6619,714,972,1233,"N","N","N","N",70.099999999999994,86433.299999999988]
[null,"0489233",27,378,"27-378",27,378,"27-378",323,"02",29,"05","Company-owned truck","Truck/Freight",1405,109,15,19,"N","N","N","N",1930.9,36687.1]
[null,"0489843",27,378,"27-378",27,378,"27-378",4236,"02",35,"05","Company-owned truck","Truck/Freight",168,2,6,10,"N","N","N","N",1254.9000000000001,12549]
[null,"0491120",27,99999,"27-99999",27,99999,"27-99999",4233,"04",26,"05","Company-owned truck","Truck/Freight",6628,24619,59,75,"N","N","N","N",91.6,6870]
[null,"0491235",27,378,"27-378",27,378,"27-378",4234,"01",21,"05","Company-owned truck","Truck/Freight",3,1,8,13,"N","N","N","N",18615.5,242001.5]
[null,"0492686",27,378,"27-378",27,99999,"27-99999",331,"01",24,"04","For-hire truck","Truck/Freight",389,39,33,49,"N","N","N","N",51.2,2508.8000000000002]
[null,"0494146",27,378,"27-378",27,378,"27-378",4238,"02",35,"05","Company-owned truck","Truck/Freight",4572,4389,22,31,"Y","N","N","N",23.1,716.1]
[null,"0495135",27,99999,"27-99999",27,99999,"27-99999",325,"01","04","04","For-hire truck","Truck/Freight",1873,44055,9,9,"N","N","N","N",129.4,1164.6000000000001]
[null,"0496181",51,99999,"51-99999",27,378,"27-378",331,"04",38,14,"Parcel, USPS, or courier","Truck/Freight",1088,1,877,1086,"N","N","N","N",104.9,113921.40000000001]
[null,"0496778",39,178,"39-178",27,99999,"27-99999",324,"04",31,"04","For-hire truck","Truck/Freight",9660,40611,592,730,"N","N","N","N",56.8,41464]
[null,"0497820",27,378,"27-378",27,378,"27-378",4239,"03",41,"04","For-hire truck","Truck/Freight",5155,48525,4,4,"N","N","N","N",93.8,375.2]
[null,"0498606",55,376,"55-376",27,99999,"27-99999",4235,"02",32,"04","For-hire truck","Truck/Freight",3852,2970,262,321,"N","N","N","N",137.5,44137.5]
[null,"0500409",27,378,"27-378",27,378,"27-378",4541,"04",43,14,"Parcel, USPS, or courier","Truck/Freight",59,4,8,11,"N","N","N","N",14716.2,161878.20000000001]
[null,"0500955",27,378,"27-378",27,378,"27-378",4237,"03",43,"05","Company-owned truck","Truck/Freight",331,42,7,9,"N","N","N","N",731.9,6587.0999999999995]
[null,"0501807",22,99999,"22-99999",27,378,"27-378",321,"03",26,"04","For-hire truck","Truck/Freight",10176,40236,931,1106,"N","N","N","N",160.69999999999999,177734.19999999998]
[null,"0502720",38,99999,"38-99999",27,99999,"27-99999",4231,"01",36,"05","Company-owned truck","Truck/Freight",16,1,82,90,"N","N","N","N",3681.6,331344]
[null,"0503362",34,408,"34-408",27,378,"27-378",4234,"02",23,"04","For-hire truck","Truck/Freight",174,150,1010,1212,"N","N","N","N",145.1,175861.19999999998]
[null,"0504314",27,378,"27-378",27,378,"27-378",336,"03",37,14,"Parcel, USPS, or courier","Truck/Freight",37,1,38,44,"N","N","N","N",85.5,3762]
[null,"0505340",17,176,"17-176",27,378,"27-378",4246,"04",24,"04","For-hire truck","Truck/Freight",37229,7985,337,395,"N","N","N","N",988.6,390497]
[null,"0506891",27,99999,"27-99999",27,99999,"27-99999",4237,"03",43,"05","Company-owned truck","Truck/Freight",1070,64,24,26,"N","N","N","N",1561.4,40596.400000000001]
[null,"0507710",27,378,"27-378",27,378,"27-378",4249,"03",23,"05","Company-owned truck","Truck/Freight",624,58,15,27,"N","N","N","N",439.8,11874.6]
[null,"0508764",42,430,"42-430",27,378,"27-378",326,"03",24,"04","For-hire truck","Truck/Freight",543,11331,742,898,"N","N","N","N",299.7,269130.59999999998]
[null,"0509730",42,430,"42-430",27,378,"27-378",323,"01",29,14,"Parcel, USPS, or courier","Truck/Freight",9,1,729,872,"N","N","N","N",67212.399999999994,58609212.799999997]
[null,"0510972",27,378,"27-378",27,378,"27-378",323,"04",40,"05","Company-owned truck","Truck/Freight",366,10,4,7,"N","N","N","N",1582.2,11075.4]
[null,"0511915",27,378,"27-378",27,378,"27-378",4231,"02",24,"05","Company-owned truck","Truck/Freight",67,27,9,9,"N","N","N","N",3741.4,33672.6]
[null,"0514008",46,99999,"46-99999",27,378,"27-378",4245,"01","02","04","For-hire truck","Truck/Freight",5817,58173,188,209,"N","N","N","N",170.3,35592.700000000004]
[null,"0514927",27,99999,"27-99999",27,99999,"27-99999",325,"03","04","05","Company-owned truck","Truck/Freight",2671,56893,13,13,"N","N","N","N",124,1612]
[null,"0515756",27,99999,"27-99999",27,99999,"27-99999",4231,"04",36,14,"Parcel, USPS, or courier","Truck/Freight",150,11,161,204,"N","N","N","N",1518.3,309733.2]
[null,"0516663",27,378,"27-378",27,378,"27-378",4541,"01",21,"05","Company-owned truck","Truck/Freight",28,1,8,10,"N","N","N","N",40593.5,405935]
[null,"0517317",27,378,"27-378",27,99999,"27-99999",334,"03",20,"04","For-hire truck","Truck/Freight",532,2533,156,196,"N","N","N","N",1415.5,277438]
[null,"0518011",27,99999,"27-99999",27,99999,"27-99999",45431,"04",18,"04","For-hire truck","Truck/Freight",1070,2836,10,10,"N","N","N","P",1793.3,17933]
[null,"0518796",29,476,"29-476",27,378,"27-378",4243,"04",30,"04","For-hire truck","Truck/Freight",1194,165,517,618,"N","N","N","N",1715.6,1060240.8]
[null,"0520780",46,99999,"46-99999",27,99999,"27-99999",4233,"02",26,"05","Company-owned truck","Truck/Freight",141,234,77,110,"N","N","N","N",491,54010]
[null,"0521275",55,99999,"55-99999",27,378,"27-378",327,"03",31,"04","For-hire truck","Truck/Freight",11570,8925,186,227,"N","N","N","N",122.2,27739.4]
[null,"0522257",51,47900,"51-47900",27,378,"27-378",323,"01",29,14,"Parcel, USPS, or courier","Truck/Freight",14,28,866,1075,"N","N","N","N",1668.6,1793745]
[null,"0522881",17,176,"17-176",27,378,"27-378",322,"03",28,"04","For-hire truck","Truck/Freight",25794,47165,353,419,"N","N","N","N",40.5,16969.5]
[null,"0524115",34,408,"34-408",27,99999,"27-99999",333,"03",34,14,"Parcel, USPS, or courier","Truck/Freight",272,41,1064,1329,"N","N","N","N",106.5,141538.5]
[null,"0524915",27,378,"27-378",27,378,"27-378",4244,"02","07","05","Company-owned truck","Truck/Freight",412,314,8,12,"Y","N","N","N",2178.1999999999998,{"$f":"W11675*R11675","v":26138.399999999998}]
[null,"0526432","04",99999,"04-99999",27,378,"27-378",326,"01",24,"04","For-hire truck","Truck/Freight",19329,5238,1220,1635,"N","N","N","N",29.9,48886.5]
[null,"0527763",55,99999,"55-99999",27,378,"27-378",4931,"03",23,"04","For-hire truck","Truck/Freight",28083,26303,237,288,"N","N","N","N",69.400000000000006,19987.2]
[null,"0528380",37,172,"37-172",27,378,"27-378",325,"02",18,"04","For-hire truck","Truck/Freight",708,477,957,1213,"N","N","N","N",23.6,28626.800000000003]
[null,"0529229",39,184,"39-184",27,378,"27-378",323,"02",29,"04","For-hire truck","Truck/Freight",1953,40502,649,784,"N","N","N","N",1009.7,791604.8]
[null,"0530009",36,408,"36-408",27,378,"27-378",4541,"04",40,14,"Parcel, USPS, or courier","Truck/Freight",22,1,1051,1257,"N","N","N","N",19784.7,24869367.900000002]
[null,"0530826",27,378,"27-378",27,378,"27-378",4244,"04",43,"05","Company-owned truck","Truck/Freight",1149,1330,17,22,"Y","N","N","N",2682.5,59015]
[null,"0532676",27,378,"27-378",27,378,"27-378",326,"04",24,"04","For-hire truck","Truck/Freight",6536,494,32,48,"N","N","N","N",185.7,8913.5999999999985]
[null,"0533239",27,378,"27-378",27,378,"27-378",321,"01",26,"05","Company-owned truck","Truck/Freight",743,384,23,33,"N","N","N","N",546.79999999999995,18044.399999999998]
[null,"0534311",39,212,"39-212",27,99999,"27-99999",4242,"03",23,14,"Parcel, USPS, or courier","Truck/Freight",280,20,486,611,"N","N","N","N",44.4,27128.399999999998]
[null,"0535327",33,148,"33-148",27,378,"27-378",333,"03",34,14,"Parcel, USPS, or courier","Truck/Freight",140,20,1073,1400,"N","N","N","N",524,733600]
[null,"0536255",27,378,"27-378",27,378,"27-378",4231,"03",36,14,"Parcel, USPS, or courier","Truck/Freight",15,1,5,7,"N","N","N","N",14597.2,102180.40000000001]
[null,"0537270",27,99999,"27-99999",27,99999,"27-99999",325,"01",22,"04","For-hire truck","Truck/Freight",1221,48521,15,15,"N","N","N","N",69,1035]
[null,"0539326",27,378,"27-378",27,378,"27-378",4237,"01",33,"05","Company-owned truck","Truck/Freight",351,119,6,10,"N","N","N","N",1167.7,11677]
[null,"0539896",38,99999,"38-99999",27,99999,"27-99999",4232,"04",43,"05","Company-owned truck","Truck/Freight",68,38,98,110,"N","N","N","N",331.5,36465]
[null,"0540913",42,428,"42-428",27,378,"27-378",4541,"02",40,14,"Parcel, USPS, or courier","Truck/Freight",192,21,1002,1219,"N","N","N","N",164014.79999999999,199934041.19999999]
[null,"0542097",27,99999,"27-99999",27,378,"27-378",4249,"03",23,"05","Company-owned truck","Truck/Freight",1018,312,35,42,"N","N","N","N",82.5,3465]
[null,"0542628",19,99999,"19-99999",27,378,"27-378",336,"03",36,14,"Parcel, USPS, or courier","Truck/Freight",82,1,198,238,"N","N","N","N",899.9,214176.19999999998]
[null,"0543376",55,99999,"55-99999",27,99999,"27-99999",212,"01",11,"06","Rail","Rail",2194,212481,239,297,"N","Y","C","N",462.8,137451.6]
[null,"0545351",27,99999,"27-99999",27,99999,"27-99999",4237,"02",43,"05","Company-owned truck","Truck/Freight",143,31,34,38,"N","N","N","N",1024.7,38938.6]
[null,"0546094",27,378,"27-378",27,378,"27-378",4247,"03",18,"05","Company-owned truck","Truck/Freight",1289,4803,8,14,"N","N","N","P",1282.9000000000001,17960.600000000002]
[null,"0546759",27,99999,"27-99999",27,378,"27-378",336,"02",36,14,"Parcel, USPS, or courier","Truck/Freight",39,24,60,85,"N","N","N","N",475,40375]
[null,"0547575",55,99999,"55-99999",27,378,"27-378",333,"02",34,14,"Parcel, USPS, or courier","Truck/Freight",109,1,268,290,"N","N","N","N",100.4,29116]
[null,"0548580",46,99999,"46-99999",27,378,"27-378",335,"02",35,14,"Parcel, USPS, or courier","Truck/Freight",932,11,509,586,"N","N","N","N",115.1,67448.599999999991]
[null,"0549067",27,99999,"27-99999",27,99999,"27-99999",336,"02",36,"04","For-hire truck","Truck/Freight",4671,477,93,129,"N","N","N","N",32.5,4192.5]
[null,"0549883",46,99999,"46-99999",27,378,"27-378",322,"03",28,"05","Company-owned truck","Truck/Freight",288,471,182,222,"N","N","N","N",53.4,11854.8]
[null,"0551200",27,378,"27-378",27,378,"27-378",4244,"02",13,"04","For-hire truck","Truck/Freight",2288,34777,13,16,"N","N","N","N",154.9,2478.4]
[null,"0552781",27,378,"27-378",27,378,"27-378",4233,"01",26,"05","Company-owned truck","Truck/Freight",2167,4773,13,16,"N","N","N","N",1703.2,27251.200000000001]
[null,"0553774",42,99999,"42-99999",27,99999,"27-99999",323,"03",29,"04","For-hire truck","Truck/Freight",7386,4554,911,1089,"N","N","N","N",50.2,54667.8]
[null,"0554491",27,378,"27-378",27,378,"27-378",212,"03",12,"05","Company-owned truck","Truck/Freight",71,47035,34,42,"N","N","N","N",420.2,17648.399999999998]
[null,"0554911",18,176,"18-176",27,99999,"27-99999",331,"02",32,"04","For-hire truck","Truck/Freight",18594,36829,346,428,"N","N","N","N",116.3,49776.4]
[null,"0555681",27,378,"27-378",27,378,"27-378",45431,"01",19,"05","Company-owned truck","Truck/Freight",242,90,6,7,"N","N","N","H",1528,10696]
[null,"0557405","08",216,"08-216",27,378,"27-378",333,"04",38,11,"Air (incl truck & air)","Air",8037,2,699,741,"N","N","N","N",77.900000000000006,57723.9]
[null,"0558549",28,99999,"28-99999",27,378,"27-378",323,"04",29,14,"Parcel, USPS, or courier","Truck/Freight",3,3,737,846,"N","N","N","N",2732,2311272]
[null,"0559038",27,378,"27-378",27,378,"27-378",4231,"03",36,"05","Company-owned truck","Truck/Freight",61,206,20,24,"N","N","N","N",3703.1,88874.4]
[null,"0559773",27,99999,"27-99999",27,99999,"27-99999",325,"01","04","05","Company-owned truck","Truck/Freight",2243,47596,13,13,"N","N","N","N",35.4,460.2]
[null,"0560088",48,206,"48-206",27,378,"27-378",4232,"02",39,"04","For-hire truck","Truck/Freight",276,152,850,947,"N","N","N","N",8234,7797598]
[null,"0561131",20,99999,"20-99999",27,378,"27-378",314,"03",43,14,"Parcel, USPS, or courier","Truck/Freight",1258,87,429,560,"N","N","N","N",98.9,55384]
[null,"0562054",27,378,"27-378",27,99999,"27-99999",311,"04","04","04","For-hire truck","Truck/Freight",27186,42377,130,139,"N","N","N","N",35.700000000000003,4962.3]
[null,"0563686",27,378,"27-378",27,378,"27-378",4231,"04",34,"04","For-hire truck","Truck/Freight",1074,4,6,11,"N","N","N","N",4057.9,44636.9]
[null,"0564628",55,99999,"55-99999",27,378,"27-378",326,"01",24,"04","For-hire truck","Truck/Freight",4535,6046,238,279,"N","N","N","N",24.8,6919.2]
[null,"0565450",17,176,"17-176",27,378,"27-378",4239,"01",41,"04","For-hire truck","Truck/Freight",22022,47875,337,411,"N","N","N","N",70.3,28893.3]
[null,"0566076",55,376,"55-376",27,378,"27-378",4232,"01",39,14,"Parcel, USPS, or courier","Truck/Freight",70,25,276,319,"N","N","N","N",370.1,118061.90000000001]
[null,"0566841","06",348,"06-348",27,378,"27-378",4931,"02",43,14,"Parcel, USPS, or courier","Truck/Freight",15,1,1475,1876,"N","N","N","N",3362.8,6308612.8000000007]
[null,"0567767",27,378,"27-378",27,378,"27-378",4248,"03","08","05","Company-owned truck","Truck/Freight",577,544,40,48,"N","N","N","N",721.7,34641.600000000006]
[null,"0568885",27,99999,"27-99999",27,99999,"27-99999",325,"04","04","04","For-hire truck","Truck/Freight",3752,65248,11,11,"N","N","N","N",28.5,313.5]
[null,"0569596",37,99999,"37-99999",27,99999,"27-99999",336,"04",37,"04","For-hire truck","Truck/Freight",813,198,917,1140,"N","N","N","N",184.7,210558]
[null,"0570622",29,99999,"29-99999",27,99999,"27-99999",4541,"02",29,14,"Parcel, USPS, or courier","Truck/Freight",53,1,663,849,"N","N","N","N",37887.9,32166827.100000001]
[null,"0571312",27,378,"27-378",27,378,"27-378",4248,"04","08","05","Company-owned truck","Truck/Freight",213,207,16,27,"N","N","N","N",2228,60156]
[null,"0572152",27,378,"27-378",27,378,"27-378",4236,"01",35,"05","Company-owned truck","Truck/Freight",55,9,2,2,"N","N","N","N",874.8,1749.6]
[null,"0573055",27,99999,"27-99999",27,378,"27-378",4249,"03",22,"05","Company-owned truck","Truck/Freight",9305,47719,27,31,"N","N","N","N",82.4,2554.4]
[null,"0574960",27,378,"27-378",27,378,"27-378",4233,"02",31,"05","Company-owned truck","Truck/Freight",407,783,7,9,"N","N","N","N",5610.1,50490.9]
[null,"0575763",27,99999,"27-99999",27,99999,"27-99999",4249,"04",23,14,"Parcel, USPS, or courier","Truck/Freight",78,18,12,15,"N","N","N","N",106,1590]
[null,"0576505",27,378,"27-378",27,378,"27-378",4238,"02",36,"04","For-hire truck","Truck/Freight",1254,18,4,4,"N","N","N","N",110.8,443.2]
[null,"0577406",27,378,"27-378",27,378,"27-378",4238,"03",43,14,"Parcel, USPS, or courier","Truck/Freight",38,5,37,47,"N","N","N","N",3201.4,150465.80000000002]
[null,"0577882",27,99999,"27-99999",27,99999,"27-99999",4248,"02","08","05","Company-owned truck","Truck/Freight",728,938,5,5,"N","N","N","N",1651.9,8259.5]
[null,"0579750",27,378,"27-378",27,378,"27-378",4244,"01",43,"05","Company-owned truck","Truck/Freight",842,799,4,7,"Y","N","N","N",2696.8,18877.600000000002]
[null,"0580042",19,99999,"19-99999",27,99999,"27-99999",311,"04","04","05","Company-owned truck","Truck/Freight",5498,52052,29,45,"N","N","N","N",1128.2,50769]
[null,"0581653",27,378,"27-378",27,378,"27-378",4237,"02",33,"05","Company-owned truck","Truck/Freight",407,43,37,52,"N","N","N","N",1194.5999999999999,62119.199999999997]
[null,"0582601",48,99999,"48-99999",27,99999,"27-99999",5111,"02",29,14,"Parcel, USPS, or courier","Truck/Freight",40,2,953,1106,"N","N","N","N",210.9,233255.4]
[null,"0583223",25,148,"25-148",27,378,"27-378",339,"04",38,11,"Air (incl truck & air)","Air",56,1,1115,1171,"N","N","N","N",1556.1,1822193.0999999999]
[null,"0583969",47,99999,"47-99999",27,99999,"27-99999",316,"02",30,14,"Parcel, USPS, or courier","Truck/Freight",36,3,863,1074,"N","N","N","N",56.6,60788.4]
[null,"0584924",27,378,"27-378",27,378,"27-378",4246,"02",24,14,"Parcel, USPS, or courier","Truck/Freight",1,3,7,10,"N","N","N","N",1407.8,14078]
[null,"0585640",17,476,"17-476",27,99999,"27-99999",327,"02",36,14,"Parcel, USPS, or courier","Truck/Freight",809,49,583,688,"N","N","N","N",519.79999999999995,357622.39999999997]
[null,"0587391",27,99999,"27-99999",27,378,"27-378",331,"02",32,"05","Company-owned truck","Truck/Freight",1383,1137,97,116,"N","N","N","N",183.8,21320.800000000003]
[null,"0588185",27,99999,"27-99999",27,378,"27-378",325,"02",20,"04","For-hire truck","Truck/Freight",29043,42092,127,147,"N","N","N","N",26.3,3866.1]
[null,"0588874",27,99999,"27-99999",27,99999,"27-99999",45431,"01",18,"05","Company-owned truck","Truck/Freight",580,1647,5,8,"N","N","N","P",1157.0999999999999,9256.7999999999993]
[null,"0590204",26,266,"26-266",27,378,"27-378",325,"02",23,14,"Parcel, USPS, or courier","Truck/Freight",38,8,388,592,"N","N","N","N",11,6512]
[null,"0590660",17,476,"17-476",27,378,"27-378",311,"03","06","04","For-hire truck","Truck/Freight",2551,2574,454,545,"N","N","N","N",486.8,265306]
[null,"0591123","06",488,"06-488",27,378,"27-378",4541,"01",30,14,"Parcel, USPS, or courier","Truck/Freight",45,1,1572,2073,"N","N","N","N",34926.300000000003,72402219.900000006]
[null,"0592067",17,176,"17-176",27,378,"27-378",551114,"02",43,"04","For-hire truck","Truck/Freight",945,803,395,455,"N","N","N","N",61.3,27891.5]
[null,"0593248","08",216,"08-216",27,378,"27-378",312,"01","08","04","For-hire truck","Truck/Freight",3086,3965,660,935,"Y","N","N","N",109,101915]
[null,"0594403",27,378,"27-378",27,378,"27-378",332,"03",32,"05","Company-owned truck","Truck/Freight",1995,1068,4,4,"N","N","N","N",583.79999999999995,2335.1999999999998]
[null,"0595698",27,378,"27-378",27,378,"27-378",4249,"03","09","05","Company-owned truck","Truck/Freight",1804,103,9,9,"N","N","N","N",1664.5,14980.5]
[null,"0596211",27,99999,"27-99999",27,99999,"27-99999",212,"02",12,"05","Company-owned truck","Truck/Freight",124,10312,16,16,"N","N","N","N",298.60000000000002,4777.6000000000004]
[null,"0597067",25,148,"25-148",27,378,"27-378",315,"04",30,14,"Parcel, USPS, or courier","Truck/Freight",139,3,1124,1403,"N","N","N","N",177.7,249313.09999999998]
[null,"0598107",27,378,"27-378",27,378,"27-378",4231,"03",33,"05","Company-owned truck","Truck/Freight",62,26,73,92,"N","N","N","N",7518.8,691729.6]
[null,"0599679",27,99999,"27-99999",27,99999,"27-99999",4248,"03","07","05","Company-owned truck","Truck/Freight",19,27,19,25,"N","N","N","N",521.29999999999995,13032.499999999998]
[null,"0600337",18,258,"18-258",27,99999,"27-99999",4244,"01",43,"04","For-hire truck","Truck/Freight",26713,4857,570,664,"N","N","N","N",206.5,137116]
[null,"0601044",27,378,"27-378",27,99999,"27-99999",4238,"01",23,"05","Company-owned truck","Truck/Freight",186,56,85,98,"N","N","N","H",1605.5,157339]
[null,"0602108",27,99999,"27-99999",27,99999,"27-99999",212,"02",10,"05","Company-owned truck","Truck/Freight",444,434,10,10,"N","N","N","N",9.6,96]
[null,"0602657",27,378,"27-378",27,378,"27-378",4239,"01",41,"05","Company-owned truck","Truck/Freight",8378,50043,57,61,"N","N","N","N",34.799999999999997,2122.7999999999997]
[null,"0603738",27,99999,"27-99999",27,99999,"27-99999",4248,"02","07","05","Company-owned truck","Truck/Freight",12823,1832,12,12,"N","N","N","N",283.3,3399.6000000000004]
[null,"0605290",27,99999,"27-99999",27,99999,"27-99999",4248,"04","08","05","Company-owned truck","Truck/Freight",59,70,8,10,"N","N","N","N",562.5,5625]
[null,"0606291",17,176,"17-176",27,378,"27-378",4236,"02",35,14,"Parcel, USPS, or courier","Truck/Freight",540,9,361,420,"N","N","N","N",5388.4,2263128]
[null,"0606975","06",348,"06-348",27,99999,"27-99999",4239,"01",40,14,"Parcel, USPS, or courier","Truck/Freight",58,1,1605,2058,"N","N","N","N",6975.3,14355167.4]
[null,"0608329",31,99999,"31-99999",27,99999,"27-99999",322,"03",28,"04","For-hire truck","Truck/Freight",3218,12562,186,245,"N","N","N","N",8,1960]
[null,"0608915",40,538,"40-538",27,378,"27-378",335,"01",35,14,"Parcel, USPS, or courier","Truck/Freight",194068,92,638,714,"N","N","N","N",37.4,26703.599999999999]
[null,"0609618",19,99999,"19-99999",27,378,"27-378",4244,"04",43,"04","For-hire truck","Truck/Freight",12193,5489,236,253,"N","N","N","N",150.19999999999999,38000.6]
[null,"0611608",27,99999,"27-99999",27,99999,"27-99999",312,"04","07","04","For-hire truck","Truck/Freight",2151,8822,52,65,"N","N","N","N",219.2,14248]
[null,"0612447",27,378,"27-378",27,378,"27-378",4238,"01",34,14,"Parcel, USPS, or courier","Truck/Freight",45,3,28,34,"N","N","N","N",1309.8,44533.2]
[null,"0613470",27,99999,"27-99999",27,378,"27-378",326,"02",24,"05","Company-owned truck","Truck/Freight",886,37,75,90,"N","N","N","N",33.9,3051]
[null,"0614002",27,378,"27-378",27,378,"27-378",4248,"04","08","05","Company-owned truck","Truck/Freight",999,367,9,12,"N","N","N","N",1850.5,22206]
[null,"0614723",27,99999,"27-99999",27,378,"27-378",4236,"03",35,"04","For-hire truck","Truck/Freight",9,2,127,147,"N","N","N","N",3756,552132]
[null,"0615656",27,378,"27-378",27,99999,"27-99999",4245,"03","03","04","For-hire truck","Truck/Freight",9220,57623,43,57,"N","N","N","N",1648.9,93987.3]
[null,"0617545",27,378,"27-378",27,99999,"27-99999",4234,"04",28,"04","For-hire truck","Truck/Freight",364,249,75,96,"N","N","N","N",6152.4,590630.39999999991]
[null,"0617796",27,378,"27-378",27,378,"27-378",45431,"01",19,"05","Company-owned truck","Truck/Freight",338,338,14,19,"N","N","N","H",351.7,6682.3]
[null,"0619064",27,378,"27-378",27,99999,"27-99999",4541,"01",43,14,"Parcel, USPS, or courier","Truck/Freight",440,47,66,73,"N","N","N","N",6283,458659]
[null,"0619686",27,99999,"27-99999",27,378,"27-378",311,"02","07","04","For-hire truck","Truck/Freight",12324,38784,125,148,"N","N","N","N",86,{"$f":"W13851*R13851","v":12728}]
[null,"0620540",27,378,"27-378",27,378,"27-378",4233,"02",40,"04","For-hire truck","Truck/Freight",493,135,38,49,"N","N","N","N",7427.1,363927.9]
[null,"0621213",27,378,"27-378",27,99999,"27-99999",4238,"02",34,14,"Parcel, USPS, or courier","Truck/Freight",93,9,173,187,"N","N","N","N",1669.1,312121.7]
[null,"0622333",32,99999,"32-99999",27,99999,"27-99999",4239,"02",40,14,"Parcel, USPS, or courier","Truck/Freight",50,2,1473,1811,"N","N","N","N",3179.9,5758798.9000000004]
[null,"0624401",27,378,"27-378",27,378,"27-378",4231,"01",36,"05","Company-owned truck","Truck/Freight",260,5,24,31,"N","N","N","N",3855.1,119508.09999999999]
[null,"0625085",54,99999,"54-99999",27,378,"27-378",337,"04",39,"04","For-hire truck","Truck/Freight",228873,37751,854,1028,"N","N","N","N",13.2,13569.599999999999]
[null,"0625826",17,176,"17-176",27,99999,"27-99999",4249,"02",20,"05","Company-owned truck","Truck/Freight",717,1626,264,346,"N","N","N","H",728,251888]
[null,"0626297",27,99999,"27-99999",27,99999,"27-99999",4244,"01",43,"05","Company-owned truck","Truck/Freight",566,299,107,140,"Y","N","N","N",459.4,64316]
[null,"0627585",19,99999,"19-99999",27,378,"27-378",4235,"02",32,"04","For-hire truck","Truck/Freight",23627,47539,248,315,"N","N","N","N",16.100000000000001,5071.5]
[null,"0628504",48,288,"48-288",27,378,"27-378",332,"01",33,"04","For-hire truck","Truck/Freight",6319,11544,1093,1255,"N","N","N","N",63.6,{"$f":"W14043*R14043","v":79818}]
[null,"0631147",27,378,"27-378",27,378,"27-378",332,"01",33,"04","For-hire truck","Truck/Freight",1853,193,13,16,"N","N","N","N",927.9,14846.4]
[null,"0631992",27,378,"27-378",27,378,"27-378",4235,"04",43,14,"Parcel, USPS, or courier","Truck/Freight",1094,9,6,7,"N","N","N","N",611.29999999999995,4279.0999999999995]
[null,"0632557",17,99999,"17-99999",27,99999,"27-99999",4234,"01",38,14,"Parcel, USPS, or courier","Truck/Freight",11,1,531,666,"N","N","N","N",13189,8783874]
[null,"0633389",21,99999,"21-99999",27,378,"27-378",326,"04",24,"04","For-hire truck","Truck/Freight",4478,3013,673,793,"N","N","N","N",50.8,40284.399999999994]
[null,"0634346",27,378,"27-378",27,378,"27-378",4236,"02",43,14,"Parcel, USPS, or courier","Truck/Freight",416,3,106,126,"N","N","N","N",1746.3,220033.8]
[null,"0635052",27,"00000","27-00000",27,378,"27-378",4231,"03","15-19","02","Single mode","Other",46511,320757,4,4,"Y","N","N","P",436.6,1746.4]
[null,"0636115",27,99999,"27-99999",27,99999,"27-99999",4244,"04","07","05","Company-owned truck","Truck/Freight",252,49,27,35,"N","N","N","N",1045.9000000000001,36606.5]
[null,"0638437",27,99999,"27-99999",27,99999,"27-99999",551114,"01",34,14,"Parcel, USPS, or courier","Truck/Freight",604,17,10,10,"N","N","N","N",29.6,{"$f":"W14235*R14235","v":296}]
[null,"0638751",31,99999,"31-99999",27,99999,"27-99999",322,"01",28,"04","For-hire truck","Truck/Freight",4121,5487,308,401,"N","N","N","N",104.2,41784.200000000004]
[null,"0640360",55,376,"55-376",27,378,"27-378",326,"04",33,"04","For-hire truck","Truck/Freight",4287,635,284,338,"N","N","N","N",184.5,62361]
[null,"0640989",55,99999,"55-99999",27,378,"27-378",212,"01",12,"04","For-hire truck","Truck/Freight",961,42153,58,80,"N","N","N","N",321,25680]
[null,"0641730",39,99999,"39-99999",27,99999,"27-99999",4241,"04",29,"04","For-hire truck","Truck/Freight",594,238,702,838,"N","N","N","N",13474,11291212]
[null,"0642548",27,378,"27-378",27,378,"27-378",332,"02",32,"04","For-hire truck","Truck/Freight",10132,21399,19,22,"N","N","N","N",108.5,2387]
[null,"0644455",27,99999,"27-99999",27,99999,"27-99999",311,"04","05","04","For-hire truck","Truck/Freight",108737,43321,20,22,"Y","N","N","N",91,2002]
[null,"0645447",19,99999,"19-99999",27,378,"27-378",4249,"02","04","05","Company-owned truck","Truck/Freight",3376,4041,148,179,"N","N","N","N",300.10000000000002,53717.9]
[null,"0646272",17,99999,"17-99999",27,378,"27-378",323,"02",29,14,"Parcel, USPS, or courier","Truck/Freight",3461,44,351,456,"N","N","N","N",473.4,215870.4]
[null,"0646963",33,148,"33-148",27,99999,"27-99999",4541,"01",40,14,"Parcel, USPS, or courier","Truck/Freight",46,30,1022,1328,"N","N","N","N",20376.3,27059726.399999999]
[null,"0647943",27,378,"27-378",27,378,"27-378",321,"04",26,"04","For-hire truck","Truck/Freight",13289,39777,16,24,"N","N","N","N",64.599999999999994,1550.3999999999999]
[null,"0649261",27,378,"27-378",27,378,"27-378",327,"04",31,"05","Company-owned truck","Truck/Freight",642,21996,10,14,"N","N","N","N",678.1,9493.4]
[null,"0650523",27,378,"27-378",27,378,"27-378",4238,"04",34,14,"Parcel, USPS, or courier","Truck/Freight",122,2,33,40,"N","N","N","N",1183.8,47352]
[null,"0651441",27,378,"27-378",27,99999,"27-99999",4248,"03","08","05","Company-owned truck","Truck/Freight",285,82,215,258,"N","N","N","N",1098.5,283413]
[null,"0652168",55,99999,"55-99999",27,99999,"27-99999",339,"04",38,"05","Company-owned truck","Truck/Freight",419,1,25,29,"N","N","N","N",647.29999999999995,18771.699999999997]
[null,"0653033",27,99999,"27-99999",27,378,"27-378",5111,"01",29,14,"Parcel, USPS, or courier","Truck/Freight",2,1,107,120,"N","N","N","N",1019.7,122364]
[null,"0653752","06",488,"06-488",27,99999,"27-99999",4236,"03",35,"04","For-hire truck","Truck/Freight",1046,9,1501,1924,"N","N","N","N",13654.2,26270680.800000001]
[null,"0654455",27,378,"27-378",27,378,"27-378",4244,"04",43,"05","Company-owned truck","Truck/Freight",7873,7806,12,19,"Y","N","N","N",350.1,6651.9000000000005]
[null,"0655442",27,378,"27-378",27,378,"27-378",322,"02",28,"04","For-hire truck","Truck/Freight",677,372,18,23,"N","N","N","N",205,4715]
[null,"0657184",27,378,"27-378",27,378,"27-378",4241,"02",27,"04","For-hire truck","Truck/Freight",171,46,14,16,"N","N","N","N",5598.3,89572.800000000003]
[null,"0658109",27,99999,"27-99999",27,99999,"27-99999",4237,"03",40,14,"Parcel, USPS, or courier","Truck/Freight",35,1,32,49,"N","N","N","N",238.4,11681.6]
[null,"0658958",38,99999,"38-99999",27,378,"27-378",4239,"04",35,14,"Parcel, USPS, or courier","Truck/Freight",1923,51,202,225,"N","N","N","N",76.8,17280]
[null,"0659533",27,378,"27-378",27,378,"27-378",4244,"01","05","05","Company-owned truck","Truck/Freight",247,6,2,4,"Y","N","N","N",1577,6308]
[null,"0660070",17,176,"17-176",27,99999,"27-99999",4238,"02",33,14,"Parcel, USPS, or courier","Truck/Freight",651,60,291,370,"N","N","N","N",6861.8,2538866]
[null,"0660777",27,99999,"27-99999",27,99999,"27-99999",4233,"03",33,"05","Company-owned truck","Truck/Freight",310,16,10,13,"N","N","N","N",405.4,5270.2]
[null,"0662304","06",348,"06-348",27,378,"27-378",4243,"02",30,14,"Parcel, USPS, or courier","Truck/Freight",304,4,1530,1935,"N","N","N","N",4604.1000000000004,8908933.5]
[null,"0663583",56,99999,"56-99999",27,378,"27-378",311,"02","02",15,"Truck and rail","Rail",21580,183333,758,1332,"N","N","N","N",39.9,53146.799999999996]
[null,"0664245",27,378,"27-378",27,99999,"27-99999",4248,"03","08","05","Company-owned truck","Truck/Freight",95,140,105,124,"N","N","N","N",719.7,89242.8]
[null,"0665165",20,99999,"20-99999",27,378,"27-378",321,"03",26,"04","For-hire truck","Truck/Freight",17784,6875,391,501,"N","N","N","N",22.7,11372.699999999999]
[null,"0665804",13,99999,"13-99999",27,378,"27-378",322,"03",27,"04","For-hire truck","Truck/Freight",18217,48235,1119,1366,"N","N","N","N",117,159822]
[null,"0666093",27,378,"27-378",27,99999,"27-99999",4231,"04",36,"04","For-hire truck","Truck/Freight",3475,271,302,378,"N","N","N","N",43.7,16518.600000000002]
[null,"0667547",42,99999,"42-99999",27,378,"27-378",4232,"01",43,14,"Parcel, USPS, or courier","Truck/Freight",481,48,929,1114,"N","N","N","N",1206.8,1344375.2]
[null,"0669073",19,99999,"19-99999",27,99999,"27-99999",323,"02",24,"04","For-hire truck","Truck/Freight",17208,3942,115,143,"N","N","N","N",115.8,16559.399999999998]
[null,"0669803",38,99999,"38-99999",27,99999,"27-99999",4236,"02",35,"05","Company-owned truck","Truck/Freight",322,2,24,25,"N","N","N","N",2361.3000000000002,59032.500000000007]
[null,"0670641",27,99999,"27-99999",27,99999,"27-99999",4541,"04",40,"04","For-hire truck","Truck/Freight",39,22,15,15,"N","N","N","N",13452.7,201790.5]
[null,"0671338",27,99999,"27-99999",27,99999,"27-99999",325,"03",21,14,"Parcel, USPS, or courier","Truck/Freight",1116,9,64,78,"Y","N","N","N",182.8,14258.400000000001]
[null,"0672520",18,99999,"18-99999",27,378,"27-378",336,"02",37,"04","For-hire truck","Truck/Freight",41291,3239,468,562,"N","N","N","N",61,34282]
[null,"0673175",27,99999,"27-99999",27,99999,"27-99999",4244,"03","07","05","Company-owned truck","Truck/Freight",612,1073,21,24,"N","N","N","N",2144,51456]
[null,"0674605",27,99999,"27-99999",27,99999,"27-99999",4247,"03",18,"05","Company-owned truck","Truck/Freight",325,2058,20,35,"N","N","N","P",1348.1,47183.5]
[null,"0675540",55,99999,"55-99999",27,378,"27-378",4931,"04","04","04","For-hire truck","Truck/Freight",39540,20974,249,286,"N","N","N","N",109.4,31288.400000000001]
[null,"0676331",27,378,"27-378",27,378,"27-378",334,"02",38,11,"Air (incl truck & air)","Air",1295,1,13,354,"N","Y","E","N",53.7,19009.8]
[null,"0677761",27,99999,"27-99999",27,99999,"27-99999",4238,"03",36,14,"Parcel, USPS, or courier","Truck/Freight",57,3,18,18,"N","N","N","N",2099.9,37798.200000000004]
[null,"0678229",27,99999,"27-99999",27,99999,"27-99999",325,"03",23,"04","For-hire truck","Truck/Freight",601,138,6,6,"N","N","N","N",53.1,318.60000000000002]
[null,"0678855",27,378,"27-378",27,378,"27-378",4235,"04","06","04","For-hire truck","Truck/Freight",6,1,2,2,"N","N","N","N",4195.7,8391.4]
[null,"0680534",19,99999,"19-99999",27,378,"27-378",311,"03","06","04","For-hire truck","Truck/Freight",9891,48654,90,101,"N","N","N","N",108.6,10968.599999999999]
[null,"0681377",27,99999,"27-99999",27,99999,"27-99999",4232,"04",43,"05","Company-owned truck","Truck/Freight",7,4,181,206,"N","N","N","N",1016.5,209399]
[null,"0682130",27,99999,"27-99999",27,99999,"27-99999",326,"01",24,"04","For-hire truck","Truck/Freight",19680,11525,255,325,"N","N","N","N",45.6,14820]
[null,"0683274",36,408,"36-408",27,378,"27-378",551114,"04",35,"04","For-hire truck","Truck/Freight",67,3,1005,1214,"N","N","N","N",31.3,37998.200000000004]
[null,"0684320",27,378,"27-378",27,378,"27-378",337,"01",39,14,"Parcel, USPS, or courier","Truck/Freight",31,4,38,47,"N","N","N","N",2798.6,131534.19999999998]
[null,"0685244",29,312,"29-312",27,378,"27-378",4237,"02",33,"04","For-hire truck","Truck/Freight",7581,775,412,438,"N","N","N","N",111.4,48793.200000000004]
[null,"0686782",27,378,"27-378",27,99999,"27-99999",4233,"02",43,"04","For-hire truck","Truck/Freight",758,425,131,163,"N","N","N","N",190.6,31067.8]
[null,"0687392",27,378,"27-378",27,378,"27-378",4931,"02",39,"04","For-hire truck","Truck/Freight",1513,183,12,16,"N","N","N","N",5396.2,86339.199999999997]
[null,"0688396",36,408,"36-408",27,378,"27-378",312,"01","08","04","For-hire truck","Truck/Freight",28281,46202,1017,1218,"Y","N","N","N",60.9,74176.2]
[null,"0689071",47,368,"47-368",27,378,"27-378",323,"02",29,14,"Parcel, USPS, or courier","Truck/Freight",1,4,702,811,"N","N","N","N",955.5,774910.5]
[null,"0690109",27,99999,"27-99999",27,378,"27-378",311,"04","03","06","Rail","Rail",36297,132231,267,318,"N","N","N","N",129.4,41149.200000000004]
[null,"0690831",41,440,"41-440",27,378,"27-378",336,"02",36,"04","For-hire truck","Truck/Freight",123442,15154,1422,1738,"N","N","N","N",81.8,142168.4]
[null,"0692775",27,378,"27-378",27,378,"27-378",4249,"01",23,"04","For-hire truck","Truck/Freight",2200,910,66,76,"N","N","N","P",59,4484]
[null,"0693576","06",488,"06-488",27,378,"27-378",339,"02",38,14,"Parcel, USPS, or courier","Truck/Freight",4585,15,1581,2039,"N","N","N","N",634.9,1294561.0999999999]
[null,"0694486",55,99999,"55-99999",27,99999,"27-99999",332,"01",32,"04","For-hire truck","Truck/Freight",13756,17010,137,162,"N","N","N","N",118.5,19197]
[null,"0695497",27,378,"27-378",27,99999,"27-99999",551114,"02",40,"04","For-hire truck","Truck/Freight",216,55,60,73,"N","N","N","N",552.6,40339.800000000003]
[null,"0696635",27,378,"27-378",27,378,"27-378",4233,"02",32,"05","Company-owned truck","Truck/Freight",12,3,4,4,"N","N","N","N",633.5,2534]
[null,"0697680",55,99999,"55-99999",27,378,"27-378",339,"03",40,14,"Parcel, USPS, or courier","Truck/Freight",28,6,163,172,"N","N","N","N",2200.1,378417.2]
[null,"0698367",47,314,"47-314",27,378,"27-378",4931,"03",23,14,"Parcel, USPS, or courier","Truck/Freight",167,6,793,962,"N","N","N","N",150156.79999999999,144450841.59999999]
[null,"0700031",27,99999,"27-99999",27,99999,"27-99999",311,"02","07","04","For-hire truck","Truck/Freight",216309,51502,164,194,"Y","N","N","N",24.4,4733.5999999999995]
[null,"0700899",29,476,"29-476",27,99999,"27-99999",312,"02","08","04","For-hire truck","Truck/Freight",25530,40460,389,458,"N","N","N","N",456.9,209260.19999999998]
[null,"0701788",12,422,"12-422",27,99999,"27-99999",4541,"02",21,14,"Parcel, USPS, or courier","Truck/Freight",6102,5,1525,1830,"Y","N","N","N",2900.8,5308464]
[null,"0702387",27,378,"27-378",27,378,"27-378",4241,"04",28,"05","Company-owned truck","Truck/Freight",1099,665,19,26,"N","N","N","N",1046.5999999999999,27211.599999999999]
[null,"0703117",27,378,"27-378",27,378,"27-378",4931,"02","06","04","For-hire truck","Truck/Freight",2950,2810,35,45,"N","N","N","N",50.3,2263.5]
[null,"0703728",40,416,"40-416",27,378,"27-378",4249,"02",23,14,"Parcel, USPS, or courier","Truck/Freight",47,2,685,815,"N","N","N","N",257.2,209618]
[null,"0705973",17,176,"17-176",27,378,"27-378",4244,"03",43,"04","For-hire truck","Truck/Freight",142257,20289,334,417,"N","N","N","N",30.4,12676.8]
[null,"0706454",38,99999,"38-99999",27,378,"27-378",4238,"02",43,14,"Parcel, USPS, or courier","Truck/Freight",51,1,209,228,"N","N","N","N",53689.599999999999,12241228.799999999]
[null,"0706820",47,99999,"47-99999",27,378,"27-378",333,"03",34,15,"Truck and rail","Rail",253805,95287,790,1137,"N","N","N","N",19.7,22398.899999999998]
[null,"0708080",27,378,"27-378",27,378,"27-378",4236,"04",35,14,"Parcel, USPS, or courier","Truck/Freight",1166,35,7,9,"N","N","N","N",1053.9000000000001,9485.1]
[null,"0709046",38,99999,"38-99999",27,378,"27-378",311,"02",43,"04","For-hire truck","Truck/Freight",5707,1623,382,429,"Y","N","N","N",84.2,36121.800000000003]
[null,"0710005",27,378,"27-378",27,378,"27-378",4231,"03",34,"04","For-hire truck","Truck/Freight",404,5,11,22,"N","N","N","N",4229.8999999999996,93057.799999999988]
[null,"0710975",51,99999,"51-99999",27,378,"27-378",331,"01",38,14,"Parcel, USPS, or courier","Truck/Freight",3231,1,864,1066,"N","N","N","N",96.4,102762.40000000001]
[null,"0712567",46,99999,"46-99999",27,99999,"27-99999",322,"04",27,"04","For-hire truck","Truck/Freight",459,688,76,90,"N","N","N","N",105.9,9531]
[null,"0713336",39,212,"39-212",27,378,"27-378",332,"03",38,14,"Parcel, USPS, or courier","Truck/Freight",26,1,594,714,"N","N","N","N",1127,804678]
[null,"0713960",27,99999,"27-99999",27,99999,"27-99999",322,"01",28,"05","Company-owned truck","Truck/Freight",3519,2864,13,13,"N","N","N","N",84.5,1098.5]
[null,"0715041",27,378,"27-378",27,378,"27-378",4246,"03",23,"04","For-hire truck","Truck/Freight",358,275,19,25,"N","N","N","N",691.1,17277.5]
[null,"0716134",27,378,"27-378",27,378,"27-378",4247,"01",19,"05","Company-owned truck","Truck/Freight",618,2601,17,33,"N","N","N","H",1903.9,62828.700000000004]
[null,"0718085","06",348,"06-348",27,378,"27-378",4236,"03",35,14,"Parcel, USPS, or courier","Truck/Freight",36,2,1504,1915,"N","N","N","N",34382,65841530]
[null,"0719211",27,378,"27-378",27,378,"27-378",212,"02",12,"05","Company-owned truck","Truck/Freight",247,35468,10,10,"N","N","N","N",944.3,9443]
[null,"0720317",27,378,"27-378",27,378,"27-378",4238,"01",34,14,"Parcel, USPS, or courier","Truck/Freight",119,1,21,29,"N","N","N","N",924.1,26798.9]
[null,"0720862","06",99999,"06-99999",27,378,"27-378",4239,"03",40,14,"Parcel, USPS, or courier","Truck/Freight",144,1,1447,2018,"N","N","N","N",347,700246]
[null,"0722097",34,408,"34-408",27,99999,"27-99999",4234,"03",20,14,"Parcel, USPS, or courier","Truck/Freight",23,5,942,1124,"N","N","N","H",400.7,450386.8]
[null,"0723235",45,99999,"45-99999",27,378,"27-378",313,"02",30,"04","For-hire truck","Truck/Freight",125780,33166,1032,1269,"N","N","N","N",55.8,70810.2]
[null,"0723986",31,99999,"31-99999",27,378,"27-378",325,"01",21,14,"Parcel, USPS, or courier","Truck/Freight",92,27,328,443,"N","N","N","N",16.2,7176.5999999999995]
[null,"0725214",28,99999,"28-99999",27,99999,"27-99999",335,"02",39,14,"Parcel, USPS, or courier","Truck/Freight",329,99,635,822,"N","N","N","N",143.30000000000001,117792.6]
[null,"0727543",27,378,"27-378",27,99999,"27-99999",311,"03","07","04","For-hire truck","Truck/Freight",14322,37891,66,85,"Y","N","N","N",79.2,6732]
[null,"0728276","01",380,"01-380",27,99999,"27-99999",4239,"03",32,"04","For-hire truck","Truck/Freight",26216,41286,1152,1404,"N","N","N","N",27.2,38188.799999999996]
[null,"0729136",49,482,"49-482",27,99999,"27-99999",5111,"01",29,"04","For-hire truck","Truck/Freight",157,11,935,1207,"N","N","N","N",43.7,52745.9]
[null,"0730032","06",41740,"06-41740",27,378,"27-378",551114,"01",34,14,"Parcel, USPS, or courier","Truck/Freight",991,1,1525,1977,"N","N","N","N",19.899999999999999,39342.299999999996]
[null,"0730720",38,99999,"38-99999",27,99999,"27-99999",4236,"01",35,"05","Company-owned truck","Truck/Freight",406,55,43,62,"N","N","N","N",276.3,17130.600000000002]
[null,"0731647",27,378,"27-378",27,378,"27-378",45431,"02",19,"05","Company-owned truck","Truck/Freight",187,1265,7,9,"N","N","N","H",1345.7,12111.300000000001]
[null,"0733828",37,99999,"37-99999",27,99999,"27-99999",4931,"03",39,14,"Parcel, USPS, or courier","Truck/Freight",102,25,1228,1495,"N","N","N","N",1550.3,2317698.5]
[null,"0734533",27,378,"27-378",27,378,"27-378",4244,"03","03","05","Company-owned truck","Truck/Freight",212,147,12,15,"Y","N","N","N",2550.1999999999998,38253]
[null,"0735331",46,99999,"46-99999",27,99999,"27-99999",332,"02",40,"04","For-hire truck","Truck/Freight",1395,460,122,160,"N","N","N","N",178.9,28624]
[null,"0735928",31,420,"31-420",27,99999,"27-99999",4244,"04","05","04","For-hire truck","Truck/Freight",17211,6495,229,294,"N","N","N","N",101.3,29782.2]
[null,"0736755",55,99999,"55-99999",27,378,"27-378",327,"03",31,"05","Company-owned truck","Truck/Freight",4915,3776,192,208,"N","N","N","N",127.4,26499.200000000001]
[null,"0737423",42,99999,"42-99999",27,378,"27-378",333,"04",40,"04","For-hire truck","Truck/Freight",826,92,899,1075,"N","N","N","N",415.4,446555]
[null,"0739434",29,476,"29-476",27,378,"27-378",326,"02",24,14,"Parcel, USPS, or courier","Truck/Freight",130,24,440,508,"N","N","N","N",792.1,402386.8]
[null,"0740336",27,99999,"27-99999",27,99999,"27-99999",4244,"01","07","05","Company-owned truck","Truck/Freight",429,970,67,72,"N","N","N","N",1873.8,134913.60000000001]
[null,"0740966",55,99999,"55-99999",27,378,"27-378",337,"03",39,"04","For-hire truck","Truck/Freight",26582,4189,275,308,"N","N","N","N",89,27412]
[null,"0742510",27,99999,"27-99999",27,99999,"27-99999",321,"04",26,"04","For-hire truck","Truck/Freight",1060,57253,35,37,"N","Y","C","N",375.2,13882.4]
[null,"0743281",27,378,"27-378",27,378,"27-378",4931,"03",28,"04","For-hire truck","Truck/Freight",548,41262,19,24,"N","N","N","N",100.7,2416.8000000000002]
[null,"0744048",55,99999,"55-99999",27,378,"27-378",333,"03",36,"04","For-hire truck","Truck/Freight",936,39694,276,312,"N","N","N","N",597.70000000000005,186482.40000000002]
[null,"0745055",56,99999,"56-99999",27,99999,"27-99999",212,"04",13,15,"Truck and rail","Rail",4851,178026,838,1515,"N","N","N","N",98.9,149833.5]
[null,"0746873",27,99999,"27-99999",27,378,"27-378",332,"03",40,14,"Parcel, USPS, or courier","Truck/Freight",106,2,111,133,"N","N","N","N",1110.2,147656.6]
[null,"0748178",55,99999,"55-99999",27,99999,"27-99999",212,"04",11,"06","Rail","Rail",3736,212905,315,472,"N","Y","C","N",409.7,193378.4]
[null,"0748824",27,378,"27-378",27,378,"27-378",4541,"02",21,14,"Parcel, USPS, or courier","Truck/Freight",114,1,16,21,"N","N","N","N",40588.6,852360.6]
[null,"0749224",27,378,"27-378",27,378,"27-378",4231,"03",36,"05","Company-owned truck","Truck/Freight",13,5,30,37,"N","N","N","N",2361.8000000000002,87386.6]
[null,"0750441",27,99999,"27-99999",27,378,"27-378",4249,"02",20,"05","Company-owned truck","Truck/Freight",376,536,43,55,"N","N","N","H",1632.3,89776.5]
[null,"0751241",29,312,"29-312",27,99999,"27-99999",339,"03",40,14,"Parcel, USPS, or courier","Truck/Freight",825,1,406,488,"N","N","N","N",367.4,179291.19999999998]
[null,"0752771",27,378,"27-378",27,378,"27-378",316,"04",30,"05","Company-owned truck","Truck/Freight",78570,8643,12,12,"N","N","N","N",19.899999999999999,238.79999999999998]
[null,"0753985",27,99999,"27-99999",27,99999,"27-99999",331,"02",35,14,"Parcel, USPS, or courier","Truck/Freight",595,7,40,52,"N","N","N","N",135.19999999999999,7030.4]
[null,"0754689",18,176,"18-176",27,378,"27-378",324,"02",31,"04","For-hire truck","Truck/Freight",10120,47369,392,472,"N","N","N","N",18.2,8590.4]
[null,"0755555",46,99999,"46-99999",27,99999,"27-99999",315,"04",30,14,"Parcel, USPS, or courier","Truck/Freight",153,1,25,30,"N","N","N","N",25,750]
[null,"0756359",29,476,"29-476",27,378,"27-378",323,"03",30,14,"Parcel, USPS, or courier","Truck/Freight",143,22,498,599,"N","N","N","N",1065,637935]
[null,"0757236",27,99999,"27-99999",27,99999,"27-99999",4541,"01",39,"04","For-hire truck","Truck/Freight",468,84,15,15,"N","N","N","N",16795.7,251935.5]
[null,"0759178",27,99999,"27-99999",27,99999,"27-99999",325,"01","04","04","For-hire truck","Truck/Freight",2456,56354,9,9,"N","N","N","N",127.9,1151.1000000000001]
[null,"0760836",51,99999,"51-99999",27,378,"27-378",331,"03",38,14,"Parcel, USPS, or courier","Truck/Freight",888,1,872,1083,"N","N","N","N",82.6,89455.799999999988]
[null,"0761730",46,99999,"46-99999",27,378,"27-378",325,"04","04","04","For-hire truck","Truck/Freight",2401,49711,181,224,"N","N","N","N",156.5,35056]
[null,"0762751",27,378,"27-378",27,378,"27-378",313,"02",30,11,"Air (incl truck & air)","Air",12445,959,15,411,"N","Y","A","N",98.6,40524.6]
[null,"0763658",27,378,"27-378",27,99999,"27-99999",4237,"02",34,"04","For-hire truck","Truck/Freight",1458,258,115,129,"N","N","N","N",142.9,18434.100000000002]
[null,"0764590",27,378,"27-378",27,378,"27-378",4249,"01",23,"05","Company-owned truck","Truck/Freight",260,38,11,15,"N","N","N","H",108.9,1633.5]
[null,"0765952",32,99999,"32-99999",27,378,"27-378",316,"02",30,14,"Parcel, USPS, or courier","Truck/Freight",92,1,1369,1800,"N","N","N","N",57.7,103860]
[null,"0766664",27,99999,"27-99999",27,99999,"27-99999",311,"03","05","04","For-hire truck","Truck/Freight",46118,30745,12,16,"Y","N","N","N",29.7,475.2]
[null,"0767930",25,148,"25-148",27,378,"27-378",323,"01",29,14,"Parcel, USPS, or courier","Truck/Freight",32,2,1117,1390,"N","N","N","N",6753.1,9386809]
[null,"0768698",38,99999,"38-99999",27,99999,"27-99999",4231,"02",34,"04","For-hire truck","Truck/Freight",45,9,31,46,"N","N","N","N",2834.2,130373.2]
[null,"0769768",27,378,"27-378",27,378,"27-378",4238,"01",34,"04","For-hire truck","Truck/Freight",696,4,6,10,"N","N","N","N",586.70000000000005,5867]
[null,"0771153",27,378,"27-378",27,378,"27-378",212,"02",31,"04","For-hire truck","Truck/Freight",10,13,5,5,"N","N","N","N",2512.6,12563]
[null,"0772378",27,99999,"27-99999",27,99999,"27-99999",4235,"02",32,"04","For-hire truck","Truck/Freight",2785,7772,112,148,"N","N","N","N",171.3,25352.400000000001]
[null,"0773293",27,99999,"27-99999",27,99999,"27-99999",4233,"01",33,"05","Company-owned truck","Truck/Freight",1487,344,103,113,"N","N","N","N",1091.8,123373.4]
[null,"0773912",47,368,"47-368",27,99999,"27-99999",326,"03",24,"04","For-hire truck","Truck/Freight",1443,481,853,1026,"N","N","N","N",55.4,56840.4]
[null,"0774854",27,99999,"27-99999",27,99999,"27-99999",321,"03",26,"04","For-hire truck","Truck/Freight",1239,55080,103,113,"N","N","N","N",80.599999999999994,9107.7999999999993]
[null,"0775700",51,99999,"51-99999",27,378,"27-378",4541,"01",30,"04","For-hire truck","Truck/Freight",30,1,848,1041,"N","N","N","N",16804.599999999999,17493588.599999998]
[null,"0776439",27,378,"27-378",27,378,"27-378",324,"01",31,"04","For-hire truck","Truck/Freight",13373,45914,57,61,"N","N","N","N",74,4514]
[null,"0777759",27,99999,"27-99999",27,99999,"27-99999",4248,"02","08","05","Company-owned truck","Truck/Freight",5,9,3,4,"N","N","N","N",61.3,245.2]
[null,"0779480",18,294,"18-294",27,378,"27-378",4238,"01",33,14,"Parcel, USPS, or courier","Truck/Freight",38,1,529,619,"N","N","N","N",2584.8000000000002,1599991.2000000002]
[null,"0780511",38,99999,"38-99999",27,99999,"27-99999",4235,"02",32,"05","Company-owned truck","Truck/Freight",932,2107,46,49,"N","N","N","N",754,36946]
[null,"0781483",30,99999,"30-99999",27,378,"27-378",4244,"02","05","04","For-hire truck","Truck/Freight",5306,3421,736,840,"Y","N","N","N",1508,1266720]
[null,"0782652",26,99999,"26-99999",27,378,"27-378",333,"01",34,14,"Parcel, USPS, or courier","Truck/Freight",433,2,447,558,"N","N","N","N",98.3,54851.4]
[null,"0783729",38,99999,"38-99999",27,99999,"27-99999",4245,"02","07","05","Company-owned truck","Truck/Freight",10295,59475,54,67,"N","N","N","N",114.4,7664.8]
[null,"0784685",27,378,"27-378",27,378,"27-378",311,"01","06","04","For-hire truck","Truck/Freight",3,1,2,2,"N","N","N","N",4532.8,9065.6]
[null,"0786123",46,99999,"46-99999",27,99999,"27-99999",4931,"03",43,"04","For-hire truck","Truck/Freight",1102,485,64,70,"N","N","N","N",57.1,3997]
[null,"0786791",25,148,"25-148",27,378,"27-378",4238,"03",39,"04","For-hire truck","Truck/Freight",36711,3358,1126,1449,"N","N","N","N",686.6,994883.4]
[null,"0787173",55,99999,"55-99999",27,99999,"27-99999",311,"02","04","05","Company-owned truck","Truck/Freight",34429,31410,358,410,"N","N","N","N",29.8,12218]
[null,"0787878",27,378,"27-378",27,378,"27-378",4244,"04",43,"05","Company-owned truck","Truck/Freight",3477,5510,22,32,"Y","N","N","N",978.9,31324.799999999999]
[null,"0788528","01",99999,"01-99999",27,378,"27-378",311,"03","05","04","For-hire truck","Truck/Freight",3877,35958,781,938,"Y","N","N","N",108.4,101679.20000000001]
[null,"0788880",10,428,"10-428",27,378,"27-378",326,"01",24,"04","For-hire truck","Truck/Freight",507,206,972,1171,"N","N","N","N",55.3,64756.299999999996]
[null,"0790474",13,122,"13-122",27,378,"27-378",4236,"02",35,14,"Parcel, USPS, or courier","Truck/Freight",111,6,897,1136,"N","N","N","N",3544.5,4026552]
[null,"0791549",48,206,"48-206",27,378,"27-378",333,"02",34,"04","For-hire truck","Truck/Freight",270,314,878,967,"N","N","N","N",111,107337]
[null,"0792339",55,99999,"55-99999",27,378,"27-378",333,"01",43,14,"Parcel, USPS, or courier","Truck/Freight",289,2,204,262,"N","N","N","N",1145.3,300068.59999999998]
[null,"0793478",25,148,"25-148",27,378,"27-378",333,"02",40,14,"Parcel, USPS, or courier","Truck/Freight",1947,87,1118,1428,"N","N","N","N",73.3,104672.4]
[null,"0794255",28,99999,"28-99999",27,378,"27-378",333,"03",34,14,"Parcel, USPS, or courier","Truck/Freight",13,5,787,921,"N","N","N","N",156,143676]
[null,"0795056",27,99999,"27-99999",27,99999,"27-99999",4238,"02",23,"04","For-hire truck","Truck/Freight",241,115,8,8,"N","N","N","N",4476,35808]
[null,"0795563",27,378,"27-378",27,99999,"27-99999",4241,"01",43,"05","Company-owned truck","Truck/Freight",283,90,111,133,"N","N","N","N",2704.6,359711.8]
[null,"0797158",27,378,"27-378",27,378,"27-378",4235,"02",32,"04","For-hire truck","Truck/Freight",8,3,2,2,"N","N","N","N",6258.9,12517.8]
[null,"0798056",27,378,"27-378",27,378,"27-378",325,"02",21,"05","Company-owned truck","Truck/Freight",30102,676,8,12,"N","N","N","N",34.4,412.79999999999995]
[null,"0798822",31,99999,"31-99999",27,99999,"27-99999",4231,"01",36,"04","For-hire truck","Truck/Freight",138,16,303,348,"N","N","N","N",808.6,281392.8]
[null,"0799241",27,378,"27-378",27,378,"27-378",212,"04",10,"05","Company-owned truck","Truck/Freight",1374,29569,4,5,"N","N","N","N",270,1350]
[null,"0800522",27,99999,"27-99999",27,99999,"27-99999",4237,"01",33,14,"Parcel, USPS, or courier","Truck/Freight",529,90,132,162,"N","N","N","N",485,78570]
[null,"0801298",27,378,"27-378",27,378,"27-378",4236,"02",35,"05","Company-owned truck","Truck/Freight",31,2,7,10,"N","N","N","N",1258.0999999999999,12581]
[null,"0801988",27,99999,"27-99999",27,99999,"27-99999",322,"02",28,"04","For-hire truck","Truck/Freight",15206,27051,63,83,"N","N","N","N",64.3,5336.9]
[null,"0803962",27,99999,"27-99999",27,99999,"27-99999",321,"01",26,"05","Company-owned truck","Truck/Freight",3762,367,375,453,"N","N","N","N",352,159456]
[null,"0804742",27,99999,"27-99999",27,99999,"27-99999",325,"02","04","04","For-hire truck","Truck/Freight",389,43218,11,11,"N","N","N","N",92.9,1021.9000000000001]
[null,"0805622",38,99999,"38-99999",27,378,"27-378",4541,"02",21,"04","For-hire truck","Truck/Freight",11593,104,206,226,"N","N","N","N",494.9,111847.4]
[null,"0806765",47,99999,"47-99999",27,99999,"27-99999",336,"01",36,"06","Rail","Rail",269650,50743,1023,1359,"N","Y","C","N",110.3,149897.69999999998]
[null,"0807378",18,99999,"18-99999",27,378,"27-378",326,"03",31,"04","For-hire truck","Truck/Freight",25333,19104,486,588,"N","N","N","N",26.7,15699.6]
[null,"0808517",27,378,"27-378",27,378,"27-378",4244,"02",43,"05","Company-owned truck","Truck/Freight",326,152,53,63,"Y","N","N","N",2829.1,178233.3]
[null,"0810162",19,99999,"19-99999",27,99999,"27-99999",4235,"01",32,"05","Company-owned truck","Truck/Freight",310,206,34,40,"N","N","N","N",196.5,{"$f":"W18011*R18011","v":7860}]
[null,"0811305",27,378,"27-378",27,378,"27-378",212,"03",12,"05","Company-owned truck","Truck/Freight",59,23838,30,38,"N","N","N","N",416.1,15811.800000000001]
[null,"0812066",45,16700,"45-16700",27,99999,"27-99999",4237,"04",35,14,"Parcel, USPS, or courier","Truck/Freight",121,1,1264,1511,"N","N","N","N",170.9,258229.9]
[null,"0813055",27,378,"27-378",27,99999,"27-99999",4236,"02",35,"05","Company-owned truck","Truck/Freight",300,18,33,37,"N","N","N","N",3697.8,136818.6]
[null,"0813817",27,378,"27-378",27,378,"27-378",311,"01","07","04","For-hire truck","Truck/Freight",2852,11682,24,28,"Y","N","N","N",682.2,19101.600000000002]
[null,"0814980",17,176,"17-176",27,99999,"27-99999",4235,"02",33,"04","For-hire truck","Truck/Freight",7871,16080,333,445,"N","N","N","N",154.1,68574.5]
[null,"0815990",40,538,"40-538",27,378,"27-378",333,"02",34,14,"Parcel, USPS, or courier","Truck/Freight",33,2,633,731,"N","N","N","N",418.7,306069.7]
[null,"0818027",20,99999,"20-99999",27,99999,"27-99999",314,"02",30,"04","For-hire truck","Truck/Freight",6219,351,503,632,"N","N","N","N",15.9,10048.800000000001]
[null,"0818632","05",99999,"05-99999",27,99999,"27-99999",336,"02",37,"06","Rail","Rail",655926,670418,871,1158,"N","Y","C","N",19.2,22233.599999999999]
[null,"0819585",27,378,"27-378",27,378,"27-378",4235,"04",33,"04","For-hire truck","Truck/Freight",6500,23888,2,4,"N","N","N","N",149.69999999999999,598.79999999999995]
[null,"0820381",36,99999,"36-99999",27,378,"27-378",312,"04","08","04","For-hire truck","Truck/Freight",39369,46673,702,882,"N","N","N","N",15.4,13582.800000000001]
[null,"0821129",27,378,"27-378",27,378,"27-378",4231,"01",34,"05","Company-owned truck","Truck/Freight",6,1,3,3,"N","N","N","N",5655.3,16965.900000000001]
[null,"0821881",55,99999,"55-99999",27,99999,"27-99999",311,"01","07","04","For-hire truck","Truck/Freight",63523,34106,123,167,"Y","N","N","N",19.5,3256.5]
[null,"0824048",27,99999,"27-99999",27,99999,"27-99999",4238,"03",34,"05","Company-owned truck","Truck/Freight",41336,13779,12,12,"N","N","N","N",38.200000000000003,458.40000000000003]
[null,"0825392",27,99999,"27-99999",27,99999,"27-99999",4245,"04","03","04","For-hire truck","Truck/Freight",9605,61446,23,30,"Y","N","N","N",305.2,9156]
[null,"0826477",53,500,"53-500",27,378,"27-378",314,"03",40,14,"Parcel, USPS, or courier","Truck/Freight",96,2,1384,1662,"N","N","N","N",160.9,267415.8]
[null,"0827480",27,378,"27-378",27,378,"27-378",4237,"03",34,"05","Company-owned truck","Truck/Freight",11,27,24,27,"N","N","N","N",2172.6,58660.2]
[null,"0828272",27,378,"27-378",27,99999,"27-99999",4237,"02",34,"04","For-hire truck","Truck/Freight",1511,216,101,122,"N","N","N","N",144.1,17580.2]
[null,"0829011",47,400,"47-400",27,378,"27-378",4238,"02",33,14,"Parcel, USPS, or courier","Truck/Freight",684,1,719,911,"N","N","N","N",781.8,712219.79999999993]
[null,"0830753",27,99999,"27-99999",27,99999,"27-99999",325,"01",20,"05","Company-owned truck","Truck/Freight",648,44970,34,36,"Y","N","N","H",76.3,2746.7999999999997]
[null,"0831092",27,99999,"27-99999",27,99999,"27-99999",4238,"04",34,"05","Company-owned truck","Truck/Freight",62468,10105,160,205,"N","N","N","N",32.9,6744.5]
[null,"0832232",27,378,"27-378",27,378,"27-378",321,"04",26,"05","Company-owned truck","Truck/Freight",8459,2893,68,77,"N","N","N","N",65.3,5028.0999999999995]
[null,"0833395",17,99999,"17-99999",27,378,"27-378",4237,"03",43,"05","Company-owned truck","Truck/Freight",3092,4018,286,395,"N","N","N","N",1664.7,657556.5]
[null,"0834580",27,99999,"27-99999",27,99999,"27-99999",331,"03",40,"04","For-hire truck","Truck/Freight",56110,33395,45,62,"N","N","N","N",48.4,3000.7999999999997]
[null,"0835500",27,378,"27-378",27,99999,"27-99999",323,"01",29,14,"Parcel, USPS, or courier","Truck/Freight",11,1,159,182,"N","N","N","N",8220.4,1496112.8]
[null,"0837305",18,99999,"18-99999",27,378,"27-378",4239,"02",38,14,"Parcel, USPS, or courier","Truck/Freight",1175,43,405,492,"N","N","N","N",6156.2,3028850.4]
[null,"0838196",27,378,"27-378",27,378,"27-378",321,"04",26,"05","Company-owned truck","Truck/Freight",551,1929,9,14,"N","N","N","N",274.5,3843]
[null,"0839237",27,378,"27-378",27,378,"27-378",4232,"03",30,"05","Company-owned truck","Truck/Freight",9044,4721,3,3,"N","N","N","N",964.1,2892.3]
[null,"0839871",27,99999,"27-99999",27,99999,"27-99999",325,"03","04","04","For-hire truck","Truck/Freight",2432,49631,31,44,"N","N","N","N",86.5,3806]
[null,"0840483",20,99999,"20-99999",27,378,"27-378",323,"03",29,"04","For-hire truck","Truck/Freight",1195,333,524,564,"N","N","N","N",101.3,57133.2]
[null,"0841425",27,99999,"27-99999",27,99999,"27-99999",4931,"02","07","05","Company-owned truck","Truck/Freight",72,62,9,11,"N","N","N","N",29.7,326.7]
[null,"0842542",55,99999,"55-99999",27,99999,"27-99999",311,"01","07","04","For-hire truck","Truck/Freight",63792,34251,123,167,"Y","N","N","N",19.5,3256.5]
[null,"0843236",42,430,"42-430",27,99999,"27-99999",4931,"03",35,"04","For-hire truck","Truck/Freight",5065,541,734,918,"N","N","N","N",640.20000000000005,587703.60000000009]
[null,"0844244",27,378,"27-378",27,99999,"27-99999",4236,"04",40,14,"Parcel, USPS, or courier","Truck/Freight",125,4,52,66,"N","N","N","N",1082,71412]
[null,"0844806",27,378,"27-378",27,378,"27-378",212,"02",12,"04","For-hire truck","Truck/Freight",183,31846,3,5,"N","N","N","N",251.5,1257.5]
[null,"0845822",27,378,"27-378",27,99999,"27-99999",327,"04",31,"04","For-hire truck","Truck/Freight",5545,45086,168,185,"N","N","N","N",88.2,16317]
[null,"0846480",27,378,"27-378",27,378,"27-378",4931,"04",23,"05","Company-owned truck","Truck/Freight",1177,39894,19,23,"N","N","N","N",84.3,1938.8999999999999]
[null,"0848277",27,378,"27-378",27,378,"27-378",4235,"02",32,"05","Company-owned truck","Truck/Freight",406,628,3,4,"N","N","N","N",242.9,971.6]
[null,"0848917",27,378,"27-378",27,378,"27-378",323,"04",29,"05","Company-owned truck","Truck/Freight",59,16,9,11,"N","N","N","N",1060.7,11667.7]
[null,"0849575",55,99999,"55-99999",27,99999,"27-99999",311,"02","07","04","For-hire truck","Truck/Freight",58560,34116,123,167,"Y","N","N","N",19.399999999999999,3239.7999999999997]
[null,"0850010",55,99999,"55-99999",27,99999,"27-99999",315,"01",30,"04","For-hire truck","Truck/Freight",345,31,380,445,"N","N","N","N",347.8,154771]
[null,"0850809",55,376,"55-376",27,378,"27-378",4236,"01",34,14,"Parcel, USPS, or courier","Truck/Freight",188,81,295,354,"N","N","N","N",220.2,77950.8]
[null,"0851546",27,99999,"27-99999",27,99999,"27-99999",4249,"02",23,"05","Company-owned truck","Truck/Freight",3379,462,19,22,"N","N","N","N",205.2,4514.3999999999996]
[null,"0852214",27,378,"27-378",27,378,"27-378",4238,"03",35,14,"Parcel, USPS, or courier","Truck/Freight",600,72,16,20,"N","N","N","N",1115.7,22314]
[null,"0853822",19,99999,"19-99999",27,378,"27-378",311,"04","04","04","For-hire truck","Truck/Freight",19606,28600,155,184,"N","N","N","N",43.3,7967.2]
[null,"0854306",27,99999,"27-99999",27,99999,"27-99999",4249,"02","02","05","Company-owned truck","Truck/Freight",3,77,8,9,"N","N","N","N",1547.7,13929.300000000001]
[null,"0855559",27,378,"27-378",27,378,"27-378",4231,"01",33,"05","Company-owned truck","Truck/Freight",91,2,11,15,"N","N","N","N",1775.4,26631]
[null,"0856362",17,176,"17-176",27,378,"27-378",325,"02",20,15,"Truck and rail","Rail",115538,205402,351,429,"N","N","N","H",46.8,20077.199999999997]
[null,"0857230",27,378,"27-378",27,378,"27-378",4238,"02",36,"04","For-hire truck","Truck/Freight",78,9,4,4,"N","N","N","N",110.7,442.8]
[null,"0857890",48,41700,"48-41700",27,378,"27-378",332,"02",37,14,"Parcel, USPS, or courier","Truck/Freight",1142,4,1091,1197,"N","N","N","N",189.1,226352.69999999998]
[null,"0858919",53,500,"53-500",27,378,"27-378",313,"02",30,"04","For-hire truck","Truck/Freight",10700,467,1366,1691,"N","N","N","N",20.9,35341.899999999994]
[null,"0860229","06",488,"06-488",27,378,"27-378",337,"01",39,14,"Parcel, USPS, or courier","Truck/Freight",882,108,1580,2021,"N","N","N","N",284.89999999999998,575782.89999999991]
[null,"0860872",38,99999,"38-99999",27,99999,"27-99999",332,"03",33,"04","For-hire truck","Truck/Freight",2280,1838,161,183,"N","N","N","N",153.1,28017.3]
[null,"0861269",27,378,"27-378",27,99999,"27-99999",4238,"04",34,14,"Parcel, USPS, or courier","Truck/Freight",24,2,102,121,"N","N","N","N",1702.5,206002.5]
[null,"0861988",17,99999,"17-99999",27,378,"27-378",325,"01","04","04","For-hire truck","Truck/Freight",2944,53510,498,614,"N","N","N","N",117.9,72390.600000000006]
[null,"0862611",26,220,"26-220",27,99999,"27-99999",333,"02",34,"04","For-hire truck","Truck/Freight",77,5,510,682,"N","N","N","N",341.8,233107.6]
[null,"0863267",38,99999,"38-99999",27,99999,"27-99999",4234,"01",21,14,"Parcel, USPS, or courier","Truck/Freight",389,15,286,321,"N","N","N","N",1218.9000000000001,391266.9]
[null,"0865356",29,476,"29-476",27,99999,"27-99999",4239,"04",40,"04","For-hire truck","Truck/Freight",3336,301,490,615,"N","N","N","N",129,79335]
[null,"0865906",55,99999,"55-99999",27,378,"27-378",4236,"03",34,"05","Company-owned truck","Truck/Freight",303,6,323,380,"N","N","N","N",1128.8,{"$f":"W19291*R19291","v":428944}]
[null,"0867029",27,378,"27-378",27,378,"27-378",311,"02","06","04","For-hire truck","Truck/Freight",3,1,2,2,"N","N","N","N",13601.3,27202.6]
[null,"0867569",31,420,"31-420",27,378,"27-378",322,"03",40,"04","For-hire truck","Truck/Freight",11890,11042,287,372,"N","N","N","N",19.8,7365.6]
[null,"0868515",27,378,"27-378",27,378,"27-378",4236,"01",34,"04","For-hire truck","Truck/Freight",17,1,9,11,"N","N","N","N",2766,30426]
[null,"0869219",55,99999,"55-99999",27,99999,"27-99999",4233,"04",26,"05","Company-owned truck","Truck/Freight",9885,8431,49,58,"N","N","N","N",230.9,13392.2]
[null,"0871384",19,99999,"19-99999",27,378,"27-378",332,"03",40,"04","For-hire truck","Truck/Freight",356,7071,277,344,"N","N","N","N",63.8,21947.200000000001]
[null,"0872052",34,408,"34-408",27,378,"27-378",332,"01",33,"04","For-hire truck","Truck/Freight",422,256,989,1184,"N","N","N","N",2497.5,2957040]
[null,"0873022",55,99999,"55-99999",27,378,"27-378",4237,"01",34,"05","Company-owned truck","Truck/Freight",2431,92,19,49,"N","N","N","N",2764.5,135460.5]
[null,"0873887",17,176,"17-176",27,378,"27-378",4235,"03",32,"04","For-hire truck","Truck/Freight",761,231,340,400,"N","N","N","N",153.9,61560]
[null,"0874406",53,500,"53-500",27,99999,"27-99999",4541,"01",35,14,"Parcel, USPS, or courier","Truck/Freight",104,18,1309,1578,"N","N","N","N",30532.7,{"$f":"W19483*R19483","v":48180600.600000001}]
[null,"0875299","09",408,"09-408",27,378,"27-378",325,"02",23,"04","For-hire truck","Truck/Freight",921,86,1042,1280,"N","N","N","N",220.8,282624]
[null,"0876082",27,99999,"27-99999",27,99999,"27-99999",45431,"02",18,"05","Company-owned truck","Truck/Freight",1076,3640,10,10,"N","N","N","P",439.2,4392]
[null,"0877794",55,99999,"55-99999",27,99999,"27-99999",332,"04",34,"04","For-hire truck","Truck/Freight",9047,16788,324,411,"N","N","N","N",55.4,22769.399999999998]
[null,"0878598",27,99999,"27-99999",27,99999,"27-99999",4238,"01",34,14,"Parcel, USPS, or courier","Truck/Freight",51,5,61,75,"N","N","N","N",501.1,37582.5]
[null,"0879530","06",99999,"06-99999",27,378,"27-378",339,"04",21,14,"Parcel, USPS, or courier","Truck/Freight",3272,4,1572,2058,"Y","N","N","N",44,90552]
[null,"0880140",38,99999,"38-99999",27,99999,"27-99999",4236,"02",21,"05","Company-owned truck","Truck/Freight",415,1191,73,81,"N","N","N","N",867.3,70251.3]
[null,"0880794","05",99999,"05-99999",27,378,"27-378",322,"04",28,"04","For-hire truck","Truck/Freight",9467,6879,612,689,"N","N","N","N",106.2,73171.8]
[null,"0881747",55,376,"55-376",27,378,"27-378",4234,"02",38,14,"Parcel, USPS, or courier","Truck/Freight",38,1,286,333,"N","N","N","N",9574.9,3188441.6999999997]
[null,"0883227",55,99999,"55-99999",27,378,"27-378",212,"01",12,"04","For-hire truck","Truck/Freight",1070,47800,58,80,"N","N","N","N",319.39999999999998,25552]
[null,"0883932",55,376,"55-376",27,378,"27-378",325,"03",23,"04","For-hire truck","Truck/Freight",1644,523,299,355,"N","N","N","P",122.8,43594]
[null,"0884473",27,378,"27-378",27,378,"27-378",339,"03",24,14,"Parcel, USPS, or courier","Truck/Freight",1212,6,6,12,"N","N","N","N",55.2,662.40000000000009]
[null,"0885415",27,378,"27-378",27,378,"27-378",4236,"03",35,"04","For-hire truck","Truck/Freight",30,3,4,7,"N","N","N","N",3391.4,23739.8]
[null,"0886736",18,258,"18-258",27,378,"27-378",551114,"04",35,14,"Parcel, USPS, or courier","Truck/Freight",519,88,485,568,"N","N","N","N",1805.3,1025410.4]
[null,"0887181",27,378,"27-378",27,99999,"27-99999",4238,"01",43,"05","Company-owned truck","Truck/Freight",1821,696,158,175,"N","N","N","N",1598,279650]
[null,"0888557",27,378,"27-378",27,378,"27-378",4541,"02",21,14,"Parcel, USPS, or courier","Truck/Freight",92,1,16,22,"N","N","N","N",40642.5,894135]
[null,"0890280",27,99999,"27-99999",27,99999,"27-99999",4245,"02","02","04","For-hire truck","Truck/Freight",3805,61232,14,20,"N","N","N","N",305.2,6104]
[null,"0890977",38,99999,"38-99999",27,99999,"27-99999",4236,"01",35,"04","For-hire truck","Truck/Freight",14,1,4,6,"N","N","N","N",2449.1,14694.599999999999]
[null,"0891780",27,378,"27-378",27,378,"27-378",4241,"02",28,"04","For-hire truck","Truck/Freight",638,18,31,43,"N","N","N","N",5557,238951]
[null,"0892534",17,176,"17-176",27,378,"27-378",4931,"04","07","04","For-hire truck","Truck/Freight",71116,44564,350,434,"Y","N","N","N",236.9,102814.6]
[null,"0893236",27,378,"27-378",27,378,"27-378",4236,"04",32,"05","Company-owned truck","Truck/Freight",874,8,26,30,"N","N","N","N",513.29999999999995,15398.999999999998]
[null,"0894295",27,99999,"27-99999",27,99999,"27-99999",322,"04",29,"05","Company-owned truck","Truck/Freight",97,5,6,9,"N","N","N","N",295,2655]
[null,"0895735",17,176,"17-176",27,99999,"27-99999",4249,"02",20,"05","Company-owned truck","Truck/Freight",1888,4323,366,473,"N","N","N","H",730,345290]
[null,"0895873",27,99999,"27-99999",27,378,"27-378",4244,"03",43,"05","Company-owned truck","Truck/Freight",9348,4436,140,164,"Y","N","N","N",458.2,75144.800000000003]
[null,"0896999",29,312,"29-312",27,378,"27-378",331,"04",34,14,"Parcel, USPS, or courier","Truck/Freight",1823,21,393,428,"N","N","N","N",351.7,150527.6]
[null,"0897652",27,99999,"27-99999",27,99999,"27-99999",212,"04",13,"05","Company-owned truck","Truck/Freight",405,49125,37,49,"N","N","N","N",32.4,1587.6]
[null,"0898577","06",348,"06-348",27,378,"27-378",4242,"04",30,"04","For-hire truck","Truck/Freight",340,26,1530,1935,"N","N","N","N",1242.2,2403657]
[null,"0899352",13,122,"13-122",27,378,"27-378",326,"02",24,"04","For-hire truck","Truck/Freight",2204,648,850,1060,"N","N","N","N",208,220480]
[null,"0901072",48,206,"48-206",27,378,"27-378",339,"02",38,14,"Parcel, USPS, or courier","Truck/Freight",2031,10,873,963,"N","N","N","N",458.8,441824.4]
[null,"0902000",42,99999,"42-99999",27,378,"27-378",4931,"02",30,14,"Parcel, USPS, or courier","Truck/Freight",81,1,934,1118,"N","N","N","N",85641.8,95747532.400000006]
[null,"0902807",27,378,"27-378",27,378,"27-378",327,"03",31,"04","For-hire truck","Truck/Freight",169,2376,8,15,"N","N","N","N",86.9,1303.5]
[null,"0903829",27,99999,"27-99999",27,99999,"27-99999",311,"02","05","04","For-hire truck","Truck/Freight",50168,23501,36,40,"Y","N","N","N",31.9,1276]
[null,"0905046",27,378,"27-378",27,99999,"27-99999",311,"04","04","04","For-hire truck","Truck/Freight",27676,42568,130,139,"N","N","N","N",35.700000000000003,4962.3]
[null,"0906025",27,378,"27-378",27,378,"27-378",4249,"03",43,"05","Company-owned truck","Truck/Freight",3222,332,8,10,"Y","N","N","N",326.7,3267]
[null,"0907789",42,99999,"42-99999",27,378,"27-378",326,"02",24,"04","For-hire truck","Truck/Freight",20,41,924,1122,"N","N","N","N",242.2,271748.39999999997]
[null,"0908444",26,266,"26-266",27,378,"27-378",4238,"02",37,14,"Parcel, USPS, or courier","Truck/Freight",4862,2,365,1667,"N","Y","C","N",34.5,57511.5]
[null,"0909513",27,378,"27-378",27,378,"27-378",4231,"03",35,"05","Company-owned truck","Truck/Freight",1723,1010,10,14,"N","N","N","H",2874.5,40243]
[null,"0910111",27,378,"27-378",27,378,"27-378",4242,"04",38,14,"Parcel, USPS, or courier","Truck/Freight",31,2,10,11,"N","N","N","N",130.69999999999999,1437.6999999999998]
[null,"0910920",27,378,"27-378",27,378,"27-378",326,"02",24,11,"Air (incl truck & air)","Air",49112,3928,9,345,"N","Y","E","N",73.3,25288.5]
[null,"0911978",27,378,"27-378",27,99999,"27-99999",333,"03",36,"04","For-hire truck","Truck/Freight",646,298,87,98,"N","N","N","N",147.1,14415.8]
[null,"0913558",36,160,"36-160",27,99999,"27-99999",325,"01",23,"04","For-hire truck","Truck/Freight",10390,367,799,981,"N","N","N","N",277.8,272521.8]
[null,"0914047",27,99999,"27-99999",27,99999,"27-99999",325,"03",20,14,"Parcel, USPS, or courier","Truck/Freight",303,2,197,224,"N","N","N","N",58.2,13036.800000000001]
[null,"0914999",27,378,"27-378",27,378,"27-378",212,"02",12,"04","For-hire truck","Truck/Freight",245,49145,23,31,"N","N","N","N",7904.7,245045.69999999998]
[null,"0915649",27,99999,"27-99999",27,99999,"27-99999",45431,"04",19,"05","Company-owned truck","Truck/Freight",247,837,21,21,"N","N","N","H",2024.3,42510.299999999996]
[null,"0916207",27,378,"27-378",27,378,"27-378",4237,"04",33,"05","Company-owned truck","Truck/Freight",804,173,31,35,"N","N","N","N",15614.8,546518]
[null,"0917154",27,99999,"27-99999",27,99999,"27-99999",4236,"02",35,"04","For-hire truck","Truck/Freight",20,1,12,14,"N","N","N","N",16647.5,233065]
[null,"0919258",21,350,"21-350",27,378,"27-378",325,"03",21,14,"Parcel, USPS, or courier","Truck/Freight",184,1,613,739,"Y","N","N","N",4836.6000000000004,3574247.4000000004]
[null,"0920581",27,99999,"27-99999",27,99999,"27-99999",551114,"04",33,"05","Company-owned truck","Truck/Freight",16,35,13,13,"N","N","N","N",3172.1,41237.299999999996]
[null,"0921216",27,99999,"27-99999",27,99999,"27-99999",321,"03",26,"04","For-hire truck","Truck/Freight",1069,838,6,10,"N","N","N","N",442.7,4427]
[null,"0922003",27,99999,"27-99999",27,99999,"27-99999",4247,"02",18,"05","Company-owned truck","Truck/Freight",13591,63957,11,11,"N","N","N","P",258.39999999999998,2842.3999999999996]
[null,"0922561",27,99999,"27-99999",27,99999,"27-99999",45431,"01",17,"05","Company-owned truck","Truck/Freight",45,130,19,19,"N","N","N","P",87.4,1660.6000000000001]
[null,"0923281",18,258,"18-258",27,378,"27-378",332,"02",33,"04","For-hire truck","Truck/Freight",256,411,470,580,"N","N","N","N",108.2,62756]
[null,"0924340",27,378,"27-378",27,378,"27-378",4248,"02","08","05","Company-owned truck","Truck/Freight",271,41,16,18,"N","N","N","N",1090.8,19634.399999999998]
[null,"0925145",27,99999,"27-99999",27,99999,"27-99999",339,"01",24,14,"Parcel, USPS, or courier","Truck/Freight",10532,77,176,220,"N","N","N","N",53.6,11792]
[null,"0926450",27,378,"27-378",27,378,"27-378",334,"01",38,11,"Air (incl truck & air)","Air",34169,27,13,409,"N","Y","A","N",38.9,15910.099999999999]
[null,"0927160",27,99999,"27-99999",27,378,"27-378",4247,"03",18,"05","Company-owned truck","Truck/Freight",4368,17474,27,31,"N","N","N","P",1066,33046]
[null,"0928036","06",348,"06-348",27,378,"27-378",4541,"04",35,14,"Parcel, USPS, or courier","Truck/Freight",50,5,1515,1941,"N","N","N","N",50304.7,97641422.699999988]
[null,"0928854",22,99999,"22-99999",27,378,"27-378",326,"03",40,"04","For-hire truck","Truck/Freight",5808,851,864,1030,"N","N","N","N",328.7,338561]
[null,"0929356",27,99999,"27-99999",27,99999,"27-99999",4238,"03",36,"04","For-hire truck","Truck/Freight",37,1,18,18,"N","N","N","N",2115.4,38077.200000000004]
[null,"0930690",21,178,"21-178",27,378,"27-378",4235,"01",32,"04","For-hire truck","Truck/Freight",704,413,638,763,"N","N","N","N",69.2,52799.6]
[null,"0931487",55,99999,"55-99999",27,378,"27-378",339,"03",33,"04","For-hire truck","Truck/Freight",46271,4481,268,299,"N","N","N","N",326.7,97683.3]
[null,"0932341",27,378,"27-378",27,378,"27-378",332,"04",33,"04","For-hire truck","Truck/Freight",13870,7358,52,58,"N","N","N","N",13.7,794.59999999999991]
[null,"0933078",36,408,"36-408",27,99999,"27-99999",4239,"01",43,14,"Parcel, USPS, or courier","Truck/Freight",128,5,971,1155,"N","N","N","N",3374.7,3897778.5]
[null,"0933365",27,99999,"27-99999",27,99999,"27-99999",4245,"03","02","04","For-hire truck","Truck/Freight",3784,59370,34,47,"N","N","N","N",303.5,14264.5]
[null,"0934568",27,99999,"27-99999",27,99999,"27-99999",4244,"03","06","05","Company-owned truck","Truck/Freight",1496,371,20,21,"N","N","N","N",1319.5,27709.5]
[null,"0935116","08",216,"08-216",27,99999,"27-99999",334,"01",38,"04","For-hire truck","Truck/Freight",50,10,680,860,"N","N","N","N",4005.6,3444816]
[null,"0936920",21,99999,"21-99999",27,378,"27-378",322,"04",28,"04","For-hire truck","Truck/Freight",583,493,672,839,"N","N","N","N",45.8,38426.199999999997]
[null,"0937719",32,99999,"32-99999",27,378,"27-378",4931,"03",21,"04","For-hire truck","Truck/Freight",1119,12888,1404,1828,"N","N","N","N",21.9,40033.199999999997]
[null,"0938748",17,99999,"17-99999",27,99999,"27-99999",339,"04",40,14,"Parcel, USPS, or courier","Truck/Freight",23,3,509,634,"N","N","N","N",213.8,135549.20000000001]
[null,"0939450",27,378,"27-378",27,378,"27-378",4249,"04",23,"05","Company-owned truck","Truck/Freight",1406,307,9,12,"N","N","N","N",106.2,1274.4000000000001]
[null,"0940330",55,99999,"55-99999",27,99999,"27-99999",339,"02",43,"04","For-hire truck","Truck/Freight",83,1,299,380,"N","N","N","N",449.6,170848]
[null,"0941143",27,99999,"27-99999",27,99999,"27-99999",336,"02",37,"05","Company-owned truck","Truck/Freight",4321,2160,64,88,"N","N","N","N",152.5,13420]
[null,"0942802",27,99999,"27-99999",27,99999,"27-99999",4237,"02",33,"05","Company-owned truck","Truck/Freight",8,5,14,14,"N","N","N","N",1021,14294]
[null,"0943304",27,378,"27-378",27,99999,"27-99999",4238,"01",34,14,"Parcel, USPS, or courier","Truck/Freight",224,1,110,141,"N","N","N","N",675.8,95287.799999999988]
[null,"0943839",27,378,"27-378",27,378,"27-378",339,"01",40,14,"Parcel, USPS, or courier","Truck/Freight",14,1,6,8,"N","N","N","N",582.20000000000005,4657.6000000000004]
[null,"0944393",27,378,"27-378",27,378,"27-378",4237,"02",33,"04","For-hire truck","Truck/Freight",506,29,56,62,"N","N","N","N",613.4,38030.799999999996]
[null,"0945455",22,99999,"22-99999",27,378,"27-378",322,"02",27,15,"Truck and rail","Rail",42918,160786,946,1435,"N","N","N","N",102.8,147518]
[null,"0946269",27,378,"27-378",27,378,"27-378",325,"04",40,14,"Parcel, USPS, or courier","Truck/Freight",1181,32,17,25,"N","N","N","N",48,1200]
[null,"0947290",27,378,"27-378",27,378,"27-378",4541,"04",21,"05","Company-owned truck","Truck/Freight",67,2,8,13,"N","N","N","N",29852.799999999999,388086.39999999997]
[null,"0949125",27,378,"27-378",27,378,"27-378",4238,"01",34,"05","Company-owned truck","Truck/Freight",34957,5980,19,23,"N","N","N","N",24.1,554.30000000000007]
[null,"0950011",27,378,"27-378",27,378,"27-378",4248,"01","08","05","Company-owned truck","Truck/Freight",142,145,11,17,"N","N","N","N",720.9,12255.3]
[null,"0950772",27,99999,"27-99999",27,99999,"27-99999",4237,"02",43,14,"Parcel, USPS, or courier","Truck/Freight",5,5,19,25,"N","N","N","N",84.1,2102.5]
[null,"0951577",27,378,"27-378",27,378,"27-378",4235,"03",32,14,"Parcel, USPS, or courier","Truck/Freight",3542,13,40,51,"N","N","N","N",428.1,21833.100000000002]
[null,"0952412",46,99999,"46-99999",27,378,"27-378",4231,"01",24,"05","Company-owned truck","Truck/Freight",325,147,194,231,"N","N","N","N",454.8,105058.8]
[null,"0952893",27,378,"27-378",27,99999,"27-99999",4244,"01",43,"05","Company-owned truck","Truck/Freight",1349,617,104,124,"Y","N","N","N",2293.1999999999998,284356.8]
[null,"0954368",34,408,"34-408",27,378,"27-378",4238,"02",34,14,"Parcel, USPS, or courier","Truck/Freight",1380,2,1016,1229,"N","N","N","N",31.7,38959.299999999996]
[null,"0955417",27,378,"27-378",27,378,"27-378",4236,"02",35,"05","Company-owned truck","Truck/Freight",921,2,4,6,"N","N","N","N",1261.4000000000001,7568.4000000000005]
[null,"0956501",27,99999,"27-99999",27,378,"27-378",325,"04",20,"04","For-hire truck","Truck/Freight",39162,47619,127,147,"N","N","N","N",26.2,3851.4]
[null,"0957614",27,378,"27-378",27,378,"27-378",339,"02",24,14,"Parcel, USPS, or courier","Truck/Freight",186,111,23,30,"N","N","N","N",409.8,12294]
[null,"0958504",38,99999,"38-99999",27,99999,"27-99999",337,"02",39,"05","Company-owned truck","Truck/Freight",1818,421,96,110,"N","N","N","N",72.2,7942]
[null,"0959612",27,378,"27-378",27,378,"27-378",323,"02",40,14,"Parcel, USPS, or courier","Truck/Freight",370,42,50,56,"N","N","N","N",610.5,34188]
[null,"0960664",27,378,"27-378",27,378,"27-378",327,"04",24,"05","Company-owned truck","Truck/Freight",2110,879,18,27,"N","N","N","N",590.70000000000005,15948.900000000001]
[null,"0963143",27,378,"27-378",27,378,"27-378",4249,"04",20,"04","For-hire truck","Truck/Freight",29184,26498,54,64,"N","N","N","N",149.30000000000001,9555.2000000000007]
[null,"0964338",27,378,"27-378",27,378,"27-378",4231,"01",36,"05","Company-owned truck","Truck/Freight",622,368,19,24,"N","N","N","N",3728.5,89484]
[null,"0965407",27,378,"27-378",27,378,"27-378",4231,"01",34,"04","For-hire truck","Truck/Freight",43,1,11,22,"N","N","N","N",4134.7,90963.4]
[null,"0966199",27,378,"27-378",27,378,"27-378",4241,"01",27,"05","Company-owned truck","Truck/Freight",40,15,4,7,"N","N","N","N",12725,89075]
[null,"0967111",27,378,"27-378",27,378,"27-378",321,"04",26,"05","Company-owned truck","Truck/Freight",210,37,23,33,"N","N","N","N",203.8,6725.4000000000005]
[null,"0968184",27,99999,"27-99999",27,99999,"27-99999",4245,"03","02","05","Company-owned truck","Truck/Freight",1837,32051,34,43,"N","N","N","N",82,3526]
[null,"0969968",27,99999,"27-99999",27,99999,"27-99999",323,"01",29,14,"Parcel, USPS, or courier","Truck/Freight",1,1,2,5,"N","N","N","N",308.10000000000002,{"$f":"W21659*R21659","v":1540.5}]
[null,"0970681",55,99999,"55-99999",27,378,"27-378",333,"02",34,14,"Parcel, USPS, or courier","Truck/Freight",772,13,209,257,"N","N","N","N",691.8,177792.59999999998]
[null,"0971330",17,176,"17-176",27,99999,"27-99999",4238,"03",34,"04","For-hire truck","Truck/Freight",14,577,267,333,"N","N","N","N",160.1,53313.299999999996]
[null,"0972031",27,378,"27-378",27,378,"27-378",322,"01",28,"04","For-hire truck","Truck/Freight",21976,26759,10,14,"N","N","N","N",426.5,5971]
[null,"0973382",21,178,"21-178",27,378,"27-378",4236,"02",35,14,"Parcel, USPS, or courier","Truck/Freight",53,9,589,705,"N","N","N","N",3345.4,2358507]
[null,"0974332",42,99999,"42-99999",27,378,"27-378",339,"03",36,14,"Parcel, USPS, or courier","Truck/Freight",506,50,911,1105,"N","N","N","N",1844.7,2038393.5]
[null,"0975986",33,148,"33-148",27,99999,"27-99999",331,"03",32,14,"Parcel, USPS, or courier","Truck/Freight",490,13,1073,1357,"N","N","N","N",15.7,21304.899999999998]
[null,"0977221",29,476,"29-476",27,378,"27-378",332,"02",33,14,"Parcel, USPS, or courier","Truck/Freight",22,2,484,550,"N","N","N","N",130.5,71775]
[null,"0977912",27,378,"27-378",27,378,"27-378",4231,"04",36,"04","For-hire truck","Truck/Freight",37,27,37,47,"N","N","N","N",5489.7,258015.9]
[null,"0979054",27,99999,"27-99999",27,378,"27-378",4931,"04","07","04","For-hire truck","Truck/Freight",43482,27352,63,74,"Y","N","N","N",249.8,{"$f":"W21851*R21851","v":18485.2}]
[null,"0979920",37,268,"37-268",27,378,"27-378",4931,"03",30,"04","For-hire truck","Truck/Freight",23801,2602,928,1140,"N","N","N","N",70,79800]
[null,"0981236",27,99999,"27-99999",27,99999,"27-99999",4237,"04",34,14,"Parcel, USPS, or courier","Truck/Freight",605,14,137,158,"N","N","N","N",238.4,37667.200000000004]
[null,"0983438",17,176,"17-176",27,378,"27-378",324,"02","07","04","For-hire truck","Truck/Freight",3154,2326,367,451,"N","N","N","N",72.7,32787.700000000004]
[null,"0984145",36,464,"36-464",27,378,"27-378",333,"02",34,"04","For-hire truck","Truck/Freight",3718,3,834,1068,"N","N","N","N",408.6,436384.80000000005]
[null,"0985438",27,99999,"27-99999",27,99999,"27-99999",4238,"01",36,14,"Parcel, USPS, or courier","Truck/Freight",44,3,34,38,"N","N","N","N",2966.6,112730.8]
[null,"0986732",17,176,"17-176",27,378,"27-378",4233,"04",40,"04","For-hire truck","Truck/Freight",319,17,309,380,"N","N","N","N",918.4,348992]
[null,"0987150",27,99999,"27-99999",27,378,"27-378",311,"01","05","04","For-hire truck","Truck/Freight",53807,36798,191,221,"Y","N","N","N",53.6,11845.6]
[null,"0987970",27,378,"27-378",27,99999,"27-99999",4244,"04",43,"05","Company-owned truck","Truck/Freight",61,37,49,66,"Y","N","N","N",2322.3000000000002,153271.80000000002]
[null,"0990334",31,99999,"31-99999",27,378,"27-378",325,"03",40,14,"Parcel, USPS, or courier","Truck/Freight",421,11,424,574,"N","N","N","N",32.1,18425.400000000001]
[null,"0991299",27,99999,"27-99999",27,378,"27-378",333,"03",34,14,"Parcel, USPS, or courier","Truck/Freight",92,110,85,93,"N","N","N","N",299.39999999999998,27844.199999999997]
[null,"0992222",27,99999,"27-99999",27,99999,"27-99999",4248,"03","08","05","Company-owned truck","Truck/Freight",16082,19090,63,69,"N","N","N","N",76.400000000000006,5271.6]
[null,"0992748",27,99999,"27-99999",27,378,"27-378",332,"04",34,"04","For-hire truck","Truck/Freight",41172,1423,114,138,"N","N","N","N",110.8,15290.4]
[null,"0993788",27,378,"27-378",27,378,"27-378",4238,"02",24,14,"Parcel, USPS, or courier","Truck/Freight",401,28,18,28,"N","N","N","N",1456.4,40779.200000000004]
[null,"0994596",27,99999,"27-99999",27,99999,"27-99999",45431,"01",18,"05","Company-owned truck","Truck/Freight",279,831,19,19,"N","N","N","P",87.4,1660.6000000000001]
[null,"0996637",27,378,"27-378",27,99999,"27-99999",311,"01","05","04","For-hire truck","Truck/Freight",29118,25814,40,53,"Y","N","N","N",68.8,3646.3999999999996]
[null,"0996897",45,99999,"45-99999",27,99999,"27-99999",335,"04",35,"04","For-hire truck","Truck/Freight",42046,19168,997,1244,"N","N","N","N",48.3,60085.2]
[null,"0998311",13,122,"13-122",27,99999,"27-99999",332,"03",32,"04","For-hire truck","Truck/Freight",3628,1055,1197,1477,"N","N","N","N",148.5,219334.5]
[null,"0999261",27,378,"27-378",27,378,"27-378",332,"03",40,"05","Company-owned truck","Truck/Freight",2753,3167,23,35,"N","N","N","N",393,13755]
[null,1000104,27,378,"27-378",27,378,"27-378",4231,"03",32,14,"Parcel, USPS, or courier","Truck/Freight",62,4,24,31,"N","N","N","N",5132,159092]
[null,1000611,25,148,"25-148",27,378,"27-378",326,"03",24,"04","For-hire truck","Truck/Freight",102604,28468,1172,1469,"N","N","N","N",22,32318]
[null,1001023,38,99999,"38-99999",27,99999,"27-99999",4241,"04",28,14,"Parcel, USPS, or courier","Truck/Freight",96,54,149,176,"N","N","N","N",261.5,46024]
[null,1003124,27,378,"27-378",27,378,"27-378",212,"02",31,"04","For-hire truck","Truck/Freight",10,13,5,5,"N","N","N","N",2511,12555]
[null,1004233,27,99999,"27-99999",27,99999,"27-99999",4246,"03",23,14,"Parcel, USPS, or courier","Truck/Freight",552,23,116,133,"N","N","N","N",1273.2,169335.6]
[null,1005104,18,99999,"18-99999",27,378,"27-378",325,"02","04","04","For-hire truck","Truck/Freight",2298,47867,529,640,"N","N","N","N",220.4,141056]
[null,1005866,27,99999,"27-99999",27,99999,"27-99999",325,"03",20,"05","Company-owned truck","Truck/Freight",376,41927,45,50,"Y","N","N","H",125.1,6255]
[null,1006510,27,378,"27-378",27,99999,"27-99999",312,"02","07","04","For-hire truck","Truck/Freight",12887,40650,220,265,"Y","Y","C","N",60.3,15979.5]
[null,1007290,"06",348,"06-348",27,378,"27-378",4246,"01",23,14,"Parcel, USPS, or courier","Truck/Freight",8403,45,1515,1938,"N","N","N","N",766.3,1485089.4]
[null,1008831,39,184,"39-184",27,378,"27-378",311,"04","07","04","For-hire truck","Truck/Freight",37024,37533,665,797,"Y","N","N","N",37.5,29887.5]
[null,1009588,46,99999,"46-99999",27,99999,"27-99999",45431,"02",19,"05","Company-owned truck","Truck/Freight",191,680,12,15,"N","N","N","H",47.2,708]
[null,1010797,55,99999,"55-99999",27,99999,"27-99999",4249,"03","03","05","Company-owned truck","Truck/Freight",7418,48588,74,95,"N","N","N","N",109.3,10383.5]
[null,1011808,27,378,"27-378",27,378,"27-378",323,"01",29,"04","For-hire truck","Truck/Freight",984,69,5,9,"N","N","N","N",855,7695]
[null,1012251,25,148,"25-148",27,99999,"27-99999",332,"03",34,14,"Parcel, USPS, or courier","Truck/Freight",681,1,1244,1523,"N","N","N","N",932.6,1420349.8]
[null,1013047,29,312,"29-312",27,378,"27-378",321,"01",40,"04","For-hire truck","Truck/Freight",6075,812,406,443,"N","N","N","N",478.7,212064.1]
[null,1013933,27,99999,"27-99999",27,99999,"27-99999",45431,"02",18,"05","Company-owned truck","Truck/Freight",167,482,16,16,"N","N","N","P",102.1,1633.6]
[null,1016114,27,378,"27-378",27,378,"27-378",327,"04",31,"05","Company-owned truck","Truck/Freight",985,36825,12,20,"N","N","N","N",676.7,13534]
[null,1016493,27,99999,"27-99999",27,99999,"27-99999",4244,"01","07","05","Company-owned truck","Truck/Freight",31,21,6,6,"N","N","N","N",1039.4000000000001,6236.4000000000005]
[null,1017701,19,99999,"19-99999",27,378,"27-378",321,"03",24,"04","For-hire truck","Truck/Freight",158,43,205,276,"N","N","N","N",2480,684480]
[null,1018884,27,99999,"27-99999",27,99999,"27-99999",4237,"04",43,"05","Company-owned truck","Truck/Freight",68,6,4,5,"N","N","N","N",67.3,336.5]
[null,1019872,27,378,"27-378",27,99999,"27-99999",4231,"03",34,"04","For-hire truck","Truck/Freight",53,3,152,176,"N","N","N","N",3680.4,647750.40000000002]
[null,1020947,16,99999,"16-99999",27,99999,"27-99999",339,"03",40,14,"Parcel, USPS, or courier","Truck/Freight",253,1,1196,1481,"N","N","N","N",49.1,72717.100000000006]
[null,1022412,27,99999,"27-99999",27,99999,"27-99999",4233,"03",26,"04","For-hire truck","Truck/Freight",1982,3270,47,79,"N","N","N","N",560.70000000000005,44295.3]
[null,1023294,27,99999,"27-99999",27,99999,"27-99999",326,"02",43,"05","Company-owned truck","Truck/Freight",1538,1355,78,105,"N","N","N","N",79.599999999999994,8358]
[null,1023929,18,99999,"18-99999",27,378,"27-378",331,"03",33,"04","For-hire truck","Truck/Freight",40175,40972,437,525,"N","N","N","N",35.6,18690]
[null,1025390,27,99999,"27-99999",27,99999,"27-99999",4931,"01","07","05","Company-owned truck","Truck/Freight",36,12,9,11,"N","N","N","N",30.8,338.8]
[null,1026045,27,99999,"27-99999",27,99999,"27-99999",311,"03",17,"06","Rail","Rail",34382,175372,14,14,"Y","N","N","P",45.7,639.80000000000007]
[null,1027799,46,99999,"46-99999",27,99999,"27-99999",4236,"04",35,14,"Parcel, USPS, or courier","Truck/Freight",53,106,227,258,"N","N","N","N",3605.5,930219]
[null,1027859,"06",348,"06-348",27,99999,"27-99999",4231,"02",36,"04","For-hire truck","Truck/Freight",28162,2752,1521,2007,"N","N","N","N",1092.2,2192045.4]
[null,1029996,27,378,"27-378",27,378,"27-378",4232,"02",23,"05","Company-owned truck","Truck/Freight",17,11,22,34,"N","N","N","N",3896.8,132491.20000000001]
[null,1030585,27,99999,"27-99999",27,99999,"27-99999",311,"03","05","04","For-hire truck","Truck/Freight",52042,34695,27,29,"Y","N","N","N",29.6,858.40000000000009]
[null,1031468,27,378,"27-378",27,378,"27-378",4541,"02",43,14,"Parcel, USPS, or courier","Truck/Freight",155,21,7,12,"N","N","N","N",5048,60576]
[null,1032332,18,99999,"18-99999",27,99999,"27-99999",311,"01","05","04","For-hire truck","Truck/Freight",7770,10792,528,688,"Y","N","N","N",63.9,43963.199999999997]
[null,1033020,27,378,"27-378",27,378,"27-378",4238,"02",33,"05","Company-owned truck","Truck/Freight",56,49,20,25,"N","N","N","N",990.6,24765]
[null,1034093,27,378,"27-378",27,378,"27-378",326,"03",24,14,"Parcel, USPS, or courier","Truck/Freight",644,15,11,13,"N","N","N","N",145.1,1886.3]
[null,1035759,19,99999,"19-99999",27,378,"27-378",4249,"04",30,"04","For-hire truck","Truck/Freight",45277,40240,210,254,"N","N","N","N",84.1,21361.399999999998]
[null,1036785,27,99999,"27-99999",27,99999,"27-99999",4238,"02",34,"04","For-hire truck","Truck/Freight",569,46,32,34,"N","N","N","N",2702.2,91874.799999999988]
[null,1037614,28,99999,"28-99999",27,99999,"27-99999",332,"03",33,"04","For-hire truck","Truck/Freight",5613,2865,732,893,"N","N","N","N",206.4,184315.2]
[null,1038016,27,99999,"27-99999",27,99999,"27-99999",325,"04","04","04","For-hire truck","Truck/Freight",2763,46042,13,13,"N","N","N","N",34.1,443.3]
[null,1038037,27,99999,"27-99999",27,99999,"27-99999",5111,"03",29,"05","Company-owned truck","Truck/Freight",6,5,6,8,"N","N","N","N",1602.3,12818.4]
[null,1038121,46,99999,"46-99999",27,99999,"27-99999",339,"04",35,14,"Parcel, USPS, or courier","Truck/Freight",11,5,256,327,"N","N","N","N",92.2,30149.4]
[null,1038137,27,378,"27-378",27,378,"27-378",334,"01",35,14,"Parcel, USPS, or courier","Truck/Freight",55,5,10,350,"N","Y","E","N",453.5,158725]
[null,1038143,38,99999,"38-99999",27,99999,"27-99999",4245,"02","07","05","Company-owned truck","Truck/Freight",10307,59358,59,76,"N","N","N","N",112,8512]
[null,1038156,49,99999,"49-99999",27,99999,"27-99999",334,"03",35,14,"Parcel, USPS, or courier","Truck/Freight",1511,17,872,1217,"N","N","N","N",71.599999999999994,87137.2]
[null,1038263,27,378,"27-378",27,99999,"27-99999",4244,"03",43,"05","Company-owned truck","Truck/Freight",1902,926,130,146,"Y","N","N","N",4001,584146]
[null,1038395,27,99999,"27-99999",27,99999,"27-99999",4248,"04","08","05","Company-owned truck","Truck/Freight",400,599,43,57,"N","N","N","N",982.5,56002.5]
[null,1038425,27,378,"27-378",27,378,"27-378",4241,"01",43,14,"Parcel, USPS, or courier","Truck/Freight",32,28,6,9,"N","N","N","N",1916.7,17250.3]
[null,1038426,39,198,"39-198",27,378,"27-378",4237,"01",40,14,"Parcel, USPS, or courier","Truck/Freight",365,19,617,762,"N","N","N","N",4376.8999999999996,3335197.8]
[null,1038553,34,408,"34-408",27,378,"27-378",4239,"01",40,14,"Parcel, USPS, or courier","Truck/Freight",6,1,1028,1241,"N","N","N","N",87.3,108339.3]
[null,1038596,27,378,"27-378",27,378,"27-378",4235,"04",33,"04","For-hire truck","Truck/Freight",14,7,2,2,"N","N","N","N",4171.5,8343]
[null,1038671,27,378,"27-378",27,99999,"27-99999",4233,"03",26,"04","For-hire truck","Truck/Freight",1518,356,151,182,"N","N","N","N",562.70000000000005,102411.40000000001]
[null,1038704,27,99999,"27-99999",27,99999,"27-99999",4244,"04","06","05","Company-owned truck","Truck/Freight",837,205,14,14,"N","N","N","N",1322.2,18510.8]
[null,1038811,27,99999,"27-99999",27,99999,"27-99999",4236,"04",35,"05","Company-owned truck","Truck/Freight",230,248,4,7,"N","N","N","N",8381.4,58669.799999999996]
[null,1038812,27,378,"27-378",27,99999,"27-99999",335,"04",35,14,"Parcel, USPS, or courier","Truck/Freight",10541,38,139,177,"N","N","N","N",115.9,20514.3]
[null,1038983,27,378,"27-378",27,378,"27-378",4541,"04",21,"05","Company-owned truck","Truck/Freight",14,1,20,22,"N","N","N","N",17404.099999999999,382890.19999999995]
[null,1039011,27,378,"27-378",27,378,"27-378",4238,"01",34,"04","For-hire truck","Truck/Freight",11147,1073,25,35,"N","N","N","N",299,10465]
[null,1039046,12,370,"12-370",27,378,"27-378",4234,"01",38,14,"Parcel, USPS, or courier","Truck/Freight",644,6,1479,1760,"N","N","N","N",16855.3,29665328]
[null,1039170,46,99999,"46-99999",27,99999,"27-99999",331,"03",32,"04","For-hire truck","Truck/Freight",3422,2075,175,225,"N","N","N","N",48,10800]
[null,1039280,29,476,"29-476",27,378,"27-378",325,"02",21,14,"Parcel, USPS, or courier","Truck/Freight",1216,1,454,524,"N","N","N","N",55.1,28872.400000000001]
[null,1039327,27,378,"27-378",27,378,"27-378",335,"02",35,14,"Parcel, USPS, or courier","Truck/Freight",825,120,27,36,"N","N","N","N",328.7,11833.199999999999]
[null,1039334,41,99999,"41-99999",27,378,"27-378",321,"04",26,"04","For-hire truck","Truck/Freight",2277,56670,1456,1836,"N","N","N","N",312.60000000000002,573933.60000000009]
[null,1039392,27,378,"27-378",27,99999,"27-99999",4242,"01",21,14,"Parcel, USPS, or courier","Truck/Freight",1911,71,80,100,"N","N","N","N",1517.3,151730]
[null,1039409,27,99999,"27-99999",27,99999,"27-99999",321,"03",26,"04","For-hire truck","Truck/Freight",997,44529,35,37,"N","Y","C","N",182.2,6741.4]
[null,1039451,37,268,"37-268",27,378,"27-378",4246,"02",20,14,"Parcel, USPS, or courier","Truck/Freight",1771,20,931,1131,"N","N","N","N",404.1,457037.10000000003]
[null,1039519,27,99999,"27-99999",27,99999,"27-99999",4244,"03","07","05","Company-owned truck","Truck/Freight",1311,2105,2,3,"N","N","N","N",1029,3087]
[null,1039561,48,99999,"48-99999",27,378,"27-378",335,"03",35,"04","For-hire truck","Truck/Freight",1050,33143,883,1023,"N","N","N","N",122.7,125522.1]
[null,1039657,27,378,"27-378",27,378,"27-378",4236,"04",35,14,"Parcel, USPS, or courier","Truck/Freight",192,7,9,13,"N","N","N","N",1035,13455]
[null,1039664,27,99999,"27-99999",27,99999,"27-99999",4231,"03",36,"05","Company-owned truck","Truck/Freight",31,3,40,52,"N","N","N","N",672.2,34954.400000000001]
[null,1039756,27,378,"27-378",27,378,"27-378",4248,"02","08","05","Company-owned truck","Truck/Freight",133,101,10,11,"N","N","N","N",3332.6,{"$f":"W23131*R23131","v":36658.6}]
[null,1039774,27,378,"27-378",27,378,"27-378",4241,"03",28,"05","Company-owned truck","Truck/Freight",1066,623,12,17,"N","N","N","N",696.1,11833.7]
[null,1039880,27,378,"27-378",27,99999,"27-99999",4231,"03",35,"05","Company-owned truck","Truck/Freight",584,16,186,214,"N","N","N","N",3203.6,685570.4]
[null,1039908,27,378,"27-378",27,378,"27-378",4238,"01",24,14,"Parcel, USPS, or courier","Truck/Freight",1,1,46,57,"N","N","N","N",1767.6,100753.2]
[null,1039988,37,450,"37-450",27,378,"27-378",322,"04",27,"04","For-hire truck","Truck/Freight",1073,621,968,1186,"N","N","N","N",59.5,70567]
[null,1039991,27,99999,"27-99999",27,99999,"27-99999",4246,"02",28,14,"Parcel, USPS, or courier","Truck/Freight",28,5,14,14,"N","N","N","N",940.7,13169.800000000001]
[null,1040034,27,99999,"27-99999",27,99999,"27-99999",312,"01","07","05","Company-owned truck","Truck/Freight",196,108,21,21,"N","N","N","N",52.8,1108.8]
[null,1040035,29,312,"29-312",27,378,"27-378",4234,"01",38,"04","For-hire truck","Truck/Freight",68,2,404,433,"N","N","N","N",680.9,294829.7]
[null,1040159,27,99999,"27-99999",27,99999,"27-99999",4244,"02",43,"05","Company-owned truck","Truck/Freight",59,55,98,125,"Y","N","N","N",1356.1,169512.5]
[null,1040255,27,99999,"27-99999",27,378,"27-378",4238,"03",34,14,"Parcel, USPS, or courier","Truck/Freight",324,50,228,255,"N","N","N","N",3752.1,956785.5]
[null,1040315,27,99999,"27-99999",27,99999,"27-99999",327,"03",31,"05","Company-owned truck","Truck/Freight",571,22101,17,17,"N","N","N","N",1793.8,30494.6]
[null,1040380,"06",260,"06-260",27,378,"27-378",339,"02",40,14,"Parcel, USPS, or courier","Truck/Freight",1489,54,1483,2065,"N","N","N","N",975.4,2014201]
[null,1040409,27,378,"27-378",27,378,"27-378",4249,"04",23,14,"Parcel, USPS, or courier","Truck/Freight",434,62,23,33,"N","N","N","N",76.5,2524.5]
[null,1040411,27,378,"27-378",27,378,"27-378",311,"03","06","05","Company-owned truck","Truck/Freight",17,5,17,21,"N","N","N","N",6149.6,129141.6]
[null,1040424,39,99999,"39-99999",27,378,"27-378",4931,"04",40,"04","For-hire truck","Truck/Freight",42,8,681,817,"N","N","N","N",1571.6,1283997.2]
[null,1040505,27,378,"27-378",27,378,"27-378",4233,"03",26,"05","Company-owned truck","Truck/Freight",720,1096,18,34,"N","N","N","N",773.8,26309.199999999997]
[null,1040513,25,148,"25-148",27,378,"27-378",5111,"01",29,14,"Parcel, USPS, or courier","Truck/Freight",11,1,1163,1470,"N","N","N","N",54.1,79527]
[null,1040571,19,99999,"19-99999",27,99999,"27-99999",332,"03",34,14,"Parcel, USPS, or courier","Truck/Freight",160,34,97,118,"N","N","N","N",499.3,58917.4]
[null,1040628,27,99999,"27-99999",27,99999,"27-99999",4241,"02",43,"05","Company-owned truck","Truck/Freight",15,2,18,18,"N","N","N","N",4574.6000000000004,82342.8]
[null,1040640,27,99999,"27-99999",27,99999,"27-99999",4238,"03",34,"05","Company-owned truck","Truck/Freight",164836,33299,12,13,"N","N","N","N",30.7,399.09999999999997]
[null,1040701,19,99999,"19-99999",27,99999,"27-99999",4245,"01","04","04","For-hire truck","Truck/Freight",2490,54129,152,175,"N","N","N","N",1009.7,176697.5]
[null,1040706,27,378,"27-378",27,378,"27-378",4231,"01",36,"05","Company-owned truck","Truck/Freight",39,54,7,9,"N","N","N","N",11815.9,106343.09999999999]
[null,1040749,27,99999,"27-99999",27,99999,"27-99999",4244,"02","07","05","Company-owned truck","Truck/Freight",6,7,35,46,"N","N","N","N",1042.7,47964.200000000004]
[null,1040751,27,378,"27-378",27,378,"27-378",5111,"03",29,14,"Parcel, USPS, or courier","Truck/Freight",15,1,10,15,"N","N","N","N",50.1,751.5]
[null,1040846,27,378,"27-378",27,378,"27-378",4234,"02",21,"04","For-hire truck","Truck/Freight",1714,4,27,37,"N","N","N","N",6074.9,224771.3]
[null,1040872,27,99999,"27-99999",27,99999,"27-99999",4238,"02",40,"05","Company-owned truck","Truck/Freight",16572,1707,4,5,"N","N","N","N",1200,6000]
[null,1040916,55,99999,"55-99999",27,99999,"27-99999",212,"01",11,"06","Rail","Rail",2212,214197,239,297,"N","Y","C","N",461.8,137154.6]
[null,1040979,27,99999,"27-99999",27,99999,"27-99999",45431,"02",19,"05","Company-owned truck","Truck/Freight",190,686,21,21,"N","N","N","H",268.89999999999998,5646.9]
[null,1040984,27,99999,"27-99999",27,99999,"27-99999",331,"02",35,14,"Parcel, USPS, or courier","Truck/Freight",302,1,83,113,"N","N","N","N",134.1,15153.3]
[null,1040988,27,99999,"27-99999",27,99999,"27-99999",4237,"01",43,"05","Company-owned truck","Truck/Freight",627,95,23,36,"N","N","N","N",411.6,14817.6]
[null,1041034,53,99999,"53-99999",27,378,"27-378",4234,"03",35,14,"Parcel, USPS, or courier","Truck/Freight",2829,129,1145,1365,"N","N","N","N",459.2,626808]
[null,1041068,27,99999,"27-99999",27,99999,"27-99999",4231,"02",36,"05","Company-owned truck","Truck/Freight",472,41,32,39,"N","N","N","N",681.8,26590.199999999997]
[null,1041091,55,99999,"55-99999",27,378,"27-378",212,"01",31,15,"Truck and rail","Rail",7179,95274,262,566,"N","N","N","N",196.1,110992.59999999999]
[null,1041142,29,99999,"29-99999",27,378,"27-378",4246,"03",23,14,"Parcel, USPS, or courier","Truck/Freight",51,45,534,602,"N","N","N","N",1207.8,727095.6]
[null,1041146,27,99999,"27-99999",27,99999,"27-99999",4249,"04","04","04","For-hire truck","Truck/Freight",6722,58159,86,125,"N","N","N","N",235.3,29412.5]
[null,1041233,27,378,"27-378",27,378,"27-378",321,"03",26,"04","For-hire truck","Truck/Freight",6123,5565,23,29,"N","N","N","N",50.9,1476.1]
[null,1041239,53,440,"53-440",27,99999,"27-99999",4238,"01",34,14,"Parcel, USPS, or courier","Truck/Freight",427,1,1431,1790,"N","N","N","N",81.099999999999994,145169]
[null,1041263,27,378,"27-378",27,378,"27-378",4235,"01",32,"04","For-hire truck","Truck/Freight",25324,45651,8,10,"N","N","N","N",85.2,852]
[null,1041289,55,376,"55-376",27,378,"27-378",4244,"04",38,14,"Parcel, USPS, or courier","Truck/Freight",1360,7,286,324,"N","N","N","N",322.60000000000002,104522.40000000001]
[null,1041292,46,99999,"46-99999",27,99999,"27-99999",4232,"02",43,14,"Parcel, USPS, or courier","Truck/Freight",3,4,76,90,"N","N","N","N",665.8,59921.999999999993]
[null,1041314,27,378,"27-378",27,378,"27-378",4233,"02",24,"05","Company-owned truck","Truck/Freight",374,74,6,8,"N","N","N","N",410.3,3282.4]
[null,1041345,30,99999,"30-99999",27,378,"27-378",333,"02",24,14,"Parcel, USPS, or courier","Truck/Freight",520,132,868,987,"N","N","N","N",31.8,31386.600000000002]
[null,1041388,27,378,"27-378",27,378,"27-378",326,"04",37,14,"Parcel, USPS, or courier","Truck/Freight",1530,138,14,21,"N","N","N","N",178.9,3756.9]
[null,1041454,27,378,"27-378",27,378,"27-378",4249,"01",43,"05","Company-owned truck","Truck/Freight",32,9,39,44,"N","N","N","N",418.5,18414]
[null,1041485,50,99999,"50-99999",27,378,"27-378",335,"02",40,14,"Parcel, USPS, or courier","Truck/Freight",348,1,995,1316,"N","N","N","N",181.2,238459.19999999998]
[null,1041487,38,99999,"38-99999",27,99999,"27-99999",4244,"02",43,"05","Company-owned truck","Truck/Freight",10808,7697,126,136,"Y","N","N","N",394.7,53679.199999999997]
[null,1041499,19,99999,"19-99999",27,99999,"27-99999",212,"04",12,"04","For-hire truck","Truck/Freight",176,42582,64,95,"N","N","N","N",1123.0999999999999,106694.49999999999]
[null,1041511,"05",99999,"05-99999",27,378,"27-378",311,"03","06","06","Rail","Rail",11971,179608,693,1004,"N","N","N","N",33.200000000000003,33332.800000000003]
[null,1041515,27,378,"27-378",27,99999,"27-99999",332,"02",33,14,"Parcel, USPS, or courier","Truck/Freight",245,3,75,93,"N","N","N","N",1101.5,102439.5]
[null,1041524,27,99999,"27-99999",27,99999,"27-99999",4244,"03","07","05","Company-owned truck","Truck/Freight",1210,330,23,24,"N","N","N","N",1634.5,39228]
[null,1041549,27,378,"27-378",27,99999,"27-99999",325,"02",23,"05","Company-owned truck","Truck/Freight",1160,532,106,115,"Y","N","N","N",169.5,19492.5]
[null,1041572,46,99999,"46-99999",27,378,"27-378",4237,"03",43,14,"Parcel, USPS, or courier","Truck/Freight",727,30,182,243,"N","N","N","N",357.4,86848.2]
[null,1041586,27,378,"27-378",27,378,"27-378",4239,"04",41,"04","For-hire truck","Truck/Freight",3271,37575,12,14,"N","N","N","N",240.8,3371.2000000000003]
[null,1041608,27,99999,"27-99999",27,99999,"27-99999",4231,"02",31,"05","Company-owned truck","Truck/Freight",1839,115,10,14,"N","N","N","N",1525.1,21351.399999999998]
[null,1041641,21,99999,"21-99999",27,378,"27-378",4541,"02",36,"04","For-hire truck","Truck/Freight",483,104,698,843,"N","N","N","N",1811.3,1526925.9]
[null,1041691,27,99999,"27-99999",27,99999,"27-99999",4233,"02",31,"05","Company-owned truck","Truck/Freight",82,460,80,106,"N","N","N","N",456,48336]
[null,1041746,26,266,"26-266",27,99999,"27-99999",4541,"03",35,14,"Parcel, USPS, or courier","Truck/Freight",4,1,388,582,"N","N","N","N",10500.1,6111058.2000000002]
[null,1041752,27,99999,"27-99999",27,378,"27-378",336,"01",40,14,"Parcel, USPS, or courier","Truck/Freight",440,21,85,102,"N","N","N","N",154.9,15799.800000000001]
[null,1041761,17,476,"17-476",27,99999,"27-99999",4235,"03",33,"04","For-hire truck","Truck/Freight",625,777,361,478,"N","N","N","N",145.19999999999999,69405.599999999991]
[null,1041949,27,99999,"27-99999",27,99999,"27-99999",551114,"03",33,"05","Company-owned truck","Truck/Freight",211,56,13,13,"N","N","N","N",881.1,11454.300000000001]
[null,1041982,26,220,"26-220",27,378,"27-378",4231,"01",36,"04","For-hire truck","Truck/Freight",14734,2411,562,761,"N","N","N","N",1122.4000000000001,854146.4]
[null,1042025,27,99999,"27-99999",27,99999,"27-99999",4237,"02",43,"04","For-hire truck","Truck/Freight",988,216,83,97,"N","N","N","N",482.9,46841.299999999996]
[null,1042084,45,273,"45-273",27,378,"27-378",333,"02",34,"04","For-hire truck","Truck/Freight",7710,486,906,1137,"N","N","N","N",195.3,222056.1]
[null,1042090,26,220,"26-220",27,378,"27-378",4931,"04",40,14,"Parcel, USPS, or courier","Truck/Freight",481,86,548,715,"N","N","N","N",1243,888745]
[null,1042127,17,476,"17-476",27,378,"27-378",331,"01",33,"04","For-hire truck","Truck/Freight",36510,9165,461,531,"N","N","N","N",94.1,{"$f":"W23195*R23195","v":49967.1}]
[null,1042164,27,378,"27-378",27,99999,"27-99999",4238,"02",34,14,"Parcel, USPS, or courier","Truck/Freight",28,5,159,193,"N","N","N","N",1357.4,261978.2]
[null,1042170,27,378,"27-378",27,378,"27-378",4246,"03",40,"05","Company-owned truck","Truck/Freight",1120,2968,29,38,"N","N","N","N",241.8,9188.4]
[null,1042192,27,378,"27-378",27,99999,"27-99999",4233,"01",26,"05","Company-owned truck","Truck/Freight",1087,1769,51,61,"N","N","N","N",1711.7,104413.7]
[null,1042248,27,99999,"27-99999",27,99999,"27-99999",4244,"01",43,"05","Company-owned truck","Truck/Freight",601,5203,11,14,"N","N","N","N",2018.6,28260.399999999998]
[null,1042252,"04",38060,"04-38060",27,378,"27-378",4931,"01",43,14,"Parcel, USPS, or courier","Truck/Freight",19,2,1277,1691,"N","N","N","N",1185.4000000000001,2004511.4000000001]
[null,1042321,27,378,"27-378",27,378,"27-378",4246,"01",30,14,"Parcel, USPS, or courier","Truck/Freight",71,2,8,11,"N","N","N","N",1414.3,15557.3]
[null,1042325,27,378,"27-378",27,378,"27-378",339,"04",40,14,"Parcel, USPS, or courier","Truck/Freight",80,4,13,15,"N","N","N","N",6036.2,90543]
[null,1042411,27,378,"27-378",27,378,"27-378",4233,"02",43,"05","Company-owned truck","Truck/Freight",13,1,9,12,"N","N","N","N",191.5,2298]
[null,1042440,27,378,"27-378",27,378,"27-378",4238,"02",35,14,"Parcel, USPS, or courier","Truck/Freight",51,1,24,31,"N","N","N","N",144.9,4491.9000000000005]
[null,1042452,17,476,"17-476",27,378,"27-378",332,"03",40,"04","For-hire truck","Truck/Freight",4120,19856,480,588,"N","N","N","N",270,158760]
[null,1042555,19,99999,"19-99999",27,378,"27-378",4234,"01",38,11,"Air (incl truck & air)","Air",924,2,231,1340,"N","N","N","N",1996.1,2674774]
[null,1042676,27,99999,"27-99999",27,99999,"27-99999",321,"02",26,"04","For-hire truck","Truck/Freight",1154,51294,103,113,"N","N","N","N",123.8,13989.4]
[null,1042699,27,378,"27-378",27,378,"27-378",4238,"02",43,14,"Parcel, USPS, or courier","Truck/Freight",1143,11,114,125,"N","N","N","N",730.1,91262.5]
[null,1042738,27,99999,"27-99999",27,99999,"27-99999",212,"01",13,"04","For-hire truck","Truck/Freight",342,56502,38,59,"N","N","N","N",16,944]
[null,1042756,27,99999,"27-99999",27,378,"27-378",4233,"04",26,"05","Company-owned truck","Truck/Freight",784,1030,87,102,"N","N","N","N",454.7,46379.4]
[null,1042796,55,99999,"55-99999",27,99999,"27-99999",316,"01",30,14,"Parcel, USPS, or courier","Truck/Freight",276,5,302,339,"N","N","N","N",78.7,26679.3]
[null,1042855,27,378,"27-378",27,378,"27-378",4231,"04",36,14,"Parcel, USPS, or courier","Truck/Freight",80,11,42,58,"N","N","N","N",4692.5,272165]
[null,1042859,27,378,"27-378",27,378,"27-378",334,"04",29,"05","Company-owned truck","Truck/Freight",7519,3868,16,22,"N","N","N","N",553.79999999999995,12183.599999999999]
[null,1042860,27,378,"27-378",27,378,"27-378",45431,"04",19,"05","Company-owned truck","Truck/Freight",233,816,6,6,"N","N","N","H",168.7,1012.1999999999999]
[null,1042865,42,99999,"42-99999",27,378,"27-378",4232,"03",40,"04","For-hire truck","Truck/Freight",1488,302,923,1101,"N","N","N","N",280.39999999999998,308720.39999999997]
[null,1042873,18,294,"18-294",27,378,"27-378",4236,"04",35,14,"Parcel, USPS, or courier","Truck/Freight",1832,4,495,574,"N","N","N","N",4779.6000000000004,2743490.4000000004]
[null,1042900,27,378,"27-378",27,99999,"27-99999",4231,"01",36,"05","Company-owned truck","Truck/Freight",529,135,78,84,"N","N","N","N",876.2,73600.800000000003]
[null,1042908,45,16700,"45-16700",27,378,"27-378",4237,"01",43,"04","For-hire truck","Truck/Freight",590,189,1090,1320,"N","N","N","N",315.8,416856]
[null,1043060,18,294,"18-294",27,99999,"27-99999",4238,"04",36,14,"Parcel, USPS, or courier","Truck/Freight",41,1,759,923,"N","N","N","N",10540.9,9729250.6999999993]
[null,1043079,27,378,"27-378",27,378,"27-378",322,"02",28,"05","Company-owned truck","Truck/Freight",8320,14676,12,14,"N","N","N","N",253.3,3546.2000000000003]
[null,1043129,27,378,"27-378",27,378,"27-378",327,"01",31,"05","Company-owned truck","Truck/Freight",702,29459,10,12,"N","N","N","N",428.8,5145.6000000000004]
[null,1043139,27,378,"27-378",27,378,"27-378",4244,"02","04","05","Company-owned truck","Truck/Freight",2159,1046,9,13,"N","N","N","N",278,3614]
[null,1043216,17,176,"17-176",27,378,"27-378",4241,"03",24,"05","Company-owned truck","Truck/Freight",680,412,334,399,"N","N","N","N",700.3,279419.69999999995]
[null,1043234,27,378,"27-378",27,378,"27-378",4244,"04","05","05","Company-owned truck","Truck/Freight",1100,195,12,16,"Y","N","N","N",1185.9000000000001,18974.400000000001]
[null,1043302,47,99999,"47-99999",27,99999,"27-99999",4238,"03",34,14,"Parcel, USPS, or courier","Truck/Freight",81,3,773,974,"N","N","N","N",125.3,122042.2]
[null,1043303,55,99999,"55-99999",27,99999,"27-99999",4241,"04",43,"04","For-hire truck","Truck/Freight",489,346,100,113,"N","N","N","N",694.8,78512.399999999994]
[null,1043324,27,99999,"27-99999",27,378,"27-378",4245,"01","02","04","For-hire truck","Truck/Freight",5611,65588,158,177,"N","N","N","N",658.1,116483.7]
[null,1043366,27,378,"27-378",27,378,"27-378",324,"04",17,"04","For-hire truck","Truck/Freight",12918,54294,6,11,"N","N","N","P",5145.6000000000004,56601.600000000006]
[null,1043403,12,99999,"12-99999",27,378,"27-378",333,"02",32,"04","For-hire truck","Truck/Freight",6783,5525,1099,1335,"N","N","N","N",510.6,681651]
[null,1043409,27,99999,"27-99999",27,378,"27-378",4239,"02",36,"05","Company-owned truck","Truck/Freight",2158,324,62,73,"N","N","N","N",1649.9,120442.70000000001]
[null,1043419,29,312,"29-312",27,378,"27-378",312,"02","08","04","For-hire truck","Truck/Freight",6557,1679,394,453,"N","N","N","N",23.5,10645.5]
[null,1043484,27,378,"27-378",27,378,"27-378",4246,"02",20,"05","Company-owned truck","Truck/Freight",3086,4751,76,87,"N","N","N","H",362.8,31563.600000000002]
[null,1043496,27,378,"27-378",27,378,"27-378",4931,"04",39,"04","For-hire truck","Truck/Freight",829,138,22,32,"N","N","N","N",3535.8,113145.60000000001]
[null,1043502,27,99999,"27-99999",27,99999,"27-99999",334,"01",35,"04","For-hire truck","Truck/Freight",3296,3,18,22,"N","N","N","N",219.8,4835.6000000000004]
[null,1043522,27,378,"27-378",27,378,"27-378",45431,"03",19,"05","Company-owned truck","Truck/Freight",100,378,9,9,"N","N","N","H",116.2,1045.8]
[null,1043577,27,99999,"27-99999",27,99999,"27-99999",4247,"04",19,"05","Company-owned truck","Truck/Freight",359,2266,9,9,"N","N","N","H",892.7,8034.3]
[null,1043579,27,99999,"27-99999",27,378,"27-378",4239,"04",41,"05","Company-owned truck","Truck/Freight",6311,41578,64,71,"N","N","N","N",267,18957]
[null,1043581,27,378,"27-378",27,378,"27-378",4238,"04",40,"04","For-hire truck","Truck/Freight",87,18,14,18,"N","N","N","N",395.6,7120.8]
[null,1043585,38,99999,"38-99999",27,99999,"27-99999",323,"03",29,14,"Parcel, USPS, or courier","Truck/Freight",186,3,69,114,"N","N","N","N",97.9,11160.6]
[null,1043639,27,378,"27-378",27,99999,"27-99999",4231,"02",36,"04","For-hire truck","Truck/Freight",254,43,269,314,"N","N","N","N",43.7,13721.800000000001]
[null,1043651,18,99999,"18-99999",27,378,"27-378",311,"04","06",14,"Parcel, USPS, or courier","Truck/Freight",12,1,418,512,"N","N","N","N",1477.4,756428.80000000005]
[null,1043685,27,378,"27-378",27,99999,"27-99999",4242,"01",20,14,"Parcel, USPS, or courier","Truck/Freight",83,3,60,84,"N","N","N","N",6502.6,546218.4]
[null,1043691,55,99999,"55-99999",27,378,"27-378",321,"04",26,"04","For-hire truck","Truck/Freight",6241,32640,262,296,"N","N","N","N",140.4,41558.400000000001]
[null,1043841,17,99999,"17-99999",27,378,"27-378",4244,"04",43,"04","For-hire truck","Truck/Freight",2420,1420,435,535,"Y","N","N","N",1999,1069465]
[null,1043913,21,99999,"21-99999",27,99999,"27-99999",326,"04",24,"04","For-hire truck","Truck/Freight",36088,7644,788,929,"N","N","N","N",190.1,176602.9]
[null,1043921,55,"00000","55-00000",27,99999,"27-99999",312,"03",45452,13,"Multiple mode","Other",18915,23644,452,743,"N","Y","C","N",104.4,77569.2]
[null,1043942,26,220,"26-220",27,378,"27-378",324,"04",19,"04","For-hire truck","Truck/Freight",1798,350,535,697,"N","N","N","N",136.5,95140.5]
[null,1043944,38,99999,"38-99999",27,378,"27-378",4239,"04",41,"04","For-hire truck","Truck/Freight",41698,41611,269,309,"N","N","N","N",54.2,16747.8]
[null,1044027,27,99999,"27-99999",27,99999,"27-99999",314,"03",30,14,"Parcel, USPS, or courier","Truck/Freight",82,43,124,139,"N","N","N","N",333.9,46412.1]
[null,1044037,36,99999,"36-99999",27,378,"27-378",4931,"02",43,14,"Parcel, USPS, or courier","Truck/Freight",17,5,983,1200,"N","N","N","N",4554.5,5465400]
[null,1044040,27,378,"27-378",27,99999,"27-99999",4246,"04",27,"04","For-hire truck","Truck/Freight",640,95,82,98,"N","N","N","N",608.4,59623.199999999997]
[null,1044098,27,99999,"27-99999",27,99999,"27-99999",4248,"03","08","05","Company-owned truck","Truck/Freight",2450,2178,13,13,"N","N","N","N",87.3,1134.8999999999999]
[null,1044103,27,378,"27-378",27,378,"27-378",323,"01",29,"04","For-hire truck","Truck/Freight",15422,11382,23,32,"N","N","N","N",328,10496]
[null,1044259,27,378,"27-378",27,378,"27-378",4244,"01","03","05","Company-owned truck","Truck/Freight",83,63,7,12,"Y","N","N","N",2568.1999999999998,30818.399999999998]
[null,1044295,18,258,"18-258",27,378,"27-378",4234,"03",38,14,"Parcel, USPS, or courier","Truck/Freight",19,1,502,589,"N","N","N","N",185.2,109082.79999999999]
[null,1044317,34,408,"34-408",27,99999,"27-99999",339,"03",24,"04","For-hire truck","Truck/Freight",1077,184,1032,1218,"N","N","N","N",189.1,230323.8]
[null,1044403,"08",216,"08-216",27,378,"27-378",325,"03",20,"04","For-hire truck","Truck/Freight",13273,2158,703,914,"N","N","N","H",41.6,38022.400000000001]
[null,1044434,32,332,"32-332",27,99999,"27-99999",335,"03",33,14,"Parcel, USPS, or courier","Truck/Freight",69,1,1315,1636,"N","N","N","N",325.5,532518]
[null,1044478,27,378,"27-378",27,378,"27-378",4931,"02",35,14,"Parcel, USPS, or courier","Truck/Freight",6,1,6,8,"N","N","N","N",29767.1,{"$f":"W23259*R23259","v":238136.8}]
[null,1044500,27,378,"27-378",27,378,"27-378",4231,"04",34,14,"Parcel, USPS, or courier","Truck/Freight",30,3,3,3,"N","N","N","N",4747.6000000000004,14242.800000000001]
[null,1044534,27,99999,"27-99999",27,99999,"27-99999",4247,"04",19,"05","Company-owned truck","Truck/Freight",1033,7122,20,35,"N","N","N","H",893.7,31279.5]
[null,1044587,27,378,"27-378",27,378,"27-378",551114,"02",34,"04","For-hire truck","Truck/Freight",389,62,3,6,"N","N","N","N",409.8,2458.8000000000002]
[null,1044610,27,378,"27-378",27,378,"27-378",212,"03",12,"04","For-hire truck","Truck/Freight",349,51715,24,34,"N","N","N","N",2479.3000000000002,84296.200000000012]
[null,1044686,27,378,"27-378",27,378,"27-378",4241,"04",28,"05","Company-owned truck","Truck/Freight",545,55,34,42,"N","N","N","N",369.6,15523.2]
[null,1044740,27,99999,"27-99999",27,99999,"27-99999",325,"03",23,"04","For-hire truck","Truck/Freight",7051,553,6,6,"N","N","N","N",52.8,316.79999999999995]
[null,1044854,27,378,"27-378",27,99999,"27-99999",4248,"04","08","05","Company-owned truck","Truck/Freight",65,175,62,79,"N","N","N","N",430.4,34001.599999999999]
[null,1044954,27,378,"27-378",27,378,"27-378",4931,"02",39,"05","Company-owned truck","Truck/Freight",1331,159,20,25,"N","N","N","N",30.5,762.5]
[null,1044983,27,378,"27-378",27,378,"27-378",339,"04",38,11,"Air (incl truck & air)","Air",12930,76,19,363,"N","Y","E","N",562.29999999999995,204114.9]
[null,1045047,"04",38060,"04-38060",27,378,"27-378",4931,"02",43,14,"Parcel, USPS, or courier","Truck/Freight",26,1,1277,1691,"N","N","N","N",1785.5,3019280.5]
[null,1045131,55,99999,"55-99999",27,378,"27-378",212,"04",12,"04","For-hire truck","Truck/Freight",403,45843,46,64,"N","N","N","N",1585.7,101484.8]
[null,1045362,19,99999,"19-99999",27,378,"27-378",325,"01","04","04","For-hire truck","Truck/Freight",2763,48146,225,281,"N","N","N","N",828.2,232724.2]
[null,1045369,40,99999,"40-99999",27,378,"27-378",333,"03",35,"04","For-hire truck","Truck/Freight",2183,285,617,716,"N","N","N","N",608,435328]
[null,1045394,27,378,"27-378",27,378,"27-378",4238,"02",34,"04","For-hire truck","Truck/Freight",69,2,26,33,"N","N","N","N",1180.7,38963.1]
[null,1045447,19,99999,"19-99999",27,99999,"27-99999",325,"01","04","05","Company-owned truck","Truck/Freight",731,4060,222,322,"N","N","N","N",160.80000000000001,51777.600000000006]
[null,1045468,18,294,"18-294",27,378,"27-378",4231,"03",36,"04","For-hire truck","Truck/Freight",115,949,479,569,"N","N","N","N",37994.6,21618927.399999999]
[null,1045485,27,378,"27-378",27,99999,"27-99999",4234,"02",21,"04","For-hire truck","Truck/Freight",13,1,94,106,"N","N","N","N",6084.3,644935.80000000005]
[null,1045502,27,378,"27-378",27,378,"27-378",4931,"02","04","04","For-hire truck","Truck/Freight",1469,42303,5,8,"N","N","N","N",84.7,677.6]
[null,1045522,55,99999,"55-99999",27,378,"27-378",315,"04",30,14,"Parcel, USPS, or courier","Truck/Freight",962,1,148,181,"N","N","N","N",39.299999999999997,7113.2999999999993]
[null,1045573,42,99999,"42-99999",27,378,"27-378",321,"01",26,"04","For-hire truck","Truck/Freight",24755,23220,742,888,"N","N","N","N",39.4,34987.199999999997]
[null,1045584,27,378,"27-378",27,378,"27-378",4247,"04",19,"05","Company-owned truck","Truck/Freight",507,1934,23,26,"N","N","N","H",1904.3,49511.799999999996]
[null,1045717,27,378,"27-378",27,378,"27-378",4231,"03",36,"05","Company-owned truck","Truck/Freight",60,9,14,16,"N","N","N","N",7846.2,125539.2]
[null,1045779,27,378,"27-378",27,378,"27-378",332,"01",38,"04","For-hire truck","Truck/Freight",2588,3,23,28,"N","N","N","N",126.3,3536.4]
[null,1045819,39,178,"39-178",27,378,"27-378",325,"01",23,"04","For-hire truck","Truck/Freight",15922,23944,611,716,"N","N","N","H",53.5,38306]
[null,1045852,27,99999,"27-99999",27,378,"27-378",4233,"02",10,"05","Company-owned truck","Truck/Freight",792,3776,84,105,"N","N","N","N",512.4,53802]
[null,1045874,19,99999,"19-99999",27,99999,"27-99999",321,"02",26,"04","For-hire truck","Truck/Freight",222,43,179,248,"N","N","N","N",2595.6999999999998,643733.6]
[null,1045916,55,99999,"55-99999",27,99999,"27-99999",332,"03",32,"04","For-hire truck","Truck/Freight",83,32,197,234,"N","N","N","N",2348.6999999999998,549595.79999999993]
[null,1045968,27,378,"27-378",27,99999,"27-99999",322,"04",28,"04","For-hire truck","Truck/Freight",1345,2474,114,142,"N","N","N","N",297.7,42273.4]
[null,1046044,"06",99999,"06-99999",27,378,"27-378",4246,"01",23,14,"Parcel, USPS, or courier","Truck/Freight",406,16,1492,2039,"N","N","N","N",1327.2,2706160.8000000003]
[null,1046110,19,99999,"19-99999",27,99999,"27-99999",4249,"03",40,14,"Parcel, USPS, or courier","Truck/Freight",396,98,161,209,"N","N","N","N",1715.1,358455.89999999997]
[null,1046137,27,99999,"27-99999",27,99999,"27-99999",212,"01",12,"04","For-hire truck","Truck/Freight",296,45420,12,12,"N","N","N","N",147.4,1768.8000000000002]
[null,1046139,27,99999,"27-99999",27,378,"27-378",321,"03",26,"04","For-hire truck","Truck/Freight",8756,53954,267,317,"N","N","N","N",532.5,168802.5]
[null,1046198,42,99999,"42-99999",27,378,"27-378",321,"04",26,"04","For-hire truck","Truck/Freight",19150,43183,730,889,"N","N","N","N",39.4,35026.6]
[null,1046202,39,198,"39-198",27,378,"27-378",332,"02",32,"04","For-hire truck","Truck/Freight",4069,9687,698,827,"N","N","N","N",16.100000000000001,13314.7]
[null,1046217,27,378,"27-378",27,99999,"27-99999",316,"04",30,14,"Parcel, USPS, or courier","Truck/Freight",3332,137,166,198,"N","N","N","N",19.3,3821.4]
[null,1046230,27,378,"27-378",27,378,"27-378",4244,"02",43,"05","Company-owned truck","Truck/Freight",99,64,11,13,"Y","N","N","N",2828.7,36773.1]
[null,1046368,27,99999,"27-99999",27,378,"27-378",4249,"04",20,"05","Company-owned truck","Truck/Freight",130,146,27,31,"N","N","N","H",2342.1999999999998,72608.2]
[null,1046431,18,99999,"18-99999",27,378,"27-378",4238,"01",35,14,"Parcel, USPS, or courier","Truck/Freight",78,6,431,529,"N","N","N","N",574.9,304122.09999999998]
[null,1046550,27,378,"27-378",27,378,"27-378",323,"01",30,"04","For-hire truck","Truck/Freight",540,32,4,5,"N","N","N","N",462.3,2311.5]
[null,1046563,27,99999,"27-99999",27,99999,"27-99999",45431,"04",19,"05","Company-owned truck","Truck/Freight",858,2861,16,16,"N","N","N","H",77,1232]
[null,1046667,27,378,"27-378",27,378,"27-378",332,"04",24,14,"Parcel, USPS, or courier","Truck/Freight",14,1,2,3,"N","N","N","N",1451.7,4355.1000000000004]
[null,1046752,18,99999,"18-99999",27,378,"27-378",336,"01",37,"04","For-hire truck","Truck/Freight",72397,10741,498,598,"N","N","N","N",31.1,18597.8]
[null,1046780,27,378,"27-378",27,378,"27-378",4238,"04",34,14,"Parcel, USPS, or courier","Truck/Freight",784,13,45,55,"N","N","N","N",545.79999999999995,30018.999999999996]
[null,1046826,27,378,"27-378",27,378,"27-378",324,"04",18,"04","For-hire truck","Truck/Freight",12610,52453,11,15,"N","N","N","P",5148.2,77223]
[null,1046844,27,378,"27-378",27,378,"27-378",4237,"02",43,"05","Company-owned truck","Truck/Freight",1674,2447,12,20,"N","N","N","N",667.8,13356]
[null,1046882,21,99999,"21-99999",27,378,"27-378",312,"02","08","04","For-hire truck","Truck/Freight",18616,24113,654,819,"N","N","N","N",59.9,49058.1]
[null,1046884,55,99999,"55-99999",27,378,"27-378",4231,"04",36,"04","For-hire truck","Truck/Freight",52,1,17,22,"N","N","N","N",43558.5,958287]
[null,1046910,27,378,"27-378",27,378,"27-378",311,"04","07","05","Company-owned truck","Truck/Freight",46,114,11,14,"Y","N","N","N",481.1,6735.4000000000005]
[null,1046919,27,378,"27-378",27,378,"27-378",4236,"03",38,14,"Parcel, USPS, or courier","Truck/Freight",102,1,53,59,"N","N","N","N",2067.1,121958.9]
[null,1046936,55,99999,"55-99999",27,99999,"27-99999",4231,"02",35,14,"Parcel, USPS, or courier","Truck/Freight",698,10,112,121,"N","N","N","N",2615,316415]
[null,1046939,27,378,"27-378",27,378,"27-378",4238,"03",36,14,"Parcel, USPS, or courier","Truck/Freight",522,23,20,29,"N","N","N","N",118.7,3442.3]
[null,1046948,27,378,"27-378",27,99999,"27-99999",311,"01","05","04","For-hire truck","Truck/Freight",22326,41003,87,101,"Y","N","N","N",68.900000000000006,6958.9000000000005]
[null,1046955,27,99999,"27-99999",27,99999,"27-99999",5111,"01",29,"04","For-hire truck","Truck/Freight",4328,1731,3,3,"N","N","N","N",25.2,75.599999999999994]
[null,1047011,27,378,"27-378",27,378,"27-378",321,"02",26,"05","Company-owned truck","Truck/Freight",330,1899,19,22,"N","N","N","N",169.5,3729]
[null,1047012,27,378,"27-378",27,99999,"27-99999",311,"01","07","04","For-hire truck","Truck/Freight",258,586,54,61,"Y","N","N","N",675,41175]
[null,1047068,27,99999,"27-99999",27,99999,"27-99999",331,"04",35,14,"Parcel, USPS, or courier","Truck/Freight",291,9,40,52,"N","N","N","N",135.69999999999999,7056.4]
[null,1047184,53,99999,"53-99999",27,378,"27-378",4234,"02",21,14,"Parcel, USPS, or courier","Truck/Freight",681,6,1163,1387,"N","N","N","N",12458.1,17279384.699999999]
[null,1047198,55,99999,"55-99999",27,99999,"27-99999",311,"03","07","04","For-hire truck","Truck/Freight",58551,34042,123,167,"Y","N","N","N",19.3,3223.1]
[null,1047213,29,312,"29-312",27,99999,"27-99999",325,"01",43,14,"Parcel, USPS, or courier","Truck/Freight",97,51,424,540,"N","N","N","N",86.3,46602]
[null,1047231,47,99999,"47-99999",27,99999,"27-99999",335,"01",35,"04","For-hire truck","Truck/Freight",3842,175,817,977,"N","N","N","N",133.9,130820.3]
[null,1047256,19,99999,"19-99999",27,378,"27-378",333,"01",34,"04","For-hire truck","Truck/Freight",10023,27453,234,269,"N","N","N","N",35.700000000000003,9603.3000000000011]
[null,1047269,55,99999,"55-99999",27,378,"27-378",339,"01",40,"05","Company-owned truck","Truck/Freight",409,55,255,302,"N","N","N","N",279.39999999999998,84378.799999999988]
[null,1047359,27,99999,"27-99999",27,378,"27-378",4239,"01",41,"05","Company-owned truck","Truck/Freight",1718,20205,61,74,"N","N","N","N",266.89999999999998,19750.599999999999]
[null,1047389,55,99999,"55-99999",27,378,"27-378",311,"03","06","04","For-hire truck","Truck/Freight",33475,33473,149,179,"Y","N","N","N",113.6,{"$f":"W23323*R23323","v":20334.399999999998}]
[null,1047411,27,378,"27-378",27,99999,"27-99999",4244,"03","03","05","Company-owned truck","Truck/Freight",564,378,97,112,"Y","N","N","N",2554.3000000000002,286081.60000000003]
[null,1047440,39,178,"39-178",27,99999,"27-99999",4541,"03",43,14,"Parcel, USPS, or courier","Truck/Freight",64,8,566,714,"N","N","N","N",5029.3999999999996,3590991.5999999996]
[null,1047457,27,99999,"27-99999",27,99999,"27-99999",324,"02",19,"05","Company-owned truck","Truck/Freight",763,33191,14,14,"N","N","N","N",81.2,1136.8]
[null,1047541,27,378,"27-378",27,378,"27-378",551114,"03",34,"05","Company-owned truck","Truck/Freight",3411,184,10,15,"N","N","N","N",564.70000000000005,8470.5]
[null,1047556,27,99999,"27-99999",27,378,"27-378",323,"04",29,14,"Parcel, USPS, or courier","Truck/Freight",3,1,62,75,"N","N","N","N",298,22350]
[null,1047603,27,378,"27-378",27,99999,"27-99999",4249,"04",23,"05","Company-owned truck","Truck/Freight",5712,50781,78,111,"N","N","N","N",21.1,2342.1000000000004]
[null,1047608,27,99999,"27-99999",27,378,"27-378",4247,"01",19,"05","Company-owned truck","Truck/Freight",1532,4921,54,67,"N","N","N","H",1085.5,72728.5]
[null,1047737,25,148,"25-148",27,378,"27-378",4238,"02",34,14,"Parcel, USPS, or courier","Truck/Freight",152,13,1117,1404,"N","N","N","N",679,953316]
[null,1047788,27,378,"27-378",27,378,"27-378",4238,"02",35,"05","Company-owned truck","Truck/Freight",7828,1842,22,31,"Y","N","N","N",23,713]
[null,1047790,38,99999,"38-99999",27,99999,"27-99999",332,"04",40,14,"Parcel, USPS, or courier","Truck/Freight",237,5,131,168,"N","N","N","N",126.2,21201.600000000002]
[null,1047796,48,206,"48-206",27,378,"27-378",336,"01",36,"04","For-hire truck","Truck/Freight",570,107,853,950,"N","N","N","N",181.7,172615]
[null,1047855,27,99999,"27-99999",27,378,"27-378",335,"04",35,14,"Parcel, USPS, or courier","Truck/Freight",26545,60,133,184,"N","N","N","N",56.3,10359.199999999999]
[null,1047869,17,176,"17-176",27,378,"27-378",4236,"03",24,14,"Parcel, USPS, or courier","Truck/Freight",154,114,329,384,"N","N","N","N",2718.2,1043788.7999999999]
[null,1047874,27,378,"27-378",27,378,"27-378",551114,"03",35,14,"Parcel, USPS, or courier","Truck/Freight",345,3,7,12,"N","N","N","N",2181.6999999999998,26180.399999999998]
[null,1047903,27,378,"27-378",27,378,"27-378",4246,"01",19,"05","Company-owned truck","Truck/Freight",1034,718,15,23,"N","N","N","N",213.2,4903.5999999999995]
[null,1048015,46,99999,"46-99999",27,99999,"27-99999",4231,"04",24,"05","Company-owned truck","Truck/Freight",2054,961,60,76,"N","N","N","N",744.7,56597.200000000004]
[null,1048031,27,378,"27-378",27,99999,"27-99999",4235,"01",32,"05","Company-owned truck","Truck/Freight",1178,1439,79,90,"N","N","N","N",236.1,21249]
[null,1048091,27,99999,"27-99999",27,378,"27-378",325,"03",17,"04","For-hire truck","Truck/Freight",13036,58002,80,88,"N","N","N","P",131.5,11572]
[null,1048117,27,378,"27-378",27,99999,"27-99999",4238,"02",34,14,"Parcel, USPS, or courier","Truck/Freight",97,1,82,93,"N","N","N","N",907.1,84360.3]
[null,1048135,27,378,"27-378",27,378,"27-378",4231,"01",36,"05","Company-owned truck","Truck/Freight",31,3,15,19,"N","N","N","N",11836.6,224895.4]
[null,1048138,19,99999,"19-99999",27,378,"27-378",4931,"03",43,"05","Company-owned truck","Truck/Freight",45697,39677,201,258,"N","N","N","N",224.8,57998.400000000001]
[null,1048139,39,184,"39-184",27,378,"27-378",4931,"01",40,14,"Parcel, USPS, or courier","Truck/Freight",2,1,616,736,"N","N","N","N",955.1,702953.6]
[null,1048144,27,378,"27-378",27,378,"27-378",333,"03",33,14,"Parcel, USPS, or courier","Truck/Freight",384,13,13,18,"N","N","N","N",989.4,17809.2]
[null,1048332,17,99999,"17-99999",27,99999,"27-99999",332,"02",33,"04","For-hire truck","Truck/Freight",28369,39511,568,672,"N","N","N","N",173.4,116524.8]
[null,1048345,27,378,"27-378",27,99999,"27-99999",311,"04","05","04","For-hire truck","Truck/Freight",23099,20811,40,53,"Y","N","N","N",51.8,2745.3999999999996]
[null,1048494,27,99999,"27-99999",27,99999,"27-99999",312,"03","07","05","Company-owned truck","Truck/Freight",9244,12814,23,27,"N","N","N","N",52.5,1417.5]
[null,1048554,27,378,"27-378",27,378,"27-378",4245,"04","02","05","Company-owned truck","Truck/Freight",2520,50947,7,7,"N","N","N","N",196.3,1374.1000000000001]

{"sheet":"Commuting","index":18,"n_rows":66,"n_cols":7,"rows_kept":66,"cut":false,"hidden":false,"merged":[[49,1,50,1],[49,5,50,5],[49,6,50,6],[57,2,57,4],[57,1,58,1]]}
[null,"Employee Commuting"]
[]
[null,"This tab documents the source data and calculations used to develop the assumptions used to calculate GHG emissions from employee commuting. Refer to the final report for the detailed methodology."]
[]
[null,"Commuting Assumptions"]
[]
[null,"Mode Breakdown Assumptions"]
[null,"Mode","Percent of Employees","Percent of Employees"]
[null,"Single Occupancy Vehicle",0.69431981194901893,{"$f":"ROUND(C9/SUM($C$9:$C$14),3)","v":0.81699999999999995}]
[null,"Carpool",8.9941553427554805E-2,{"$f":"ROUND(C10/SUM($C$9:$C$14),3)","v":0.106}]
[null,"Motorcycle",1.3242554276049741E-3,2E-3]
[null,"Bus",1.6231799029363652E-2,1.9E-2]
[null,"Transit Rail",1.8621282678713765E-2,2.1999999999999999E-2]
[null,"Bike/Walk",{"$f":"C15+C16","v":2.9106568532857903E-2},3.4000000000000002E-2]
[null,"Bike",4.6896206121014496E-3]
[null,"Walk",2.4416947920756452E-2]
[null,"Work at home",0.13843417361471619]
[null,"Other",1.202055534016977E-2]
[null,"Source: U.S. EPA, Local Greenhouse Gas Inventory Tool (LGGIT) 2025, https://www.epa.gov/statelocalenergy/local-greenhouse-gas-inventory-tool"]
[]
[null,"Commuting Distance"]
[null,"Average One-Way Commute Length (miles)",13.2]
[null,"Average Daily Commute Distance (miles)",{"$f":"C22*2","v":26.4}]
[null,"Source: U.S. EPA, Local Greenhouse Gas Inventory Tool (LGGIT) 2025, https://www.epa.gov/statelocalenergy/local-greenhouse-gas-inventory-tool"]
[]
[null,"Carpool Assumption"]
[null,"Mode","People/car"]
[null,"Carpool",2.4700000000000002]
[null,"Source: U.S. EPA, Local Greenhouse Gas Inventory Tool (LGGIT) 2025, https://www.epa.gov/statelocalenergy/local-greenhouse-gas-inventory-tool"]
[]
[null,"Emission Factors"]
[]
[null,"Energy Consumption for Upstream Emission Factor Calculations"]
[null,"Commuting Mode","Assumed Fuel","Fuel use (gal/mile) ","Consumption (Btu/passenger-mile)","Notes"]
[null,"Single Occupancy Vehicle","Gasoline",null,4003.8220491165971,"From GREET vehicles tab “baseline gasoline vehicle” total fuel use Btu/Mile"]
[null,"Carpool","Gasoline",null,{"$f":"E35/C28","v":1620.9805866868812},"Calculated using people/car value"]
[null,"Motorcycle","Gasoline",{"$f":"1/44","v":2.2727272727272728E-2},{"$f":"D37*(Fuels!C189*10^6)","v":2840.909090909091},"Calculated using motorcycle gal/mi and heat content for gasoline from EPA EF Hub (no motorcycle fuel use in btu/mile in GREET)"]
[null,"Bus","Diesel",null,471.33523273370776,"From total energy use in diesel transit bus operation HDV_WTW tab"]
[null,"Transit Rail","Electricity",null,789,"Total PTW energy use for \"Heavy transit rails:electricity\" from GREET Rail_WTW tab"]
[null,"Source (Motorcycles): U.S. EPA, Local Greenhouse Gas Inventory Tool (LGGIT) 2025, https://www.epa.gov/statelocalenergy/local-greenhouse-gas-inventory-tool"]
[null,"Source (SOV, Bus, and Transit Rail): GREET1 2024"]
[]
[null,"Upstream Emission Factors"]
[null,"Fuel Type","Emission Factor (kgCO2e/MMBtu)"]
[null,"Gasoline",{"$f":"_xlfn.XLOOKUP(B45,Fuels!$B$8:$B$29,Fuels!$C$8:$C$29)","v":22.863240499070681}]
[null,"Diesel",{"$f":"_xlfn.XLOOKUP(B46,Fuels!$B$8:$B$29,Fuels!$C$8:$C$29)","v":16.109621805630571}]
[null,"Source: GREET1 2024"]
[]
[null,"Combustion Emission Factors"]
[null,"Vehicle Type","CO2 Factor","CH4 Factor","N2O Factor","Units","Combustion Emission Factor (kgCO2e/unit)"]
[null,null,"kgCO2/unit","gCH4/unit","gN2O/unit"]
[null,"Passenger Car ",0.29699999999999999,5.8999999999999999E-3,5.3E-3,"vehicle-mile",{"$f":"(C52)+(D52*Constants!$F$9*Constants!$I$7)+(E52*Constants!$F$9*Constants!$I$8)","v":0.29700156970000002}]
[null,"Motorcycle",0.36799999999999999,8.8800000000000004E-2,1.8800000000000001E-2,"vehicle-mile",{"$f":"(C53)+(D53*Constants!$F$9*Constants!$I$7)+(E53*Constants!$F$9*Constants!$I$8)","v":0.36800746839999998}]
[null,"Bus",6.6000000000000003E-2,4.5999999999999999E-3,1.9E-3,"passenger-mile",{"$f":"(C54)+(D54*Constants!$F$9*Constants!$I$7)+(E54*Constants!$F$9*Constants!$I$8)","v":6.6000632300000001E-2}]
[null,"Source: EPA Emission Factor Hub, https://www.epa.gov/system/files/documents/2025-01/ghg-emission-factors-hub-2025.pdf"]
[]
[null,"Emission Factors"]
[null,"Commuting Mode","Emission Factor (kgCO2e/passenger-mile)"]
[null,null,"Upstream","Combustion","Total"]
[null,"Single Occupancy Vehicle",{"$f":"C45*(E35*Constants!$F$23)","v":9.1540346424434732E-2},{"$f":"G52","v":0.29700156970000002},{"$f":"C60+D60","v":0.38854191612443478}]
[null,"Carpool",{"$f":"C45*(E36*Constants!$F$23)","v":3.7060868997746854E-2},{"$f":"G52/C28","v":0.12024355048582996},{"$f":"C61+D61","v":0.15730441948357682}]
[null,"Motorcycle",{"$f":"C45*(E37*Constants!$F$23)","v":6.4952387781450793E-2},{"$f":"G53","v":0.36800746839999998},0.43295985618145078]
[null,"Bus",{"$f":"C46*(E38*Constants!$F$23)","v":7.5930323430088978E-3},{"$f":"G54","v":6.6000632300000001E-2},7.3593664643008899E-2]
[null,"Transit Rail*","NA","NA",{"$f":"_xlfn.XLOOKUP(IF('Project Background'!D13=\"\",YEAR(TODAY()),YEAR('Project Background'!D13)),'Annual Assumptions'!$C$17:$BZ$17,'Annual Assumptions'!$C$18:$BZ$18)*(E39*Constants!$F$23)","v":8.0336878478692392E-2}]
[null,"Bike/Walk",0,0,0]
[null,"*Value varies based on the construction start date entered in the Project Background tab. Other assumptions are held constant."]

{"sheet":"Equipment","index":19,"n_rows":920,"n_cols":10,"rows_kept":920,"cut":false,"hidden":false,"merged":[[68,9,69,9],[58,1,59,1],[274,1,275,1],[274,2,274,7],[255,2,255,7],[255,1,256,1],[68,3,68,8],[68,1,68,2],[236,1,237,1],[236,2,236,7],[58,2,58,5],[40,1,43,1],[49,1,50,1],[49,2,49,5],[26,3,26,6],[26,1,27,1],[26,2,27,2],[28,1,31,1],[32,1,35,1],[36,1,39,1]]}
[null,"Construction Equipment"]
[]
[null,"This tab documents the source data and calculations used to develop the assumptions used to calculate GHG emissions from construction equipment. Refer to the final report for the detailed methodology."]
[]
[null,"Emission Factors"]
[]
[null,"Construction Equipment to GREET Off-Road Vehicle Type Mapping"]
[null,"Equipment Type","GREET Equipment Type","GREET Tab "]
[null,"Air Compressors","Stationary Reciprocating Engine","EF"]
[null,"Cement and Mortar Mixers","Stationary Reciprocating Engine","EF"]
[null,"Concrete/Industrial Saws","Stationary Reciprocating Engine","EF"]
[null,"Cranes","Heavy Duty Vocational Vehicle","HDV_WTW"]
[null,"Excavators","Heavy Duty Vocational Vehicle","HDV_WTW"]
[null,"Forklifts","Light Duty Vocational Vehicle","HDV_WTW"]
[null,"Generator Sets","Stationary Reciprocating Engine","EF"]
[null,"Graders","Medium Duty Vocational Vehicle","HDV_WTW"]
[null,"Pavers","Medium Duty Vocational Vehicle","HDV_WTW"]
[null,"Paving Equipment","Stationary Reciprocating Engine","EF"]
[null,"Rollers","Heavy Duty Vocational Vehicle","HDV_WTW"]
[null,"Rubber Tired Dozers","Heavy Duty Vocational Vehicle","HDV_WTW"]
[null,"Scrapers","Heavy Duty Vocational Vehicle","HDV_WTW"]
[null,"Tractors/Loaders/Backhoes","Heavy Duty Vocational Vehicle","EF"]
[null,"Welders","Stationary Reciprocating Engine","EF"]
[null,"Source: GREET1 2024"]
[]
[null,"Model Year 2025 Construction Equipment Combustion Emission Factors"]
[null,"Equipment Type","Gas","Emission Factor (g GHG/MMBtu of diesel burned)"]
[null,null,null,"Diesel","Biodiesel 100","Biodiesel 20","Renewable Diesel"]
[null,"Stationary Reciprocating Engine","CH4",4.2210000000000001,{"$f":"Fuels!D121","v":1.1000000000000001},{"$f":"Fuels!$D$122","v":17.670370887547925},{"$f":"Fuels!$D$123","v":17.670370887547925}]
[null,null,"N2O",0.6,{"$f":"Fuels!E121","v":0.11},{"$f":"Fuels!$E$122","v":0.19488275455674331},{"$f":"Fuels!$E$123","v":0.19488275455674331}]
[null,null,"CO2",77354.254432944086,{"$f":"Fuels!C121","v":73840},{"$f":"Fuels!$C$122","v":79072.278956040333},{"$f":"Fuels!$C$123","v":76565.933104790383}]
[null,null,"CO2e",{"$f":"(D29*Constants!$I$7)+(D30*Constants!$I$8)+D31","v":77631.442432944081},{"$f":"(E29*Constants!$I$7)+(E30*Constants!$I$8)+E31","v":73899.95},{"$f":"(F29*Constants!$I$7)+(F30*Constants!$I$8)+F31","v":79618.69327084921},{"$f":"(G29*Constants!$I$7)+(G30*Constants!$I$8)+G31","v":77112.34741959926}]
[null,"Light Duty Vocational Vehicle","CH4",2.584731080980498,2.584731080980498,2.584731080980498,2.584731080980498]
[null,null,"N2O",8.1517989881071422,8.1517989881071422,8.1517989881071422,8.1517989881071422]
[null,null,"CO2",79065.141046092976,79324.295526897069,79113.764465508371,76607.418614258422]
[null,null,"CO2e",{"$f":"(D33*Constants!$I$7)+(D34*Constants!$I$8)+D35","v":81297.740248208822},{"$f":"(E33*Constants!$I$7)+(E34*Constants!$I$8)+E35","v":81556.894729012914},{"$f":"(F33*Constants!$I$7)+(F34*Constants!$I$8)+F35","v":81346.363667624217},{"$f":"(G33*Constants!$I$7)+(G34*Constants!$I$8)+G35","v":78840.017816374268}]
[null,"Medium Duty Vocational Vehicle","CH4",2.4226159127132054,2.4226159127132054,2.4226159127132054,2.4226159127132054]
[null,null,"N2O",10.852064686130543,10.852064686130543,10.852064686130543,10.852064686130543]
[null,null,"CO2",79065.586862805692,79324.741343609814,79114.210282221116,76607.864430971182]
[null,null,"CO2e",{"$f":"(D37*Constants!$I$7)+(D38*Constants!$I$8)+D39","v":82009.217250186251},{"$f":"(E37*Constants!$I$7)+(E38*Constants!$I$8)+E39","v":82268.371730990373},{"$f":"(F37*Constants!$I$7)+(F38*Constants!$I$8)+F39","v":82057.840669601675},{"$f":"(G37*Constants!$I$7)+(G38*Constants!$I$8)+G39","v":79551.494818351741}]
[null,"Heavy Duty Vocational Vehicle","CH4",1.5933305893945391,1.5933305893945391,2.584731080980498,1.5933305893945391]
[null,null,"N2O",7.0241348607386271,7.0241348607386271,8.1517989881071422,7.0241348607386271]
[null,null,"CO2",79067.867397444832,79327.021878248939,79113.764465508371,76610.144965610263]
[null,null,"CO2e",{"$f":"(D41*Constants!$I$7)+(D42*Constants!$I$8)+D43","v":80973.876392043618},{"$f":"(E41*Constants!$I$7)+(E42*Constants!$I$8)+E43","v":81233.030872847725},{"$f":"(F41*Constants!$I$7)+(F42*Constants!$I$8)+F43","v":81346.363667624217},{"$f":"(G41*Constants!$I$7)+(G42*Constants!$I$8)+G43","v":78516.153960209049}]
[null,"Source: GREET1 2024 and 2025 EPA EF Hub (for Biodiesel 100 Stationary Reciprocating Engine only)"]
[null,"Note: Stationary Reciprocating Engine - EF tab for diesel. No stationary combustion EF for biofuels in GREET; biodiesel 100 value from EPA EF Hub. Using CIDI vehicle (LDV) proxy for BD20 from results tab in GREET. Using CIDI vehicle (LDV) proxy for RDII-soy oil from results tab in GREET."]
[null,"Note: Light, medium, and heavy duty vocational vehicles from HDV_WTW tab in GREET"]
[]
[null,"Combustion Emission Factors"]
[null,"Equipment Type ","Combustion Emission Factor (kgCO2e/MMBtu)"]
[null,null,"Diesel","Biodiesel 100","Biodiesel 20","Renewable Diesel"]
[null,"Stationary Reciprocating Engine",{"$f":"D32/1000","v":77.631442432944084},{"$f":"(E32/1000)-($E$31/1000)","v":5.9950000000000614E-2},{"$f":"(F32/1000)+Fuels!$D$113","v":65.520975569552675},{"$f":"(G32/1000)+Fuels!$D$115","v":0.49782079486813302}]
[null,"Light Duty Vocational Vehicle",{"$f":"D36/1000","v":81.297740248208825},{"$f":"(E36/1000)+Fuels!D112","v":6.4184788107733368},{"$f":"(F36/1000)+Fuels!$D$113","v":67.248645966327686},{"$f":"(G36/1000)+Fuels!$D$115","v":2.2254911916431439}]
[null,"Medium Duty Vocational Vehicle",{"$f":"D40/1000","v":82.009217250186254},{"$f":"(E40/1000)+Fuels!D112","v":7.1299558127507936},{"$f":"(F40/1000)+Fuels!$D$113","v":67.960122968305143},{"$f":"(G40/1000)+Fuels!$D$115","v":2.9369681936206149}]
[null,"Heavy Duty Vocational Vehicle",{"$f":"D44/1000","v":80.973876392043621},{"$f":"(E44/1000)+Fuels!D112","v":6.0946149546081472},{"$f":"(F44/1000)+Fuels!$D$113","v":67.248645966327686},{"$f":"(G44/1000)+Fuels!$D$115","v":1.9016273354779258}]
[null,"Note: Biofuel combustion emission factors exclude CO2 emissions, which are considered biogenic"]
[]
[null,"Life Cycle Emission Factors (upstream + combustion)"]
[null,"Equipment Type ","Emission Factor (kgCO2e/MMBtu)"]
[null,null,"Diesel","Biodiesel 100","Biodiesel 20","Renewable Diesel"]
[null,"Stationary Reciprocating Engine",{"$f":"C52+_xlfn.XLOOKUP(C$60,Fuels!$B$8:$B$29,Fuels!$C$8:$C$29)","v":93.741064238574651},{"$f":"D52+_xlfn.XLOOKUP(D$60,Fuels!$B$8:$B$29,Fuels!$C$8:$C$29)","v":26.926332436339933},{"$f":"E52+_xlfn.XLOOKUP(E$60,Fuels!$B$8:$B$29,Fuels!$C$8:$C$29)","v":83.329107386486314},{"$f":"F52+_xlfn.XLOOKUP(F$60,Fuels!$B$8:$B$29,Fuels!$C$8:$C$29)","v":37.87421551905009}]
[null,"Light Duty Vocational Vehicle",{"$f":"C53+_xlfn.XLOOKUP(C$60,Fuels!$B$8:$B$29,Fuels!$C$8:$C$29)","v":97.407362053839393},{"$f":"D53+_xlfn.XLOOKUP(D$60,Fuels!$B$8:$B$29,Fuels!$C$8:$C$29)","v":33.28486124711327},{"$f":"E53+_xlfn.XLOOKUP(E$60,Fuels!$B$8:$B$29,Fuels!$C$8:$C$29)","v":85.056777783261325},{"$f":"F53+_xlfn.XLOOKUP(F$60,Fuels!$B$8:$B$29,Fuels!$C$8:$C$29)","v":39.6018859158251}]
[null,"Medium Duty Vocational Vehicle",{"$f":"C54+_xlfn.XLOOKUP(C$60,Fuels!$B$8:$B$29,Fuels!$C$8:$C$29)","v":98.118839055816821},{"$f":"D54+_xlfn.XLOOKUP(D$60,Fuels!$B$8:$B$29,Fuels!$C$8:$C$29)","v":33.996338249090726},{"$f":"E54+_xlfn.XLOOKUP(E$60,Fuels!$B$8:$B$29,Fuels!$C$8:$C$29)","v":85.768254785238781},{"$f":"F54+_xlfn.XLOOKUP(F$60,Fuels!$B$8:$B$29,Fuels!$C$8:$C$29)","v":40.313362917802571}]
[null,"Heavy Duty Vocational Vehicle",{"$f":"C55+_xlfn.XLOOKUP(C$60,Fuels!$B$8:$B$29,Fuels!$C$8:$C$29)","v":97.083498197674189},{"$f":"D55+_xlfn.XLOOKUP(D$60,Fuels!$B$8:$B$29,Fuels!$C$8:$C$29)","v":32.96099739094808},{"$f":"E55+_xlfn.XLOOKUP(E$60,Fuels!$B$8:$B$29,Fuels!$C$8:$C$29)","v":85.056777783261325},{"$f":"F55+_xlfn.XLOOKUP(F$60,Fuels!$B$8:$B$29,Fuels!$C$8:$C$29)","v":39.278022059659882}]
[]
[null,"Construction Days"]
[]
[null,"Project Duration Assumptions"]
[null,"Total Project Acreage",null,"Days/Acre",null,null,null,null,null,"Project Acres Lookup"]
[null,"Low","High","Demolition","Site Preparation","Grading","Building Construction","Architectural Coating","Paving"]
[null,0.01,{"$f":"B72-0.01","v":1.99},{"$f":"SUMIFS($E$87:$E$230,$C$87:$C$230,$J71,$B$87:$B$230,D$70)","v":10},1,2,100,5,5,1]
[null,2,{"$f":"B73-0.01","v":2.99},10,1,2,100,5,5,2]
[null,3,{"$f":"B74-0.01","v":4.99},6.666666666666667,1,2,73.333333333333329,3.3333333333333335,3.3333333333333335,3]
[null,5,9.99,4,1,1.6,46,3.6,3.6,5]
[null,10,14.99,2,1,2,23,2,2,10]
[null,15,19.989999999999998,1.3333333333333333,0.66666666666666663,2,20,1.3333333333333333,1.3333333333333333,15]
[null,20,24.99,1,0.5,1.5,15,1,1,20]
[null,25,29.99,0.8,0.4,1.4,14.8,0.8,0.8,25]
[null,30,33.99,1,0.66666666666666663,1.5,14.666666666666666,1.1666666666666667,1.1666666666666667,30]
[null,34,49.99,0.88235294117647056,0.58823529411764708,1.3235294117647058,14.705882352941176,1.0294117647058822,1.0294117647058822,34]
[null,50,74.989999999999995,1,0.6,1.5,14.8,1.1000000000000001,1.1000000000000001,50]
[null,75,99.99,0.93333333333333335,0.53333333333333333,1.4666666666666666,14.8,1,1,75]
[null,100,10000,1,0.6,1.55,15.5,1.1000000000000001,1.1000000000000001,100]
[]
[null,"Table G-7. Construction Phase Durations by Project Size (Land Use Development) "]
[null,"Phase","Project Acres","Days per Phase","Days/Acre"]
[null,"Architectural Coating",0,0,{"$f":"IFERROR(D87/C87,0)","v":0}]
[null,"Architectural Coating",1,5,{"$f":"IFERROR(D88/C88,0)","v":5}]
[null,"Architectural Coating",2,10,5]
[null,"Architectural Coating",3,10,3.3333333333333335]
[null,"Architectural Coating",5,18,{"$f":"IFERROR(D91/C91,0)","v":3.6}]
[null,"Architectural Coating",10,20,2]
[null,"Architectural Coating",15,20,1.3333333333333333]
[null,"Architectural Coating",20,20,1]
[null,"Architectural Coating",25,20,0.8]
[null,"Architectural Coating",30,35,1.1666666666666667]
[null,"Architectural Coating",34,35,1.0294117647058822]
[null,"Architectural Coating",50,55,1.1000000000000001]
[null,"Architectural Coating",75,75,1]
[null,"Architectural Coating",100,110,1.1000000000000001]
[null,"Architectural Coating",200,220,1.1000000000000001]
[null,"Architectural Coating",300,330,1.1000000000000001]
[null,"Architectural Coating",400,440,1.1000000000000001]
[null,"Architectural Coating",500,550,1.1000000000000001]
[null,"Architectural Coating",600,660,1.1000000000000001]
[null,"Architectural Coating",700,770,1.1000000000000001]
[null,"Architectural Coating",800,880,1.1000000000000001]
[null,"Architectural Coating",900,990,1.1000000000000001]
[null,"Architectural Coating",1000,1100,1.1000000000000001]
[null,"Architectural Coating",10000,11000,1.1000000000000001]
[null,"Building Construction",0,0,0]
[null,"Building Construction",1,100,100]
[null,"Building Construction",2,200,100]
[null,"Building Construction",3,220,73.333333333333329]
[null,"Building Construction",5,230,46]
[null,"Building Construction",10,230,23]
[null,"Building Construction",15,300,20]
[null,"Building Construction",20,300,15]
[null,"Building Construction",25,370,14.8]
[null,"Building Construction",30,440,14.666666666666666]
[null,"Building Construction",34,500,14.705882352941176]
[null,"Building Construction",50,740,14.8]
[null,"Building Construction",75,1110,14.8]
[null,"Building Construction",100,1550,15.5]
[null,"Building Construction",200,3100,15.5]
[null,"Building Construction",300,4650,15.5]
[null,"Building Construction",400,6200,15.5]
[null,"Building Construction",500,7750,15.5]
[null,"Building Construction",600,9300,15.5]
[null,"Building Construction",700,10850,15.5]
[null,"Building Construction",800,12400,15.5]
[null,"Building Construction",900,13950,15.5]
[null,"Building Construction",1000,15500,15.5]
[null,"Building Construction",10000,155000,15.5]
[null,"Demolition",0,0,0]
[null,"Demolition",1,10,10]
[null,"Demolition",2,20,10]
[null,"Demolition",3,20,6.666666666666667]
[null,"Demolition",5,20,4]
[null,"Demolition",10,20,2]
[null,"Demolition",15,20,1.3333333333333333]
[null,"Demolition",20,20,1]
[null,"Demolition",25,20,0.8]
[null,"Demolition",30,30,1]
[null,"Demolition",34,30,0.88235294117647056]
[null,"Demolition",50,50,1]
[null,"Demolition",75,70,0.93333333333333335]
[null,"Demolition",100,100,1]
[null,"Demolition",200,200,1]
[null,"Demolition",300,300,1]
[null,"Demolition",400,400,1]
[null,"Demolition",500,500,{"$f":"IFERROR(D152/C152,0)","v":1}]
[null,"Demolition",600,600,1]
[null,"Demolition",700,700,1]
[null,"Demolition",800,800,1]
[null,"Demolition",900,900,1]
[null,"Demolition",1000,1000,1]
[null,"Demolition",10000,10000,1]
[null,"Grading",0,0,0]
[null,"Grading",1,2,2]
[null,"Grading",2,4,2]
[null,"Grading",3,6,2]
[null,"Grading",5,8,1.6]
[null,"Grading",10,20,2]
[null,"Grading",15,30,2]
[null,"Grading",20,30,1.5]
[null,"Grading",25,35,1.4]
[null,"Grading",30,45,1.5]
[null,"Grading",34,45,1.3235294117647058]
[null,"Grading",50,75,1.5]
[null,"Grading",75,110,1.4666666666666666]
[null,"Grading",100,155,1.55]
[null,"Grading",200,310,1.55]
[null,"Grading",300,465,1.55]
[null,"Grading",400,620,1.55]
[null,"Grading",500,775,1.55]
[null,"Grading",600,930,1.55]
[null,"Grading",700,1085,1.55]
[null,"Grading",800,1240,1.55]
[null,"Grading",900,1395,1.55]
[null,"Grading",1000,1550,1.55]
[null,"Grading",10000,15500,1.55]
[null,"Paving",0,0,0]
[null,"Paving",1,5,5]
[null,"Paving",2,10,5]
[null,"Paving",3,10,3.3333333333333335]
[null,"Paving",5,18,3.6]
[null,"Paving",10,20,2]
[null,"Paving",15,20,1.3333333333333333]
[null,"Paving",20,20,1]
[null,"Paving",25,20,0.8]
[null,"Paving",30,35,1.1666666666666667]
[null,"Paving",34,35,1.0294117647058822]
[null,"Paving",50,55,1.1000000000000001]
[null,"Paving",75,75,1]
[null,"Paving",100,110,1.1000000000000001]
[null,"Paving",200,220,1.1000000000000001]
[null,"Paving",300,330,1.1000000000000001]
[null,"Paving",400,440,1.1000000000000001]
[null,"Paving",500,550,1.1000000000000001]
[null,"Paving",600,660,1.1000000000000001]
[null,"Paving",700,770,1.1000000000000001]
[null,"Paving",800,880,1.1000000000000001]
[null,"Paving",900,990,1.1000000000000001]
[null,"Paving",1000,1100,1.1000000000000001]
[null,"Paving",10000,11000,1.1000000000000001]
[null,"Site Preparation",0,0,0]
[null,"Site Preparation",1,1,1]
[null,"Site Preparation",2,2,1]
[null,"Site Preparation",3,3,1]
[null,"Site Preparation",5,5,1]
[null,"Site Preparation",10,10,1]
[null,"Site Preparation",15,10,0.66666666666666663]
[null,"Site Preparation",20,10,0.5]
[null,"Site Preparation",25,10,0.4]
[null,"Site Preparation",30,20,{"$f":"IFERROR(D216/C216,0)","v":0.66666666666666663}]
[null,"Site Preparation",34,20,0.58823529411764708]
[null,"Site Preparation",50,30,0.6]
[null,"Site Preparation",75,40,0.53333333333333333]
[null,"Site Preparation",100,60,0.6]
[null,"Site Preparation",200,120,0.6]
[null,"Site Preparation",300,180,0.6]
[null,"Site Preparation",400,240,0.6]
[null,"Site Preparation",500,300,0.6]
[null,"Site Preparation",600,360,0.6]
[null,"Site Preparation",700,420,0.6]
[null,"Site Preparation",800,480,0.6]
[null,"Site Preparation",900,540,0.6]
[null,"Site Preparation",1000,600,0.6]
[null,"Site Preparation",10000,6000,0.6]
[null,"Source: CalEEMod, https://www.caleemod.com/"]
[]
[null,"Equipment Use"]
[]
[null,null,null,null,null,null,"Low Number of Acres",{"$f":"IF('Project Background'!$D$17>=Equipment!J252,Equipment!J252,IF('Project Background'!$D$17>=Equipment!J251,Equipment!J251,IF('Project Background'!$D$17>=Equipment!J250,Equipment!J250,IF('Project Background'!$D$17>=Equipment!J249,Equipment!J249,IF('Project Background'!$D$17>=Equipment!J248,Equipment!J248,IF('Project Background'!$D$17>=Equipment!J247,Equipment!J247,IF('Project Background'!$D$17>=Equipment!J246,Equipment!J246,IF('Project Background'!$D$17>=Equipment!J245,Equipment!J245,IF('Project Background'!$D$17>=Equipment!J244,Equipment!J244,IF('Project Background'!$D$17>=Equipment!J243,Equipment!J243,IF('Project Background'!$D$17>=Equipment!J242,Equipment!J242,IF('Project Background'!$D$17>=Equipment!J241,Equipment!J241,IF('Project Background'!$D$17>=Equipment!J240,Equipment!J240,Equipment!J239)))))))))))))","v":0}]
[null,"Equipment Use Assumptions"]
[null,"Equipment Type","Hours/Day"]
[null,null,"Demolition","Site Preparation","Grading","Building Construction","Architectural Coating","Paving",null,"Acres"]
[null,"Air Compressors",{"$f":"C258*C277","v":0},0,0,0,6,0,null,0]
[null,"Cement and Mortar Mixers",0,0,0,0,0,24,null,1]
[null,"Concrete/Industrial Saws",8,0,0,0,0,0,null,2]
[null,"Cranes",0,0,0,4,0,0,null,3]
[null,"Excavators",0,0,0,0,0,0,null,5]
[null,"Forklifts",0,0,0,12,0,0,null,10]
[null,"Generator Sets",0,0,0,0,0,0,null,15]
[null,"Graders",0,8,6,0,0,0,null,20]
[null,"Pavers",0,0,0,0,0,7,null,25]
[null,"Paving Equipment",0,0,0,0,0,0,null,30]
[null,"Rollers",0,0,0,0,0,7,null,34]
[null,"Rubber Tired Dozers",1,0,6,0,0,0,null,50]
[null,"Scrapers",0,0,0,0,0,0,null,75]
[null,"Tractors/Loaders/Backhoes",12,8,7,16,0,7,null,100]
[null,"Welders",0,0,0,0,0,0]
[]
[null,"Equipment Use Assumptions"]
[null,"Equipment Type","Equipment/Day"]
[null,null,"Demolition","Site Preparation","Grading","Building Construction","Architectural Coating","Paving"]
[null,"Air Compressors",{"$f":"SUMIFS($F$295:$F$546,$E$295:$E$546,$B258,$B$295:$B$546,C$257)","v":0},{"$f":"SUMIFS($F$295:$F$546,$E$295:$E$546,$B258,$B$295:$B$546,D$257)","v":0},0,0,1,0]
[null,"Cement and Mortar Mixers",{"$f":"SUMIFS($F$295:$F$546,$E$295:$E$546,$B259,$B$295:$B$546,C$257,$C$295:$C$546,$H$235)","v":0},0,0,0,0,4]
[null,"Concrete/Industrial Saws",1,0,0,0,0,0]
[null,"Cranes",0,0,0,1,0,0]
[null,"Excavators",0,0,0,0,0,0]
[null,"Forklifts",0,0,0,2,0,0]
[null,"Generator Sets",0,0,0,0,0,0]
[null,"Graders",0,1,1,0,0,0]
[null,"Pavers",0,0,0,0,0,1]
[null,"Paving Equipment",0,0,0,0,0,0]
[null,"Rollers",0,0,0,0,0,1]
[null,"Rubber Tired Dozers",1,0,1,0,0,0]
[null,"Scrapers",0,0,0,0,0,0]
[null,"Tractors/Loaders/Backhoes",2,1,1,2,0,1]
[null,"Welders",0,0,0,0,0,0]
[]
[null,"Equipment Use Assumptions"]
[null,"Equipment Type","Hours/Day/Equipment"]
[null,null,"Demolition","Site Preparation","Grading","Building Construction","Architectural Coating","Paving"]
[null,"Air Compressors",{"$f":"SUMIFS($G$295:$G$546,$E$295:$E$546,$B277,$B$295:$B$546,C$276)","v":0},{"$f":"SUMIFS($G$295:$G$546,$E$295:$E$546,$B277,$B$295:$B$546,D$276)","v":0},0,0,6,0]
[null,"Cement and Mortar Mixers",{"$f":"SUMIFS($G$295:$G$546,$E$295:$E$546,$B278,$B$295:$B$546,C$276,$C$295:$C$546,$H$235)","v":0},0,0,0,0,6]
[null,"Concrete/Industrial Saws",8,0,0,0,0,0]
[null,"Cranes",0,0,0,4,0,0]
[null,"Excavators",0,0,0,0,0,0]
[null,"Forklifts",0,0,0,6,0,0]
[null,"Generator Sets",0,0,0,0,0,0]
[null,"Graders",0,8,6,0,0,0]
[null,"Pavers",0,0,0,0,0,7]
[null,"Paving Equipment",0,0,0,0,0,0]
[null,"Rollers",0,0,0,0,0,7]
[null,"Rubber Tired Dozers",1,0,6,0,0,0]
[null,"Scrapers",0,0,0,0,0,0]
[null,"Tractors/Loaders/Backhoes",6,8,7,8,0,7]
[null,"Welders",0,0,0,0,0,0]
[]
[null,"Table G-9. Default Construction Equipment Inventory by Construction Phase and Project Size (Land Use Development)"]
[null,"Phase","Low Acres","High Acres","Equipment","Number Per Day","Hours Per Day Per Equipment","Total Hours/Day"]
[null,"Architectural Coating",0,10000,"Air Compressors",1,6,{"$f":"G295*F295","v":6}]
[null,"Building Construction",0,1,"Cranes",1,4,{"$f":"G296*F296","v":4}]
[null,"Building Construction",0,1,"Forklifts",2,6,12]
[null,"Building Construction",0,1,"Tractors/Loaders/Backhoes",2,8,16]
[null,"Building Construction",1,2,"Cranes",1,6,6]
[null,"Building Construction",1,2,"Forklifts",1,6,6]
[null,"Building Construction",1,2,"Generator Sets",1,8,8]
[null,"Building Construction",1,2,"Tractors/Loaders/Backhoes",1,6,6]
[null,"Building Construction",1,2,"Welders",3,8,24]
[null,"Building Construction",2,3,"Cranes",1,8,8]
[null,"Building Construction",2,3,"Forklifts",2,7,14]
[null,"Building Construction",2,3,"Generator Sets",1,8,8]
[null,"Building Construction",2,3,"Tractors/Loaders/Backhoes",1,6,6]
[null,"Building Construction",2,3,"Welders",3,8,24]
[null,"Building Construction",3,5,"Cranes",1,7,7]
[null,"Building Construction",3,5,"Forklifts",3,8,24]
[null,"Building Construction",3,5,"Generator Sets",1,8,8]
[null,"Building Construction",3,5,"Tractors/Loaders/Backhoes",3,7,21]
[null,"Building Construction",3,5,"Welders",1,8,8]
[null,"Building Construction",5,10,"Cranes",1,7,7]
[null,"Building Construction",5,10,"Forklifts",3,8,24]
[null,"Building Construction",5,10,"Generator Sets",1,8,8]
[null,"Building Construction",5,10,"Tractors/Loaders/Backhoes",3,7,21]
[null,"Building Construction",5,10,"Welders",1,8,8]
[null,"Building Construction",10,15,"Cranes",1,7,7]
[null,"Building Construction",10,15,"Forklifts",3,8,24]
[null,"Building Construction",10,15,"Generator Sets",1,8,8]
[null,"Building Construction",10,15,"Tractors/Loaders/Backhoes",3,7,21]
[null,"Building Construction",10,15,"Welders",1,8,8]
[null,"Building Construction",15,20,"Cranes",1,7,7]
[null,"Building Construction",15,20,"Forklifts",3,8,24]
[null,"Building Construction",15,20,"Generator Sets",1,8,8]
[null,"Building Construction",15,20,"Tractors/Loaders/Backhoes",3,7,21]
[null,"Building Construction",15,20,"Welders",1,8,8]
[null,"Building Construction",20,25,"Cranes",1,7,7]
[null,"Building Construction",20,25,"Forklifts",3,8,24]
[null,"Building Construction",20,25,"Generator Sets",1,8,8]
[null,"Building Construction",20,25,"Tractors/Loaders/Backhoes",3,7,21]
[null,"Building Construction",20,25,"Welders",1,8,8]
[null,"Building Construction",25,30,"Cranes",1,7,7]
[null,"Building Construction",25,30,"Forklifts",3,8,24]
[null,"Building Construction",25,30,"Generator Sets",1,8,8]
[null,"Building Construction",25,30,"Tractors/Loaders/Backhoes",3,7,21]
[null,"Building Construction",25,30,"Welders",1,8,8]
[null,"Building Construction",30,34,"Cranes",1,7,7]
[null,"Building Construction",30,34,"Forklifts",3,8,24]
[null,"Building Construction",30,34,"Generator Sets",1,8,8]
[null,"Building Construction",30,34,"Tractors/Loaders/Backhoes",3,7,21]
[null,"Building Construction",30,34,"Welders",1,8,8]
[null,"Building Construction",34,50,"Cranes",1,7,7]
[null,"Building Construction",34,50,"Forklifts",3,8,24]
[null,"Building Construction",34,50,"Generator Sets",1,8,8]
[null,"Building Construction",34,50,"Tractors/Loaders/Backhoes",3,7,21]
[null,"Building Construction",34,50,"Welders",1,8,8]
[null,"Building Construction",50,75,"Cranes",1,7,7]
[null,"Building Construction",50,75,"Forklifts",3,8,24]
[null,"Building Construction",50,75,"Generator Sets",1,8,8]
[null,"Building Construction",50,75,"Tractors/Loaders/Backhoes",3,7,21]
[null,"Building Construction",50,75,"Welders",1,8,8]
[null,"Building Construction",75,100,"Cranes",1,7,7]
[null,"Building Construction",75,100,"Forklifts",3,8,24]
[null,"Building Construction",75,100,"Generator Sets",1,8,8]
[null,"Building Construction",75,100,"Tractors/Loaders/Backhoes",3,7,21]
[null,"Building Construction",75,100,"Welders",1,8,8]
[null,"Building Construction",100,1000,"Cranes",1,7,7]
[null,"Building Construction",100,1000,"Forklifts",3,8,{"$f":"G360*F360","v":24}]
[null,"Building Construction",100,1000,"Generator Sets",1,8,8]
[null,"Building Construction",100,1000,"Tractors/Loaders/Backhoes",3,7,21]
[null,"Building Construction",100,1000,"Welders",1,8,8]
[null,"Demolition",0,1,"Concrete/Industrial Saws",1,8,8]
[null,"Demolition",0,1,"Rubber Tired Dozers",1,1,1]
[null,"Demolition",0,1,"Tractors/Loaders/Backhoes",2,6,12]
[null,"Demolition",1,2,"Concrete/Industrial Saws",1,8,8]
[null,"Demolition",1,2,"Rubber Tired Dozers",1,8,8]
[null,"Demolition",1,2,"Tractors/Loaders/Backhoes",3,8,24]
[null,"Demolition",2,3,"Concrete/Industrial Saws",1,8,8]
[null,"Demolition",2,3,"Rubber Tired Dozers",1,8,8]
[null,"Demolition",2,3,"Tractors/Loaders/Backhoes",3,8,24]
[null,"Demolition",3,5,"Concrete/Industrial Saws",1,8,8]
[null,"Demolition",3,5,"Excavators",3,8,24]
[null,"Demolition",3,5,"Rubber Tired Dozers",2,8,16]
[null,"Demolition",5,10,"Concrete/Industrial Saws",1,8,8]
[null,"Demolition",5,10,"Excavators",3,8,24]
[null,"Demolition",5,10,"Rubber Tired Dozers",2,8,16]
[null,"Demolition",10,15,"Concrete/Industrial Saws",1,8,{"$f":"G379*F379","v":8}]
[null,"Demolition",10,15,"Excavators",3,8,24]
[null,"Demolition",10,15,"Rubber Tired Dozers",2,8,16]
[null,"Demolition",15,20,"Concrete/Industrial Saws",1,8,8]
[null,"Demolition",15,20,"Excavators",3,8,24]
[null,"Demolition",15,20,"Rubber Tired Dozers",2,8,16]
[null,"Demolition",20,25,"Concrete/Industrial Saws",1,8,8]
[null,"Demolition",20,25,"Excavators",3,8,24]
[null,"Demolition",20,25,"Rubber Tired Dozers",2,8,16]
[null,"Demolition",25,30,"Concrete/Industrial Saws",1,8,8]
[null,"Demolition",25,30,"Excavators",3,8,24]
[null,"Demolition",25,30,"Rubber Tired Dozers",2,8,16]
[null,"Demolition",30,34,"Concrete/Industrial Saws",1,8,8]
[null,"Demolition",30,34,"Excavators",3,8,24]
[null,"Demolition",30,34,"Rubber Tired Dozers",2,8,16]
[null,"Demolition",34,50,"Concrete/Industrial Saws",1,8,8]
[null,"Demolition",34,50,"Excavators",3,8,24]
[null,"Demolition",34,50,"Rubber Tired Dozers",2,8,16]
[null,"Demolition",50,75,"Concrete/Industrial Saws",1,8,8]
[null,"Demolition",50,75,"Excavators",3,8,24]
[null,"Demolition",50,75,"Rubber Tired Dozers",2,8,16]
[null,"Demolition",75,100,"Concrete/Industrial Saws",1,8,8]
[null,"Demolition",75,100,"Excavators",3,8,24]
[null,"Demolition",75,100,"Rubber Tired Dozers",2,8,16]
[null,"Demolition",100,1000,"Concrete/Industrial Saws",1,8,8]
[null,"Demolition",100,1000,"Excavators",3,8,24]
[null,"Demolition",100,1000,"Rubber Tired Dozers",2,8,16]
[null,"Grading",0,1,"Graders",1,6,6]
[null,"Grading",0,1,"Rubber Tired Dozers",1,6,6]
[null,"Grading",0,1,"Tractors/Loaders/Backhoes",1,7,7]
[null,"Grading",1,2,"Graders",1,8,8]
[null,"Grading",1,2,"Rubber Tired Dozers",1,8,8]
[null,"Grading",1,2,"Tractors/Loaders/Backhoes",2,7,14]
[null,"Grading",2,3,"Graders",1,8,8]
[null,"Grading",2,3,"Rubber Tired Dozers",1,8,8]
[null,"Grading",2,3,"Tractors/Loaders/Backhoes",2,7,14]
[null,"Grading",3,5,"Excavators",1,8,8]
[null,"Grading",3,5,"Graders",1,8,{"$f":"G416*F416","v":8}]
[null,"Grading",3,5,"Rubber Tired Dozers",1,8,8]
[null,"Grading",3,5,"Tractors/Loaders/Backhoes",3,8,24]
[null,"Grading",5,10,"Excavators",1,8,8]
[null,"Grading",5,10,"Graders",1,8,8]
[null,"Grading",5,10,"Rubber Tired Dozers",1,8,8]
[null,"Grading",5,10,"Tractors/Loaders/Backhoes",3,8,24]
[null,"Grading",10,15,"Excavators",2,8,16]
[null,"Grading",10,15,"Graders",1,8,8]
[null,"Grading",10,15,"Rubber Tired Dozers",1,8,8]
[null,"Grading",10,15,"Scrapers",2,8,16]
[null,"Grading",10,15,"Tractors/Loaders/Backhoes",2,8,16]
[null,"Grading",15,20,"Excavators",2,8,16]
[null,"Grading",15,20,"Graders",1,8,8]
[null,"Grading",15,20,"Rubber Tired Dozers",1,8,8]
[null,"Grading",15,20,"Scrapers",2,8,16]
[null,"Grading",15,20,"Tractors/Loaders/Backhoes",2,8,16]
[null,"Grading",20,25,"Excavators",2,8,16]
[null,"Grading",20,25,"Graders",1,8,8]
[null,"Grading",20,25,"Rubber Tired Dozers",1,8,8]
[null,"Grading",20,25,"Scrapers",2,8,16]
[null,"Grading",20,25,"Tractors/Loaders/Backhoes",2,8,16]
[null,"Grading",25,30,"Excavators",2,8,16]
[null,"Grading",25,30,"Graders",1,8,8]
[null,"Grading",25,30,"Rubber Tired Dozers",1,8,8]
[null,"Grading",25,30,"Scrapers",2,8,16]
[null,"Grading",25,30,"Tractors/Loaders/Backhoes",2,8,16]
[null,"Grading",30,34,"Excavators",2,8,16]
[null,"Grading",30,34,"Graders",1,8,8]
[null,"Grading",30,34,"Rubber Tired Dozers",1,8,8]
[null,"Grading",30,34,"Scrapers",2,8,16]
[null,"Grading",30,34,"Tractors/Loaders/Backhoes",2,8,16]
[null,"Grading",34,50,"Excavators",2,8,16]
[null,"Grading",34,50,"Graders",1,8,8]
[null,"Grading",34,50,"Rubber Tired Dozers",1,8,8]
[null,"Grading",34,50,"Scrapers",2,8,16]
[null,"Grading",34,50,"Tractors/Loaders/Backhoes",2,8,16]
[null,"Grading",50,75,"Excavators",2,8,16]
[null,"Grading",50,75,"Graders",1,8,8]
[null,"Grading",50,75,"Rubber Tired Dozers",1,8,8]
[null,"Grading",50,75,"Scrapers",2,8,16]
[null,"Grading",50,75,"Tractors/Loaders/Backhoes",2,8,16]
[null,"Grading",75,100,"Excavators",2,8,16]
[null,"Grading",75,100,"Graders",1,8,8]
[null,"Grading",75,100,"Rubber Tired Dozers",1,8,8]
[null,"Grading",75,100,"Scrapers",2,8,16]
[null,"Grading",75,100,"Tractors/Loaders/Backhoes",2,8,16]
[null,"Grading",100,1000,"Excavators",2,8,16]
[null,"Grading",100,1000,"Graders",1,8,8]
[null,"Grading",100,1000,"Rubber Tired Dozers",1,8,8]
[null,"Grading",100,1000,"Scrapers",2,8,16]
[null,"Grading",100,1000,"Tractors/Loaders/Backhoes",2,8,16]
[null,"Paving",0,1,"Cement and Mortar Mixers",4,6,{"$f":"G468*F468","v":24}]
[null,"Paving",0,1,"Pavers",1,7,7]
[null,"Paving",0,1,"Rollers",1,7,7]
[null,"Paving",0,1,"Tractors/Loaders/Backhoes",1,7,7]
[null,"Paving",1,2,"Cement and Mortar Mixers",1,6,6]
[null,"Paving",1,2,"Pavers",1,6,6]
[null,"Paving",1,2,"Paving Equipment",1,8,8]
[null,"Paving",1,2,"Rollers",1,7,7]
[null,"Paving",1,2,"Tractors/Loaders/Backhoes",1,8,8]
[null,"Paving",2,3,"Cement and Mortar Mixers",1,8,8]
[null,"Paving",2,3,"Pavers",1,8,8]
[null,"Paving",2,3,"Paving Equipment",1,8,8]
[null,"Paving",2,3,"Rollers",2,8,16]
[null,"Paving",2,3,"Tractors/Loaders/Backhoes",1,8,8]
[null,"Paving",3,5,"Cement and Mortar Mixers",2,6,12]
[null,"Paving",3,5,"Pavers",1,8,8]
[null,"Paving",3,5,"Paving Equipment",2,6,12]
[null,"Paving",3,5,"Rollers",2,6,12]
[null,"Paving",3,5,"Tractors/Loaders/Backhoes",1,8,8]
[null,"Paving",5,10,"Pavers",2,8,16]
[null,"Paving",5,10,"Paving Equipment",2,8,16]
[null,"Paving",5,10,"Rollers",2,8,16]
[null,"Paving",10,15,"Pavers",2,8,16]
[null,"Paving",10,15,"Paving Equipment",2,8,16]
[null,"Paving",10,15,"Rollers",2,8,16]
[null,"Paving",15,20,"Pavers",2,8,16]
[null,"Paving",15,20,"Paving Equipment",2,8,16]
[null,"Paving",15,20,"Rollers",2,8,16]
[null,"Paving",20,25,"Pavers",2,8,16]
[null,"Paving",20,25,"Paving Equipment",2,8,16]
[null,"Paving",20,25,"Rollers",2,8,16]
[null,"Paving",25,30,"Pavers",2,8,{"$f":"G499*F499","v":16}]
[null,"Paving",25,30,"Paving Equipment",2,8,16]
[null,"Paving",25,30,"Rollers",2,8,16]
[null,"Paving",30,34,"Pavers",2,8,16]
[null,"Paving",30,34,"Paving Equipment",2,8,16]
[null,"Paving",30,34,"Rollers",2,8,16]
[null,"Paving",34,50,"Pavers",2,8,16]
[null,"Paving",34,50,"Paving Equipment",2,8,16]
[null,"Paving",34,50,"Rollers",2,8,16]
[null,"Paving",50,75,"Pavers",2,8,16]
[null,"Paving",50,75,"Paving Equipment",2,8,16]
[null,"Paving",50,75,"Rollers",2,8,16]
[null,"Paving",75,100,"Pavers",2,8,16]
[null,"Paving",75,100,"Paving Equipment",2,8,16]
[null,"Paving",75,100,"Rollers",2,8,16]
[null,"Paving",100,1000,"Pavers",2,8,16]
[null,"Paving",100,1000,"Paving Equipment",2,8,16]
[null,"Paving",100,1000,"Rollers",2,8,16]
[null,"Site Preparation",0,1,"Graders",1,8,8]
[null,"Site Preparation",0,1,"Tractors/Loaders/Backhoes",1,8,8]
[null,"Site Preparation",1,2,"Graders",1,8,8]
[null,"Site Preparation",1,2,"Rubber Tired Dozers",1,7,7]
[null,"Site Preparation",1,2,"Tractors/Loaders/Backhoes",1,8,8]
[null,"Site Preparation",2,3,"Graders",1,8,8]
[null,"Site Preparation",2,3,"Scrapers",1,8,8]
[null,"Site Preparation",2,3,"Tractors/Loaders/Backhoes",1,7,7]
[null,"Site Preparation",3,5,"Rubber Tired Dozers",3,8,24]
[null,"Site Preparation",3,5,"Tractors/Loaders/Backhoes",4,8,32]
[null,"Site Preparation",5,10,"Rubber Tired Dozers",3,8,24]
[null,"Site Preparation",5,10,"Tractors/Loaders/Backhoes",4,8,32]
[null,"Site Preparation",10,15,"Rubber Tired Dozers",3,8,24]
[null,"Site Preparation",10,15,"Tractors/Loaders/Backhoes",4,8,32]
[null,"Site Preparation",15,20,"Rubber Tired Dozers",3,8,24]
[null,"Site Preparation",15,20,"Tractors/Loaders/Backhoes",4,8,32]
[null,"Site Preparation",20,25,"Rubber Tired Dozers",3,8,24]
[null,"Site Preparation",20,25,"Tractors/Loaders/Backhoes",4,8,32]
[null,"Site Preparation",25,30,"Rubber Tired Dozers",3,8,24]
[null,"Site Preparation",25,30,"Tractors/Loaders/Backhoes",4,8,{"$f":"G536*F536","v":32}]
[null,"Site Preparation",30,34,"Rubber Tired Dozers",3,8,24]
[null,"Site Preparation",30,34,"Tractors/Loaders/Backhoes",4,8,32]
[null,"Site Preparation",34,50,"Rubber Tired Dozers",3,8,24]
[null,"Site Preparation",34,50,"Tractors/Loaders/Backhoes",4,8,32]
[null,"Site Preparation",50,75,"Rubber Tired Dozers",3,8,24]
[null,"Site Preparation",50,75,"Tractors/Loaders/Backhoes",4,8,32]
[null,"Site Preparation",75,100,"Rubber Tired Dozers",3,8,24]
[null,"Site Preparation",75,100,"Tractors/Loaders/Backhoes",4,8,32]
[null,"Site Preparation",100,1000,"Rubber Tired Dozers",3,8,24]
[null,"Site Preparation",100,1000,"Tractors/Loaders/Backhoes",4,8,32]
[null,"Source: CalEEMod, https://www.caleemod.com/"]
[]
[null,"Horsepower and Load Factors "]
[]
[null,"Horsepower and Load Factor by Construction Equipment Type"]
[null,"Equipment Type","Fuel","Horsepower","Load Factor"]
[null,"Air Compressors","Diesel",{"$f":"_xlfn.XLOOKUP(B553&C553,$B$572:$B$670&$C$572:$C$670,$D$572:$D$670,\"NA\")","v":37},{"$f":"_xlfn.XLOOKUP(B553&C553,$B$572:$B$670&$C$572:$C$670,$E$572:$E$670,\"NA\")","v":0.48}]
[null,"Cement and Mortar Mixers","Diesel",{"$f":"_xlfn.XLOOKUP(B554&C554,$B$572:$B$670&$C$572:$C$670,$D$572:$D$670,\"NA\")","v":10},{"$f":"_xlfn.XLOOKUP(B554&C554,$B$572:$B$670&$C$572:$C$670,$E$572:$E$670,\"NA\")","v":0.56000000000000005}]
[null,"Concrete/Industrial Saws","Diesel",{"$f":"_xlfn.XLOOKUP(B555&C555,$B$572:$B$670&$C$572:$C$670,$D$572:$D$670,\"NA\")","v":33},{"$f":"_xlfn.XLOOKUP(B555&C555,$B$572:$B$670&$C$572:$C$670,$E$572:$E$670,\"NA\")","v":0.73}]
[null,"Cranes","Diesel",{"$f":"_xlfn.XLOOKUP(B556&C556,$B$572:$B$670&$C$572:$C$670,$D$572:$D$670,\"NA\")","v":367},{"$f":"_xlfn.XLOOKUP(B556&C556,$B$572:$B$670&$C$572:$C$670,$E$572:$E$670,\"NA\")","v":0.28999999999999998}]
[null,"Excavators","Diesel",{"$f":"_xlfn.XLOOKUP(B557&C557,$B$572:$B$670&$C$572:$C$670,$D$572:$D$670,\"NA\")","v":36},{"$f":"_xlfn.XLOOKUP(B557&C557,$B$572:$B$670&$C$572:$C$670,$E$572:$E$670,\"NA\")","v":0.38}]
[null,"Forklifts","Diesel",{"$f":"_xlfn.XLOOKUP(B558&C558,$B$572:$B$670&$C$572:$C$670,$D$572:$D$670,\"NA\")","v":82},{"$f":"_xlfn.XLOOKUP(B558&C558,$B$572:$B$670&$C$572:$C$670,$E$572:$E$670,\"NA\")","v":0.2}]
[null,"Generator Sets","Diesel",{"$f":"_xlfn.XLOOKUP(B559&C559,$B$572:$B$670&$C$572:$C$670,$D$572:$D$670,\"NA\")","v":14},{"$f":"_xlfn.XLOOKUP(B559&C559,$B$572:$B$670&$C$572:$C$670,$E$572:$E$670,\"NA\")","v":0.74}]
[null,"Graders","Diesel",{"$f":"_xlfn.XLOOKUP(B560&C560,$B$572:$B$670&$C$572:$C$670,$D$572:$D$670,\"NA\")","v":148},{"$f":"_xlfn.XLOOKUP(B560&C560,$B$572:$B$670&$C$572:$C$670,$E$572:$E$670,\"NA\")","v":0.41}]
[null,"Pavers","Diesel",{"$f":"_xlfn.XLOOKUP(B561&C561,$B$572:$B$670&$C$572:$C$670,$D$572:$D$670,\"NA\")","v":81},{"$f":"_xlfn.XLOOKUP(B561&C561,$B$572:$B$670&$C$572:$C$670,$E$572:$E$670,\"NA\")","v":0.42}]
[null,"Paving Equipment","Diesel",{"$f":"_xlfn.XLOOKUP(B562&C562,$B$572:$B$670&$C$572:$C$670,$D$572:$D$670,\"NA\")","v":89},{"$f":"_xlfn.XLOOKUP(B562&C562,$B$572:$B$670&$C$572:$C$670,$E$572:$E$670,\"NA\")","v":0.36}]
[null,"Rollers","Diesel",{"$f":"_xlfn.XLOOKUP(B563&C563,$B$572:$B$670&$C$572:$C$670,$D$572:$D$670,\"NA\")","v":36},{"$f":"_xlfn.XLOOKUP(B563&C563,$B$572:$B$670&$C$572:$C$670,$E$572:$E$670,\"NA\")","v":0.38}]
[null,"Rubber Tired Dozers","Diesel",{"$f":"_xlfn.XLOOKUP(B564&C564,$B$572:$B$670&$C$572:$C$670,$D$572:$D$670,\"NA\")","v":367},{"$f":"_xlfn.XLOOKUP(B564&C564,$B$572:$B$670&$C$572:$C$670,$E$572:$E$670,\"NA\")","v":0.4}]
[null,"Scrapers","Diesel",{"$f":"_xlfn.XLOOKUP(B565&C565,$B$572:$B$670&$C$572:$C$670,$D$572:$D$670,\"NA\")","v":423},{"$f":"_xlfn.XLOOKUP(B565&C565,$B$572:$B$670&$C$572:$C$670,$E$572:$E$670,\"NA\")","v":0.48}]
[null,"Tractors/Loaders/Backhoes","Diesel",{"$f":"_xlfn.XLOOKUP(B566&C566,$B$572:$B$670&$C$572:$C$670,$D$572:$D$670,\"NA\")","v":84},{"$f":"_xlfn.XLOOKUP(B566&C566,$B$572:$B$670&$C$572:$C$670,$E$572:$E$670,\"NA\")","v":0.37}]
[null,"Welders","Diesel",{"$f":"_xlfn.XLOOKUP(B567&C567,$B$572:$B$670&$C$572:$C$670,$D$572:$D$670,\"NA\")","v":46},{"$f":"_xlfn.XLOOKUP(B567&C567,$B$572:$B$670&$C$572:$C$670,$E$572:$E$670,\"NA\")","v":0.45}]
[null,"Note: values for diesel and electric equipment are the same."]
[]
[null,"Table G-12. Horsepower and Load Factors for Construction Equipment by Fuel Type"]
[null,"Equipment","Fuel","Horsepower","Load Factor"]
[null,"Aerial Lifts","CNG",19,0.46]
[null,"Aerial Lifts","Diesel",46,0.31]
[null,"Aerial Lifts","Electric",46,0.31]
[null,"Aerial Lifts","Gasoline",33,0.46]
[null,"Air Compressors","Diesel",37,0.48]
[null,"Air Compressors","Electric",37,0.48]
[null,"Air Compressors","Gasoline",6,0.56000000000000005]
[null,"Bore/Drill Rigs","Diesel",83,0.5]
[null,"Bore/Drill Rigs","Electric",83,0.5]
[null,"Bore/Drill Rigs","Gasoline",17,0.79]
[null,"Cement and Mortar Mixers","Diesel",10,0.56000000000000005]
[null,"Cement and Mortar Mixers","Electric",10,0.56000000000000005]
[null,"Cement and Mortar Mixers","Gasoline",7,0.59]
[null,"Concrete/Industrial Saws","Diesel",33,0.73]
[null,"Concrete/Industrial Saws","Electric",33,0.73]
[null,"Concrete/Industrial Saws","Gasoline",10,0.78]
[null,"Cranes","Diesel",367,0.28999999999999998]
[null,"Cranes","Electric",367,0.28999999999999998]
[null,"Cranes","Gasoline",74,0.47]
[null,"Crawler Tractors","Diesel",87,0.43]
[null,"Crawler Tractors","Electric",87,0.43]
[null,"Crushing/Proc. Equipment","Electric",12,0.85]
[null,"Crushing/Proc. Equipment","Gasoline",12,0.85]
[null,"Dumpers/Tenders","Diesel",16,0.38]
[null,"Dumpers/Tenders","Electric",16,0.38]
[null,"Dumpers/Tenders","Gasoline",9,0.41]
[null,"Excavators","Diesel",36,0.38]
[null,"Excavators","Electric",36,0.38]
[null,"Forklifts","CNG",70,0.3]
[null,"Forklifts","Diesel",82,0.2]
[null,"Forklifts","Electric",82,0.2]
[null,"Forklifts","Gasoline",70,0.3]
[null,"Generator Sets","CNG",83,0.68]
[null,"Generator Sets","Diesel",14,0.74]
[null,"Generator Sets","Electric",14,0.74]
[null,"Generator Sets","Gasoline",11,0.68]
[null,"Graders","Diesel",148,0.41]
[null,"Graders","Electric",148,0.41]
[null,"Off-Highway Tractors","Diesel",38,0.44]
[null,"Off-Highway Tractors","Electric",38,0.44]
[null,"Off-Highway Trucks","Diesel",376,0.38]
[null,"Off-Highway Trucks","Electric",376,0.38]
[null,"Other Construction Equipment","Diesel",82,0.42]
[null,"Other Construction Equipment","Electric",82,0.42]
[null,"Other Construction Equipment","Gasoline",126,0.48]
[null,"Other General Industrial Equipment","Diesel",35,0.34]
[null,"Other General Industrial Equipment","Electric",35,0.34]
[null,"Other General Industrial Equipment","Gasoline",11,0.54]
[null,"Other Material Handling Equipment","Diesel",93,0.4]
[null,"Other Material Handling Equipment","Electric",93,0.4]
[null,"Other Material Handling Equipment","Gasoline",54,0.53]
[null,"Pavers","Diesel",81,0.42]
[null,"Pavers","Electric",81,0.42]
[null,"Paving Equipment","Diesel",89,0.36]
[null,"Paving Equipment","Electric",89,0.36]
[null,"Paving Equipment","Gasoline",8,0.59]
[null,"Plate Compactors","Diesel",8,0.43]
[null,"Plate Compactors","Electric",8,0.43]
[null,"Plate Compactors","Gasoline",6,0.55000000000000004]
[null,"Pressure Washers","Diesel",14,0.3]
[null,"Pressure Washers","Electric",14,0.3]
[null,"Pressure Washers","Gasoline",7,0.85]
[null,"Pumps","Diesel",11,0.74]
[null,"Pumps","Electric",11,0.74]
[null,"Pumps","Gasoline",6,0.69]
[null,"Rollers","Diesel",36,0.38]
[null,"Rollers","Electric",36,0.38]
[null,"Rollers","Gasoline",12,0.62]
[null,"Rough Terrain Forklifts","Diesel",96,0.4]
[null,"Rough Terrain Forklifts","Electric",96,0.4]
[null,"Rough Terrain Forklifts","Gasoline",85,0.63]
[null,"Rubber Tired Dozers","Diesel",367,0.4]
[null,"Rubber Tired Dozers","Electric",367,0.4]
[null,"Rubber Tired Loaders","Diesel",150,0.36]
[null,"Rubber Tired Loaders","Electric",150,0.36]
[null,"Rubber Tired Loaders","Gasoline",72,0.54]
[null,"Scrapers","Diesel",423,0.48]
[null,"Scrapers","Electric",423,0.48]
[null,"Signal Boards","Diesel",6,0.82]
[null,"Signal Boards","Electric",6,0.82]
[null,"Signal Boards","Gasoline",8,0.76]
[null,"Skid Steer Loaders","Diesel",71,0.37]
[null,"Skid Steer Loaders","Electric",71,0.37]
[null,"Skid Steer Loaders","Gasoline",19,0.57999999999999996]
[null,"Surfacing Equipment","Diesel",399,0.3]
[null,"Surfacing Equipment","Electric",399,0.3]
[null,"Surfacing Equipment","Gasoline",8,0.49]
[null,"Sweepers/Scrubbers","Diesel",36,0.46]
[null,"Sweepers/Scrubbers","Electric",36,0.46]
[null,"Sweepers/Scrubbers","Gasoline",13,0.71]
[null,"Tractors/Loaders/Backhoes","Diesel",84,0.37]
[null,"Tractors/Loaders/Backhoes","Electric",84,0.37]
[null,"Tractors/Loaders/Backhoes","Gasoline",63,0.48]
[null,"Trenchers","Diesel",40,0.5]
[null,"Trenchers","Electric",40,0.5]
[null,"Trenchers","Gasoline",15,0.66]
[null,"Welders","Diesel",46,0.45]
[null,"Welders","Electric",46,0.45]
[null,"Welders","Gasoline",16,0.51]
[null,"Source: CalEEMod, https://www.caleemod.com/"]
[null,"Original Source: California Air Resources Board (CARB). 2021. OFFROAD2017 - ORION. Available: https://www.arb.ca.gov/orion/. Accessed: March 2021."]
[]
[null,"CalEEMod Combustion Emission Factors and Calculated Total Energy Consumption"]
[]
[]
[null,"Equipment Type","Fuel","Model Year","Horsepower","CalEEMod EF (gCO2/hp-hr)","Total Energy Consumption (Btu/hp-hr)"]
[null,"Air Compressors","Diesel",2025,{"$f":"_xlfn.XLOOKUP(B678&C678,$B$553:$B$567&$C$553:$C$567,$D$553:$D$567)","v":37},{"$f":"SUMIFS($G$696:$G$916,$B$696:$B$916,B678,$C$696:$C$916,D678,$D$696:$D$916,C678,$E$696:$E$916,\"<=\" & E678,$F$696:$F$916,\">=\" & E678)","v":568.36286353320713},{"$f":"F678/Constants!$F$8/Fuels!$D$178*Constants!$F$24","v":7684.7331467442827}]
[null,"Cement and Mortar Mixers","Diesel",2025,{"$f":"_xlfn.XLOOKUP(B679&C679,$B$553:$B$567&$C$553:$C$567,$D$553:$D$567)","v":10},570.1750403267007,{"$f":"F679/Constants!$F$8/Fuels!$D$178*Constants!$F$24","v":7709.2352667212108}]
[null,"Concrete/Industrial Saws","Diesel",2025,{"$f":"_xlfn.XLOOKUP(B680&C680,$B$553:$B$567&$C$553:$C$567,$D$553:$D$567)","v":33},575.0133809943635,{"$f":"F680/Constants!$F$8/Fuels!$D$178*Constants!$F$24","v":7774.653609983282}]
[null,"Cranes","Diesel",2025,{"$f":"_xlfn.XLOOKUP(B681&C681,$B$553:$B$567&$C$553:$C$567,$D$553:$D$567)","v":367},527.58451101977369,{"$f":"F681/Constants!$F$8/Fuels!$D$178*Constants!$F$24","v":7133.3762982662747}]
[null,"Excavators","Diesel",2025,{"$f":"_xlfn.XLOOKUP(B682&C682,$B$553:$B$567&$C$553:$C$567,$D$553:$D$567)","v":36},587.13772378651765,{"$f":"F682/Constants!$F$8/Fuels!$D$178*Constants!$F$24","v":7938.5846915429656}]
[null,"Forklifts","Diesel",2025,{"$f":"_xlfn.XLOOKUP(B683&C683,$B$553:$B$567&$C$553:$C$567,$D$553:$D$567)","v":82},527.1082196876248,{"$f":"F683/Constants!$F$8/Fuels!$D$178*Constants!$F$24","v":7126.9364479127207}]
[null,"Generator Sets","Diesel",2025,{"$f":"_xlfn.XLOOKUP(B684&C684,$B$553:$B$567&$C$553:$C$567,$D$553:$D$567)","v":14},568.32219638049594,{"$f":"F684/Constants!$F$8/Fuels!$D$178*Constants!$F$24","v":7684.183293408546}]
[null,"Graders","Diesel",2025,{"$f":"_xlfn.XLOOKUP(B685&C685,$B$553:$B$567&$C$553:$C$567,$D$553:$D$567)","v":148},531.19419370759897,{"$f":"F685/Constants!$F$8/Fuels!$D$178*Constants!$F$24","v":7182.1821756030158}]
[null,"Pavers","Diesel",2025,{"$f":"_xlfn.XLOOKUP(B686&C686,$B$553:$B$567&$C$553:$C$567,$D$553:$D$567)","v":81},526.53742177466006,{"$f":"F686/Constants!$F$8/Fuels!$D$178*Constants!$F$24","v":7119.2187908958904}]
[null,"Paving Equipment","Diesel",2025,{"$f":"_xlfn.XLOOKUP(B687&C687,$B$553:$B$567&$C$553:$C$567,$D$553:$D$567)","v":89},527.68635761517237,{"$f":"F687/Constants!$F$8/Fuels!$D$178*Constants!$F$24","v":7134.7533479606873}]
[null,"Rollers","Diesel",2025,{"$f":"_xlfn.XLOOKUP(B688&C688,$B$553:$B$567&$C$553:$C$567,$D$553:$D$567)","v":36},586.90234461955981,{"$f":"F688/Constants!$F$8/Fuels!$D$178*Constants!$F$24","v":7935.4021717084888}]
[null,"Rubber Tired Dozers","Diesel",2025,{"$f":"_xlfn.XLOOKUP(B689&C689,$B$553:$B$567&$C$553:$C$567,$D$553:$D$567)","v":367},532.17175177805052,{"$f":"F689/Constants!$F$8/Fuels!$D$178*Constants!$F$24","v":7195.3995643327553}]
[null,"Scrapers","Diesel",2025,{"$f":"_xlfn.XLOOKUP(B690&C690,$B$553:$B$567&$C$553:$C$567,$D$553:$D$567)","v":423},528.9423507160908,{"$f":"F690/Constants!$F$8/Fuels!$D$178*Constants!$F$24","v":7151.7354071943046}]
[null,"Tractors/Loaders/Backhoes","Diesel",2025,{"$f":"_xlfn.XLOOKUP(B691&C691,$B$553:$B$567&$C$553:$C$567,$D$553:$D$567)","v":84},529.86269726928788,{"$f":"F691/Constants!$F$8/Fuels!$D$178*Constants!$F$24","v":7164.179249179123}]
[null,"Welders","Diesel",2025,{"$f":"_xlfn.XLOOKUP(B692&C692,$B$553:$B$567&$C$553:$C$567,$D$553:$D$567)","v":46},568.30078335112057,{"$f":"F692/Constants!$F$8/Fuels!$D$178*Constants!$F$24","v":7683.893771648467}]
[]
[null,"Table G-11. Statewide Average Annual Offroad Equipemnt Emissions Factors (grams per horsepower-hour)"]
[null,"Equipment","Model Year","Fuel","Low HP","High HP","gCO2/hp-hr"]
[null,"Aerial Lifts",2025,"Diesel",0,24.99,848.50661478920733]
[null,"Aerial Lifts",2025,"Diesel",25,49.99,586.90005422887498]
[null,"Aerial Lifts",2025,"Diesel",50,74.989999999999995,527.86431796279612]
[null,"Aerial Lifts",2025,"Diesel",75,99.99,528.02670887222757]
[null,"Aerial Lifts",2025,"Diesel",100,174.99,527.71854998674087]
[null,"Aerial Lifts",2025,"Diesel",175,299.99,527.71321979402762]
[null,"Aerial Lifts",2025,"Diesel",300,599.99,527.7132197940283]
[null,"Air Compressors",2025,"Diesel",0,24.99,569.76771846852648]
[null,"Air Compressors",2025,"Diesel",25,49.99,568.36286353320713]
[null,"Bore/Drill Rigs",2025,"Diesel",0,24.99,850.85544923005068]
[null,"Bore/Drill Rigs",2025,"Diesel",25,49.99,599.96965425717099]
[null,"Bore/Drill Rigs",2025,"Diesel",50,74.989999999999995,497.78570761076679]
[null,"Bore/Drill Rigs",2025,"Diesel",75,99.99,522.56714887486999]
[null,"Bore/Drill Rigs",2025,"Diesel",100,174.99,530.61866311605479]
[null,"Bore/Drill Rigs",2025,"Diesel",175,299.99,525.60863652898536]
[null,"Bore/Drill Rigs",2025,"Diesel",300,599.99,521.05943319920209]
[null,"Bore/Drill Rigs",2025,"Diesel",600,749.99,530.30533913680631]
[null,"Bore/Drill Rigs",2025,"Diesel",750,999,526.93942055279081]
[null,"Cement and Mortar Mixers",2025,"Diesel",0,24.99,570.1750403267007]
[null,"Concrete/Industrial Saws",2025,"Diesel",0,24.99,596.38825600451173]
[null,"Concrete/Industrial Saws",2025,"Diesel",25,49.99,575.0133809943635]
[null,"Cranes",2025,"Diesel",0,24.99,586.60722998649305]
[null,"Cranes",2025,"Diesel",25,49.99,592.05951347046653]
[null,"Cranes",2025,"Diesel",50,74.989999999999995,525.41309830346859]
[null,"Cranes",2025,"Diesel",75,99.99,526.43573929025854]
[null,"Cranes",2025,"Diesel",100,174.99,528.68285850359143]
[null,"Cranes",2025,"Diesel",175,299.99,527.56388246897882]
[null,"Cranes",2025,"Diesel",300,599.99,527.58451101977369]
[null,"Cranes",2025,"Diesel",600,749.99,527.20763494019434]
[null,"Cranes",2025,"Diesel",750,999,527.44668527025271]
[null,"Crawler Tractors",2025,"Diesel",25,49.99,582.95371968091638]
[null,"Crawler Tractors",2025,"Diesel",50,74.989999999999995,527.85729307907263]
[null,"Crawler Tractors",2025,"Diesel",75,99.99,528.47120346928477]
[null,"Crawler Tractors",2025,"Diesel",100,174.99,527.47904416342237]
[null,"Crawler Tractors",2025,"Diesel",175,299.99,527.28821683495039]
[null,"Crawler Tractors",2025,"Diesel",300,599.99,528.09273293708316]
[null,"Crawler Tractors",2025,"Diesel",600,749.99,524.38601668899184]
[null,"Crawler Tractors",2025,"Diesel",750,999,533.87807036748052]
[null,"Dumpers/Tenders",2025,"Diesel",0,24.99,572.88007319284611]
[null,"Excavators",2025,"Diesel",0,24.99,845.98020460230316]
[null,"Excavators",2025,"Diesel",25,49.99,587.13772378651765]
[null,"Excavators",2025,"Diesel",50,74.989999999999995,527.22318297920526]
[null,"Excavators",2025,"Diesel",75,99.99,524.8720837979422]
[null,"Excavators",2025,"Diesel",100,174.99,528.08613547489131]
[null,"Excavators",2025,"Diesel",175,299.99,528.27448487114395]
[null,"Excavators",2025,"Diesel",300,599.99,526.98820790748312]
[null,"Excavators",2025,"Diesel",600,749.99,530.4277735418043]
[null,"Excavators",2025,"Diesel",750,999,534.92116444234193]
[null,"Forklifts",2025,"Diesel",25,49.99,587.35000856842112]
[null,"Forklifts",2025,"Diesel",50,74.989999999999995,520.48959077898655]
[null,"Forklifts",2025,"Diesel",75,99.99,527.1082196876248]
[null,"Forklifts",2025,"Diesel",100,174.99,527.46502849537137]
[null,"Forklifts",2025,"Diesel",175,299.99,528.24353100073427]
[null,"Forklifts",2025,"Diesel",300,599.99,531.09943283188591]
[null,"Forklifts",2025,"Diesel",600,749.99,531.09943283188591]
[null,"Forklifts",2025,"Diesel",750,999,527.6403217389045]
[null,"Generator Sets",2025,"Diesel",0,24.99,568.32219638049594]
[null,"Generator Sets",2025,"Diesel",25,49.99,568.31170378787647]
[null,"Graders",2025,"Diesel",0,24.99,587.01225266745553]
[null,"Graders",2025,"Diesel",25,49.99,586.25634760959201]
[null,"Graders",2025,"Diesel",50,74.989999999999995,544.09824334254245]
[null,"Graders",2025,"Diesel",75,99.99,522.94467592197054]
[null,"Graders",2025,"Diesel",100,174.99,531.19419370759897]
[null,"Graders",2025,"Diesel",175,299.99,527.70640300616856]
[null,"Graders",2025,"Diesel",300,599.99,525.70754696548647]
[null,"Graders",2025,"Diesel",600,749.99,525.70754696548647]
[null,"Graders",2025,"Diesel",750,999,528.12148608744747]
[null,"Off-Highway Tractors",2025,"Diesel",0,24.99,586.52591277295005]
[null,"Off-Highway Tractors",2025,"Diesel",25,49.99,586.15276227947504]
[null,"Off-Highway Tractors",2025,"Diesel",50,74.989999999999995,526.61335212389315]
[null,"Off-Highway Tractors",2025,"Diesel",75,99.99,529.62205111198818]
[null,"Off-Highway Tractors",2025,"Diesel",100,174.99,527.45549294977877]
[null,"Off-Highway Tractors",2025,"Diesel",175,299.99,527.78141142683887]
[null,"Off-Highway Tractors",2025,"Diesel",300,599.99,526.64713498051151]
[null,"Off-Highway Tractors",2025,"Diesel",600,749.99,524.14357742227537]
[null,"Off-Highway Tractors",2025,"Diesel",750,999,527.64692073807555]
[null,"Off-Highway Trucks",2025,"Diesel",25,49.99,582.02223558159233]
[null,"Off-Highway Trucks",2025,"Diesel",50,74.989999999999995,522.49338441730697]
[null,"Off-Highway Trucks",2025,"Diesel",75,99.99,530.1184549917615]
[null,"Off-Highway Trucks",2025,"Diesel",100,174.99,526.64266295348]
[null,"Off-Highway Trucks",2025,"Diesel",175,299.99,526.22127995685071]
[null,"Off-Highway Trucks",2025,"Diesel",300,599.99,528.5873518968865]
[null,"Off-Highway Trucks",2025,"Diesel",600,749.99,528.69036442379274]
[null,"Off-Highway Trucks",2025,"Diesel",750,999,524.32061989236524]
[null,"Other Construction Equipment",2025,"Diesel",0,24.99,848.5189751599836]
[null,"Other Construction Equipment",2025,"Diesel",25,49.99,591.48342377046038]
[null,"Other Construction Equipment",2025,"Diesel",50,74.989999999999995,522.34797319859069]
[null,"Other Construction Equipment",2025,"Diesel",75,99.99,527.74261493122481]
[null,"Other Construction Equipment",2025,"Diesel",100,174.99,526.48510669345785]
[null,"Other Construction Equipment",2025,"Diesel",175,299.99,528.59947722310926]
[null,"Other Construction Equipment",2025,"Diesel",300,599.99,528.4194957737318]
[null,"Other Construction Equipment",2025,"Diesel",600,749.99,528.78038014805293]
[null,"Other Construction Equipment",2025,"Diesel",750,999,527.55395896511789]
[null,"Other General Industrial Equipment",2025,"Diesel",0,24.99,848.00687974006462]
[null,"Other General Industrial Equipment",2025,"Diesel",25,49.99,588.0263729994083]
[null,"Other General Industrial Equipment",2025,"Diesel",50,74.989999999999995,528.19055821106633]
[null,"Other General Industrial Equipment",2025,"Diesel",75,99.99,528.45507498528707]
[null,"Other General Industrial Equipment",2025,"Diesel",100,174.99,528.38307470674044]
[null,"Other General Industrial Equipment",2025,"Diesel",175,299.99,528.50888380764832]
[null,"Other General Industrial Equipment",2025,"Diesel",300,599.99,528.18810593608089]
[null,"Other General Industrial Equipment",2025,"Diesel",600,749.99,528.18665555072562]
[null,"Other General Industrial Equipment",2025,"Diesel",750,999,528.18955743975232]
[null,"Other Material Handling Equipment",2025,"Diesel",0,24.99,586.78480833340438]
[null,"Other Material Handling Equipment",2025,"Diesel",25,49.99,590.07592181601206]
[null,"Other Material Handling Equipment",2025,"Diesel",50,74.989999999999995,525.35292363448252]
[null,"Other Material Handling Equipment",2025,"Diesel",75,99.99,528.77814962702018]
[null,"Other Material Handling Equipment",2025,"Diesel",100,174.99,527.40502422011127]
[null,"Other Material Handling Equipment",2025,"Diesel",175,299.99,528.0110968299914]
[null,"Other Material Handling Equipment",2025,"Diesel",300,599.99,528.58250187097872]
[null,"Other Material Handling Equipment",2025,"Diesel",600,749.99,527.80425993267704]
[null,"Other Material Handling Equipment",2025,"Diesel",750,999,527.80425993267954]
[null,"Pavers",2025,"Diesel",0,24.99,860.20485007675734]
[null,"Pavers",2025,"Diesel",25,49.99,587.4250908919538]
[null,"Pavers",2025,"Diesel",50,74.989999999999995,524.49810564151653]
[null,"Pavers",2025,"Diesel",75,99.99,526.53742177466006]
[null,"Pavers",2025,"Diesel",100,174.99,528.49441865132371]
[null,"Pavers",2025,"Diesel",175,299.99,528.33663726309851]
[null,"Pavers",2025,"Diesel",300,599.99,527.6762506761919]
[null,"Pavers",2025,"Diesel",600,749.99,527.83556413186295]
[null,"Paving Equipment",2025,"Diesel",0,24.99,850.42563789772464]
[null,"Paving Equipment",2025,"Diesel",25,49.99,585.79552608654035]
[null,"Paving Equipment",2025,"Diesel",50,74.989999999999995,523.95256161315638]
[null,"Paving Equipment",2025,"Diesel",75,99.99,527.68635761517237]
[null,"Paving Equipment",2025,"Diesel",100,174.99,526.93473076222244]
[null,"Paving Equipment",2025,"Diesel",175,299.99,528.5987034880244]
[null,"Paving Equipment",2025,"Diesel",300,599.99,527.00859599216676]
[null,"Paving Equipment",2025,"Diesel",600,749.99,528.03734444144447]
[null,"Paving Equipment",2025,"Diesel",750,999,528.09459478713063]
[null,"Plate Compactors",2025,"Diesel",0,24.99,568.40603749587581]
[null,"Pressure Washers",2025,"Diesel",0,24.99,577.82851925849525]
[null,"Pressure Washers",2025,"Diesel",25,49.99,582.65613596368837]
[null,"Pumps",2025,"Diesel",0,24.99,568.24381411044283]
[null,"Pumps",2025,"Diesel",25,49.99,568.33555389091123]
[null,"Rollers",2025,"Diesel",0,24.99,847.99879878112256]
[null,"Rollers",2025,"Diesel",25,49.99,586.90234461955981]
[null,"Rollers",2025,"Diesel",50,74.989999999999995,527.54643408427285]
[null,"Rollers",2025,"Diesel",75,99.99,528.03350686545036]
[null,"Rollers",2025,"Diesel",100,174.99,527.45164540330472]
[null,"Rollers",2025,"Diesel",175,299.99,528.08537300312298]
[null,"Rollers",2025,"Diesel",300,599.99,529.72242927461241]
[null,"Rough Terrain Forklifts",2025,"Diesel",0,24.99,587.23563093662813]
[null,"Rough Terrain Forklifts",2025,"Diesel",25,49.99,587.16010761493862]
[null,"Rough Terrain Forklifts",2025,"Diesel",50,74.989999999999995,529.99441931641832]
[null,"Rough Terrain Forklifts",2025,"Diesel",75,99.99,528.72611704496069]
[null,"Rough Terrain Forklifts",2025,"Diesel",100,174.99,527.75897387963312]
[null,"Rough Terrain Forklifts",2025,"Diesel",175,299.99,528.29937205239878]
[null,"Rough Terrain Forklifts",2025,"Diesel",300,599.99,527.80698426812671]
[null,"Rough Terrain Forklifts",2025,"Diesel",600,749.99,527.40300003853577]
[null,"Rubber Tired Dozers",2025,"Diesel",25,49.99,586.98677618547197]
[null,"Rubber Tired Dozers",2025,"Diesel",50,74.989999999999995,527.91764247618084]
[null,"Rubber Tired Dozers",2025,"Diesel",75,99.99,531.63196066836758]
[null,"Rubber Tired Dozers",2025,"Diesel",100,174.99,528.12513977861863]
[null,"Rubber Tired Dozers",2025,"Diesel",175,299.99,528.56035704355395]
[null,"Rubber Tired Dozers",2025,"Diesel",300,599.99,532.17175177805052]
[null,"Rubber Tired Dozers",2025,"Diesel",600,749.99,527.8761006210533]
[null,"Rubber Tired Loaders",2025,"Diesel",0,24.99,850.79074685414923]
[null,"Rubber Tired Loaders",2025,"Diesel",25,49.99,588.74997515761709]
[null,"Rubber Tired Loaders",2025,"Diesel",50,74.989999999999995,528.02327629646209]
[null,"Rubber Tired Loaders",2025,"Diesel",75,99.99,522.87944325255376]
[null,"Rubber Tired Loaders",2025,"Diesel",100,174.99,526.16053598950634]
[null,"Rubber Tired Loaders",2025,"Diesel",175,299.99,526.67502103525362]
[null,"Rubber Tired Loaders",2025,"Diesel",300,599.99,527.13522969796156]
[null,"Rubber Tired Loaders",2025,"Diesel",600,749.99,526.18834390853976]
[null,"Rubber Tired Loaders",2025,"Diesel",750,999,529.00260777240089]
[null,"Scrapers",2025,"Diesel",0,24.99,586.96300368019479]
[null,"Scrapers",2025,"Diesel",25,49.99,577.15032071478731]
[null,"Scrapers",2025,"Diesel",50,74.989999999999995,531.26450543811029]
[null,"Scrapers",2025,"Diesel",75,99.99,530.07652097408493]
[null,"Scrapers",2025,"Diesel",100,174.99,531.82029686515614]
[null,"Scrapers",2025,"Diesel",175,299.99,527.14883263642469]
[null,"Scrapers",2025,"Diesel",300,599.99,528.9423507160908]
[null,"Scrapers",2025,"Diesel",600,749.99,527.90463397707538]
[null,"Scrapers",2025,"Diesel",750,999,527.72194888869547]
[null,"Signal Boards",2025,"Diesel",0,24.99,568.30198167747687]
[null,"Signal Boards",2025,"Diesel",25,49.99,562.45740211503789]
[null,"Skid Steer Loaders",2025,"Diesel",0,24.99,848.21437368125612]
[null,"Skid Steer Loaders",2025,"Diesel",25,49.99,589.20380104378046]
[null,"Skid Steer Loaders",2025,"Diesel",50,74.989999999999995,528.37419804495835]
[null,"Skid Steer Loaders",2025,"Diesel",75,99.99,528.02327629646175]
[null,"Skid Steer Loaders",2025,"Diesel",100,174.99,527.07732530872499]
[null,"Skid Steer Loaders",2025,"Diesel",175,299.99,528.01305651965129]
[null,"Skid Steer Loaders",2025,"Diesel",300,599.99,528.53698736169258]
[null,"Skid Steer Loaders",2025,"Diesel",600,749.99,528.53698736169258]
[null,"Skid Steer Loaders",2025,"Diesel",750,999,527.03971556527199]
[null,"Surfacing Equipment",2025,"Diesel",25,49.99,591.32642735169611]
[null,"Surfacing Equipment",2025,"Diesel",50,74.989999999999995,530.26142181265448]
[null,"Surfacing Equipment",2025,"Diesel",75,99.99,532.45338816665662]
[null,"Surfacing Equipment",2025,"Diesel",100,174.99,528.39128230319909]
[null,"Surfacing Equipment",2025,"Diesel",175,299.99,528.39641667573903]
[null,"Surfacing Equipment",2025,"Diesel",300,599.99,527.12065884376489]
[null,"Surfacing Equipment",2025,"Diesel",600,749.99,527.64595997409151]
[null,"Surfacing Equipment",2025,"Diesel",750,999,527.97982359614343]
[null,"Sweepers/Scrubbers",2025,"Diesel",0,24.99,849.45650157097009]
[null,"Sweepers/Scrubbers",2025,"Diesel",25,49.99,586.85874289577703]
[null,"Sweepers/Scrubbers",2025,"Diesel",50,74.989999999999995,525.3626192424656]
[null,"Sweepers/Scrubbers",2025,"Diesel",75,99.99,527.85258914065957]
[null,"Sweepers/Scrubbers",2025,"Diesel",100,174.99,528.03121247989179]
[null,"Sweepers/Scrubbers",2025,"Diesel",175,299.99,528.03123335315911]
[null,"Sweepers/Scrubbers",2025,"Diesel",300,599.99,528.03134918549063]
[null,"Sweepers/Scrubbers",2025,"Diesel",600,749.99,528.03134918549063]
[null,"Sweepers/Scrubbers",2025,"Diesel",750,999,528.03134918549517]
[null,"Tractors/Loaders/Backhoes",2025,"Diesel",0,24.99,848.30498867251299]
[null,"Tractors/Loaders/Backhoes",2025,"Diesel",25,49.99,580.49357900353004]
[null,"Tractors/Loaders/Backhoes",2025,"Diesel",50,74.989999999999995,527.22420507058177]
[null,"Tractors/Loaders/Backhoes",2025,"Diesel",75,99.99,529.86269726928788]
[null,"Tractors/Loaders/Backhoes",2025,"Diesel",100,174.99,525.99660405572661]
[null,"Tractors/Loaders/Backhoes",2025,"Diesel",175,299.99,526.84377230436974]
[null,"Tractors/Loaders/Backhoes",2025,"Diesel",300,599.99,525.86344605650959]
[null,"Tractors/Loaders/Backhoes",2025,"Diesel",600,749.99,503.9247663194883]
[null,"Tractors/Loaders/Backhoes",2025,"Diesel",750,999,528.14724935959669]
[null,"Trenchers",2025,"Diesel",0,24.99,848.9191827051493]
[null,"Trenchers",2025,"Diesel",25,49.99,587.94758474930643]
[null,"Trenchers",2025,"Diesel",50,74.989999999999995,522.31907433211802]
[null,"Trenchers",2025,"Diesel",75,99.99,530.15209956551473]
[null,"Trenchers",2025,"Diesel",100,174.99,527.18641726687792]
[null,"Trenchers",2025,"Diesel",175,299.99,529.78053037329983]
[null,"Trenchers",2025,"Diesel",300,599.99,529.63712478463378]
[null,"Trenchers",2025,"Diesel",600,749.99,527.929109421156]
[null,"Trenchers",2025,"Diesel",750,999,528.02327629646152]
[null,"Welders",2025,"Diesel",0,24.99,568.32903289404805]
[null,"Welders",2025,"Diesel",25,49.99,568.30078335112057]
[null,"Source: CalEEMod, https://www.caleemod.com/"]
[null,"Original Source: California Air Resources Board (CARB). 2021. OFFROAD2017 - ORION. Available: https://www.arb.ca.gov/orion/. Accessed: March 2021."]
[null,"Note: Table only shows emission factors for diesel construction equipment for 2025"]
[null,"Note: CalEEMod combustion emission factors are CO2 only (gCO2/hp-hr). They do not include CH4 or N2O emissions"]

{"sheet":"Land Use","index":20,"n_rows":136,"n_cols":9,"rows_kept":136,"cut":false,"hidden":false,"merged":[[84,4,84,5],[85,4,85,6],[86,4,86,5],[94,8,95,8],[94,1,95,1],[94,2,95,2],[94,3,94,4],[94,5,94,6],[94,7,95,7]]}
[null,"Land Use Change"]
[]
[null,"This tab documents the source data and calculations used to develop the assumptions used to calculate GHG emissions from land use change. Refer to the final report for the detailed methodology."]
[]
[null,"Land Type","MT C/hectare","MT C/acre"]
[null,"Wetlands: peatland, non forested",{"$f":"F27","v":909.02734074540251},{"$f":"G27","v":367.87088110131424}]
[null,"Wetlands: peatland, forested",{"$f":"F28","v":1077.8237758126547},436.18048028678282]
[null,"Wetlands: mineral soil, non forested",137.30208626906872,55.564268739632432]
[null,"Wetlands: mineral soil, forested",190.6511603722897,77.153906384852476]
[null,"Forest ",null,{"$f":"E36","v":99}]
[null,"Rivers and streams",{"$f":"SUM(C42,D61,C74)","v":0},{"$f":"C11/Constants!$F$28","v":0}]
[null,"Brush and grassland",{"$f":"SUM(C43,D62,C75)","v":100.81514922828882},{"$f":"C12/Constants!$F$28","v":40.798506395373956}]
[null,"Cropland",{"$f":"SUM(C44,D63,C76)","v":80.286367017773173},{"$f":"C13/Constants!$F$28","v":32.490790157128821}]
[null,"Livestock rangeland/pastureland",{"$f":"C12","v":100.81514922828882},{"$f":"C14/Constants!$F$28","v":40.798506395373956}]
[null,"Lawn/landscaping",{"$f":"SUM(C47,C79)","v":47.099999999999994},{"$f":"C15/Constants!$F$28","v":19.060723174359076}]
[null,"Green Infrastructure: Constructed wetlands, paved",{"$f":"SUM(C48,C67,C80)","v":0},{"$f":"C16/Constants!$F$28","v":0}]
[null,"Green Infrastructure: Constructed wetlands, vegetated",{"$f":"SUM(C49,D68,C81)","v":107.25},{"$f":"C17/Constants!$F$28","v":43.402602132696629}]
[null,"Green Infrastructure: Constructed green roofs",{"$f":"C15","v":47.099999999999994},{"$f":"C18/Constants!$F$28","v":19.060723174359076}]
[null,"Green Infrastructure: Constructed permeable pavements ",{"$f":"SUM(C50,D69,C82)","v":0},{"$f":"C19/Constants!$F$28","v":0}]
[null,"Impervious surface ",{"$f":"SUM(C45,D64,C77)","v":0},{"$f":"C20/Constants!$F$28","v":0}]
[null,"Stormwater pond (wet sedimentation basin) ",{"$f":"SUM(C46,D65,C78)","v":0},{"$f":"C21/Constants!$F$28","v":0}]
[]
[null,"Wetlands"]
[]
[null,"Area and Carbon Pool for Wetlands in North America, Conterminous United States"]
[null,"Wetland Type","Area (km2)","Carbon Pool (Pg C)","MT C/km2","MT C/hectare","MT C/acre"]
[null,"Peatlands, non forested ",42903,3.9,{"$f":"D27/C27*Constants!$F$26","v":90902.734074540247},{"$f":"E27*Constants!$F$29","v":909.02734074540251},{"$f":"F27/Constants!$F$28","v":367.87088110131424}]
[null,"Peatlands, forested ",40823,4.4000000000000004,{"$f":"D28/C28*Constants!$F$26","v":107782.37758126546},{"$f":"E28*Constants!$F$29","v":1077.8237758126547},{"$f":"F28/Constants!$F$28","v":436.18048028678282}]
[null,"Mineral soil, non forested ",138381,1.9,{"$f":"D29/C29*Constants!$F$26","v":13730.208626906871},{"$f":"E29*Constants!$F$29","v":137.30208626906872},{"$f":"F29/Constants!$F$28","v":55.564268739632432}]
[null,"Mineral soil, forested ",173091,3.3,{"$f":"D30/C30*Constants!$F$26","v":19065.116037228971},{"$f":"E30*Constants!$F$29","v":190.6511603722897},{"$f":"F30/Constants!$F$28","v":77.153906384852476}]
[null,"Source: https://carbon2018.globalchange.gov/downloads/SOCCR2_Ch13_Terrestrial_Wetlands.pdf"]
[]
[null,"Forests"]
[]
[null,"Land Type","million acres","million MT","MT C/acre"]
[null,"Forest ",16.21,1607,99]
[null,"Source: Anderson et al., 2008. The Potential for Terrerstrial Carbon Sequestration in Minnesota. University of Minnesota, St. Paul, MN. https://files.dnr.state.mn.us/aboutdnr/reports/carbon2008.pdf."]
[]
[null,"Above Ground Stocks"]
[]
[null,"Land Type","MT C/hectare","Source"]
[null,"Rivers and streams",0,"ICF expert judgement"]
[null,"Brush and grassland",2.4,"IPCC 2006 Chapter 4 table 6.4 for Cool temperate, wet "]
[null,"Cropland",4.7,"IPCC 2019 Chapter 5 table 5.9"]
[null,"Impervious surface ",0,"ICF expert judgement"]
[null,"Stormwater pond (wet sedimentation basin)",0,"ICF expert judgement"]
[null,"Lawn/landscaping",{"$f":"D55","v":1.3}]
[null,"Green Infrastructure: Constructed wetlands, paved",0,"ICF expert judgement"]
[null,"Green Infrastructure: Constructed wetlands, vegetated",5,"Gleason et al. \"Potential of Restored Prairie Wetlands in the Glaciated North American Prairie to Sequester Atmospheric Carbon\" (2005). USGS Northern Prairie Wildlife Research Center. 92. https://digitalcommons.unl.edu/usgsnpwrc/92"]
[null,"Green Infrastructure: Constructed permeable pavements ",0,"ICF expert judgement"]
[]
[null,"Aboveground Grass Biomass ","kg C/m2","MT C/hectare"]
[null,"low",0.05,{"$f":"C53*Constants!$F$6*Constants!$F$30","v":0.5}]
[null,"high",0.21,{"$f":"C54*Constants!$F$6*Constants!$F$30","v":2.1}]
[null,"Average",{"$f":"AVERAGE(C53:C54)","v":0.13},{"$f":"AVERAGE(D53:D54)","v":1.3}]
[null,"Source: Kong et al. 2014. Carbon emission and sequestration of urban turfgrass systems in Hong Kong,Science of The Total Environment,Volumes 473–474,Pages 132-138,ISSN 0048-9697,https://doi.org/10.1016/j.scitotenv.2013.12.012"]
[]
[null,"Below Ground Stocks"]
[]
[null,"Land Type","Ratio of BGL to AGL ","MT C/hectare","Source"]
[null,"Rivers and streams",0,{"$f":"C61*C42","v":0},"ICF expert judgement"]
[null,"Brush and grassland",4,{"$f":"C62*C43","v":9.6},"IPCC 2006 Chapter 6 Table 6.1"]
[null,"Cropland",0,{"$f":"C63*C44","v":0},"Pg. 5.26 of 2006 method: \"the methodology below considers only carbon stock change in above-ground biomass since limited data are available on below-ground carbon stocks in perennial cropland\" "]
[null,"Impervious surface ",0,{"$f":"C64*C45","v":0},"ICF expert judgement"]
[null,"Stormwater pond (wet sedimentation basin)",0,{"$f":"C65*C46","v":0},"ICF expert judgement"]
[null,"Lawn/landscaping",0,0,"Kong et al. 2014. Carbon emission and sequestration of urban turfgrass systems in Hong Kong,Science of The Total Environment,Volumes 473–474,Pages 132-138,ISSN 0048-9697,https://doi.org/10.1016/j.scitotenv.2013.12.012"]
[null,"Green Infrastructure: Constructed wetlands, paved",0,{"$f":"C67*C48","v":0},"ICF expert judgement"]
[null,"Green Infrastructure: Constructed wetlands, vegetated",1.1499999999999999,{"$f":"C68*C49","v":5.75}," IPCC 2013 Supplement to the 2006 Guidelines for National Greenhouse Gas Inventories: Wetlands, Annex 3A.1, Table 4.9: https://www.ipcc.ch/site/assets/uploads/2018/03/Wetlands_Supplement_Entire_Report.pdf"]
[null,"Green Infrastructure: Constructed permeable pavements ",0,{"$f":"C69*C49","v":0},"ICF expert judgement"]
[]
[null,"Soil"]
[]
[null,"Land Type","MT C/hectare","Source"]
[null,"Rivers and streams",0,"ICF expert judgement"]
[null,"Brush and grassland",{"$f":"F128*$G$87","v":88.815149228288817}]
[null,"Cropland",{"$f":"E128","v":75.586367017773171}]
[null,"Impervious surface ",0,"ICF expert judgement"]
[null,"Stormwater pond (wet sedimentation basin)",0,"ICF expert judgement"]
[null,"Lawn/landscaping",45.8,"Selhorst, A., Lal, R. Net Carbon Sequestration Potential and Emissions in Home Lawn Turfgrasses of the United States. Environmental Management 51, 198–208 (2013). https://doi.org/10.1007/s00267-012-9967-6"]
[null,"Green Infrastructure: Constructed wetlands, paved",0,"ICF expert judgement"]
[null,"Green Infrastructure: Constructed wetlands, vegetated",96.5,"Euliss et al. 2005. North American prairie wetlands are important nonforested land-based carbon storage sites. Science of the Total Environment 361 (p 179-188). doi:10.1016/j.scitotenv.2005.06.007"]
[null,"Green Infrastructure: Constructed permeable pavements ",0,"ICF expert judgement"]
[]
[null,"Carbon Stocks for Cropland and Grazing Land Systems",null,null,"Table 3-10. Land Use, Management, and Input Factors"]
[null,"IPCC Soil Categories ","Carbon Stock \n(MT C/hectare)",null,"Parameter ",null,"Cool Moist Climate"]
[null,"High clay activity mineral soils ",65,null,"Land-Use Change Factors "]
[null,"Low clay activity mineral soils ",52,null,"General uncultivated ",null,1.37]
[null,"Sandy soils ",40,null,"Source: USDA. \"Quantifying Greenhouse Gas  Fluxes in Agriculture and Forestry: Methods for Entity-Scale Inventory.\" April 2024. https://www.usda.gov/about-usda/general-information/staff-offices/office-chief-economist/office-energy-and-environmental-policy/climate-change/greenhouse-gas-inventory-and-assessment-program/quantifying-greenhouse-gas-fluxes-methods-entity-scale-inventory. "]
[null,"Spodic soils",74]
[null,"Aquic soils",89]
[null,"Notes: Carbon stock values from Table 3-9 for Cold Temperate, Moist climates"]
[null,"Source: USDA. \"Quantifying Greenhouse Gas Fluxes in Agriculture and Forestry: Methods for Entity-Scale Inventory.\" April 2024. https://www.usda.gov/about-usda/general-information/staff-offices/office-chief-economist/office-energy-and-environmental-policy/climate-change/greenhouse-gas-inventory-and-assessment-program/quantifying-greenhouse-gas-fluxes-methods-entity-scale-inventory. "]
[]
[null,"Minnesota soil by land cover"]
[null,"Order","Suborder","Cropland",null,"Grassland",null," IPCC Category","Mapping"]
[null,null,null,"Area (Square Meters)","Percent","Area (Square Meters)","Percent"]
[1,"Mollisols","Aquolls",38084803200,{"$f":"D97/SUM($D$97:$D$118)","v":0.49851351689964252},56979000,{"$f":"F97/SUM($F$97:$F$118)","v":6.9626670831142948E-2},"Wetland","Aquic soils"]
[2,"Alfisols","Aqualfs",1203071400,1.5747681602707522E-2,52473600,6.4121203856246381E-2,"Wetland","Aquic soils"]
[3,"Inceptisols","Udepts",4594850100,6.0144590243745154E-2,169608600,0.20725674656155763,"Low Activity Clay Soil","Low clay activity mineral soils"]
[4,"Histosols","Saprists",876636900,1.1474795911850747E-2,21278700,2.6001948798937177E-2,"Organic","Aquic soils"]
[5,"Mollisols","Udolls",19367215200,0.25350842726434814,145549800,0.17785759690655664,"High Activity Clay Soil","High clay activity mineral soils"]
[6,"Alfisols","Udalfs",7252569900,9.4932987008568517E-2,158363100,0.1935150745976478,"Low Activity Clay Soil","Low clay activity mineral soils"]
[7,"Entisols","Aquents",301269600,3.9434880900460724E-3,9690300,1.1841263068060593E-2,"Wetland","Aquic soils"]
[8,"Entisols","Psamments",939126600,1.2292758918076905E-2,67998600,8.3092299604741349E-2,"Sandy","Sandy soils"]
[9,"Inceptisols","Aquepts",549849600,7.1972922223702525E-3,104538600,0.12774311046786571,"Wetland","Aquic soils"]
[10,"Histosols","Hemists",32713200,4.2820156626256078E-4,10688400,1.3060912064297167E-2,"Organic","Aquic soils"]
[11,"Entisols","Fluvents",205584300,2.6910091112759427E-3,829800,1.0139913205862233E-3,"Wetland","Aquic soils"]
[12,"Vertisols","Aquerts",2145022200,2.8077408070991645E-2,346500,4.2341286163307589E-4,"High Activity Clay Soil","High clay activity mineral soils"]
[13,"Entisols","Orthents",216510300,2.8340257013064118E-3,12484800,1.5256060302789686E-2,"Sandy","Sandy soils"]
[14,"Mollisols","Albolls",65246400,8.5404701077832629E-4,293400,3.5852621530489025E-4,"Wetland","Aquic soils"]
[15,"Spodosols","Orthods",2430000,3.1807643581735284E-5,1446300,1.7673362821931245E-3,"Spodic","Spodic soils"]
[16,"Histosols","Fibrists",3600,4.7122434935904123E-8,null,0,"Organic","Aquic soils"]
[17,"Vertisols","Uderts",207955800,2.7220510152899694E-3,233100,2.8484137964406925E-4,"High Activity Clay Soil","High clay activity mineral soils"]
[18,"Mollisols","Ustolls",344592900,4.5105712526734764E-3,1818900,2.2226425801570035E-3,"High Activity Clay Soil","High clay activity mineral soils"]
[19,"Alfisols","Ustalfs",5832000,7.6338344596164673E-5,218700,2.6724500097879858E-4,"High Activity Clay Soil","High clay activity mineral soils"]
[20,"Mollisols","Borolls",13500,1.7670913100964045E-7,null,0,"High Activity Clay Soil","High clay activity mineral soils"]
[21,"Inceptisols","Ochrepts",594000,7.7752017644241794E-6,424800,5.190931706254853E-4,"High Activity Clay Soil","High clay activity mineral soils"]
[22,"Alfisols","Boralfs",840600,1.1003088557533613E-5,3085200,3.770024129034245E-3,"Low Activity Clay Soil","Low clay activity mineral soils"]
[null,"Source: Gridded Soil Survey Geographic (gSSURGO) Database: https://www.nrcs.usda.gov/resources/data-and-reports/gridded-soil-survey-geographic-gssurgo-database"]
[null,"Source (mapping): https://www.isric.org/sites/default/files/isric_report_2009_02.pdf"]
[]
[null,"IPCC Soil Categories ","Cropland Cover","Grassland Cover","Weighted Cropland Carbon Stock (MT C/hectare)","Weighted Grassland Carbon Stock (MT C/hectare)"]
[null,"High clay activity mineral soils",{"$f":"SUMIF($I$97:$I$118,B123,$E$97:$E$118)","v":0.28890274785879477},{"$f":"SUMIF($I$97:$I$118,B123,$G$97:$G$118)","v":0.18157483189959508},{"$f":"C123*C86","v":18.778678610821661},{"$f":"D123*C86","v":11.802364073473681}]
[null,"Low clay activity mineral soils",{"$f":"SUMIF($I$97:$I$118,B124,$E$97:$E$118)","v":0.1550885803408712},{"$f":"SUMIF($I$97:$I$118,B124,$G$97:$G$118)","v":0.40454184528823967},{"$f":"C124*C87","v":8.0646061777253024},{"$f":"D124*C87","v":21.036175954988462}]
[null,"Sandy soils",1.5126784619383316E-2,9.8348359907531033E-2,{"$f":"C125*C88","v":0.60507138477533262},{"$f":"D125*C88","v":3.9339343963012414}]
[null,"Spodic soils",3.1807643581735284E-5,1.7673362821931245E-3,{"$f":"C126*C89","v":2.3537656250484109E-3},{"$f":"D126*C89","v":0.13078288488229123}]
[null,"Aquic soils",0.54085007953736886,0.31376762662244112,{"$f":"C127*C90","v":48.13565707882583},{"$f":"D127*C90","v":27.925318769397261}]
[null,null,null,null,{"$f":"SUM(E123:E127)","v":75.586367017773171},64.828576079042932]
[]
[null,"Tree Stock"]
[]
[null,"Urban Tree Sequestration Rate"]
[null,"Tree Type","lbs C/year","kg C/year","MT C/year","MT C (10 years)","MT C (30 years)"]
[null,"Urban Tree",36.4,{"$f":"C134*Constants!$F$19","v":16.510762268000001},{"$f":"D134*Constants!$F$6","v":1.6510762268000002E-2},{"$f":"E134*10","v":0.16510762268000001},{"$f":"E134*30","v":0.49532286804000009}]
[null,"Source: EPA Greenhouse Gas Equivalencies Calculator, https://www.epa.gov/energy/greenhouse-gas-equivalencies-calculator-calculations-and-references"]
[null,"Notes: Based on sampling that includes 11% coniferous trees and 89% deciduous and a 10 year growth period. "]

{"sheet":"Electricity","index":21,"n_rows":149,"n_cols":20,"rows_kept":149,"cut":false,"hidden":false,"merged":[[59,1,60,1],[77,1,78,1],[109,1,110,1],[141,1,142,1],[109,14,109,16],[59,14,59,16],[109,17,109,19],[141,2,141,4],[141,5,141,7],[141,8,141,10],[141,11,141,13],[141,14,141,16],[141,17,141,19],[109,2,109,4],[109,5,109,7],[109,8,109,10],[109,11,109,13],[59,17,59,19],[77,2,77,4],[77,5,77,7],[77,8,77,10],[77,11,77,13],[77,14,77,16],[77,17,77,19],[59,2,59,4],[59,5,59,7],[59,8,59,10],[59,11,59,13],[7,1,7,3],[7,4,8,4],[7,5,8,5],[30,1,31,1],[30,2,30,6]]}
[null,"Electricity Emission Factors"]
[]
[null,"This tab documents the source data and calculations used to develop the electricty emission factors. Refer to the final report for the detailed methodology."]
[]
[null,"Regional Grid"]
[]
[null,"Minnesota Combustion Output Emissions Rate, 2023"]
[null,"lb/MWh",null,null,"kgCO2e/kWh","kgCO2e/MMBtu"]
[null,"CO2","CH4","N20"]
[null,747.38400000000001,7.2999999999999995E-2,0.01,{"$f":"((B10*Constants!I6)+(Electricity!C10*Constants!I7)+(Electricity!D10*Constants!I8))*Constants!F19/Constants!F20","v":0.34113684244486003},{"$f":"E10/Constants!F21*Constants!F24","v":99.977387341920334}]
[null,"Source: eGRID2023, Released 1/17/2025. https://www.epa.gov/egrid/download-data"]
[]
[null,"GREET Grid Mix Assumptions - MISO (former MRO) region"]
[null,"Fuel Source",2023,2024,2025,2030,2037]
[null,"Residual oil",1.1309829295252981E-3,2.2535665060303433E-3,2.2535665060303433E-3,1.2600754023216361E-3,1.3327047063836678E-3]
[null,"Natural gas",0.15759440699179794,0.10736568260431599,0.10736568260431599,6.8132967275576051E-2,6.4081209761681454E-2]
[null,"Coal",0.32243546354928032,0.35256801379678626,0.35256801379678626,0.1131504950115742,0.13522528727440744]
[null,"Nuclear power",7.4068502473061917E-2,0.1059034638416286,0.1059034638416286,9.7069267786818653E-2,6.7765593361540866E-2]
[null,"Biomass ",4.9386196386627884E-3,7.8172812860707475E-3,7.8172812860707475E-3,7.2457830902542004E-3,7.3099891282312089E-3]
[null,"Others",0.43983202441767166,0.42409199196516811,0.42409199196516811,0.71314141143345533,0.72428521576775529]
[null,"Source: GREET1 2024, https://greet.anl.gov/greet_excel_model.models. "]
[]
[null,"GREET Combustion Projections"]
[null,"Year","gCO2e/MMBtu electricity","% of 2023"]
[null,2023,123443.35441335285,{"$f":"C25/$C$25","v":1}]
[null,2025,125942.87916303954,1.0202483540856884]
[null,2030,45477.974208529507,0.36841168505714361]
[null,"Source: GREET1 2024, https://greet.anl.gov/greet_excel_model.models. "]
[]
[null,"GREET Upstream Emission Projections"]
[null,"Year","Upstream GHG emissions"]
[null,null,"gCO2/mmbtu electricity","gCH4/mmbtu electricity","gN20/mmbtu electricity"," gCO2e/MMBtu electricity","kgCO2e/MMBtu"]
[null,2025,3500.4306778331638,201.31336178569137,0.26420790424661361,{"$f":"((C33*Constants!$I$6)+(Electricity!D33*Constants!$I$7)+(Electricity!E33*Constants!$I$8))","v":9207.2199024578749},{"$f":"F33/Constants!$F$8","v":9.2072199024578758}]
[null,2030,1616.4061675862361,77.341076711537553,0.15696221887897033,{"$f":"((C34*Constants!$I$6)+(Electricity!D34*Constants!$I$7)+(Electricity!E34*Constants!$I$8))","v":3823.5513035122144},{"$f":"F34/Constants!$F$8","v":3.8235513035122146}]
[null,"Source: GREET1 2024, https://greet.anl.gov/greet_excel_model.models. "]
[]
[null,"Electric Transmission and Distribution Loss Rate"]
[null,4.8637978879840102E-2]
[null,"Source: GREET1 2024, https://greet.anl.gov/greet_excel_model.models. "]
[]
[null,"Minnesota Electricity Emission Factor, kgCO2e/MMBtu"]
[null,null,2025,2030,2035,2040,2045,2050]
[null,"Upstream ",{"$f":"G33","v":9.2072199024578758},{"$f":"G34","v":3.8235513035122146}]
[null,"Combustion ",{"$f":"$F$10*D26","v":102.00176488138156},{"$f":"$F$10*D27","v":36.832837738247612}]
[null,"T&D",{"$f":"$B$38*(C44+C43)","v":5.4089802531648417},{"$f":"$B$38*(D44+D43)","v":1.9774445915436769}]
[null,"Total",{"$f":"SUM(C43:C45)","v":116.61796503700428},{"$f":"SUM(D43:D45)","v":42.633833633303503},{"$f":"D46/2","v":21.316916816651752},0,0,0]
[]
[null,"Xcel Energy"]
[]
[null,"Xcel Grid Mix Assumptions"]
[null,"Fuel Source",2025,2030,2035,2040,2045,2050]
[null,"Natural gas",0.1195760073037422,0.11616752931254792,7.5770904156468824E-2,0,0,0]
[null,"Coal",0.15006301568004293,0,0,0,0,0]
[null,"Nuclear power",0.27001491737452921,0.25709350833662808,0.22092399356490722,0.21136117365052493,0.17438037576411708,0.15848560313954055]
[null,"Biomass ",6.8473456422281746E-3,4.5822833373482547E-3,2.6141467275672403E-3,1.1871166304590569E-3,6.38126524109997E-5,0]
[null,"Renewables",0.45349871399945751,0.62215667901347571,0.70069095555105676,{"$f":"1-F54","v":0.78863882634947502},{"$f":"1-G54","v":0.82561962423588287},{"$f":"1-H54","v":0.84151439686045948}]
[null,"Source: 'Xcel Enery_IRP Settlment Scenario Energy Mix 02.19.2025.xlsx', provided by Nick Martin on 2/21/2025. Based on Upper Midwest Integrated Resource Plan for 2024-2040. "]
[null,"Notes: Assuming 100% carbon-free sourced to MN from 2040-2050"]
[]
[null,"Unit",2025,null,null,2030,null,null,2035,null,null,2040,null,null,2045,null,null,2050]
[null,null,"Upstream","Combustion","Total","Upstream","Combustion","Total","Upstream","Combustion","Total","Upstream","Combustion","Total","Upstream","Combustion","Total","Upstream","Combustion","Total"]
[null,"gCH4/MMBtu",113.03466052413931,7.8997522429236096,{"$f":"SUM(C62:D62)","v":120.93441276706292},43.546874451393947,0.52049549885459034,{"$f":"SUM(F62:G62)","v":44.067369950248541},28.451611710237241,0.32645467329093758,{"$f":"SUM(I62:J62)","v":28.778066383528177},0,0,{"$f":"SUM(L62:M62)","v":0},0,0,{"$f":"SUM(O62:P62)","v":0},0,0,{"$f":"SUM(R62:S62)","v":0}]
[null,"gN2O/MMBtu",0.26126917895941032,1.2242582506612507,{"$f":"SUM(C63:D63)","v":1.4855274296206611},0.2430663315683424,0.12101030547019251,{"$f":"SUM(F63:G63)","v":0.36407663703853488},0.16124943126279911,7.1987877622000984E-2,{"$f":"SUM(I63:J63)","v":0.2332373088848001},0,0,{"$f":"SUM(L63:M63)","v":0},0,0,{"$f":"SUM(O63:P63)","v":0},0,0,{"$f":"SUM(R63:S63)","v":0}]
[null,"gCO2/MMBtu",2596.2308622093215,63370.001257768599,65966.232119977925,1785.2777444673343,16729.191579044913,18514.469323512247,1189.0266287679253,10911.968157329446,12100.994786097372,0,0,{"$f":"SUM(L64:M64)","v":0},0,0,{"$f":"SUM(O64:P64)","v":0},0,0,{"$f":"SUM(R64:S64)","v":0}]
[null,"gCO2e/MMBtu",{"$f":"((C64*Constants!$I$6)+(Electricity!C62*Constants!$I$7)+(Electricity!C63*Constants!$I$8))","v":5830.437689309465},{"$f":"((D64*Constants!$I$6)+(Electricity!D62*Constants!$I$7)+(Electricity!D63*Constants!$I$8))","v":63915.62275699569},69746.060446305157,{"$f":"((F64*Constants!$I$6)+(Electricity!F62*Constants!$I$7)+(Electricity!F63*Constants!$I$8))","v":3069.0028069719756},{"$f":"((G64*Constants!$I$6)+(Electricity!G62*Constants!$I$7)+(Electricity!G63*Constants!$I$8))","v":16775.833183962444},19844.835990934422,{"$f":"((I64*Constants!$I$6)+(Electricity!I62*Constants!$I$7)+(Electricity!I63*Constants!$I$8))","v":2028.4028559392098},{"$f":"((J64*Constants!$I$6)+(Electricity!J62*Constants!$I$7)+(Electricity!J63*Constants!$I$8))","v":10940.185675751423},{"$f":"((K64*Constants!$I$6)+(Electricity!K62*Constants!$I$7)+(Electricity!K63*Constants!$I$8))","v":12968.588531690633},{"$f":"((L64*Constants!$I$6)+(Electricity!L62*Constants!$I$7)+(Electricity!L63*Constants!$I$8))","v":0},{"$f":"((M64*Constants!$I$6)+(Electricity!M62*Constants!$I$7)+(Electricity!M63*Constants!$I$8))","v":0},{"$f":"SUM(L65:M65)","v":0},{"$f":"((O64*Constants!$I$6)+(Electricity!O62*Constants!$I$7)+(Electricity!O63*Constants!$I$8))","v":0},{"$f":"((P64*Constants!$I$6)+(Electricity!P62*Constants!$I$7)+(Electricity!P63*Constants!$I$8))","v":0},{"$f":"SUM(O65:P65)","v":0},{"$f":"((R64*Constants!$I$6)+(Electricity!R62*Constants!$I$7)+(Electricity!R63*Constants!$I$8))","v":0},{"$f":"((S64*Constants!$I$6)+(Electricity!S62*Constants!$I$7)+(Electricity!S63*Constants!$I$8))","v":0},{"$f":"SUM(R65:S65)","v":0}]
[null,"kgCO2e/MMBtu",{"$f":"C65/Constants!$F$8","v":5.8304376893094654},{"$f":"D65/Constants!$F$8","v":63.915622756995688},69.746060446305151,{"$f":"F65/Constants!$F$8","v":3.0690028069719757},{"$f":"G65/Constants!$F$8","v":16.775833183962444},19.844835990934421,{"$f":"I65/Constants!$F$8","v":2.0284028559392095},{"$f":"J65/Constants!$F$8","v":10.940185675751424},{"$f":"K65/Constants!$F$8","v":12.968588531690633},{"$f":"L65/Constants!$F$8","v":0},{"$f":"M65/Constants!$F$8","v":0},{"$f":"SUM(L66:M66)","v":0},{"$f":"O65/Constants!$F$8","v":0},{"$f":"P65/Constants!$F$8","v":0},{"$f":"SUM(O66:P66)","v":0},{"$f":"R65/Constants!$F$8","v":0},{"$f":"S65/Constants!$F$8","v":0},{"$f":"SUM(R66:S66)","v":0}]
[null,"Source: GREET1 2024, https://greet.anl.gov/greet_excel_model.models. "]
[]
[null,"Minnesota Power"]
[]
[null,"Minnesota Power Grid Mix Plan"]
[null,"Fuel Source",2025,2030,2035,2040]
[null,"Natural Gas",0.01,0.1,0.1,0]
[null,"Coal",0.49,0.1,0,0]
[null,"Renewables",0.5,0.8,0.9,1]
[null,"Sources: https://mnpower.com/IRP2025"]
[]
[null,"Unit",2025,null,null,2030,null,null,2035,null,null,2040,null,null,2045,null,null,2050]
[null,null,"Upstream","Combustion","Total","Upstream","Combustion","Total","Upstream","Combustion","Total","Upstream","Combustion","Total","Upstream","Combustion","Total","Upstream","Combustion","Total"]
[null,"gCH4/MMBtu",226.50456201579937,23.834500450520945,{"$f":"SUM(C80:D80)","v":250.33906246632031},82.578020108463491,5.1685985354287345,{"$f":"SUM(F80:G80)","v":87.746618643892219},37.189858791393313,0.31075674439163686,{"$f":"SUM(I80:J80)","v":37.500615535784952},0,0,{"$f":"SUM(L80:M80)","v":0},0,0,{"$f":"SUM(O80:P80)","v":0},0,0,{"$f":"SUM(R80:S80)","v":0}]
[null,"gN2O/MMBtu",7.1612092147024589E-2,3.4650473828672097,{"$f":"SUM(C81:D81)","v":3.5366594750142344},0.20253471676106294,0.73760421666630038,{"$f":"SUM(F81:G81)","v":0.94013893342736332},0.19195141545842867,3.1086099749513058E-2,{"$f":"SUM(I81:J81)","v":0.22303751520794174},0,0,{"$f":"SUM(L81:M81)","v":0},0,0,{"$f":"SUM(O81:P81)","v":0},0,0,{"$f":"SUM(R81:S81)","v":0}]
[null,"gCO2/MMBtu",2654.060819451523,152138.44913201165,154792.50995146317,1828.3442183086938,45158.385249664374,46986.729467973069,1369.6134443171077,14403.67470652995,15773.288150847056,0,0,0,0,0,0,0,0,0]
[null,"gCO2e/MMBtu",{"$f":"((C82*Constants!$I$6)+(Electricity!C80*Constants!$I$7)+(Electricity!C81*Constants!$I$8))","v":9015.165760312866},{"$f":"((D82*Constants!$I$6)+(Electricity!D80*Constants!$I$7)+(Electricity!D81*Constants!$I$8))","v":153724.05270108607},162739.21846139894,{"$f":"((F82*Constants!$I$6)+(Electricity!F80*Constants!$I$7)+(Electricity!F81*Constants!$I$8))","v":4194.2004812873529},{"$f":"((G82*Constants!$I$6)+(Electricity!G80*Constants!$I$7)+(Electricity!G81*Constants!$I$8))","v":45498.571126072951},49692.771607360308,{"$f":"((I82*Constants!$I$6)+(Electricity!I80*Constants!$I$7)+(Electricity!I81*Constants!$I$8))","v":2461.796615572604},{"$f":"((J82*Constants!$I$6)+(Electricity!J80*Constants!$I$7)+(Electricity!J81*Constants!$I$8))","v":14420.613711806536},{"$f":"((K82*Constants!$I$6)+(Electricity!K80*Constants!$I$7)+(Electricity!K81*Constants!$I$8))","v":16882.410327379141},{"$f":"((L82*Constants!$I$6)+(Electricity!L80*Constants!$I$7)+(Electricity!L81*Constants!$I$8))","v":0},{"$f":"((M82*Constants!$I$6)+(Electricity!M80*Constants!$I$7)+(Electricity!M81*Constants!$I$8))","v":0},0,{"$f":"((O82*Constants!$I$6)+(Electricity!O80*Constants!$I$7)+(Electricity!O81*Constants!$I$8))","v":0},{"$f":"((P82*Constants!$I$6)+(Electricity!P80*Constants!$I$7)+(Electricity!P81*Constants!$I$8))","v":0},0,{"$f":"((R82*Constants!$I$6)+(Electricity!R80*Constants!$I$7)+(Electricity!R81*Constants!$I$8))","v":0},{"$f":"((S82*Constants!$I$6)+(Electricity!S80*Constants!$I$7)+(Electricity!S81*Constants!$I$8))","v":0},0]
[null,"kgCO2e/MMBtu",{"$f":"C83/Constants!$F$8","v":9.0151657603128665},{"$f":"D83/Constants!$F$8","v":153.72405270108607},162.73921846139893,{"$f":"F83/Constants!$F$8","v":4.1942004812873526},{"$f":"G83/Constants!$F$8","v":45.498571126072953},49.692771607360307,{"$f":"I83/Constants!$F$8","v":2.4617966155726041},{"$f":"J83/Constants!$F$8","v":14.420613711806537},{"$f":"K83/Constants!$F$8","v":16.882410327379141},{"$f":"L83/Constants!$F$8","v":0},{"$f":"M83/Constants!$F$8","v":0},0,{"$f":"O83/Constants!$F$8","v":0},{"$f":"P83/Constants!$F$8","v":0},0,{"$f":"R83/Constants!$F$8","v":0},{"$f":"S83/Constants!$F$8","v":0},0]
[null,"Source: GREET1 2024, https://greet.anl.gov/greet_excel_model.models. "]
[]
[null,"Great River Energy"]
[]
[null,"Great River Energy Generation Mix",null,null,null,null,2023]
[null,"Fuel Source",2024,2037,null,"lbsCO2e/MWh",1271]
[null,"Natual Gas/Fuel Oil",0,0.05,null,"kgCO2e/MWh",{"$f":"G90*Constants!F19","v":576.51590227000008}]
[null,"Natual Gas",0.02,0,null,"kgCO2e/MMBtu",{"$f":"G91/(Constants!F20*Constants!F21*Constants!F23)","v":168.96021331774196}]
[null,"Coal",0.01,0,null,"Source: https://greatriverenergy.com/environmental/carbon-intensity/. Accessed March 11, 2025."]
[null,"Hydro",0.01,7.0000000000000007E-2]
[null,"Renewable",0.27,0.72]
[null,"Rainbow Energy Center (Coal)",0.38,0]
[null,"Market",0.31,0.16]
[null,"Source (2024): https://greatriverenergy.com/electricity-sources/. Accessed March 11, 2025."]
[null,"Source (2037): https://greatriverenergy.com/wp-content/uploads/2023/04/2023-37-IRP-One-pager-FINAL.pdf"]
[]
[null,"Great River Energy Grid Mix Assumptions"]
[null,"Fuel Source",2024,2025,2030,2035,2037,2040]
[null,"Residual oil",{"$f":"D15*$C$97","v":6.986056168694064E-4},{"$f":"C103+($G103-$C103)/(G$102-C$102)*(D$102-C$102)","v":2.5843461658041737E-3},{"$f":"D103+($G103-$C103)/(G$102-C$102)*(E$102-C$102)","v":1.3898789459412779E-2},{"$f":"E103+($G103-$C103)/(G$102-C$102)*(F$102-E$102)","v":2.3327492204086614E-2},{"$f":"$D$97*G15+D91/2","v":2.5213232753021387E-2},0]
[null,"Natural gas",{"$f":"D16*$C$97+C92","v":5.3283361607337959E-2},{"$f":"C104+($G104-$C104)/(G$102-C$102)*(D$102-C$102)","v":5.1896410219224962E-2},{"$f":"D104+($G104-$C104)/(G$102-C$102)*(E$102-C$102)","v":4.3574701890546998E-2},3.6639944949982024E-2,{"$f":"$D$97*G16+D91/2","v":3.5252993561869034E-2},0]
[null,"Coal",{"$f":"D17*$C$97+C93+C96","v":0.49929608427700373},0.46255300440676539,0.24209452518533528,5.8379125834143536E-2,{"$f":"$D$97*G17","v":2.1636045963905191E-2},0]
[null,"Nuclear power",{"$f":"D18*$C$97","v":3.2830073790904864E-2},3.1138721571438838E-2,2.099060825464269E-2,1.2533847157312565E-2,{"$f":"$D$97*G18","v":1.0842494937846539E-2},0]
[null,"Biomass ",{"$f":"D19*$C$97","v":2.4233571986819317E-3},2.3269142034384751E-3,1.7482562319777344E-3,1.2660412557604504E-3,{"$f":"$D$97*G19","v":1.1695982605169934E-3},0]
[null,"Others",{"$f":"D20*$C$97+C94+C95","v":0.4114685175092021},0.44950060343332815,0.67769311897808449,0.86785354859871477,{"$f":"$D$97*G20+D94+D95","v":0.90588563452284077},1]
[]
[null,"Unit",2025,null,null,2030,null,null,2035,null,null,2040,null,null,2045,null,null,2050]
[null,null,"Upstream","Combustion","Total","Upstream","Combustion","Total","Upstream","Combustion","Total","Upstream","Combustion","Total","Upstream","Combustion","Total","Upstream","Combustion","Total"]
[null,"gCH4/MMBtu",230.67170710183578,22.744756911692274,{"$f":"SUM(C112:D112)","v":253.41646401352804},131.32044162548314,12.131073727853954,{"$f":"SUM(F112:G112)","v":143.4515153533371},48.64883332702528,3.2863377413220225,{"$f":"SUM(I112:J112)","v":51.935171068347302},0,0,{"$f":"SUM(L112:M112)","v":0},0,0,{"$f":"SUM(O112:P112)","v":0},0,0,{"$f":"SUM(R112:S112)","v":0}]
[null,"gN2O/MMBtu",0.15328438803657329,3.3334753315390642,{"$f":"SUM(C113:D113)","v":3.4867597195756375},0.12249235993080533,1.7897761905283316,{"$f":"SUM(F113:G113)","v":1.912268550459137},9.2190638007201689E-2,0.50336023968605514,{"$f":"SUM(I113:J113)","v":0.59555087769325687},0,0,{"$f":"SUM(L113:M113)","v":0},0,0,{"$f":"SUM(O113:P113)","v":0},0,0,{"$f":"SUM(R113:S113)","v":0}]
[null,"gCO2/MMBtu",3246.1002247513811,150547.32722638675,153793.42745113812,2270.4523547101139,85125.162361366136,87395.614716076248,1543.350240118888,30606.691640515601,32150.04188063449,0,0,0,0,0,0,0,0,0]
[null,"gCO2e/MMBtu",{"$f":"((C114*Constants!$I$6)+(Electricity!C112*Constants!$I$7)+(Electricity!C113*Constants!$I$8))","v":9745.5283864324738},{"$f":"((D114*Constants!$I$6)+(Electricity!D112*Constants!$I$7)+(Electricity!D113*Constants!$I$8))","v":152067.55138277198},161813.07976920446,{"$f":"((F114*Constants!$I$6)+(Electricity!F112*Constants!$I$7)+(Electricity!F113*Constants!$I$8))","v":5979.8851956053059},{"$f":"((G114*Constants!$I$6)+(Electricity!G112*Constants!$I$7)+(Electricity!G113*Constants!$I$8))","v":85939.123116236049},91919.00831184136,{"$f":"((I114*Constants!$I$6)+(Electricity!I112*Constants!$I$7)+(Electricity!I113*Constants!$I$8))","v":2929.9480923475044},{"$f":"((J114*Constants!$I$6)+(Electricity!J112*Constants!$I$7)+(Electricity!J113*Constants!$I$8))","v":30832.099560789422},{"$f":"((K114*Constants!$I$6)+(Electricity!K112*Constants!$I$7)+(Electricity!K113*Constants!$I$8))","v":33762.04765313692},{"$f":"((L114*Constants!$I$6)+(Electricity!L112*Constants!$I$7)+(Electricity!L113*Constants!$I$8))","v":0},{"$f":"((M114*Constants!$I$6)+(Electricity!M112*Constants!$I$7)+(Electricity!M113*Constants!$I$8))","v":0},0,{"$f":"((O114*Constants!$I$6)+(Electricity!O112*Constants!$I$7)+(Electricity!O113*Constants!$I$8))","v":0},{"$f":"((P114*Constants!$I$6)+(Electricity!P112*Constants!$I$7)+(Electricity!P113*Constants!$I$8))","v":0},0,{"$f":"((R114*Constants!$I$6)+(Electricity!R112*Constants!$I$7)+(Electricity!R113*Constants!$I$8))","v":0},{"$f":"((S114*Constants!$I$6)+(Electricity!S112*Constants!$I$7)+(Electricity!S113*Constants!$I$8))","v":0},0]
[null,"kgCO2e/MMBtu",{"$f":"C115/Constants!$F$8","v":9.7455283864324738},{"$f":"D115/Constants!$F$8","v":152.067551382772},161.81307976920448,{"$f":"F115/Constants!$F$8","v":5.9798851956053056},{"$f":"G115/Constants!$F$8","v":85.939123116236047},91.919008311841353,{"$f":"I115/Constants!$F$8","v":2.9299480923475043},{"$f":"J115/Constants!$F$8","v":30.832099560789423},{"$f":"K115/Constants!$F$8","v":33.762047653136918},{"$f":"L115/Constants!$F$8","v":0},{"$f":"M115/Constants!$F$8","v":0},0,{"$f":"O115/Constants!$F$8","v":0},{"$f":"P115/Constants!$F$8","v":0},0,{"$f":"R115/Constants!$F$8","v":0},{"$f":"S115/Constants!$F$8","v":0},0]
[null,"Source: GREET1 2024, https://greet.anl.gov/greet_excel_model.models. "]
[]
[null,"Otter Tail Power Company"]
[]
[null,"Energy Delivery Mix "]
[null,"Fuel Source",2023,2030,2050]
[null,"Market Purchases",0.43,0.32,0.19]
[null,"Gas/Oil",7.0000000000000007E-2,0.05,0.11]
[null,"Coal",0.26,0.19,0]
[null,"Wind",0.22,0.35,0.55000000000000004]
[null,"Solar",0.01,0.08,0.1]
[null,"Hydro",0.01,0.01,0.01]
[null,"Other Renewables",0,0,0.04]
[null,"Source: https://www.otpsustainability.com/media/edfeocny/2023-esg-report.pdf"]
[]
[null,"Otter Tail Grid Mix Assumptions"]
[null,"Fuel Source",2023,2025,2030,2035,2040]
[null,"Residual oil",{"$f":"$C$123*C15+C124/2","v":3.5486322659695882E-2},{"$f":"C134+(E134-C134)/(E133-C133)*(D133-C133)","v":3.2605437365137893E-2},{"$f":"$D$123*F15+D124/2","v":2.5403224128742925E-2},{"$f":"E134+(G134-E134)/2","v":1.2701612064371462E-2},0]
[null,"Natural gas",{"$f":"$C$123*C16+C124/2","v":0.10276559500647311},{"$f":"C135+(E135-C135)/(E134-C134)*(D134-C134)","v":8.6776153441247755E-2},{"$f":"$D$123*F16+D124/2","v":4.6802549528184342E-2},{"$f":"E135+(G135-E135)/2","v":2.3401274764092171E-2},0]
[null,"Coal",{"$f":"$C$123*C17+C125","v":0.39864724932619056},0.34937893763405148,{"$f":"$D$123*F17+D125","v":0.22620815840370376},0.11310407920185188,0]
[null,"Nuclear power",{"$f":"$C$123*C18","v":3.1849456063416624E-2},3.1624515957235297E-2,{"$f":"$D$123*F18","v":3.1062165691781971E-2},1.5531082845890986E-2,0]
[null,"Biomass ",{"$f":"$C$123*C19","v":2.1236064446249988E-3},2.179333342983954E-3,{"$f":"$D$123*F19","v":2.3186505888813441E-3},1.159325294440672E-3,0]
[null,"Others",{"$f":"$C$123*C20+C126+C127+C128","v":0.42912777049959883},0.49743562225934296,{"$f":"$D$123*F20+D126+D127+D128","v":0.6682052516587057},0.83410262582935291,1]
[]
[]
[null,"Unit",2025,null,null,2030,null,null,2035,null,null,2040,null,null,2045,null,null,2050]
[null,null,"Upstream","Combustion","Total","Upstream","Combustion","Total","Upstream","Combustion","Total","Upstream","Combustion","Total","Upstream","Combustion","Total","Upstream","Combustion","Total"]
[null,"gCH4/MMBtu",203.19348860876474,17.726551462778758,{"$f":"SUM(C144:D144)","v":220.9200400715435},129.56788546789375,11.533448401437706,{"$f":"SUM(F144:G144)","v":141.10133386933146},64.691293397963705,5.7667242007188531,{"$f":"SUM(I144:J144)","v":70.458017598682559},0,0,{"$f":"SUM(L144:M144)","v":0},0,0,{"$f":"SUM(O144:P144)","v":0},0,0,{"$f":"SUM(R144:S144)","v":0}]
[null,"gN2O/MMBtu",0.22555654679543,2.6141274215755406,{"$f":"SUM(C145:D145)","v":2.8396839683709705},0.13550491313438506,1.7167520220592329,{"$f":"SUM(F145:G145)","v":1.852256935193618},6.6536235781676584E-2,0.85837601102961647,{"$f":"SUM(I145:J145)","v":0.92491224681129303},0,0,{"$f":"SUM(L145:M145)","v":0},0,0,{"$f":"SUM(O145:P145)","v":0},0,0,{"$f":"SUM(R145:S145)","v":0}]
[null,"gCO2/MMBtu",4202.6262293657355,130257.18432044194,134459.81054980768,2655.6763089865949,84341.388165945595,86997.064474932195,1270.7145254314237,42170.694082972797,43441.408608404221,0,0,0,0,0,0,0,0,0]
[null,"gCO2e/MMBtu",{"$f":"((C146*Constants!$I$6)+(Electricity!C144*Constants!$I$7)+(Electricity!C145*Constants!$I$8))","v":9951.8163953119365},{"$f":"((D146*Constants!$I$6)+(Electricity!D144*Constants!$I$7)+(Electricity!D145*Constants!$I$8))","v":131446.27152811727},141398.08792342921,{"$f":"((F146*Constants!$I$6)+(Electricity!F144*Constants!$I$7)+(Electricity!F145*Constants!$I$8))","v":6319.4859040682322},{"$f":"((G146*Constants!$I$6)+(Electricity!G144*Constants!$I$7)+(Electricity!G145*Constants!$I$8))","v":85119.264007031554},91438.749911099789,{"$f":"((I146*Constants!$I$6)+(Electricity!I144*Constants!$I$7)+(Electricity!I145*Constants!$I$8))","v":3099.7028430565515},{"$f":"((J146*Constants!$I$6)+(Electricity!J144*Constants!$I$7)+(Electricity!J145*Constants!$I$8))","v":42559.632003515777},{"$f":"((K146*Constants!$I$6)+(Electricity!K144*Constants!$I$7)+(Electricity!K145*Constants!$I$8))","v":45659.334846572325},{"$f":"((L146*Constants!$I$6)+(Electricity!L144*Constants!$I$7)+(Electricity!L145*Constants!$I$8))","v":0},{"$f":"((M146*Constants!$I$6)+(Electricity!M144*Constants!$I$7)+(Electricity!M145*Constants!$I$8))","v":0},0,{"$f":"((O146*Constants!$I$6)+(Electricity!O144*Constants!$I$7)+(Electricity!O145*Constants!$I$8))","v":0},{"$f":"((P146*Constants!$I$6)+(Electricity!P144*Constants!$I$7)+(Electricity!P145*Constants!$I$8))","v":0},0,{"$f":"((R146*Constants!$I$6)+(Electricity!R144*Constants!$I$7)+(Electricity!R145*Constants!$I$8))","v":0},{"$f":"((S146*Constants!$I$6)+(Electricity!S144*Constants!$I$7)+(Electricity!S145*Constants!$I$8))","v":0},0]
[null,"kgCO2e/MMBtu",{"$f":"C147/Constants!$F$8","v":9.951816395311937},{"$f":"D147/Constants!$F$8","v":131.44627152811728},141.39808792342922,{"$f":"F147/Constants!$F$8","v":6.3194859040682321},{"$f":"G147/Constants!$F$8","v":85.11926400703156},91.438749911099791,{"$f":"I147/Constants!$F$8","v":3.0997028430565514},{"$f":"J147/Constants!$F$8","v":42.55963200351578},{"$f":"K147/Constants!$F$8","v":45.659334846572328},{"$f":"L147/Constants!$F$8","v":0},{"$f":"M147/Constants!$F$8","v":0},0,{"$f":"O147/Constants!$F$8","v":0},{"$f":"P147/Constants!$F$8","v":0},0,{"$f":"R147/Constants!$F$8","v":0},{"$f":"S147/Constants!$F$8","v":0},0]
[null,"Source: GREET1 2024, https://greet.anl.gov/greet_excel_model.models. "]

{"sheet":"Fuels","index":22,"n_rows":241,"n_cols":8,"rows_kept":241,"cut":false,"hidden":false,"merged":[[211,2,211,3],[136,7,137,7],[136,1,137,1],[136,6,137,6],[5,1,6,1],[5,2,5,4],[33,4,33,5],[33,1,34,1],[5,6,6,6],[5,5,6,5]]}
[null,"Fuels"]
[]
[null,"This tab documents the source data and calculations used to develop the assumptions used to calculate emission factors from fossil fuels. Refer to the final report for the detailed methodology."]
[]
[null,"Summary Table: Fossil Fuel Emission Factors and Heat Values"]
[null,"Fuel Type","Emission Factor (kgCO2e/MMBtu)",null,null,"Heating Value","Unit"]
[null,null,"Upstream","Combustion","Total"]
[null,"Mixed Coal",{"$f":"$G$132","v":5.7631379375573042},{"$f":"H145","v":96.251999999999995},{"$f":"SUM(C8:D8)","v":102.0151379375573},{"$f":"C145*10^6","v":19730000},"Btu/ton"]
[null,"Anthracite Coal",5.7631379375573042,{"$f":"H140","v":104.422},110.1851379375573,{"$f":"C140*10^6","v":25090000},"Btu/ton"]
[null,"Bituminous Coal",5.7631379375573042,{"$f":"H141","v":94.012},99.775137937557304,{"$f":"C141*10^6","v":24930000},"Btu/ton"]
[null,"Subbituminous Coal",5.7631379375573042,97.902000000000001,103.6651379375573,{"$f":"C142*10^6","v":17250000},"Btu/ton"]
[null,"Lignite Coal",5.7631379375573042,98.451999999999998,104.2151379375573,{"$f":"C143*10^6","v":14210000},"Btu/ton"]
[null,"Coal Coke",5.7631379375573042,{"$f":"H148","v":114.402},120.1651379375573,{"$f":"C148*10^6","v":24800000},"Btu/ton"]
[null,"Natural Gas",{"$f":"G49","v":12.034956379705699},{"$f":"H161","v":53.1145},{"$f":"SUM(C14:D14)","v":65.149456379705697},{"$f":"C161*10^6","v":1026},"Btu/cubic feet"]
[null,"Renewable Natural Gas",{"$f":"F107/1000","v":18.500701323532361},{"$f":"G125-(C125/1000)","v":5.4499999999997328E-2},{"$f":"SUM(C15:D15)","v":18.555201323532359},{"$f":"F14","v":1026},"Btu/cubic feet"]
[null,"Propane",{"$f":"G95","v":18.166043991959029},{"$f":"H195","v":63.113},{"$f":"SUM(C16:D16)","v":81.279043991959028},{"$f":"C195*10^6","v":91000},"Btu/gallon"]
[null,"Gasoline",{"$f":"G92","v":22.863240499070681},{"$f":"H189","v":70.462999999999994},{"$f":"SUM(C17:D17)","v":93.326240499070678},{"$f":"C189*10^6","v":125000},"Btu/gallon"]
[null,"Distillate Fuel Oil No. 1",{"$f":"$G$93","v":16.109621805630571},{"$f":"H177","v":73.492999999999995},89.602621805630562,{"$f":"C177*10^6","v":139000},"Btu/gallon"]
[null,"Distillate Fuel Oil No. 2",{"$f":"$G$93","v":16.109621805630571},{"$f":"H178","v":74.202999999999989},90.312621805630556,{"$f":"C178*10^6","v":138000},"Btu/gallon"]
[null,"Distillate Fuel Oil No. 4",{"$f":"$G$93","v":16.109621805630571},{"$f":"H179","v":75.283000000000001},91.392621805630569,{"$f":"C179*10^6","v":146000},"Btu/gallon"]
[null,"Residual Fuel Oil No. 5",{"$f":"$G$94","v":12.799415286810413},{"$f":"H197","v":73.173000000000002},85.972415286810417,{"$f":"C197*10^6","v":140000},"Btu/gallon"]
[null,"Residual Fuel Oil No. 6",{"$f":"$G$94","v":12.799415286810413},{"$f":"H198","v":75.342999999999989},88.142415286810404,{"$f":"C198*10^6","v":150000},"Btu/gallon"]
[null,"Liquified Petroleum Gas (LPG)",{"$f":"G96","v":18.756078074637752},{"$f":"H187","v":61.953000000000003},80.709078074637759,{"$f":"C187*10^6","v":92000},"Btu/gallon"]
[null,"Kerosene",{"$f":"C18","v":16.109621805630571},{"$f":"H185","v":75.442999999999998},91.552621805630565,{"$f":"C185*10^6","v":135000},"Btu/gallon"]
[null,"Kerosene Jet Fuel",{"$f":"G97","v":11.848449925485205},{"$f":"H186","v":72.462999999999994},84.311449925485192,{"$f":"C186*10^6","v":135000},"Btu/gallon"]
[null,"Diesel",{"$f":"$G$93","v":16.109621805630571},{"$f":"D19","v":74.202999999999989},90.312621805630556,{"$f":"F19","v":138000},"Btu/gallon"]
[null,"Biodiesel 100",{"$f":"G103","v":26.866382436339933},{"$f":"G121-C121/1000","v":5.9950000000000614E-2},26.926332436339933,{"$f":"C203*10^6","v":128000},"Btu/gallon"]
[null,"Biodiesel 20",{"$f":"G104","v":17.808131816933638},{"$f":"D113+G122","v":65.520975569552689},{"$f":"SUM(C28:D28)","v":83.329107386486328},{"$f":"F27","v":128000},"Btu/gallon"]
[null,"Renewable Diesel",{"$f":"G105","v":37.376394724181957},{"$f":"D114+G123","v":0.49782079486814723},{"$f":"SUM(C29:D29)","v":37.874215519050104},{"$f":"$C$225","v":122887},"Btu/gallon"]
[]
[null,"Natural Gas"]
[]
[null,"Leakage and Venting Emissions from the Natural Gas Supply Chain"]
[null,"LCA Stage","Conventional NG ","Shale Gas","National Average"]
[null,null,"Leakage and Venting Emissions (gCH4/mmBtu)","Leakage and Venting Emissions (gCH4/mmBtu)","Leakage and Venting Emissions (gCH4/mmBtu)","Leakage and Venting Emissions (kgCO2e/MMBtu)"]
[null,"Recovery",93.849284967241971,93.888727095665629,{"$f":"C36*C43+D36*C44","v":93.878739388487674},{"$f":"E36*Constants!$I$7/1000","v":2.6286047028776549}]
[null,"Processing",5.7048615253458363,5.7048615253458363,{"$f":"C37*C43+D37*C44","v":5.7048615253458363},{"$f":"E37*Constants!$I$7/1000","v":0.15973612270968343}]
[null,"Transmission and Distribution",53.320044075800723,53.320044075800723,53.320044075800723,{"$f":"E38*Constants!$I$7/1000","v":1.4929612341224201}]
[null,"Total",null,null,{"$f":"SUM(E36:E38)","v":152.90364498963424},{"$f":"E39*Constants!$I$7/1000","v":4.2813020597097582}]
[null,"Source: GREET 1 2024",null,null,null,{"$f":"F39/E14","v":6.5715084938811549E-2},"Portion of total NG emissions"]
[]
[null,"Share of Conventional and Shale Gas for North America NG Supply"]
[null,"Conventional Gas",0.25322434607682498]
[null,"Shale Gas",0.74677565392317502]
[null,"Source: GREET 1 2024"]
[]
[null,"GREET Upstream Emissions"]
[null,"Fuel Type","gCO2/MMBtu ","gCH4/MMBtu*","gN2O/MMBtu"," gCO2e/MMBtu","kgCO2e/MMBtu"]
[null,"Natural Gas",6460.2422750186252,185.70908002418531,1.414565524565607,{"$f":"C49+(D49*Constants!$I$7)+(Constants!$I$8*E49)","v":12034.9563797057},{"$f":"F49/Constants!$F$8","v":12.034956379705699}]
[null,"*Includes Methane Leakage and Venting Emissions."]
[null,"Source: GREET 1 2024"]
[]
[null,"Petroleum Products"]
[]
[null,"Crude Oil to US Refinery Emission Factor"]
[null,"Fuel Type","gCO2/MMBtu","gCH4/MMBtu","gN2O/MMBtu"," gCO2e/MMBtu"]
[null,"Crude Oil",5417.053889787263,91.743577745117705,0.10444583481741447,{"$f":"C57+(D57*Constants!$I$7)+(E57*Constants!$I$8)","v":8013.5522128771727}]
[null,"Source: GREET1 2024, Petroleum tab Feedstocks (Crude for Use in U.S. Refineries) B277-279"]
[]
[null,"Energy Ratio of crude oil feedstock to petroleum product"]
[null,"Fuel Type","mmBtu crude oil/mmBtu fuel throughput"]
[null,"Gasoline",0.86270000000000002]
[null,"Conventional Diesel",1.0007999999999999]
[null,"Residual Oil",0.99919999999999998]
[null,"Propane",0.89565293270829738]
[null,"Liquified Petroleum Gas (LPG)",0.88029999999999997]
[null,"Kerosene Jet Fuel",1.0089449040965557]
[null,"Source: GREET1 2024, petroleum tab row 86"]
[]
[null,"Crude Oil to US Refinery emissions by Fuel Type, accounting for energy ratio of crude oil feedstock to petroleum product"]
[null,"Fuel Type","gCO2/MMBtu","gCH4/MMBtu","gN2O/MMBtu"," gCO2e/MMBtu"]
[null,"Gasoline",{"$f":"C$57*$C62","v":4673.2923907194718},{"$f":"D$57*$C62","v":79.14718452071304},9.0105421696983462E-2,{"$f":"C72+(D72*Constants!$I$7)+(E72*Constants!$I$8)","v":6913.2914940491373}]
[null,"Conventional Diesel",5421.3875328990925,91.816972607313787,0.10452939148526839,{"$f":"C73+(D73*Constants!$I$7)+(E73*Constants!$I$8)","v":8019.9630546474755}]
[null,"Residual Oil",5412.7202466754334,91.670182882921608,0.10436227814956053,{"$f":"C74+(D74*Constants!$I$7)+(E74*Constants!$I$8)","v":8007.1413711068717}]
[null,"Propane",4851.8002030268517,82.17040446456636,9.3547218263383664E-2,{"$f":"C75+(D75*Constants!$I$7)+(E75*Constants!$I$8)","v":7177.3615408745072}]
[null,"Liquified Petroleum Gas (LPG)",4768.6325391797272,80.761871489027115,9.1943668389769959E-2,{"$f":"C76+(D76*Constants!$I$7)+(E76*Constants!$I$8)","v":7054.3300129957752}]
[null,"Kerosene Jet Fuel",5465.5089173172837,92.56421524952269,0.10538009279314094,{"$f":"C77+(D77*Constants!$I$7)+(E77*Constants!$I$8)","v":8085.2326688941012}]
[]
[null,"Petroleum Product Refining through Distribution Emissions"]
[null,"Fuel Type","gCO2/MMBtu","gCH4/MMBtu","gN2O/MMBtu"," gCO2e/MMBtu"]
[null,"Gasoline",{"$f":"14182.3010571904","v":14182.3010571904},{"$f":"37.6774768296474","v":37.677476829647397},{"$f":"2.68935319472082","v":2.68935319472082},{"$f":"C81+(D81*Constants!$I$7)+(E81*Constants!$I$8)","v":15949.949005021545}]
[null,"Conventional Diesel",{"$f":"7585.02453898002","v":7585.0245389800202},{"$f":"16.4401057506418","v":16.440105750641798},{"$f":"0.167212267868314","v":0.167212267868314},{"$f":"C82+(D82*Constants!$I$7)+(E82*Constants!$I$8)","v":8089.6587509830943}]
[null,"Residual Oil",4533.2160742901715,8.472321351228052,8.2388088977303153E-2,{"$f":"C83+(D83*Constants!$I$7)+(E83*Constants!$I$8)","v":4792.2739157035421}]
[null,"Propane",{"$f":"10194.7226332943","v":10194.722633294299},{"$f":"26.5059445330438","v":26.505944533043799},{"$f":"0.195446682509418","v":0.19544668250941799},{"$f":"C84+(D84*Constants!$I$7)+(E84*Constants!$I$8)","v":10988.682451084522}]
[null,"Liquified Petroleum Gas (LPG)",10851.712772289065,28.438962688469044,0.20280880783313515,{"$f":"C85+(D85*Constants!$I$7)+(E85*Constants!$I$8)","v":11701.748061641978}]
[null,"Kerosene Jet Fuel",3542.298060115249,7.0636445524280651,8.7309996256112327E-2,{"$f":"C86+(D86*Constants!$I$7)+(E86*Constants!$I$8)","v":3763.2172565911042}]
[null,"Source: GREET1 2024"]
[null,"Kerosene Jet fuel refining EF is from Petroleum Conventional Jet Fuel, \"Fuel\" stage emissions from GREET JetFuel_WTP tab cells C591:C593"]
[]
[null,"Upstream Emission Factors by Petroleum Product"]
[null,"Fuel Type","gCO2/MMBtu","gCH4/MMBtu","gN2O/MMBtu"," gCO2e/MMBtu","kgCO2e/MMBtu"]
[null,"Gasoline",{"$f":"C72+C81","v":18855.593447909872},116.82466135036043,2.7794586164178035,22863.240499070682,{"$f":"F92/1000","v":22.863240499070681}]
[null,"Conventional Diesel",13006.412071879113,108.25707835795558,0.27174165935358241,16109.62180563057,16.109621805630571]
[null,"Residual Oil",9945.936320965604,100.14250423414965,0.18675036712686369,12799.415286810414,12.799415286810413]
[null,"Propane",15046.52283632115,108.67634899761016,0.28899390077280163,18166.043991959028,18.166043991959029]
[null,"Liquified Petroleum Gas (LPG)",15620.345311468793,109.20083417749616,0.29475247622290512,18756.078074637753,18.756078074637752]
[null,"Kerosene Jet Fuel",9007.8069774325322,99.627859801950748,0.19269008904925328,11848.449925485205,{"$f":"F97/1000","v":11.848449925485205}]
[]
[null,"Biofuels"]
[]
[null,"Upstream Emission Factors by Biofuel"]
[null,"Fuel Type","gCO2/MMBtu ","gCH4/MMBtu","gN2O/MMBtu"," gCO2e/MMBtu","kgCO2e/MMBtu","Notes"]
[null,"Biodiesel 100 (BD 100) - soybean oil",{"$f":"3220.24222033493+16885.586038807","v":20105.82825914193},{"$f":"5.25125777017329+21.7688607294385","v":27.02011849961179},{"$f":"22.4687870075626+0.187782272470873","v":22.656569280033473},{"$f":"C103+(D103*Constants!$I$7)+(E103*Constants!$I$8)","v":26866.382436339933},{"$f":"F103/1000","v":26.866382436339933},"From GREET BioOil Tab Feedstock+Fuel Efs"]
[null,"Biodiesel 20 (BD 20) - soybean oil",14053.74468007693,92.139584745950614,4.4319953357361754,{"$f":"C104+(D104*Constants!$I$7)+(E104*Constants!$I$8)","v":17808.131816933637},{"$f":"F104/1000","v":17.808131816933638},"From GREET Vehicles and Results tabs"]
[null,"Renewable Diesel II - soybean oil",{"$f":"3410.64294373086+26395.4884105388","v":29806.131354269663},{"$f":"5.56174474903026+35.9220718768954","v":41.483816625925662},{"$f":"23.7972812658684+0.386554599740555","v":24.183835865608955},{"$f":"C105+(D105*Constants!$I$7)+(E105*Constants!$I$8)","v":37376.394724181955},{"$f":"F105/1000","v":37.376394724181957},"From GREET BioOil Tab Feedstock+Fuel Efs"]
[null,"Renewable Diesel II - corn oil",{"$f":"1551.57847752025+10167.7978506221","v":11719.376328142351},{"$f":"2.48802995503402+26.6618811795159","v":29.149911134549917},{"$f":"0.0728177403655868+0.267447381448773","v":0.34026512181435981},{"$f":"C106+(D106*Constants!$I$7)+(E106*Constants!$I$8)","v":12625.744097190553},{"$f":"F106/1000","v":12.625744097190552},"From GREET BioOil Tab Feedstock+Fuel Efs"]
[null,"Renewable Natural Gas",2626.2004614206403,577.12743220960272,-1.0757254330458699,{"$f":"C107+(D107*Constants!$I$7)+(E107*Constants!$I$8)","v":18500.701323532361},{"$f":"F107/1000","v":18.500701323532361},"From GREET RNG Tab: Landfill gas to RNG as intermediate fuel"]
[null,"Source: GREET1 2024"]
[]
[null,"Biogenic CO2 emissions- pulled from separate GREET Efs spreadsheet for year 2030 (constant throughout years)"]
[null,"Fuel Type","g Biogenic CO2/MMBtu","kgCO2e/MMBtu","Notes"]
[null,"Biodiesel 100 (BD 100) - soybean oil",-75138.415918239567,{"$f":"C112/1000","v":-75.138415918239573},"From GREET"]
[null,"Biodiesel 20 (BD 20) - soybean oil",-14097.717701296531,{"$f":"C113/1000","v":-14.097717701296531},"From GREET"]
[null,"Renewable Diesel II - soybean oil",-76614.526624731123,{"$f":"C114/1000","v":-76.614526624731127},"From GREET"]
[null,"Renewable Diesel II - corn oil",-76614.526624731123,{"$f":"C115/1000","v":-76.614526624731127},"From GREET"]
[null,"Renewable Natural Gas",-53060,{"$f":"C116/1000","v":-53.06},"CO2 combustion factor from EPA EF Hub"]
[null,"Source: GREET1 2024"]
[]
[null,"Biofuel Combustion Emissions"]
[null,"Fuel Type","gCO2/MMBtu ","gCH4/MMBtu","gN2O/MMBtu"," gCO2e/MMBtu","kgCO2e/MMBtu","Notes"]
[null,"Biodiesel 100 (BD 100) - soybean oil",{"$f":"D203*1000","v":73840},{"$f":"E203","v":1.1000000000000001},{"$f":"F203","v":0.11},{"$f":"C121+(D121*Constants!$I$7)+(E121*Constants!$I$8)","v":73899.95},{"$f":"F121/1000","v":73.899950000000004},"EPA GHG EF Hub Stationary Combustion"]
[null,"Biodiesel 20 (BD 20) - soybean oil",79072.278956040333,17.670370887547925,0.19488275455674331,{"$f":"C122+(D122*Constants!$I$7)+(E122*Constants!$I$8)","v":79618.693270849224},{"$f":"F122/1000","v":79.618693270849221},"GREET (results tab CIDI vehicle:Soybean-based BD20)"]
[null,"Renewable Diesel II - soybean oil",76565.933104790383,17.670370887547925,0.19488275455674331,{"$f":"C123+(D123*Constants!$I$7)+(E123*Constants!$I$8)","v":77112.347419599275},{"$f":"F123/1000","v":77.112347419599274},"GREET (results tab CIDI vehicle:Soybean-based RDII 100)"]
[null,"Renewable Diesel II - corn oil",76565.933104790383,17.670370887547925,0.19488275455674331,{"$f":"C124+(D124*Constants!$I$7)+(E124*Constants!$I$8)","v":77112.347419599275},{"$f":"F124/1000","v":77.112347419599274},"GREET (results tab CIDI vehicle:Forest Residue-based RDII 100), there is no corn option"]
[null,"Renewable Natural Gas",{"$f":"D161*1000","v":53060},{"$f":"E161","v":1},{"$f":"F161","v":0.1},{"$f":"C125+(D125*Constants!$I$7)+(E125*Constants!$I$8)","v":53114.5},{"$f":"F125/1000","v":53.1145},"NG Stationary Combustion from EPA EF Hub"]
[null,"Source: GREET1 2024"]
[]
[null,"Coal"]
[]
[null,"Coal Upstream Emission Factors"]
[null,"LCA Stage","gCO2/MMBtu ","gCH4/MMBtu","gN2O/MMBtu"," gCO2e/MMBtu","kgCO2e/MMBtu"]
[null,"Coal Production to Power Plants",1617.5792692900154,147.70018960389487,3.7559846634837718E-2,{"$f":"C132+(D132*Constants!$I$7)+(E132*Constants!$I$8)","v":5763.1379375573042},{"$f":"F132/1000","v":5.7631379375573042}]
[null,"Source: GREET1 2024"]
[]
[null,"EPA Fuel Combustion Factors and Heat Content"]
[]
[null,"Fuel Type","Heat Content (HHV)","CO2 Factor","CH4 Factor","N2O Factor","gCO2e per mmBtu","kgCO2e per mmBtu"]
[null,null,"mmBtu per short ton","kg CO2 per mmBtu","g CH4 per mmBtu","g N2O per mmBtu"]
[null,"Coal and Coke"]
[null,"Anthracite",25.09,103.69,11,1.6,{"$f":"(D140*1000)+(E140*Constants!$I$7)+(F140*Constants!$I$8)","v":104422},{"$f":"D140+(E140*Constants!$I$7+F140*Constants!$I$8)/Constants!$F$8","v":104.422}]
[null,"Bituminous",24.93,93.28,11,1.6,{"$f":"(D141*1000)+(E141*Constants!$I$7)+(F141*Constants!$I$8)","v":94012},{"$f":"D141+(E141*Constants!$I$7+F141*Constants!$I$8)/Constants!$F$8","v":94.012}]
[null,"Sub-bituminous",17.25,97.17,11,1.6,{"$f":"(D142*1000)+(E142*Constants!$I$7)+(F142*Constants!$I$8)","v":97902},{"$f":"D142+(E142*Constants!$I$7+F142*Constants!$I$8)/Constants!$F$8","v":97.902000000000001}]
[null,"Lignite",14.21,97.72,11,1.6,{"$f":"(D143*1000)+(E143*Constants!$I$7)+(F143*Constants!$I$8)","v":98452},{"$f":"D143+(E143*Constants!$I$7+F143*Constants!$I$8)/Constants!$F$8","v":98.451999999999998}]
[null,"Mixed (Commercial Sector)",21.39,94.27,11,1.6,{"$f":"(D144*1000)+(E144*Constants!$I$7)+(F144*Constants!$I$8)","v":95002},{"$f":"D144+(E144*Constants!$I$7+F144*Constants!$I$8)/Constants!$F$8","v":95.001999999999995}]
[null,"Mixed (Electric Power Sector)",19.73,95.52,11,1.6,{"$f":"(D145*1000)+(E145*Constants!$I$7)+(F145*Constants!$I$8)","v":96252},{"$f":"D145+(E145*Constants!$I$7+F145*Constants!$I$8)/Constants!$F$8","v":96.251999999999995}]
[null,"Mixed (Industrial Coking)",26.28,93.9,11,1.6,{"$f":"(D146*1000)+(E146*Constants!$I$7)+(F146*Constants!$I$8)","v":94632},{"$f":"D146+(E146*Constants!$I$7+F146*Constants!$I$8)/Constants!$F$8","v":94.632000000000005}]
[null,"Mixed (Industrial Sector)",22.35,94.67,11,1.6,{"$f":"(D147*1000)+(E147*Constants!$I$7)+(F147*Constants!$I$8)","v":95402},{"$f":"D147+(E147*Constants!$I$7+F147*Constants!$I$8)/Constants!$F$8","v":95.402000000000001}]
[null,"Coal Coke",24.8,113.67,11,1.6,{"$f":"(D148*1000)+(E148*Constants!$I$7)+(F148*Constants!$I$8)","v":114402},{"$f":"D148+(E148*Constants!$I$7+F148*Constants!$I$8)/Constants!$F$8","v":114.402}]
[null,"Other Fuels - Solid"]
[null,"Municipal Solid Waste",9.9499999999999993,90.7,32,4.2,{"$f":"(D150*1000)+(E150*Constants!$I$7)+(F150*Constants!$I$8)","v":92709},{"$f":"D150+(E150*Constants!$I$7+F150*Constants!$I$8)/Constants!$F$8","v":92.709000000000003}]
[null,"Petroleum Coke (Solid)",30,102.41,32,4.2,{"$f":"(D151*1000)+(E151*Constants!$I$7)+(F151*Constants!$I$8)","v":104419},{"$f":"D151+(E151*Constants!$I$7+F151*Constants!$I$8)/Constants!$F$8","v":104.419}]
[null,"Plastics",38,75,32,4.2,{"$f":"(D152*1000)+(E152*Constants!$I$7)+(F152*Constants!$I$8)","v":77009},{"$f":"D152+(E152*Constants!$I$7+F152*Constants!$I$8)/Constants!$F$8","v":77.009}]
[null,"Tires",28,85.97,32,4.2,{"$f":"(D153*1000)+(E153*Constants!$I$7)+(F153*Constants!$I$8)","v":87979},{"$f":"D153+(E153*Constants!$I$7+F153*Constants!$I$8)/Constants!$F$8","v":87.978999999999999}]
[null,"Biomass Fuels - Solid"]
[null,"Agricultural Byproducts",8.25,118.17,32,4.2,{"$f":"(D155*1000)+(E155*Constants!$I$7)+(F155*Constants!$I$8)","v":120179},{"$f":"D155+(E155*Constants!$I$7+F155*Constants!$I$8)/Constants!$F$8","v":120.179}]
[null,"Peat",8,111.84,32,4.2,{"$f":"(D156*1000)+(E156*Constants!$I$7)+(F156*Constants!$I$8)","v":113849},{"$f":"D156+(E156*Constants!$I$7+F156*Constants!$I$8)/Constants!$F$8","v":113.849}]
[null,"Solid Byproducts",10.39,105.51,32,4.2,{"$f":"(D157*1000)+(E157*Constants!$I$7)+(F157*Constants!$I$8)","v":107519},{"$f":"D157+(E157*Constants!$I$7+F157*Constants!$I$8)/Constants!$F$8","v":107.51900000000001}]
[null,"Wood and Wood Residuals",17.48,93.8,7.2,3.6,{"$f":"(D158*1000)+(E158*Constants!$I$7)+(F158*Constants!$I$8)","v":94955.6},{"$f":"D158+(E158*Constants!$I$7+F158*Constants!$I$8)/Constants!$F$8","v":94.955600000000004}]
[null,null,"mmBtu per scf","kg CO2 per mmBtu","g CH4 per mmBtu","g N2O per mmBtu"]
[null,"Natural Gas"]
[null,"Natural Gas",1.026E-3,53.06,1,0.1,{"$f":"(D161*1000)+(E161*Constants!$I$7)+(F161*Constants!$I$8)","v":53114.5},{"$f":"D161+(E161*Constants!$I$7+F161*Constants!$I$8)/Constants!$F$8","v":53.1145}]
[null,"Other Fuels - Gaseous"]
[null,"Blast Furnace Gas",9.2E-5,274.32,2.2000000000000002E-2,0.1,{"$f":"(D163*1000)+(E163*Constants!$I$7)+(F163*Constants!$I$8)","v":274347.11599999998},{"$f":"D163+(E163*Constants!$I$7+F163*Constants!$I$8)/Constants!$F$8","v":274.34711599999997}]
[null,"Coke Oven Gas",5.9900000000000003E-4,46.85,0.48,0.1,{"$f":"(D164*1000)+(E164*Constants!$I$7)+(F164*Constants!$I$8)","v":46889.94},{"$f":"D164+(E164*Constants!$I$7+F164*Constants!$I$8)/Constants!$F$8","v":46.889940000000003}]
[null,"Fuel Gas",1.3879999999999999E-3,59,3,0.6,{"$f":"(D165*1000)+(E165*Constants!$I$7)+(F165*Constants!$I$8)","v":59243},{"$f":"D165+(E165*Constants!$I$7+F165*Constants!$I$8)/Constants!$F$8","v":59.243000000000002}]
[null,"Propane Gas",2.516E-3,61.46,3,0.6,{"$f":"(D166*1000)+(E166*Constants!$I$7)+(F166*Constants!$I$8)","v":61703},{"$f":"D166+(E166*Constants!$I$7+F166*Constants!$I$8)/Constants!$F$8","v":61.703000000000003}]
[null,"Biomass Fuels - Gaseous"]
[null,"Landfill Gas",4.8500000000000003E-4,52.07,3.2,0.63,{"$f":"(D168*1000)+(E168*Constants!$I$7)+(F168*Constants!$I$8)","v":52326.549999999996},{"$f":"D168+(E168*Constants!$I$7+F168*Constants!$I$8)/Constants!$F$8","v":52.326549999999997}]
[null,"Other Biomass Gases",6.5499999999999998E-4,52.07,3.2,0.63,{"$f":"(D169*1000)+(E169*Constants!$I$7)+(F169*Constants!$I$8)","v":52326.549999999996},{"$f":"D169+(E169*Constants!$I$7+F169*Constants!$I$8)/Constants!$F$8","v":52.326549999999997}]
[null,null,"mmBtu per gallon","kg CO2 per mmBtu","g CH4 per mmBtu","g N2O per mmBtu"]
[null,"Petroleum Products"]
[null,"Asphalt and Road Oil",0.158,75.36,3,0.6,{"$f":"(D172*1000)+(E172*Constants!$I$7)+(F172*Constants!$I$8)","v":75603},{"$f":"D172+(E172*Constants!$I$7+F172*Constants!$I$8)/Constants!$F$8","v":75.602999999999994}]
[null,"Aviation Gasoline",0.12,69.25,3,0.6,{"$f":"(D173*1000)+(E173*Constants!$I$7)+(F173*Constants!$I$8)","v":69493},{"$f":"D173+(E173*Constants!$I$7+F173*Constants!$I$8)/Constants!$F$8","v":69.492999999999995}]
[null,"Butane",0.10299999999999999,64.77,3,0.6,{"$f":"(D174*1000)+(E174*Constants!$I$7)+(F174*Constants!$I$8)","v":65012.999999999993},{"$f":"D174+(E174*Constants!$I$7+F174*Constants!$I$8)/Constants!$F$8","v":65.012999999999991}]
[null,"Butylene",0.105,68.72,3,0.6,{"$f":"(D175*1000)+(E175*Constants!$I$7)+(F175*Constants!$I$8)","v":68963},{"$f":"D175+(E175*Constants!$I$7+F175*Constants!$I$8)/Constants!$F$8","v":68.962999999999994}]
[null,"Crude Oil",0.13800000000000001,74.540000000000006,3,0.6,{"$f":"(D176*1000)+(E176*Constants!$I$7)+(F176*Constants!$I$8)","v":74783},{"$f":"D176+(E176*Constants!$I$7+F176*Constants!$I$8)/Constants!$F$8","v":74.783000000000001}]
[null,"Distillate Fuel Oil No. 1",0.13900000000000001,73.25,3,0.6,{"$f":"(D177*1000)+(E177*Constants!$I$7)+(F177*Constants!$I$8)","v":73493},{"$f":"D177+(E177*Constants!$I$7+F177*Constants!$I$8)/Constants!$F$8","v":73.492999999999995}]
[null,"Distillate Fuel Oil No. 2",0.13800000000000001,73.959999999999994,3,0.6,{"$f":"(D178*1000)+(E178*Constants!$I$7)+(F178*Constants!$I$8)","v":74203},{"$f":"D178+(E178*Constants!$I$7+F178*Constants!$I$8)/Constants!$F$8","v":74.202999999999989}]
[null,"Distillate Fuel Oil No. 4",0.14599999999999999,75.040000000000006,3,0.6,{"$f":"(D179*1000)+(E179*Constants!$I$7)+(F179*Constants!$I$8)","v":75283},{"$f":"D179+(E179*Constants!$I$7+F179*Constants!$I$8)/Constants!$F$8","v":75.283000000000001}]
[null,"Ethane",6.8000000000000005E-2,59.6,3,0.6,{"$f":"(D180*1000)+(E180*Constants!$I$7)+(F180*Constants!$I$8)","v":59843},{"$f":"D180+(E180*Constants!$I$7+F180*Constants!$I$8)/Constants!$F$8","v":59.843000000000004}]
[null,"Ethylene",5.8000000000000003E-2,65.959999999999994,3,0.6,{"$f":"(D181*1000)+(E181*Constants!$I$7)+(F181*Constants!$I$8)","v":66203},{"$f":"D181+(E181*Constants!$I$7+F181*Constants!$I$8)/Constants!$F$8","v":66.202999999999989}]
[null,"Heavy Gas Oils",0.14799999999999999,74.92,3,0.6,{"$f":"(D182*1000)+(E182*Constants!$I$7)+(F182*Constants!$I$8)","v":75163},{"$f":"D182+(E182*Constants!$I$7+F182*Constants!$I$8)/Constants!$F$8","v":75.162999999999997}]
[null,"Isobutane",9.9000000000000005E-2,64.94,3,0.6,{"$f":"(D183*1000)+(E183*Constants!$I$7)+(F183*Constants!$I$8)","v":65183},{"$f":"D183+(E183*Constants!$I$7+F183*Constants!$I$8)/Constants!$F$8","v":65.182999999999993}]
[null,"Isobutylene",0.10299999999999999,68.86,3,0.6,{"$f":"(D184*1000)+(E184*Constants!$I$7)+(F184*Constants!$I$8)","v":69103},{"$f":"D184+(E184*Constants!$I$7+F184*Constants!$I$8)/Constants!$F$8","v":69.102999999999994}]
[null,"Kerosene",0.13500000000000001,75.2,3,0.6,{"$f":"(D185*1000)+(E185*Constants!$I$7)+(F185*Constants!$I$8)","v":75443},{"$f":"D185+(E185*Constants!$I$7+F185*Constants!$I$8)/Constants!$F$8","v":75.442999999999998}]
[null,"Kerosene-Type Jet Fuel",0.13500000000000001,72.22,3,0.6,{"$f":"(D186*1000)+(E186*Constants!$I$7)+(F186*Constants!$I$8)","v":72463},{"$f":"D186+(E186*Constants!$I$7+F186*Constants!$I$8)/Constants!$F$8","v":72.462999999999994}]
[null,"Liquefied Petroleum Gases (LPG)",9.1999999999999998E-2,61.71,3,0.6,{"$f":"(D187*1000)+(E187*Constants!$I$7)+(F187*Constants!$I$8)","v":61953},{"$f":"D187+(E187*Constants!$I$7+F187*Constants!$I$8)/Constants!$F$8","v":61.953000000000003}]
[null,"Lubricants",0.14399999999999999,74.27,3,0.6,{"$f":"(D188*1000)+(E188*Constants!$I$7)+(F188*Constants!$I$8)","v":74513},{"$f":"D188+(E188*Constants!$I$7+F188*Constants!$I$8)/Constants!$F$8","v":74.512999999999991}]
[null,"Motor Gasoline",0.125,70.22,3,0.6,{"$f":"(D189*1000)+(E189*Constants!$I$7)+(F189*Constants!$I$8)","v":70463},{"$f":"D189+(E189*Constants!$I$7+F189*Constants!$I$8)/Constants!$F$8","v":70.462999999999994}]
[null,"Naphtha (<401 deg F)",0.125,68.02,3,0.6,{"$f":"(D190*1000)+(E190*Constants!$I$7)+(F190*Constants!$I$8)","v":68263},{"$f":"D190+(E190*Constants!$I$7+F190*Constants!$I$8)/Constants!$F$8","v":68.262999999999991}]
[null,"Natural Gasoline",0.11,66.88,3,0.6,{"$f":"(D191*1000)+(E191*Constants!$I$7)+(F191*Constants!$I$8)","v":67123},{"$f":"D191+(E191*Constants!$I$7+F191*Constants!$I$8)/Constants!$F$8","v":67.12299999999999}]
[null,"Other Oil (>401 deg F)",0.13900000000000001,76.22,3,0.6,{"$f":"(D192*1000)+(E192*Constants!$I$7)+(F192*Constants!$I$8)","v":76463},{"$f":"D192+(E192*Constants!$I$7+F192*Constants!$I$8)/Constants!$F$8","v":76.462999999999994}]
[null,"Pentanes Plus",0.11,70.02,3,0.6,{"$f":"(D193*1000)+(E193*Constants!$I$7)+(F193*Constants!$I$8)","v":70263},{"$f":"D193+(E193*Constants!$I$7+F193*Constants!$I$8)/Constants!$F$8","v":70.262999999999991}]
[null,"Petrochemical Feedstocks",0.125,71.02,3,0.6,{"$f":"(D194*1000)+(E194*Constants!$I$7)+(F194*Constants!$I$8)","v":71263},{"$f":"D194+(E194*Constants!$I$7+F194*Constants!$I$8)/Constants!$F$8","v":71.262999999999991}]
[null,"Propane",9.0999999999999998E-2,62.87,3,0.6,{"$f":"(D195*1000)+(E195*Constants!$I$7)+(F195*Constants!$I$8)","v":63113},{"$f":"D195+(E195*Constants!$I$7+F195*Constants!$I$8)/Constants!$F$8","v":63.113}]
[null,"Propylene",9.0999999999999998E-2,67.77,3,0.6,{"$f":"(D196*1000)+(E196*Constants!$I$7)+(F196*Constants!$I$8)","v":68013},{"$f":"D196+(E196*Constants!$I$7+F196*Constants!$I$8)/Constants!$F$8","v":68.012999999999991}]
[null,"Residual Fuel Oil No. 5",0.14000000000000001,72.930000000000007,3,0.6,{"$f":"(D197*1000)+(E197*Constants!$I$7)+(F197*Constants!$I$8)","v":73173},{"$f":"D197+(E197*Constants!$I$7+F197*Constants!$I$8)/Constants!$F$8","v":73.173000000000002}]
[null,"Residual Fuel Oil No. 6",0.15,75.099999999999994,3,0.6,{"$f":"(D198*1000)+(E198*Constants!$I$7)+(F198*Constants!$I$8)","v":75343},{"$f":"D198+(E198*Constants!$I$7+F198*Constants!$I$8)/Constants!$F$8","v":75.342999999999989}]
[null,"Special Naphtha",0.125,72.34,3,0.6,{"$f":"(D199*1000)+(E199*Constants!$I$7)+(F199*Constants!$I$8)","v":72583},{"$f":"D199+(E199*Constants!$I$7+F199*Constants!$I$8)/Constants!$F$8","v":72.582999999999998}]
[null,"Unfinished Oils",0.13900000000000001,74.540000000000006,3,0.6,{"$f":"(D200*1000)+(E200*Constants!$I$7)+(F200*Constants!$I$8)","v":74783},{"$f":"D200+(E200*Constants!$I$7+F200*Constants!$I$8)/Constants!$F$8","v":74.783000000000001}]
[null,"Used Oil",0.13800000000000001,74,3,0.6,{"$f":"(D201*1000)+(E201*Constants!$I$7)+(F201*Constants!$I$8)","v":74243},{"$f":"D201+(E201*Constants!$I$7+F201*Constants!$I$8)/Constants!$F$8","v":74.242999999999995}]
[null,"Biomass Fuels - Liquid"]
[null,"Biodiesel (100%)",0.128,73.84,1.1000000000000001,0.11,{"$f":"(D203*1000)+(E203*Constants!$I$7)+(F203*Constants!$I$8)","v":73899.95},{"$f":"D203+(E203*Constants!$I$7+F203*Constants!$I$8)/Constants!$F$8","v":73.899950000000004}]
[null,"Ethanol (100%)",8.4000000000000005E-2,68.44,1.1000000000000001,0.11,{"$f":"(D204*1000)+(E204*Constants!$I$7)+(F204*Constants!$I$8)","v":68499.95},{"$f":"D204+(E204*Constants!$I$7+F204*Constants!$I$8)/Constants!$F$8","v":68.499949999999998}]
[null,"Rendered Animal Fat",0.125,71.06,1.1000000000000001,0.11,{"$f":"(D205*1000)+(E205*Constants!$I$7)+(F205*Constants!$I$8)","v":71119.95},{"$f":"D205+(E205*Constants!$I$7+F205*Constants!$I$8)/Constants!$F$8","v":71.119950000000003}]
[null,"Vegetable Oil",0.12,81.55,1.1000000000000001,0.11,{"$f":"(D206*1000)+(E206*Constants!$I$7)+(F206*Constants!$I$8)","v":81609.95},{"$f":"D206+(E206*Constants!$I$7+F206*Constants!$I$8)/Constants!$F$8","v":81.609949999999998}]
[null,"Source: 2025 GHG Emission Factors Hub, https://www.epa.gov/climateleadership/ghg-emission-factors-hub"]
[]
[null,"Heat Contents from GREET"]
[]
[null,"GREET Fuel Specifications"]
[null,"Fuel","Heating Value",null,"Density"]
[null,null,"LHV","HHV"]
[null,"Liquid Fuels","Btu/gal","Btu/gal","grams/gal"]
[null,"Crude Oil",129670,138350,3205]
[null,"Gasoline",112193.52,120438.62000000001,2835.5620000000004]
[null,"U.S. conventional diesel",128450,137380,3167]
[null,"Residual Oil",140352.52220119376,150110,3752]
[null,"Low-sulfur diesel",129487.84757606639,138490,3206]
[null,"Liquified Petroleum Gas (LPG)",84950,91410,1923]
[null,"Propane",84250,91420,1920]
[null,"Conventional Jet Fuel",124307.03423937227,132948.69438683367,3035.8996219999995]
[null,"Diesel for non-road engines",128450,137380,3167]
[null,"Methyl ester (biodiesel, BD)",119624,127960,3335.2646966100001]
[null,"Renewable Diesel II (UOP-HDO)",122887,130817,2948]
[null,"Gaseous Fuels (at 32F and 1atm)","Btu/ft3","Btu/ft3","gms/ft3"]
[null,"Natural Gas",983,1089,22]
[null,"Renewable Natural Gas",983,1089,22]
[null,"Pure Methane",962.18504920853229,1068.0254046214709,20.303179298999996]
[null,"Solid Fuels","Btu/ton","Btu/ton"]
[null,"Coal Mix for Electricity Generation",19474169.219601419,20673610.116392747]
[null,"Bituminous coal",22639319.979813498,23633492.9618803]
[null,"Subbituminous coal",16085444.010446707,17449319.671483699]
[null,"Lignite coal",10805182.822031699,12992301.9717196]
[null,"Synthetic coal",22639319.979813498,23633492.9618803]
[null,"Waste coal",9945646.340310514,11958783.362163]
[null,"Pet Coke",26949428.734871496,28595925.1717753]
[null,"Tire Derived Fuel",26664354.295994278,28293433.886979699]
[null,"Coking coal",24599421.97472629,25679670]
[null,"Catalyst Coke",28385750.368920002,30120000]
[null,"Source: GREET1 2024"]

{"sheet":"MM + EF","index":23,"n_rows":369,"n_cols":20,"rows_kept":369,"cut":false,"hidden":false,"merged":[[132,11,132,19],[132,2,132,10],[138,1,139,1],[182,1,183,1],[182,2,182,3],[182,4,182,5],[182,7,182,8],[163,4,164,5],[162,4,162,5],[163,6,164,6],[41,6,41,7],[41,8,41,9],[41,1,42,1],[319,1,319,5],[335,1,335,5],[97,1,97,2],[113,1,113,2],[132,1,133,1],[41,2,41,3],[41,4,41,5],[273,5,273,9],[273,1,274,1],[273,2,274,2],[273,4,274,4],[273,3,274,3],[226,5,226,6],[227,5,228,6],[227,7,228,7],[315,1,315,3],[316,1,316,3],[266,1,266,2],[267,1,267,2],[265,1,265,2]]}
[null," Enteric Fermentation"]
[]
[null,"This tab documents the source data and calculations used to develop the assumptions used to calculate GHG emissions from enteric fermentation and manure management. Refer to the final report for the detailed methodology."]
[]
[null,"Emission Factors"]
[]
[null,"Table A-144: Enteric Fermentation Emission Factors for Cattle by Animal Type and State, for 2022 (kg CH4/head/year)"]
[null,"State","Dairy Calves","Dairy Cows","Dairy Replacement Heifers 7-11 Months","Dairy Replacement Heifers 12-23 Months","Bulls","Beef Calves","Beef Cows","Beef Replacement Heifers 7-11 Months","Beef Replacement Heifers 12-23 Months","Steer Stockers","Heifer Stockers","Feedlot"]
[null,"Minn.",12,140,43,65,95,10,92,58,68,56,58,33]
[null,"Source: U.S. EPA. 2024. Inventory of U.S. Greenhouse Gas Emissions and Sinks: 1990–2022.  "]
[]
[null,"Table A-148: Enteric Fermentation Emission Factors for Other Livestock (kg CH4/head/year)"]
[null,"Livestock Type","Emission Factor"]
[null,"Swine",1.5]
[null,"Horses",18]
[null,"Sheep",9]
[null,"Goats",9]
[null,"American Bison",82.2]
[null,"Mules and Asses",10]
[null,"Source: U.S. EPA. 2024. Inventory of U.S. Greenhouse Gas Emissions and Sinks: 1990–2022.  "]
[]
[null,"Livestock Type","Emission Factor (kg CH4) / head / year)"]
[null,"Bulls",{"$f":"G9","v":95}]
[null,"Beef cows",{"$f":"I9","v":92}]
[null,"Beef heifers",{"$f":"AVERAGE(J9:K9)","v":63}]
[null,"Steer stockers",{"$f":"L9","v":56}]
[null,"Heifer stockers",{"$f":"M9","v":58}]
[null,"Feedlot beef",{"$f":"N9","v":33}]
[null,"Beef calves",{"$f":"H9","v":10}]
[null,"Dairy heifers",{"$f":"AVERAGE(E9:F9)","v":54}]
[null,"Dairy cows",{"$f":"D9","v":140}]
[null,"Dairy calves",{"$f":"C9","v":12}]
[null,"Swine, >55 lbs",{"$f":"C14","v":1.5}]
[null,"Swine 55-330 lbs",{"$f":"C14","v":1.5}]
[null,"Swine 330+ lbs",{"$f":"C14","v":1.5}]
[]
[null,"Manure Management"]
[]
[null,"Typical Animal Mass"]
[]
[null,"Table A-156:  Waste Characteristics Data"]
[null,"Animal Group","Typical Animal Mass, TAM ",null,"Total Nitrogen Excreted, Nexa ",null,"Maximum Methane Generation Potential, B0",null,"Volatile Solids Excreted, VS a "]
[null,null,"Value (kg)","Source","Value","Source","Value (m3 CH4/kg VS added)","Source","Value","Source"]
[null,"Dairy Cows",680,"CEFM","Table A-158","CEFM",0.24,"Morris 1976","Table A-158","CEFM"]
[null,"Dairy Heifers","406-408","CEFM","Table A-158","CEFM",0.17,"Bryant et al. 1976","Table A-158","CEFM"]
[null,"Feedlot Steers","419-457","CEFM","Table A-158","CEFM",0.33,"Hashimoto 1981","Table A-158","CEFM"]
[null,"Feedlot Heifers","384-430","CEFM","Table A-158","CEFM",0.33,"Hashimoto 1981","Table A-158","CEFM"]
[null,"NOF Bulls","831-917","CEFM","Table A-158","CEFM",0.17,"Hashimoto 1981","Table A-158","CEFM"]
[null,"NOF Calves","122-123","CEFM","Table A-158","USDA 1996, 2008",0.17,"Hashimoto 1981","Table A-158","USDA 1996, 2008"]
[null,"NOF Heifers","296-407","CEFM","Table A-158","CEFM",0.17,"Hashimoto 1981","Table A-158","CEFM"]
[null,"NOF Steers","314-335","CEFM","Table A-158","CEFM",0.17,"Hashimoto 1981","Table A-158","CEFM"]
[null,"NOF Cows","554-611","CEFM","Table A-158","CEFM",0.17,"Hashimoto 1981","Table A-158","CEFM"]
[null,"American Bison",578.5,"Meagher 1986","Table A-158","CEFM",0.17,"Hashimoto 1981","Table A-158","CEFM"]
[null,"Market Swine <50 lbs.",13,"ERG 2010a","Table A-157","USDA 1996, 2008",0.48,"Hashimoto 1984","Table A-157","USDA 1996, 2008"]
[null,"Market Swine <60 lbs.",16,"Safley 2000","Table A-157","USDA 1996, 2008",0.48,"Hashimoto 1984","Table A-157","USDA 1996, 2008"]
[null,"Market Swine 50-119 lbs.",39,"ERG 2010a","Table A-157","USDA 1996, 2008",0.48,"Hashimoto 1984","Table A-157","USDA 1996, 2008"]
[null,"Market Swine 60-119 lbs.",41,"Safley 2000","Table A-157","USDA 1996, 2008",0.48,"Hashimoto 1984","Table A-157","USDA 1996, 2008"]
[null,"Market Swine 120-179 lbs.",68,"Safley 2000","Table A-157","USDA 1996, 2008",0.48,"Hashimoto 1984","Table A-157","USDA 1996, 2008"]
[null,"Market Swine >180 lbs.",91,"Safley 2000","Table A-157","USDA 1996, 2008",0.48,"Hashimoto 1984","Table A-157","USDA 1996, 2008"]
[null,"Breeding Swine",198,"Safley 2000","Table A-157","USDA 1996, 2008",0.48,"Hashimoto 1984","Table A-157","USDA 1996, 2008"]
[null,"Feedlot Sheep",25,"EPA 1992","Table A-157","ASAE 1998, USDA 2008",0.36,"EPA 1992","Table A-157","ASAE 1998, USDA 2008"]
[null,"NOF Sheep",80,"EPA 1992","Table A-157","ASAE 1998, USDA 2008",0.19,"EPA 1992","Table A-157","ASAE 1998, USDA 2008"]
[null,"Goats",64,"ASAE 1998","Table A-157","ASAE 1998",0.17,"EPA 1992","Table A-157","ASAE 1998"]
[null,"Horses",450,"ASAE 1998","Table A-157","ASAE 1998, USDA 2008",0.33,"EPA 1992","Table A-157","ASAE 1998, USDA 2008"]
[null,"Mules and Asses",130,"IPCC 2006","Table A-157","IPCC 2006",0.33,"EPA 1992 ","Table A-157","IPCC 2006"]
[null,"Hens >/= 1 yr",1.8,"ASAE 1998","Table A-157","USDA 1996, 2008",0.39,"Hill 1982","Table A-157","USDA 1996, 2008"]
[null,"Pullets ",1.8,"ASAE 1998","Table A-157","USDA 1996, 2008",0.39,"Hill 1982","Table A-157","USDA 1996, 2008"]
[null,"Other Chickens",1.8,"ASAE 1998","Table A-157","USDA 1996, 2008",0.39,"Hill 1982","Table A-157","USDA 1996, 2008"]
[null,"Broilers",0.9,"ASAE 1998","Table A-157","USDA 1996, 2008",0.36,"Hill 1984","Table A-157","USDA 1996, 2008"]
[null,"Turkeys",6.8,"ASAE 1998","Table A-157","USDA 1996, 2008",0.36,"Hill 1984","Table A-157","USDA 1996, 2008"]
[null,"a Nex and VS values vary by year; Table A-158 shows state-level values for 2020 only. "]
[null,"Source: U.S. EPA. 2024. Inventory of U.S. Greenhouse Gas Emissions and Sinks: 1990–2022.  "]
[]
[null,"Livestock Type","Min","Max","Typical Animal Mass (kg)"]
[null,"Bulls",{"$f":"LEFT(C48,3)","v":"831"},{"$f":"RIGHT(C48,3)","v":"917"},{"$f":"((D75-C75)/2)+C75","v":874}]
[null,"Beef cows",{"$f":"LEFT(C52,3)","v":"554"},{"$f":"RIGHT(C52,3)","v":"611"},{"$f":"((D76-C76)/2)+C76","v":582.5}]
[null,"Beef heifers",{"$f":"LEFT(C50,3)","v":"296"},{"$f":"RIGHT(C50,3)","v":"407"},351.5]
[null,"Steer stockers",{"$f":"LEFT(C51,3)","v":"314"},{"$f":"RIGHT(C51,3)","v":"335"},324.5]
[null,"Heifer stockers",{"$f":"LEFT(C50,3)","v":"296"},{"$f":"RIGHT(C50,3)","v":"407"},{"$f":"((D79-C79)/2)+C79","v":351.5}]
[null,"Feedlot beef",{"$f":"AVERAGE(419,384)","v":401.5},{"$f":"AVERAGE(457,430)","v":443.5},{"$f":"((D80-C80)/2)+C80","v":422.5}]
[null,"Beef calves",{"$f":"LEFT(C49,3)","v":"122"},{"$f":"RIGHT(C49,3)","v":"123"},122.5]
[null,"Dairy heifers",{"$f":"LEFT(C45,3)","v":"406"},{"$f":"RIGHT(C45,3)","v":"408"},407]
[null,"Dairy cows",null,null,{"$f":"C44","v":680}]
[null,"Dairy calves",{"$f":"LEFT(C49,3)","v":"122"},{"$f":"RIGHT(C49,3)","v":"123"},{"$f":"((D84-C84)/2)+C84","v":122.5}]
[null,"Swine, <55 lbs",null,null,{"$f":"C54","v":13}]
[null,"Swine 55-330 lbs",null,null,{"$f":"C57","v":41}]
[null,"Swine 330+ lbs",null,null,{"$f":"C59","v":91}]
[null,"Poultry, layers",null,null,{"$f":"C66","v":1.8}]
[null,"Poultry, pullets",null,null,{"$f":"C67","v":1.8}]
[null,"Poultry, chickens",null,null,{"$f":"C68","v":1.8}]
[null,"Poultry, broilers",null,null,{"$f":"C69","v":0.9}]
[null,"Turkeys",null,null,{"$f":"C70","v":6.8}]
[]
[null,"Volatile Solids"]
[]
[null,"Table A-157:  Estimated Volatile Solids (VS) and Total Nitrogen Excreted (Nex) Production Rates by year for Swine, Poultry, Sheep, Goats, Horses, Mules and Asses, and Cattle Calves (kg/day/1000 kg animal mass)"]
[null,"Animal Type",2022]
[null,"VS"]
[null,"Swine, Market <50 lbs.",8.8000000000000007]
[null,"Swine, Market 50-119 lbs.",5.4]
[null,"Swine, Market 120-179 lbs.",5.4]
[null,"Swine, Market >180 lbs.",5.4]
[null,"Swine, Breeding",2.7]
[null,"NOF Cattle Calves",7.7]
[null,"Sheep",8.3000000000000007]
[null,"Goats",9.5]
[null,"Hens >1yr.",10.199999999999999]
[null,"Pullets",10.199999999999999]
[null,"Chickens",11]
[null,"Broilers",17]
[null,"Turkeys",8.5]
[null,"Horses",6.1]
[null,"Mules and Asses",7.2]
[null,"Nex"]
[null,"Swine, Market <50 lbs.",0.92]
[null,"Swine, Market 50-119 lbs.",0.54]
[null,"Swine, Market 120-179 lbs.",0.54]
[null,"Swine, Market >180 lbs.",0.54]
[null,"Swine, Breeding",0.2]
[null,"NOF Cattle Calves",0.45]
[null,"Sheep",0.45]
[null,"Goats",0.45]
[null,"Hens >1yr.",0.79]
[null,"Pullets",0.79]
[null,"Chickens",1.1000000000000001]
[null,"Broilers",0.96]
[null,"Turkeys",0.63]
[null,"Horses",0.25]
[null,"Mules and Asses",0.3]
[null,"Source: U.S. EPA. 2024. Inventory of U.S. Greenhouse Gas Emissions and Sinks: 1990–2022.  "]
[]
[null,"Table A-158:  Estimated Volatile Solids (VS) and Total Nitrogen Excreted (Nex) Production Rates by State for Cattle (other than Calves) and American Bison for 2022 (kg/animal/year)"]
[null,"State","Volatile Solids",null,null,null,null,null,null,null,null,"Nitrogen Excreted"]
[null,null,"Dairy Cow","Dairy Heifers","Beef NOF Cow","Beef NOF Heifers","Beef NOF Steer","Beef OF Heifers","Beef OF Steer","Beef NOF Bull","American Bison","Dairy Cow","Dairy Heifers","Beef NOF Cow","Beef NOF Heifers","Beef NOF Steer","Beef OF Heifers","Beef OF Steer","Beef NOF Bull","American Bison"]
[null,"Minnesota",2829,1255,1589,1013,927,637,622,1643,1643,158,69,75,49,43,59,61,85,85]
[null,"a Beef NOF Bull values were used for American bison Nex and VS."]
[null,"Source: U.S. EPA. 2024. Inventory of U.S. Greenhouse Gas Emissions and Sinks: 1990–2022.  "]
[]
[null,"Livestock Type","Volatile Solids Production Rate","Volatile Solids Production Rate","Volatile Solids Production Rate ","Maximum Methane Generation Potential, B0"]
[null,null,"kg/animal/year","kg/day/1000 kg animal mass","kg/kg animal mass/year","m3 CH4/kg VS"]
[null,"Bulls",{"$f":"J135","v":1643},null,{"$f":"C141/(INDEX($E$75:$E$92,MATCH(B141,$B$75:$B$92,0)))","v":1.8798627002288331},{"$f":"G48","v":0.17}]
[null,"Beef cows",{"$f":"E135","v":1589},null,{"$f":"C142/(INDEX($E$75:$E$92,MATCH(B142,$B$75:$B$92,0)))","v":2.7278969957081545},{"$f":"G52","v":0.17}]
[null,"Beef heifers",{"$f":"F135","v":1013},null,{"$f":"C143/(INDEX($E$75:$E$92,MATCH(B143,$B$75:$B$92,0)))","v":2.8819345661450924},{"$f":"G50","v":0.17}]
[null,"Steer stockers",{"$f":"G135","v":927},null,{"$f":"C144/(INDEX($E$75:$E$92,MATCH(B144,$B$75:$B$92,0)))","v":2.856702619414484},{"$f":"G51","v":0.17}]
[null,"Heifer stockers",{"$f":"F135","v":1013},null,2.8819345661450924,{"$f":"G50","v":0.17}]
[null,"Feedlot beef",{"$f":"AVERAGE(H135:I135)","v":629.5},null,{"$f":"C146/(INDEX($E$75:$E$92,MATCH(B146,$B$75:$B$92,0)))","v":1.489940828402367},{"$f":"AVERAGE(G46:G47)","v":0.33}]
[null,"Beef calves",null,{"$f":"C104","v":7.7},{"$f":"D147*(365/1000)","v":2.8104999999999998},{"$f":"G49","v":0.17}]
[null,"Dairy heifers",{"$f":"D135","v":1255},null,3.0835380835380835,{"$f":"G45","v":0.17}]
[null,"Dairy cows",{"$f":"C135","v":2829},null,4.1602941176470587,{"$f":"G44","v":0.24}]
[null,"Dairy calves",null,{"$f":"C104","v":7.7},{"$f":"D150*(365/1000)","v":2.8104999999999998},{"$f":"G49","v":0.17}]
[null,"Swine, <55 lbs",null,{"$f":"C99","v":8.8000000000000007},{"$f":"D151*(365/1000)","v":3.2120000000000002},{"$f":"G54","v":0.48}]
[null,"Swine 55-330 lbs",null,{"$f":"AVERAGE(C100:C101)","v":5.4},{"$f":"D152*(365/1000)","v":1.9710000000000001},{"$f":"AVERAGE(G56:G58)","v":0.48}]
[null,"Swine 330+ lbs",null,{"$f":"C102","v":5.4},1.9710000000000001,{"$f":"G59","v":0.48}]
[null,"Poultry, layers",null,{"$f":"C107","v":10.199999999999999},3.7229999999999999,{"$f":"G66","v":0.39}]
[null,"Poultry, pullets",null,{"$f":"C108","v":10.199999999999999},3.7229999999999999,{"$f":"G67","v":0.39}]
[null,"Poultry, chickens",null,{"$f":"C109","v":11},4.0149999999999997,0.39]
[null,"Poultry, broilers",null,{"$f":"C110","v":17},6.2050000000000001,0.36]
[null,"Turkeys",null,{"$f":"C111","v":8.5},3.1025,{"$f":"G70","v":0.36}]
[]
[null,"Methane Conversion Factor"]
[]
[null,"Table A-162:  Methane Conversion Factors (Percent) for Dry Systems",null,null,"IPCC MCF Assumptions - Cool Climate Zone"]
[null,"Waste Management System","Cool Climate MCF",null,"System",null,"MCF"]
[null,"Aerobic Treatment",0,null,"Anaerobic Digester, Low leakage, High quality industrial technology, open storage",null,3.5499999999999997E-2]
[null,"Anaerobic Digester",0]
[null,"Cattle Deep Litter (<1 month)",2.75,null,"Source: IPCC 2019, Volume 4, Chapter 10, Table 10.17"]
[null,"Cattle Deep Litter (>1 month)",20]
[null,"Composting - In Vessel",0.5]
[null,"Composting - Static Pile",1]
[null,"Composting-Extensive/ Passive",1]
[null,"Composting-Intensive",0.5]
[null,"Daily Spread",0.1]
[null,"Dry Lot",1]
[null,"Fuel",10]
[null,"Pasture",0.47]
[null,"Poultry with bedding",1.5]
[null,"Poultry without bedding",1.5]
[null,"Solid Storage",2]
[null,"Source: U.S. EPA. 2024. Inventory of U.S. Greenhouse Gas Emissions and Sinks: 1990–2022.  "]
[null,"Note: Values obtained from IPCC 2019. Unclear why the value for Anaerobic Digester is zero."]
[]
[null,"Table A-163:  Methane Conversion Factors by State for Liquid Systems for 2022 (Percent)"]
[null,"State","Dairy",null,"Swine",null,"Beef","Poultry"]
[null,null,"Anaerobic Lagoon","Liquid/Slurry and Deep Pit","Anaerobic Lagoon","Liquid/Slurry and Pit Storage","Liquid/Slurry and Deep Pit","Anaerobic Lagoon","Liquid/Slurry"]
[null,"Minnesota",68,24,69,25,25,68,24]
[null,"Source: U.S. EPA. 2024. Inventory of U.S. Greenhouse Gas Emissions and Sinks: 1990–2022.  "]
[]
[null,"Manure management systems","Methane Conversion Factor (%)"]
[null,"Dry lot",{"$f":"C173/100","v":0.01}]
[null,"Liquid/slurry",{"$f":"AVERAGE(D185,F185,G185,I185)/100","v":0.245}]
[null,"Pasture, range, paddock",{"$f":"C175/100","v":4.6999999999999993E-3}]
[null,"Solid storage",{"$f":"C178/100","v":0.02}]
[null,"Deep pit",{"$f":"AVERAGE(D185,F185,G185,I185)/100","v":0.245}]
[null,"Composting",{"$f":"AVERAGE(C168:C171)/100","v":7.4999999999999997E-3}]
[null,"Cattle deep litter",{"$f":"C167/100","v":0.2}]
[null,"Daily spread",{"$f":"C172/100","v":1E-3}]
[null,"Anaerobic lagoon - liquid",{"$f":"AVERAGE(C185,E185,H185)/100","v":0.68333333333333324}]
[null,"Anaerobic digester",{"$f":"G164","v":3.5499999999999997E-2}]
[null,"Poultry without litter",{"$f":"C177/100","v":1.4999999999999999E-2}]
[null,"Poultry with litter",{"$f":"C176/100","v":1.4999999999999999E-2}]
[]
[null,"Nitrogen Excretion"]
[]
[null,"Livestock Type","Excreted Nitrogen (kg N/animal/year)","Excreted Nitrogen (kg/day/1000 kg animal mass)","Excreted Nitrogen (kg N/kg animal liveweight/year)"]
[null,"Bulls",{"$f":"S135","v":85},null,{"$f":"C205/(INDEX($E$75:$E$84,MATCH(B205,$B$75:$B$84,0)))","v":9.7254004576659045E-2}]
[null,"Beef cows",{"$f":"N135","v":75},null,{"$f":"C206/(INDEX($E$75:$E$84,MATCH(B206,$B$75:$B$84,0)))","v":0.12875536480686695}]
[null,"Beef heifers",{"$f":"O135","v":49},null,{"$f":"C207/(INDEX($E$75:$E$84,MATCH(B207,$B$75:$B$84,0)))","v":0.13940256045519203}]
[null,"Steer stockers",{"$f":"P135","v":43},null,0.13251155624036981]
[null,"Heifer stockers",{"$f":"O135","v":49},null,0.13940256045519203]
[null,"Feedlot beef",{"$f":"AVERAGE(Q135:R135)","v":60},null,{"$f":"C210/(INDEX($E$75:$E$84,MATCH(B210,$B$75:$B$84,0)))","v":0.14201183431952663}]
[null,"Beef calves",null,{"$f":"C120","v":0.45},{"$f":"D211*(365/1000)","v":0.16425000000000001}]
[null,"Dairy heifers",{"$f":"M135","v":69},null,0.16953316953316952]
[null,"Dairy cows",{"$f":"L135","v":158},null,0.2323529411764706]
[null,"Dairy calves",null,{"$f":"C120","v":0.45},{"$f":"D214*(365/1000)","v":0.16425000000000001}]
[null,"Swine, <55 lbs",null,{"$f":"C115","v":0.92},0.33579999999999999]
[null,"Swine 55-330 lbs",null,{"$f":"AVERAGE(C116:C117)","v":0.54},0.1971]
[null,"Swine 330+ lbs",null,{"$f":"C118","v":0.54},0.1971]
[null,"Poultry, layers",null,{"$f":"C123","v":0.79},0.28835]
[null,"Poultry, pullets",null,{"$f":"C124","v":0.79},0.28835]
[null,"Poultry, chickens",null,{"$f":"C125","v":1.1000000000000001},0.40150000000000002]
[null,"Poultry, broilers",null,{"$f":"C126","v":0.96},0.35039999999999999]
[null,"Turkeys",null,{"$f":"C127","v":0.63},0.22994999999999999]
[]
[null,"Direct Nitrous Oxide Emissions Factor"]
[]
[null,"Table A-164:  Direct Nitrous Oxide Emission Factors (kg N2O-N/kg N excreted)",null,null,null,"Default Emission Factors to Estimate Direct N2O Emissions from Managed Soils"]
[null,"Waste Management System","Direct N2O Emission Factor",null,null,"Emission factor",null,"kg N2O-N/kg N"]
[null,"Aerobic Treatment (forced aeration)",5.0000000000000001E-3,null,null,"For N additions from synthetic fertilisers, organic amendments and crop residues",null,0.01]
[null,"Aerobic Treatment (natural aeration)",0.01]
[null,"Anaerobic Digester",5.9999999999999995E-4,null,null,"For cattle, poulty, and pigs",null,4.0000000000000001E-3]
[null,"Anaerobic Lagoon",0,null,null,"Source: IPCC 2019, Volume 4, Chapter 11, Table 11.1"]
[null,"Cattle Deep Bedding/Litter (active mix)",7.0000000000000007E-2]
[null,"Cattle Deep Bedding/Litter (no mix)",0.01]
[null,"Composting_in vessel",6.0000000000000001E-3]
[null,"Composting_intensive",5.0000000000000001E-3]
[null,"Composting_passive",0.01]
[null,"Composting_static",0.01]
[null,"Daily Spread",0]
[null,"Pit Storage",2E-3]
[null,"Dry Lot",0.02]
[null,"Fuel",0]
[null,"Liquid/Slurry",5.0000000000000001E-3]
[null,"Pasture",0]
[null,"Poultry with bedding",1E-3]
[null,"Poultry without bedding",1E-3]
[null,"Solid Storage",0.01]
[null,"Source: U.S. EPA. 2024. Inventory of U.S. Greenhouse Gas Emissions and Sinks: 1990–2022.  "]
[]
[null,"Manure management systems","Emission Factor (kg N2O-N/kg N) "]
[null,"Anaerobic digester",{"$f":"C230","v":5.9999999999999995E-4}]
[null,"Anaerobic lagoon - liquid",{"$f":"C231","v":0}]
[null,"Cattle deep litter",{"$f":"AVERAGE(C232:C233)","v":0.04}]
[null,"Composting",{"$f":"AVERAGE(C234:C237)","v":7.7499999999999999E-3}]
[null,"Daily spread",{"$f":"C238","v":0}]
[null,"Deep pit",{"$f":"C239","v":2E-3}]
[null,"Dry lot",{"$f":"C240","v":0.02}]
[null,"Liquid/slurry",{"$f":"C242","v":5.0000000000000001E-3}]
[null,"Pasture, range, paddock",{"$f":"H230","v":4.0000000000000001E-3}]
[null,"Poultry with litter",{"$f":"C244","v":1E-3}]
[null,"Poultry without litter",{"$f":"C245","v":1E-3}]
[null,"Solid storage",{"$f":"C246","v":0.01}]
[]
[null,"Indirect Nitrous Oxide Emissions Factor"]
[]
[null,"Default Emission, Volitilisation and Leaching Factors for Indirect Soil N2O Emissions"]
[null,"Emission factor",null,"kg N2O-N/kg N"]
[null,"EF4 N volatilisation and redeposition",null,0.01]
[null,"EF5 leaching/runoff",null,1.0999999999999999E-2]
[null,"Source: IPCC 2019, Volume 4, Chapter 11, Table 11.3"]
[]
[null,"Loss Rates"]
[]
[null,"Indirect Nitrous Oxide Loss Factors (Percent)"]
[null,"Animal Type","Waste Management System","Lookup value","Volatilization Nitrogen Loss","Runoff/Leaching Nitrogen Loss a"]
[null,null,null,null,null,"Central","Pacific","Mid-Atlantic","Midwest","South"]
[null,"Beef Cattle","Daily Spread","Daily Spread",7,0,0,0,0,0]
[null,"Beef Cattle","Deep Pit","Deep Pit",25,0,0,0,0,0]
[null,"Beef Cattle","Dry Lot","Dry Lot",23,1.1000000000000001,3.9,3.6,1.9,4.3]
[null,"Beef Cattle","Liquid/Slurry","Liquid/Slurry",26,0,0,0,0,0]
[null,"Beef Cattle","Pasture","Pasture, range, paddock",0,0,0,0,0,0]
[null,"Beef Cattle","Solid Storage","Solid Storage",45,0.02,0.02,0.02,0.02,0.02]
[null,"Beef Cattle","Cattle Deep Litter (>1 month)","Cattle deep litter",25,3.5000000000000003E-2,3.5000000000000003E-2,3.5000000000000003E-2,3.5000000000000003E-2,3.5000000000000003E-2]
[null,"Beef Cattle","Composting_intensive","Composting",65,0.06,0.06,0.06,0.06,0.06]
[null,"Dairy Cattle","Anaerobic Lagoon","Anaerobic lagoon - liquid",43,0.2,0.8,0.7,0.4,0.9]
[null,"Dairy Cattle","Daily Spread","Daily Spread",10,0,0,0,0,0]
[null,"Dairy Cattle","Deep Pit","Deep Pit",24,0,0,0,0,0]
[null,"Dairy Cattle","Dry Lot","Dry Lot",15,0.6,2,1.8,0.9,2.2000000000000002]
[null,"Dairy Cattle","Liquid/Slurry","Liquid/Slurry",26,0.2,0.8,0.7,0.4,0.9]
[null,"Dairy Cattle","Pasture","Pasture",0,0,0,0,0,0]
[null,"Dairy Cattle","Solid Storage","Solid Storage",27,0.2,0,0,0,0]
[null,"American Bison","Pasture","Pasture, range, paddock",0,0,0,0,0,0]
[null,"Goats","Dry Lot","Dry Lot",23,1.1000000000000001,3.9,3.6,1.9,4.3]
[null,"Goats","Pasture","Pasture",0,0,0,0,0,0]
[null,"Horses","Dry Lot","Dry Lot",23,0,0,0,0,0]
[null,"Horses","Pasture","Pasture",0,0,0,0,0,0]
[null,"Mules and Asses","Dry Lot","Dry Lot",23,0,0,0,0,0]
[null,"Mules and Asses","Pasture","Pasture, range, paddock",0,0,0,0,0,0]
[null,"Poultry","Anaerobic Lagoon","Anaerobic lagoon - liquid",54,0.2,0.8,0.7,0.4,0.9]
[null,"Poultry","Liquid/Slurry","Liquid/Slurry",26,0.2,0.8,0.7,0.4,0.9]
[null,"Poultry","Pasture","Pasture, range, paddock",0,0,0,0,0,0]
[null,"Poultry","Poultry with bedding","Poultry with litter",26,0,0,0,0,0]
[null,"Poultry","Poultry without bedding","Poultry without litter",34,0,0,0,0,0]
[null,"Poultry","Solid Storage","Solid Storage",8,0,0,0,0,0]
[null,"Poultry","Composting_intensive","Composting",65,0.06,0.06,0.06,0.06,0.06]
[null,"Sheep","Dry Lot","Dry Lot",23,1.1000000000000001,3.9,3.6,1.9,4.3]
[null,"Sheep","Pasture","Pasture",0,0,0,0,0,0]
[null,"Swine","Anaerobic Lagoon","Anaerobic lagoon - liquid",58,0.2,0.8,0.7,0.4,0.9]
[null,"Swine","Deep Pit","Deep Pit",34,0,0,0,0,0]
[null,"Swine","Liquid/Slurry","Liquid/Slurry",26,0.2,0.8,0.7,0.4,0.9]
[null,"Swine","Pasture","Pasture, range, paddock",0,0,0,0,0,0]
[null,"Swine","Solid Storage","Solid Storage",45,0,0,0,0,0]
[null,"a Data for nitrogen losses due to leaching were not available, so the values represent only nitrogen losses due to runoff. "]
[null,"Source: Table A-165 of U.S. EPA. 2024. Inventory of U.S. Greenhouse Gas Emissions and Sinks: 1990–2022.  "]
[]
[null,"Default Emission, Volitilisation and Leaching Factors for Indirect Soil N2O Emissions"]
[null,"FracGASM Volatilisation from all organic N fertilisers applied, and dung and urine deposited by grazing animals",null,null,0.21]
[null,"FracLEACH N losses by leaching/runoff in wet climates",null,null,0.24]
[null,"Source: IPCC 2019, Volume 4, Chapter 11, Table 11.3"]
[]
[null,"Volatilized Nitrogen Loss Rates"]
[null,"Manure management systems","Beef Cattle","Dairy Cattle","Swine","Poultry"]
[null,"Anaerobic digester*",0,0,0,0]
[null,"Anaerobic lagoon - liquid",{"$f":"SUMIFS($E$276:$E$311,$B$276:$B$311,C$321,$D$276:$D$311,$B323)/100","v":0},{"$f":"SUMIFS($E$276:$E$311,$B$276:$B$311,D$321,$D$276:$D$311,$B323)/100","v":0.43},{"$f":"SUMIFS($E$276:$E$311,$B$276:$B$311,E$321,$D$276:$D$311,$B323)/100","v":0.57999999999999996},{"$f":"SUMIFS($E$276:$E$311,$B$276:$B$311,F$321,$D$276:$D$311,$B323)/100","v":0.54}]
[null,"Cattle deep litter",{"$f":"SUMIFS($E$276:$E$311,$B$276:$B$311,C$321,$D$276:$D$311,$B324)/100","v":0.25},"NA","NA","NA"]
[null,"Composting",0.65,"NA","NA",{"$f":"SUMIFS($E$276:$E$311,$B$276:$B$311,F$321,$D$276:$D$311,$B325)/100","v":0.65}]
[null,"Daily spread",7.0000000000000007E-2,{"$f":"SUMIFS($E$276:$E$311,$B$276:$B$311,D$321,$D$276:$D$311,$B326)/100","v":0.1},"NA","NA"]
[null,"Deep pit",0.25,{"$f":"SUMIFS($E$276:$E$311,$B$276:$B$311,D$321,$D$276:$D$311,$B327)/100","v":0.24},{"$f":"SUMIFS($E$276:$E$311,$B$276:$B$311,E$321,$D$276:$D$311,$B327)/100","v":0.34},{"$f":"SUMIFS($E$276:$E$311,$B$276:$B$311,F$321,$D$276:$D$311,$B327)/100","v":0}]
[null,"Dry lot",0.23,{"$f":"SUMIFS($E$276:$E$311,$B$276:$B$311,D$321,$D$276:$D$311,$B328)/100","v":0.15},"NA","NA"]
[null,"Liquid/slurry",0.26,{"$f":"SUMIFS($E$276:$E$311,$B$276:$B$311,D$321,$D$276:$D$311,$B329)/100","v":0.26},{"$f":"SUMIFS($E$276:$E$311,$B$276:$B$311,E$321,$D$276:$D$311,$B329)/100","v":0.26},{"$f":"SUMIFS($E$276:$E$311,$B$276:$B$311,F$321,$D$276:$D$311,$B329)/100","v":0.26}]
[null,"Pasture, range, paddock",{"$f":"$E$316","v":0.21},{"$f":"$E$316","v":0.21},0.21,0.21]
[null,"Poultry with litter","NA","NA","NA",{"$f":"SUMIFS($E$276:$E$311,$B$276:$B$311,F$321,$D$276:$D$311,$B331)/100","v":0.26}]
[null,"Poultry without litter","NA","NA","NA",{"$f":"SUMIFS($E$276:$E$311,$B$276:$B$311,F$321,$D$276:$D$311,$B332)/100","v":0.34}]
[null,"Solid storage",{"$f":"SUMIFS($E$276:$E$311,$B$276:$B$311,C$321,$D$276:$D$311,$B333)/100","v":0.45},{"$f":"SUMIFS($E$276:$E$311,$B$276:$B$311,D$321,$D$276:$D$311,$B333)/100","v":0.27},{"$f":"SUMIFS($E$276:$E$311,$B$276:$B$311,E$321,$D$276:$D$311,$B333)/100","v":0.45},{"$f":"SUMIFS($E$276:$E$311,$B$276:$B$311,F$321,$D$276:$D$311,$B333)/100","v":0.08}]
[null,"*Indirect emissions from anaerobic digestion are assumed to be zero (rather than NA). "]
[]
[null,"Leaching and Runoff Loss Rates"]
[null,"Manure management systems","Beef Cattle","Dairy Cattle","Swine","Poultry"]
[null,"Anaerobic digester*",0,0,0,0]
[null,"Anaerobic lagoon - liquid",{"$f":"SUMIFS($I$276:$I$311,$B$276:$B$311,C$337,$D$276:$D$311,$B339)/100","v":0},{"$f":"SUMIFS($I$276:$I$311,$B$276:$B$311,D$337,$D$276:$D$311,$B339)/100","v":4.0000000000000001E-3},{"$f":"SUMIFS($I$276:$I$311,$B$276:$B$311,E$337,$D$276:$D$311,$B339)/100","v":4.0000000000000001E-3},{"$f":"SUMIFS($I$276:$I$311,$B$276:$B$311,F$337,$D$276:$D$311,$B339)/100","v":4.0000000000000001E-3}]
[null,"Cattle deep litter",{"$f":"SUMIFS($I$276:$I$311,$B$276:$B$311,C$337,$D$276:$D$311,$B340)/100","v":3.5000000000000005E-4},"NA","NA","NA"]
[null,"Composting",5.9999999999999995E-4,"NA","NA",{"$f":"SUMIFS($I$276:$I$311,$B$276:$B$311,F$337,$D$276:$D$311,$B341)/100","v":5.9999999999999995E-4}]
[null,"Daily spread",0,{"$f":"SUMIFS($I$276:$I$311,$B$276:$B$311,D$337,$D$276:$D$311,$B342)/100","v":0},"NA","NA"]
[null,"Deep pit",0,{"$f":"SUMIFS($I$276:$I$311,$B$276:$B$311,D$337,$D$276:$D$311,$B343)/100","v":0},{"$f":"SUMIFS($I$276:$I$311,$B$276:$B$311,E$337,$D$276:$D$311,$B343)/100","v":0},{"$f":"SUMIFS($I$276:$I$311,$B$276:$B$311,F$337,$D$276:$D$311,$B343)/100","v":0}]
[null,"Dry lot",1.9E-2,{"$f":"SUMIFS($I$276:$I$311,$B$276:$B$311,D$337,$D$276:$D$311,$B344)/100","v":9.0000000000000011E-3},"NA","NA"]
[null,"Liquid/slurry",0,{"$f":"SUMIFS($I$276:$I$311,$B$276:$B$311,D$337,$D$276:$D$311,$B345)/100","v":4.0000000000000001E-3},{"$f":"SUMIFS($I$276:$I$311,$B$276:$B$311,E$337,$D$276:$D$311,$B345)/100","v":4.0000000000000001E-3},{"$f":"SUMIFS($I$276:$I$311,$B$276:$B$311,F$337,$D$276:$D$311,$B345)/100","v":4.0000000000000001E-3}]
[null,"Pasture, range, paddock",{"$f":"$E$317","v":0.24},{"$f":"$E$317","v":0.24},0.24,0.24]
[null,"Poultry with litter","NA","NA","NA",{"$f":"SUMIFS($I$276:$I$311,$B$276:$B$311,F$337,$D$276:$D$311,$B347)/100","v":0}]
[null,"Poultry without litter","NA","NA","NA",{"$f":"SUMIFS($I$276:$I$311,$B$276:$B$311,F$337,$D$276:$D$311,$B348)/100","v":0}]
[null,"Solid storage",{"$f":"SUMIFS($I$276:$I$311,$B$276:$B$311,C$337,$D$276:$D$311,$B349)/100","v":2.0000000000000001E-4},{"$f":"SUMIFS($I$276:$I$311,$B$276:$B$311,D$337,$D$276:$D$311,$B349)/100","v":0},{"$f":"SUMIFS($I$276:$I$311,$B$276:$B$311,E$337,$D$276:$D$311,$B349)/100","v":0},{"$f":"SUMIFS($I$276:$I$311,$B$276:$B$311,F$337,$D$276:$D$311,$B349)/100","v":0}]
[null,"*Indirect emissions from anaerobic digestion are assumed to be zero (rather than NA). "]
[]
[null,"Default Management System"]
[]
[null,"Manure management systems","Beef NOF","Feedlot beef*","Dairy heifers","Dairy cows*","Dairy calves","Swine*","Poultry, layers, pullets and chickens","Poultry, broilers","Turkeys"]
[null,"Pasture, range, paddock",1,7.0000000000000007E-2,0.06,0.15,1,0.02,0.04,0.02,0.01]
[null,"Daily spread",0,0,0.1,0.06,0,0,0,0,0]
[null,"Dry lot",0,0.31,0.84,0,0,0,0,0,0]
[null,"Solid storage",0,0.28999999999999998,0,0.24,0,0,0.45,0.42,0]
[null,"Liquid/slurry",0,0.09,0,0.05,0,0.03,0,0,0]
[null,"Anaerobic lagoon - liquid",0,0,0,0.21,0,0.02,0,0,0]
[null,"Deep pit",0,0.06,0,0.23,0,{"$f":"(88+5)/100","v":0.93},0,0,0]
[null,"Anaerobic digester",0,0,0,0.06,0,0,0,0,0]
[null,"Composting",0,0.01,0,0,0,0,0.01,0,0]
[null,"Cattle deep litter",0,0.17,0,0,0,0,0,0,0]
[null,"Poultry with litter",0,0,0,0,0,0,0.08,0.56000000000000005,0.99]
[null,"Poultry without litter ",0,0,0,0,0,0,0.42,0,0]
[null,null,{"$f":"SUM(C355:C366)","v":1},0.99999999999999989,1,1,1,1,1,1,1]
[null,"Source: Table A-159 of U.S. EPA. 2024. Inventory of U.S. Greenhouse Gas Emissions and Sinks: 1990–2022.  "]
[null,"Note: Edited based on expert opinion to ensure total sums to 100%."]

{"sheet":"Buildings","index":24,"n_rows":358,"n_cols":13,"rows_kept":358,"cut":false,"hidden":false,"merged":[[274,1,274,3],[101,1,101,12],[187,1,187,12],[273,7,273,9],[273,5,274,6],[55,2,55,4],[89,1,90,1],[55,1,56,1],[7,1,8,1],[14,1,15,1],[89,2,89,5],[21,1,22,1],[45,1,46,1],[45,2,45,5],[21,2,21,4],[14,2,14,4],[7,2,7,6]]}
[null,"Building Energy"]
[]
[null,"This tab documents the source data and calculations used to develop the assumptions used to calculate GHG emissions from building energy consumption. Refer to the final report for the detailed methodology."]
[]
[null,"Energy Intensity"]
[]
[null,"Table CE2.3  Annual household site fuel consumption in the Midwest—totals and averages, 2020"]
[null,"Census division","Total site energy consumption (trillion Btu)"]
[null,null,"Total","Electricity","Natural gas","Propane","Fuel oil or kerosene"]
[null,"East North Central",1823,591,1103,108,21]
[null,"West North Central",796,310,419,62,4]
[null,"Source: EIA Residential Energy Consumption Survey (RECS), https://www.eia.gov/consumption/residential/data/2020/"]
[]
[null,"Table HC10.3  Total square footage of Midwest homes, 2020"]
[null,"Census division","Total square footage (billion square feet)"]
[null,null,"Total","Heated","Cooled"]
[null,"East North Central",37.11,34.33,28.18]
[null,"West North Central",17.13,16.059999999999999,13.78]
[null,"Source: EIA Residential Energy Consumption Survey (RECS), https://www.eia.gov/consumption/residential/data/2020/"]
[]
[null,"Table C28. Natural gas consumption and conditional energy intensity by census division (part 2), 2018"]
[null,"Principal building activity","Natural gas energy intensity (cubic feet/square foot)"]
[null,null,"West North Central","South Atlantic","East South Central"]
[null,"Education",33.799999999999997,23.6,21.1]
[null,"Food sales ","Q","Q","Q"]
[null,"Food service ","Q",159.9,"Q"]
[null,"Health care ",65.900000000000006,78.3,41.3]
[null,"Inpatient ","Q",90.3,"Q"]
[null,"Outpatient ","Q","Q","Q"]
[null,"Lodging ",44,28.3,20.3]
[null,"Mercantile ",33,29.8,26]
[null,"Retail (other than mall) ",27.3,20.6,18.600000000000001]
[null,"Enclosed and strip malls ","Q",34.200000000000003,"Q"]
[null,"Office ",30.7,16.3,32]
[null,"Public assembly ",38.200000000000003,28.2,"Q"]
[null,"Public order and safety ","Q","Q","Q"]
[null,"Religious worship ","Q",19,14.6]
[null,"Service ","Q",42.3,"Q"]
[null,"Warehouse and storage ",27.8,15.2,15.5]
[null,"Other ","Q",20.8,"Q"]
[null,"Vacant ","Q","Q","Q"]
[null,"Source: EIA Commercial Buildings Energy Consumption Survey (CBECS), https://www.eia.gov/consumption/commercial/data/2018/"]
[null,"Q = Data withheld either because the relative standard error was greater than 50% or the reporting sample had fewer than 20 buildings."]
[]
[null,"Table C35. Fuel oil consumption and conditional energy intensity by census region, 2018"]
[null,"Principal building activity","Fuel oil energy intensity (gallons/thousand square feet)"]
[null,null,"Northeast","Midwest","South","West"]
[null,"Education",130.5,28.8,43.2,"Q"]
[null,"Health care ",48,20.100000000000001,9.9,"Q"]
[null,"Office ",44.5,5.2,5.7,2]
[null,"All others",91.5,17,14.5,"Q"]
[null,"Source: EIA Commercial Buildings Energy Consumption Survey (CBECS), https://www.eia.gov/consumption/commercial/data/2018/"]
[null,"Q = Data withheld either because the relative standard error was greater than 50% or the reporting sample had fewer than 20 buildings."]
[]
[null,"Table C18. Electricity consumption and conditional energy intensity by census division (part 2), 2018"]
[null,"Principal building activity","Electricity energy intensity (kWh/square foot)"]
[null,null,"West North Central","South Atlantic","East South Central"]
[null,"Education",8.8000000000000007,12.1,11.8]
[null,"Food sales ","Q","Q","Q"]
[null,"Food service ","Q",58.8,"Q"]
[null,"Health care ",21.3,29.1,24.5]
[null,"Inpatient ","Q",34.1,"Q"]
[null,"Outpatient ","Q",20.5,"Q"]
[null,"Lodging ",11,17.5,10.8]
[null,"Mercantile ",13.8,18.5,16]
[null,"Retail (other than mall) ",12.6,15.1,14.7]
[null,"Enclosed and strip malls ","Q",21.4,"Q"]
[null,"Office ",11.6,15.9,18.399999999999999]
[null,"Public assembly ",11.1,14.4,"Q"]
[null,"Public order and safety ","Q","Q","Q"]
[null,"Religious worship ",5.3,5.8,3.7]
[null,"Service ",4.3,9.4,"Q"]
[null,"Warehouse and storage ",8.1,6.1,5.8]
[null,"Other ","Q",25.4,"Q"]
[null,"Vacant ","Q",5.3,"Q"]
[null,"Source: EIA Commercial Buildings Energy Consumption Survey (CBECS), https://www.eia.gov/consumption/commercial/data/2018/"]
[null,"Q = Data withheld either because the relative standard error was greater than 50% or the reporting sample had fewer than 20 buildings."]
[]
[null,"Table 1.1    First Use of Energy for All Purposes (Fuel and Nonfuel), 2018"]
[null,"Subsector and Industry","Total (trillion Btu)","Net Electricity (million kWh)","Residual Fuel Oil (million bbl)","Distillate Fuel Oil (million bbl)","Natural  Gas (billion cu ft)","HGL (excluding natural gasoline) (million bbl)","Coal (million short tons)","Coke and Breeze (million short tons)","Other (trillion Btu)","Shipments of Energy Sources Produced Onsite (trillion Btu)"]
[null,"Total United States",19436,759512,9,16,7052,898,41,11,6224,867]
[null,"Total Midwest Census",4300,244303,"D",4,1861,"D",19,10,819,61]
[null,"Source: EIA Manufacturing Energy Consumption Survey (MECS), https://www.eia.gov/consumption/manufacturing/data/2018/#r11"]
[]
[null,"Table 9.1  Enclosed Floorspace and Number of Establishment Buildings, 2018"]
[null,"Subsector and Industry","Approximate Enclosed Floorspace of All Buildings Onsite (million sq ft)"]
[null,"Total United States",11270]
[null,"Source: EIA Manufacturing Energy Consumption Survey (MECS), https://www.eia.gov/consumption/manufacturing/data/2018/#r11"]
[]
[null,"Building Type Category","Energy Intensity (Btu/sq ft/year)",null,null,null,null,"Heat Contents from EIA, 2018"]
[null,null,"Electricity","Natural Gas","Propane","Fuel Oil or Kerosene",null,"Fuel Type","Unit","Heat Content"]
[null,"Residential",{"$f":"D11/$C$18*Constants!$F$16","v":18096.906012842966},{"$f":"E11/C18*Constants!F16","v":24460.011675423237},{"$f":"F11/$C$18*Constants!$F$16","v":3619.3812025685934},{"$f":"G11/$C$18*Constants!$F$16","v":233.50846468184471},null,"Natural Gas","Btu/ft3",1049]
[null,"Commercial",{"$f":"AVERAGE(C59:C60,C64:C65,C68,C71:C75)*Constants!F21","v":30766.128999999997},{"$f":"AVERAGE(C25,C26,C30,C31,C34,C37:C41)*J92","v":35534.875},0,{"$f":"AVERAGE(D50:D51)*J93/Constants!F12/Constants!F18","v":1661.5642857142857},null,"Residual Fuel Oil","Btu/barrel",6287000]
[null,"Industrial",{"$f":"D81/$C$87*Constants!F21","v":229952.19837444543},{"$f":"G81/$C$87*J92*Constants!$F$17","v":656392.90150842944},0,{"$f":"F81/$C$87*J94","v":8191.6592724046141},null,"Distillate Fuel Oil","Btu/barrel",5770000]
[null,"Institutional",{"$f":"AVERAGE(C58,C61,C69,C70)*Constants!F21","v":46860.056000000004},{"$f":"AVERAGE(C24,C27,C35:C36)*J92","v":48219.033333333333},0,{"$f":"AVERAGE(D48:D49)*J93/Constants!F12/Constants!F18","v":3659.9321428571438},null,"Natural Gas Source: EIA Heat Content of Natural Gas Consumed, 2018 Minnesota value. https://www.eia.gov/dnav/ng/ng_cons_heat_a_EPG0_VGTH_btucf_a.htm"]
[null,"Note: NA indicates lack of available data.",null,null,null,null,null,"Fuel Oil Source: EIA Monthly Energy Review. December 2024. https://www.eia.gov/totalenergy/data/monthly/index.php#appendices. "]
[]
[null,"Detailed MECS Data"]
[]
[null,"Table 1.1    First Use of Energy for All Purposes (Fuel and Nonfuel), 2018"]
[null,"NAICS Code(a)","Subsector and Industry","Total (trillion Btu)","Net Electricity (million kWh)","Residual Fuel Oil (million bbl)","Distillate Fuel Oil (million bbl)","Natural  Gas (billion cu ft)","HGL (excluding natural gasoline) (million bbl)","Coal (million short tons)","Breeze (million short tons)","Other (trillion Btu)","of Energy Sources Produced Onsite (trillion Btu)"]
[null,"Total United States"]
[null,"311","Food",1161,91975,"*",3,650,2,2,"*",102,"*"]
[null," 3112"," Grain and Oilseed Milling",247,14710,"*","*",144,"*",1,0,27,"*"]
[null,"   311221","   Wet Corn Milling",111,6013,0,"*",59,"*",1,0,18,0]
[null,"  31131","  Sugar Manufacturing",107,1143,"*","*",32,"*",1,"*",39,0]
[null," 3114"," Fruit and Vegetable Preserving and Specialty Food ",130,9928,"*","*",90,"*",0,0,1,0]
[null," 3115"," Dairy Product",124,11504,"*","*",78,"*",0,0,1,0]
[null," 3116"," Animal Slaughtering and Processing",278,31687,"*",1,145,"*",0,0,15,0]
[null,"312","Beverage and Tobacco Products",118,14260,"*","*",52,"*","*",0,"Q",0]
[null," 3121"," Beverages",111,13494,"*","*",48,"*","*",0,"Q",0]
[null," 3122"," Tobacco ",7,766,"*","*",4,"*",0,0,"*",0]
[null,"313","Textile Mills",64,10881,"*","*",22,"*","*",0,1,0]
[null,"314","Textile Product Mills",22,2858,0,"*",11,"*","*",0,"*",0]
[null,"315","Apparel",4,724,0,"*",2,"*","*",0,"*",0]
[null,"316","Leather and Allied Products",2,226,0,"*",1,"*",0,0,"*",0]
[null,"321","Wood Products",388,20702,"*",2,65,1,"*",0,233,0]
[null,"   321113","   Sawmills",161,7212,"*",1,17,"*",0,0,114,0]
[null," 3212"," Veneer, Plywood, and Engineered Woods",139,6710,"*","*",30,"*","*",0,83,0]
[null,"   321219","   Reconstituted Wood Products",78,4289,"*","*",20,"*",0,0,42,0]
[null," 3219"," Other Wood Products",79,6325,"*","Q",15,"*","*",0,35,0]
[null,"322","Paper",2041,50995,1,1,554,1,3,0,1223,0]
[null,"   322110","   Pulp Mills",292,1593,"*","*",39,"*","*",0,242,0]
[null,"   322121","   Paper Mills, except Newsprint",698,15509,1,"*",218,"*",2,0,375,0]
[null,"   322122","   Newsprint Mills",35,4946,0,"*",5,"*",0,0,12,0]
[null,"   322130","   Paperboard Mills",897,16308,"*","*",227,"*",1,0,588,0]
[null,"323","Printing and Related Support",60,10043,"*","*",24,"*",0,0,"*",0]
[null,"324","Petroleum and Coal Products",4245,52035,1,2,1040,5,8,0,2952,159]
[null,"   324110","   Petroleum Refineries",3375,48497,"*",1,958,4,0,0,2192,0]
[null,"   324121","   Asphalt Paving Mixture and Block",475,1378,"*",1,40,1,"*",0,416,0]
[null,"   324122","   Asphalt Shingle and Coating Materials",272,930,"*","*",13,"*",0,0,257,"Q"]
[null,"   324191","   Petroleum Lubricating Oil and Grease Products",26,1340,0,"*",20,"*",0,0,1,"Q"]
[null,"   324199","   Other Petroleum and Coal Products",97,-110,0,"*",8,"*",8,0,85,155]
[null,"325","Chemicals",7141,146846,7,2,3115,882,6,"*",965,583]
[null,"   325110","   Petrochemicals",1461,6946,0,"*",296,386,0,0,347,422]
[null,"   325120","   Industrial Gases",291,21611,0,"*",235,"*",0,0,4,30]
[null,"   325180","   Other Basic Inorganic Chemicals",555,29720,7,"*",254,16,2,"*",57,0]
[null,"   325193","   Ethyl Alcohol ",453,10721,0,"*",347,"*",2,0,12,0]
[null,"   325194","   Cyclic Crudes, Intermediate and Gum and Wood Chemicals",233,3141,0,"*",116,19,"*",0,30,9]
[null,"   325199","   Other Basic Organic Chemicals",1366,18970,"*","Q",575,127,2,0,333,88]
[null,"   325211","   Plastics Materials and Resins",1675,16884,0,"D",441,"D","D",0,"D",34]
[null,"   325212","   Synthetic Rubber",38,1386,0,"*",19,1,"*",0,9,0]
[null,"   325220","   Artificial and Synthetic Fibers and Filaments",33,2694,0,"*",22,"*","*",0,"*",0]
[null,"   325311","   Nitrogenous Fertilizers",614,5131,0,"*","D","*",0,0,"D",0]
[null,"   325312","   Phosphatic Fertilizers",37,"D","*","D",28,"*","D",0,"*",0]
[null," 3254"," Pharmaceuticals and Medicines",115,10442,0,"*",61,"*","*",0,16,0]
[null,"   325412","   Pharmaceutical Preparation",67,6121,0,"*",30,"*","*",0,14,0]
[null,"   325992","   Photographic Film, Paper, Plate, and Chemicals",8,921,"*","*",3,"*",0,0,2,0]
[null,"326","Plastics and Rubber Products",257,49342,"*","*",81,1,0,0,"*",0]
[null,"327","Nonmetallic Mineral Products",846,37953,"*",4,337,1,9,"*",149,0]
[null,"   327120 ","   Clay Building Material and Refractories",47,1769,0,"*",35,"*","*",0,1,0]
[null,"   327211","   Flat Glass",47,1419,0,"*",40,"*","*",0,1,0]
[null,"   327212","   Other Pressed and Blown Glass and Glassware",31,2135,0,"*",22,"*",0,0,1,0]
[null,"   327213","   Glass Containers",54,3447,0,"*",41,"*",0,0,"*",0]
[null,"   327215","   Glass Products from Purchased Glass",22,3675,0,"*",9,"*",0,0,"*",0]
[null,"   327310","   Cements",296,11444,0,"*",56,"*",5,"*",90,0]
[null,"   327410","   Lime",106,1384,0,"*",18,"*",3,"*",17,0]
[null,"   327420","   Gypsum",59,1541,0,"*",50,"*",0,0,"*",0]
[null,"   327993","   Mineral Wool",33,3110,0,"*",21,"*","*","*","*",0]
[null,"331","Primary Metals",1511,112848,"*",1,658,1,13,10,30,125]
[null,"   331110","   Iron and Steel Mills and Ferroalloys",1047,55633,"*",1,436,"*",13,10,17,125]
[null," 3312"," Steel Products from Purchased Steel",53,6915,0,"*",25,"*","*","*",1,0]
[null," 3313"," Alumina and Aluminum",217,26260,0,"*",113,"*",0,0,10,"*"]
[null,"   331314","   Secondary Smelting and Alloying of Aluminum",21,780,0,"*",18,"*",0,0,"*",0]
[null,"   331315","   Aluminum Sheet, Plate and Foils",72,5377,0,"*",52,"*",0,0,"*","*"]
[null,"   331318","   Other Aluminum Rolling, Drawing and Extruding",24,1917,0,"*",17,"*",0,0,"*",0]
[null," 3314"," Nonferrous Metals, except Aluminum",100,13274,0,"*",41,"*","*","*",3,0]
[null,"   331410","   Nonferrous Metal (except Aluminum) Smelting and Refining",48,7887,0,"*",16,"*","*","*",1,0]
[null," 3315"," Foundries",93,10766,"*","*",44,"*","*","*","*",0]
[null,"   331511","   Iron Foundries",41,5197,0,"*",12,"*","*","*","*",0]
[null,"   331523","   Nonferrous Metal Die-Casting Foundries",22,2078,"*","*",14,"*",0,0,"*",0]
[null,"   331524","   Aluminum Foundries, except Die-Casting",9,788,0,"*",6,"*",0,0,"*",0]
[null,"332","Fabricated Metal Products",257,36281,0,"*",122,1,"*",0,2,0]
[null,"333","Machinery",148,23556,"*","*",59,1,"*",0,1,0]
[null,"334","Computer and Electronic Products",110,22221,"*","*",32,"*",0,0,1,0]
[null,"   334413","   Semiconductors and Related Devices",54,11612,"*","*",13,"*",0,0,"*",0]
[null,"335","Electrical Equip., Appliances, and Components",85,11045,"*","*",35,"*",0,0,10,0]
[null,"336","Transportation Equipment",348,50479,"*",1,154,1,0,"*",8,0]
[null,"   336111","   Automobiles",34,4026,0,"*",18,"*",0,0,2,0]
[null,"   336112","   Light Trucks and Utility Vehicles",41,4238,0,"*",24,"*",0,0,1,0]
[null," 3364"," Aerospace Product and Parts",66,9678,"*","*",27,"*",0,0,4,0]
[null,"   336411","   Aircraft",17,2722,0,"*",6,"*",0,0,2,0]
[null,"337","Furniture and Related Products",37,4672,0,"*",15,"*","*",0,5,0]
[null,"339","Miscellaneous",61,9571,0,"*",25,"*","*",0,1,0]
[null,"","Subtotal",18907,759512,9,16,7052,898,41,11,5695,867]
[null,null,"Miscellaneous Nonfuel Products(i)",529,0,0,0,0,0,0,0,529,0]
[null,null,"Total",19436,759512,9,16,7052,898,41,11,6224,867]
[null,"Midwest Census Region"]
[null,"311","Food",487,33101,"*","*",295,"*",2,"*",21,"*"]
[null," 3112"," Grain and Oilseed Milling",189,10506,"*","*",112,"*",1,0,17,"*"]
[null,"   311221","   Wet Corn Milling",100,5563,0,"*",55,"*","*",0,13,0]
[null,"  31131","  Sugar Manufacturing",36,608,"*","*",8,"*",1,"*","*",0]
[null," 3114"," Fruit and Vegetable Preserving and Specialty Food ",33,3657,0,"*",19,"*",0,0,"*",0]
[null," 3115"," Dairy Product",48,4353,"*","*",31,"*",0,0,"*",0]
[null," 3116"," Animal Slaughtering and Processing",89,7588,"*","*",59,"*",0,0,1,0]
[null,"312","Beverage and Tobacco Products",29,1480,"*","*",12,"*",0,0,"Q",0]
[null," 3121"," Beverages",29,1479,"*","*",12,"*",0,0,"Q",0]
[null," 3122"," Tobacco ","*",1,0,0,"*",0,0,0,0,0]
[null,"313","Textile Mills",2,301,0,"*",1,"*",0,0,"*",0]
[null,"314","Textile Product Mills",1,143,0,0,"*",0,0,0,0,0]
[null,"315","Apparel","*",70,0,0,"*",0,0,0,0,0]
[null,"316","Leather and Allied Products",1,107,0,"*",1,"*",0,0,"*",0]
[null,"321","Wood Products",39,3001,"*","Q",10,"*",0,0,13,0]
[null,"   321113","   Sawmills",6,448,"*","*",1,"*",0,0,4,0]
[null," 3212"," Veneer, Plywood, and Engineered Woods",12,771,0,"*",4,"*",0,0,6,0]
[null,"   321219","   Reconstituted Wood Products",8,519,0,"*",3,"*",0,0,3,0]
[null," 3219"," Other Wood Products",19,1741,0,"Q",5,"*",0,0,4,0]
[null,"322","Paper",274,13496,"*","*",107,"*",1,0,103,0]
[null,"   322110","   Pulp Mills",2,249,0,"*",1,"*",0,0,"*",0]
[null,"   322121","   Paper Mills, except Newsprint",172,5212,"*","*",52,"*",1,0,88,0]
[null,"   322122","   Newsprint Mills",0,0,0,0,0,0,0,0,0,0]
[null,"   322130","   Paperboard Mills",54,2779,"*","*",27,"*","*",0,15,0]
[null,"323","Printing and Related Support",26,3786,0,"*",13,"*",0,0,"*",0]
[null,"324","Petroleum and Coal Products",792,10453,"*",1,131,1,6,0,532,34]
[null,"   324110","   Petroleum Refineries",484,9786,0,"*",113,1,0,0,328,0]
[null,"   324121","   Asphalt Paving Mixture and Block",126,257,"*","*",10,"*",0,0,113,0]
[null,"   324122","   Asphalt Shingle and Coating Materials","D",275,"*","*",4,"*",0,0,"D",0]
[null,"   324191","   Petroleum Lubricating Oil and Grease Products",3,194,0,"*",2,"*",0,0,"*",0]
[null,"   324199","   Other Petroleum and Coal Products","D",-59,0,"*",2,"*",6,0,"D",34]
[null,"325","Chemicals",993,38470,"D","*",619,29,"D",0,70,3]
[null,"   325110","   Petrochemicals","*",3,0,"*","*","*",0,0,0,0]
[null,"   325120","   Industrial Gases",26,6549,0,0,6,"*",0,0,0,2]
[null,"   325180","   Other Basic Inorganic Chemicals",48,3783,"D","*",21,"*",0,0,"D",0]
[null,"   325193","   Ethyl Alcohol ",416,9712,0,"*",315,"*",2,0,11,0]
[null,"   325194","   Cyclic Crudes, Intermediate and Gum and Wood Chemicals",7,287,0,"*",2,"*","*",0,3,0]
[null,"   325199","   Other Basic Organic Chemicals",72,4011,0,"*",40,"D","*",0,"D",0]
[null,"   325211","   Plastics Materials and Resins","D","D",0,"*",31,"D","D",0,"D","*"]
[null,"   325212","   Synthetic Rubber",2,178,0,"*",1,"*",0,0,"*",0]
[null,"   325220","   Artificial and Synthetic Fibers and Filaments",1,74,0,0,"*","*",0,0,0,0]
[null,"   325311","   Nitrogenous Fertilizers",142,1774,0,"*","D","*",0,0,"D",0]
[null,"   325312","   Phosphatic Fertilizers","*",8,0,"*","*","*",0,0,0,0]
[null," 3254"," Pharmaceuticals and Medicines",35,3305,0,"*",20,"*","*",0,2,0]
[null,"   325412","   Pharmaceutical Preparation",24,2130,0,"*",14,"*","*",0,2,0]
[null,"   325992","   Photographic Film, Paper, Plate, and Chemicals","*",52,0,"*","*","*",0,0,"*",0]
[null,"326","Plastics and Rubber Products",110,21719,0,"*",34,"*",0,0,"*",0]
[null,"327","Nonmetallic Mineral Products",238,11435,0,1,87,"*",3,"*",44,0]
[null,"   327120 ","   Clay Building Material and Refractories",9,285,0,"*",7,"*","*",0,"*",0]
[null,"   327211","   Flat Glass",16,462,0,"*",14,"*",0,0,"*",0]
[null,"   327212","   Other Pressed and Blown Glass and Glassware",10,496,0,"*",8,"*",0,0,"*",0]
[null,"   327213","   Glass Containers",15,945,0,"*",11,"*",0,0,"*",0]
[null,"   327215","   Glass Products from Purchased Glass",9,1721,0,"*",3,"*",0,0,"*",0]
[null,"   327310","   Cements",76,3096,0,"*",6,"*",1,"*",29,0]
[null,"   327410","   Lime",46,467,0,"*",9,"*",1,"*",7,0]
[null,"   327420","   Gypsum",10,264,0,"*",9,"*",0,0,"*",0]
[null,"   327993","   Mineral Wool",13,1292,0,"*",8,"*",0,"*","*",0]
[null,"331","Primary Metals",846,41574,"*","D",340,"*","D",10,13,24]
[null,"   331110","   Iron and Steel Mills and Ferroalloys",675,20012,"*","D",260,"*","D",10,10,24]
[null," 3312"," Steel Products from Purchased Steel",22,2294,0,"*",13,"*","*",0,"*",0]
[null," 3313"," Alumina and Aluminum",62,8608,0,"*",28,"*",0,0,3,0]
[null,"   331314","   Secondary Smelting and Alloying of Aluminum",9,300,0,"*",8,"*",0,0,"*",0]
[null,"   331315","   Aluminum Sheet, Plate and Foils",19,1564,0,"*",13,"*",0,0,"*",0]
[null,"   331318","   Other Aluminum Rolling, Drawing and Extruding",8,698,0,"*",5,"*",0,0,"*",0]
[null," 3314"," Nonferrous Metals, except Aluminum",28,4097,0,"*",11,"*",0,"*","*",0]
[null,"   331410","   Nonferrous Metal (except Aluminum) Smelting and Refining",12,2472,0,"*",3,"*",0,"*","*",0]
[null," 3315"," Foundries",59,6563,"*","*",27,"*","*","*","*",0]
[null,"   331511","   Iron Foundries",28,3252,0,"*",8,"*","*","*","*",0]
[null,"   331523","   Nonferrous Metal Die-Casting Foundries",14,1348,"*","*",9,"*",0,0,"*",0]
[null,"   331524","   Aluminum Foundries, except Die-Casting",5,458,0,"*",3,"*",0,0,"*",0]
[null,"332","Fabricated Metal Products",124,18470,0,"*",56,"*",0,0,"*",0]
[null,"333","Machinery",73,9656,0,"*",35,1,0,0,"*",0]
[null,"334","Computer and Electronic Products",15,3191,0,"*",4,"*",0,0,"*",0]
[null,"   334413","   Semiconductors and Related Devices",5,1172,0,"*",1,"*",0,0,"*",0]
[null,"335","Electrical Equip., Appliances, and Components",27,3786,"*","*",12,"*",0,0,"*",0]
[null,"336","Transportation Equipment",184,24909,0,"D",88,"D",0,"*",5,0]
[null,"   336111","   Automobiles",21,2026,0,"*",12,"*",0,0,1,0]
[null,"   336112","   Light Trucks and Utility Vehicles",25,2259,0,"*",16,"*",0,0,1,0]
[null," 3364"," Aerospace Product and Parts",18,2405,0,"*",8,"*",0,0,2,0]
[null,"   336411","   Aircraft",4,528,0,"*",2,"*",0,0,"*",0]
[null,"337","Furniture and Related Products",18,1813,0,"*",8,"*",0,0,"Q",0]
[null,"339","Miscellaneous",22,3343,0,"*",9,"*","*",0,1,0]
[null,"","Total",4300,244303,"D",4,1861,"D",19,10,819,61]
[]
[null,"Table 9.1  Enclosed Floorspace and Number of Establishment Buildings, 2018"]
[null,"NAICS Code","Subsector and Industry","Approximate Enclosed Floorspace of All Buildings Onsite (million sq ft)",null,"Industry",null,"Energy Intensity (Btu/sq ft/year)"]
[null,"Total United States",null,null,null,null,null,"Electricity","Natural Gas","Fuel Oil or Kerosene"]
[null,"311","Food",1081,null,"Food",null,{"$f":"IFERROR(E103*Constants!$F$21/D276,\"NA\")","v":290315.9819611471},{"$f":"IFERROR(H103/D276*$J$92*Constants!$F$17,\"NA\")","v":630758.55689176684},{"$f":"IFERROR(G103/D276*$J$94,\"NA\")","v":16012.950971322849}]
[null," 3112"," Grain and Oilseed Milling",93,null," Grain and Oilseed Milling",null,{"$f":"IFERROR(E104*Constants!$F$21/D277,\"NA\")","v":539705.15483870963},{"$f":"IFERROR(H104/D277*$J$92*Constants!$F$17,\"NA\")","v":1624258.064516129},"NA"]
[null,"   311221","   Wet Corn Milling",14,null,"   Wet Corn Milling",null,{"$f":"IFERROR(E105*Constants!$F$21/D278,\"NA\")","v":1465514.1300000001},{"$f":"IFERROR(H105/D278*$J$92*Constants!$F$17,\"NA\")","v":4420785.7142857146},"NA"]
[null,"  31131","  Sugar Manufacturing",27,null,"  Sugar Manufacturing",null,{"$f":"IFERROR(E106*Constants!$F$21/D279,\"NA\")","v":144447.26},{"$f":"IFERROR(H106/D279*$J$92*Constants!$F$17,\"NA\")","v":1243259.2592592591},"NA"]
[null," 3114"," Fruit and Vegetable Preserving and Specialty Food ",175,null," Fruit and Vegetable Preserving and Specialty Food ",null,{"$f":"IFERROR(E107*Constants!$F$21/D280,\"NA\")","v":193575.5766857143},{"$f":"IFERROR(H107/D280*$J$92*Constants!$F$17,\"NA\")","v":539485.71428571432},"NA"]
[null," 3115"," Dairy Product",131,null," Dairy Product",null,{"$f":"IFERROR(E108*Constants!$F$21/D281,\"NA\")","v":299643.19511450379},{"$f":"IFERROR(H108/D281*$J$92*Constants!$F$17,\"NA\")","v":624595.41984732822},"NA"]
[null," 3116"," Animal Slaughtering and Processing",181,null," Animal Slaughtering and Processing",null,{"$f":"IFERROR(E109*Constants!$F$21/D282,\"NA\")","v":597350.71922651934},{"$f":"IFERROR(H109/D282*$J$92*Constants!$F$17,\"NA\")","v":840359.11602209939},31878.453038674033]
[null,"312","Beverage and Tobacco Products",277,null,"Beverage and Tobacco Products",null,{"$f":"IFERROR(E110*Constants!$F$21/D283,\"NA\")","v":175657.45992779784},{"$f":"IFERROR(H110/D283*$J$92*Constants!$F$17,\"NA\")","v":196924.18772563178},"NA"]
[null," 3121"," Beverages",255,null," Beverages",null,{"$f":"IFERROR(E111*Constants!$F$21/D284,\"NA\")","v":180562.42023529409},{"$f":"IFERROR(H111/D284*$J$92*Constants!$F$17,\"NA\")","v":197458.82352941178},"NA"]
[null," 3122"," Tobacco ",22,null," Tobacco ",null,{"$f":"IFERROR(E112*Constants!$F$21/D285,\"NA\")","v":118804.5109090909},{"$f":"IFERROR(H112/D285*$J$92*Constants!$F$17,\"NA\")","v":190727.27272727271},"NA"]
[null,"313","Textile Mills",126,null,"Textile Mills",null,{"$f":"IFERROR(E113*Constants!$F$21/D286,\"NA\")","v":294662.66142857139},{"$f":"IFERROR(H113/D286*$J$92*Constants!$F$17,\"NA\")","v":183158.73015873015},"NA"]
[null,"314","Textile Product Mills",112,null,"Textile Product Mills",null,{"$f":"IFERROR(E114*Constants!$F$21/D287,\"NA\")","v":87070.50107142856},{"$f":"IFERROR(H114/D287*$J$92*Constants!$F$17,\"NA\")","v":103026.78571428571},"NA"]
[null,"315","Apparel",35,null,"Apparel",null,{"$f":"IFERROR(E115*Constants!$F$21/D288,\"NA\")","v":70582.553142857141},{"$f":"IFERROR(H115/D288*$J$92*Constants!$F$17,\"NA\")","v":59942.857142857145},"NA"]
[null,"316","Leather and Allied Products",17,null,"Leather and Allied Products",null,{"$f":"IFERROR(E116*Constants!$F$21/D289,\"NA\")","v":45361.390588235292},{"$f":"IFERROR(H116/D289*$J$92*Constants!$F$17,\"NA\")","v":61705.882352941175},"NA"]
[null,"321","Wood Products",515,null,"Wood Products",null,{"$f":"IFERROR(E117*Constants!$F$21/D290,\"NA\")","v":137161.40248543691},{"$f":"IFERROR(H117/D290*$J$92*Constants!$F$17,\"NA\")","v":132398.05825242717},22407.76699029126]
[null,"   321113","   Sawmills",117,null,"   Sawmills",null,{"$f":"IFERROR(E118*Constants!$F$21/D291,\"NA\")","v":210327.80923076923},{"$f":"IFERROR(H118/D291*$J$92*Constants!$F$17,\"NA\")","v":152418.80341880344},49316.23931623932]
[null," 3212"," Veneer, Plywood, and Engineered Woods",85,null," Veneer, Plywood, and Engineered Woods",null,{"$f":"IFERROR(E119*Constants!$F$21/D292,\"NA\")","v":269358.34588235291},{"$f":"IFERROR(H119/D292*$J$92*Constants!$F$17,\"NA\")","v":370235.29411764705},"NA"]
[null,"   321219","   Reconstituted Wood Products",29,null,"   Reconstituted Wood Products",null,{"$f":"IFERROR(E120*Constants!$F$21/D293,\"NA\")","v":504643.74},{"$f":"IFERROR(H120/D293*$J$92*Constants!$F$17,\"NA\")","v":723448.2758620691},"NA"]
[null," 3219"," Other Wood Products",301,null," Other Wood Products",null,{"$f":"IFERROR(E121*Constants!$F$21/D294,\"NA\")","v":71700.284053156152},{"$f":"IFERROR(H121/D294*$J$92*Constants!$F$17,\"NA\")","v":52275.747508305649},"NA"]
[null,"322","Paper",590,null,"Paper",null,{"$f":"IFERROR(E122*Constants!$F$21/D295,\"NA\")","v":294918.77847457625},{"$f":"IFERROR(H122/D295*$J$92*Constants!$F$17,\"NA\")","v":984993.22033898311},9779.6610169491523]
[null,"   322110","   Pulp Mills",21,null,"   Pulp Mills",null,{"$f":"IFERROR(E123*Constants!$F$21/D296,\"NA\")","v":258835.19142857142},{"$f":"IFERROR(H123/D296*$J$92*Constants!$F$17,\"NA\")","v":1948142.857142857},"NA"]
[null,"   322121","   Paper Mills, except Newsprint",107,null,"   Paper Mills, except Newsprint",null,{"$f":"IFERROR(E124*Constants!$F$21/D297,\"NA\")","v":494568.96504672896},{"$f":"IFERROR(H124/D297*$J$92*Constants!$F$17,\"NA\")","v":2137214.9532710281},"NA"]
[null,"   322122","   Newsprint Mills",7,null,"   Newsprint Mills",null,{"$f":"IFERROR(E125*Constants!$F$21/D298,\"NA\")","v":2410920.634285714},{"$f":"IFERROR(H125/D298*$J$92*Constants!$F$17,\"NA\")","v":749285.71428571432},"NA"]
[null,"   322130","   Paperboard Mills",57,null,"   Paperboard Mills",null,{"$f":"IFERROR(E126*Constants!$F$21/D299,\"NA\")","v":976231.21263157891},{"$f":"IFERROR(H126/D299*$J$92*Constants!$F$17,\"NA\")","v":4177596.4912280696},"NA"]
[null,"323","Printing and Related Support",327,null,"Printing and Related Support",null,{"$f":"IFERROR(E127*Constants!$F$21/D300,\"NA\")","v":104795.48018348623},{"$f":"IFERROR(H127/D300*$J$92*Constants!$F$17,\"NA\")","v":76990.825688073397},"NA"]
[null,"324","Petroleum and Coal Products",122,null,"Petroleum and Coal Products",null,{"$f":"IFERROR(E128*Constants!$F$21/D301,\"NA\")","v":1455333.6467213116},{"$f":"IFERROR(H128/D301*$J$92*Constants!$F$17,\"NA\")","v":8942295.0819672141},94590.163934426237]
[null,"   324110","   Petroleum Refineries",68,null,"   Petroleum Refineries",null,{"$f":"IFERROR(E129*Constants!$F$21/D302,\"NA\")","v":2433508.1408823528},{"$f":"IFERROR(H129/D302*$J$92*Constants!$F$17,\"NA\")","v":14778558.823529411},84852.941176470587]
[null,"   324121","   Asphalt Paving Mixture and Block",8,null,"   Asphalt Paving Mixture and Block",null,{"$f":"IFERROR(E130*Constants!$F$21/D303,\"NA\")","v":587741.11499999999},{"$f":"IFERROR(H130/D303*$J$92*Constants!$F$17,\"NA\")","v":5245000},721250]
[null,"   324122","   Asphalt Shingle and Coating Materials",22,null,"   Asphalt Shingle and Coating Materials",null,{"$f":"IFERROR(E131*Constants!$F$21/D304,\"NA\")","v":144240.46363636362},{"$f":"IFERROR(H131/D304*$J$92*Constants!$F$17,\"NA\")","v":619863.63636363635},"NA"]
[null,"   324191","   Petroleum Lubricating Oil and Grease Products",20,null,"   Petroleum Lubricating Oil and Grease Products",null,{"$f":"IFERROR(E132*Constants!$F$21/D305,\"NA\")","v":228613.37999999998},{"$f":"IFERROR(H132/D305*$J$92*Constants!$F$17,\"NA\")","v":1049000},"NA"]
[null,"   324199","   Other Petroleum and Coal Products",4,null,"   Other Petroleum and Coal Products",null,{"$f":"IFERROR(E133*Constants!$F$21/D306,\"NA\")","v":-93833.849999999991},{"$f":"IFERROR(H133/D306*$J$92*Constants!$F$17,\"NA\")","v":2098000},"NA"]
[null,"325","Chemicals",939,null,"Chemicals",null,{"$f":"IFERROR(E134*Constants!$F$21/D307,\"NA\")","v":533609.27629392967},{"$f":"IFERROR(H134/D307*$J$92*Constants!$F$17,\"NA\")","v":3479909.4781682645},12289.669861554847]
[null,"   325110","   Petrochemicals",6,null,"   Petrochemicals",null,{"$f":"IFERROR(E135*Constants!$F$21/D308,\"NA\")","v":3950120.7399999998},{"$f":"IFERROR(H135/D308*$J$92*Constants!$F$17,\"NA\")","v":51750666.666666672},{"$f":"IFERROR(G135/D308*$J$94,\"NA\")","v":"NA"}]
[null,"   325120","   Industrial Gases",7,null,"   Industrial Gases",null,{"$f":"IFERROR(E136*Constants!$F$21/D309,\"NA\")","v":10534251.077142855},{"$f":"IFERROR(H136/D309*$J$92*Constants!$F$17,\"NA\")","v":35216428.571428575},"NA"]
[null,"   325180","   Other Basic Inorganic Chemicals",55,null,"   Other Basic Inorganic Chemicals",null,{"$f":"IFERROR(E137*Constants!$F$21/D310,\"NA\")","v":1843796.3781818182},{"$f":"IFERROR(H137/D310*$J$92*Constants!$F$17,\"NA\")","v":4844472.7272727266},"NA"]
[null,"   325193","   Ethyl Alcohol ",25,null,"   Ethyl Alcohol ",null,{"$f":"IFERROR(E138*Constants!$F$21/D311,\"NA\")","v":1463262.1176},{"$f":"IFERROR(H138/D311*$J$92*Constants!$F$17,\"NA\")","v":14560120},"NA"]
[null,"   325194","   Cyclic Crudes, Intermediate and Gum and Wood Chemicals",7,null,"   Cyclic Crudes, Intermediate and Gum and Wood Chemicals",null,{"$f":"IFERROR(E139*Constants!$F$21/D312,\"NA\")","v":1531075.9628571428},{"$f":"IFERROR(H139/D312*$J$92*Constants!$F$17,\"NA\")","v":17383428.571428571},"NA"]
[null,"   325199","   Other Basic Organic Chemicals",74,null,"   Other Basic Organic Chemicals",null,{"$f":"IFERROR(E140*Constants!$F$21/D313,\"NA\")","v":874706.7},{"$f":"IFERROR(H140/D313*$J$92*Constants!$F$17,\"NA\")","v":8151013.5135135129},"NA"]
[null,"   325211","   Plastics Materials and Resins",103,null,"   Plastics Materials and Resins",null,{"$f":"IFERROR(E141*Constants!$F$21/D314,\"NA\")","v":559325.93941747572},{"$f":"IFERROR(H141/D314*$J$92*Constants!$F$17,\"NA\")","v":4491349.5145631069},"NA"]
[null,"   325212","   Synthetic Rubber",13,null,"   Synthetic Rubber",null,{"$f":"IFERROR(E142*Constants!$F$21/D315,\"NA\")","v":363786.61846153846},{"$f":"IFERROR(H142/D315*$J$92*Constants!$F$17,\"NA\")","v":1533153.846153846},"NA"]
[null,"   325220","   Artificial and Synthetic Fibers and Filaments",24,null,"   Artificial and Synthetic Fibers and Filaments",null,{"$f":"IFERROR(E143*Constants!$F$21/D316,\"NA\")","v":383012.71500000003},{"$f":"IFERROR(H143/D316*$J$92*Constants!$F$17,\"NA\")","v":961583.33333333326},"NA"]
[null,"   325311","   Nitrogenous Fertilizers",17,null,"   Nitrogenous Fertilizers",null,{"$f":"IFERROR(E144*Constants!$F$21/D317,\"NA\")","v":1029864.1376470588},{"$f":"IFERROR(H144/D317*$J$92*Constants!$F$17,\"NA\")","v":"NA"},"NA"]
[null,"   325312","   Phosphatic Fertilizers",3,null,"   Phosphatic Fertilizers",null,{"$f":"IFERROR(E145*Constants!$F$21/D318,\"NA\")","v":"NA"},{"$f":"IFERROR(H145/D318*$J$92*Constants!$F$17,\"NA\")","v":9790666.6666666679},"NA"]
[null," 3254"," Pharmaceuticals and Medicines",226,null," Pharmaceuticals and Medicines",null,{"$f":"IFERROR(E146*Constants!$F$21/D319,\"NA\")","v":157652.94637168141},{"$f":"IFERROR(H146/D319*$J$92*Constants!$F$17,\"NA\")","v":283137.16814159288},"NA"]
[null,"   325412","   Pharmaceutical Preparation",126,null,"   Pharmaceutical Preparation",null,{"$f":"IFERROR(E147*Constants!$F$21/D320,\"NA\")","v":165759.59476190474},{"$f":"IFERROR(H147/D320*$J$92*Constants!$F$17,\"NA\")","v":249761.90476190476},"NA"]
[null,"   325992","   Photographic Film, Paper, Plate, and Chemicals",40,null,"   Photographic Film, Paper, Plate, and Chemicals",null,{"$f":"IFERROR(E148*Constants!$F$21/D321,\"NA\")","v":78564.523499999996},{"$f":"IFERROR(H148/D321*$J$92*Constants!$F$17,\"NA\")","v":78675},"NA"]
[null,"326","Plastics and Rubber Products",844,null,"Plastics and Rubber Products",null,{"$f":"IFERROR(E149*Constants!$F$21/D322,\"NA\")","v":199480.81976303316},{"$f":"IFERROR(H149/D322*$J$92*Constants!$F$17,\"NA\")","v":100674.17061611376},"NA"]
[null,"327","Nonmetallic Mineral Products",487,null,"Nonmetallic Mineral Products",null,{"$f":"IFERROR(E150*Constants!$F$21/D323,\"NA\")","v":265915.70722792606},{"$f":"IFERROR(H150/D323*$J$92*Constants!$F$17,\"NA\")","v":725899.38398357283},47392.197125256673]
[null,"   327120 ","   Clay Building Material and Refractories",58,null,"   Clay Building Material and Refractories",null,{"$f":"IFERROR(E151*Constants!$F$21/D324,\"NA\")","v":104070.27},{"$f":"IFERROR(H151/D324*$J$92*Constants!$F$17,\"NA\")","v":633017.24137931038},"NA"]
[null,"   327211","   Flat Glass",26,null,"   Flat Glass",null,{"$f":"IFERROR(E152*Constants!$F$21/D325,\"NA\")","v":186224.10230769232},{"$f":"IFERROR(H152/D325*$J$92*Constants!$F$17,\"NA\")","v":1613846.153846154},"NA"]
[null,"   327212","   Other Pressed and Blown Glass and Glassware",22,null,"   Other Pressed and Blown Glass and Glassware",null,{"$f":"IFERROR(E153*Constants!$F$21/D326,\"NA\")","v":331132.67727272725},{"$f":"IFERROR(H153/D326*$J$92*Constants!$F$17,\"NA\")","v":1049000},"NA"]
[null,"   327213","   Glass Containers",28,null,"   Glass Containers",null,{"$f":"IFERROR(E154*Constants!$F$21/D327,\"NA\")","v":420058.80642857141},{"$f":"IFERROR(H154/D327*$J$92*Constants!$F$17,\"NA\")","v":1536035.7142857143},"NA"]
[null,"   327215","   Glass Products from Purchased Glass",59,null,"   Glass Products from Purchased Glass",null,{"$f":"IFERROR(E155*Constants!$F$21/D328,\"NA\")","v":212535.83898305084},{"$f":"IFERROR(H155/D328*$J$92*Constants!$F$17,\"NA\")","v":160016.94915254239},"NA"]
[null,"   327310","   Cements",14,null,"   Cements",null,{"$f":"IFERROR(E156*Constants!$F$21/D329,\"NA\")","v":2789180.7257142854},{"$f":"IFERROR(H156/D329*$J$92*Constants!$F$17,\"NA\")","v":4196000},"NA"]
[null,"   327410","   Lime",6,null,"   Lime",null,{"$f":"IFERROR(E157*Constants!$F$21/D330,\"NA\")","v":787066.96},{"$f":"IFERROR(H157/D330*$J$92*Constants!$F$17,\"NA\")","v":3147000},"NA"]
[null,"   327420","   Gypsum",28,null,"   Gypsum",null,{"$f":"IFERROR(E158*Constants!$F$21/D331,\"NA\")","v":187789.56214285715},{"$f":"IFERROR(H158/D331*$J$92*Constants!$F$17,\"NA\")","v":1873214.2857142857},"NA"]
[null,"   327993","   Mineral Wool",34,null,"   Mineral Wool",null,{"$f":"IFERROR(E159*Constants!$F$21/D332,\"NA\")","v":312110.45294117648},{"$f":"IFERROR(H159/D332*$J$92*Constants!$F$17,\"NA\")","v":647911.76470588241},"NA"]
[null,"331","Primary Metals",602,null,"Primary Metals",null,{"$f":"IFERROR(E160*Constants!$F$21/D333,\"NA\")","v":639623.21382059797},{"$f":"IFERROR(H160/D333*$J$92*Constants!$F$17,\"NA\")","v":1146581.3953488371},9584.7176079734218]
[null,"   331110","   Iron and Steel Mills and Ferroalloys",216,null,"   Iron and Steel Mills and Ferroalloys",null,{"$f":"IFERROR(E161*Constants!$F$21/D334,\"NA\")","v":878831.41027777782},{"$f":"IFERROR(H161/D334*$J$92*Constants!$F$17,\"NA\")","v":2117425.9259259263},26712.96296296296]
[null," 3312"," Steel Products from Purchased Steel",80,null," Steel Products from Purchased Steel",null,{"$f":"IFERROR(E162*Constants!$F$21/D335,\"NA\")","v":294936.85124999995},{"$f":"IFERROR(H162/D335*$J$92*Constants!$F$17,\"NA\")","v":327812.5},"NA"]
[null," 3313"," Alumina and Aluminum",105,null," Alumina and Aluminum",null,{"$f":"IFERROR(E163*Constants!$F$21/D336,\"NA\")","v":853359.96571428562},{"$f":"IFERROR(H163/D336*$J$92*Constants!$F$17,\"NA\")","v":1128923.8095238095},"NA"]
[null,"   331314","   Secondary Smelting and Alloying of Aluminum",13,null,"   Secondary Smelting and Alloying of Aluminum",null,{"$f":"IFERROR(E164*Constants!$F$21/D337,\"NA\")","v":204728.39999999997},{"$f":"IFERROR(H164/D337*$J$92*Constants!$F$17,\"NA\")","v":1452461.5384615383},"NA"]
[null,"   331315","   Aluminum Sheet, Plate and Foils",47,null,"   Aluminum Sheet, Plate and Foils",null,{"$f":"IFERROR(E165*Constants!$F$21/D338,\"NA\")","v":390363.33574468078},{"$f":"IFERROR(H165/D338*$J$92*Constants!$F$17,\"NA\")","v":1160595.744680851},"NA"]
[null,"   331318","   Other Aluminum Rolling, Drawing and Extruding",35,null,"   Other Aluminum Rolling, Drawing and Extruding",null,{"$f":"IFERROR(E166*Constants!$F$21/D339,\"NA\")","v":186887.78228571429},{"$f":"IFERROR(H166/D339*$J$92*Constants!$F$17,\"NA\")","v":509514.28571428574},"NA"]
[null," 3314"," Nonferrous Metals, except Aluminum",81,null," Nonferrous Metals, except Aluminum",null,{"$f":"IFERROR(E167*Constants!$F$21/D340,\"NA\")","v":559169.70814814814},{"$f":"IFERROR(H167/D340*$J$92*Constants!$F$17,\"NA\")","v":530975.30864197528},{"$f":"IFERROR(G167/D340*$J$94,\"NA\")","v":"NA"}]
[null,"   331410","   Nonferrous Metal (except Aluminum) Smelting and Refining",14,null,"   Nonferrous Metal (except Aluminum) Smelting and Refining",null,{"$f":"IFERROR(E168*Constants!$F$21/D341,\"NA\")","v":1922253.4414285715},{"$f":"IFERROR(H168/D341*$J$92*Constants!$F$17,\"NA\")","v":1198857.142857143},"NA"]
[null," 3315"," Foundries",120,null," Foundries",null,{"$f":"IFERROR(E169*Constants!$F$21/D342,\"NA\")","v":306125.82699999999},{"$f":"IFERROR(H169/D342*$J$92*Constants!$F$17,\"NA\")","v":384633.33333333331},"NA"]
[null,"   331511","   Iron Foundries",38,null,"   Iron Foundries",null,{"$f":"IFERROR(E170*Constants!$F$21/D343,\"NA\")","v":466655.04157894733},{"$f":"IFERROR(H170/D343*$J$92*Constants!$F$17,\"NA\")","v":331263.1578947368},"NA"]
[null,"   331523","   Nonferrous Metal Die-Casting Foundries",27,null,"   Nonferrous Metal Die-Casting Foundries",null,{"$f":"IFERROR(E171*Constants!$F$21/D344,\"NA\")","v":262608.40444444446},{"$f":"IFERROR(H171/D344*$J$92*Constants!$F$17,\"NA\")","v":543925.92592592584},"NA"]
[null,"   331524","   Aluminum Foundries, except Die-Casting",16,null,"   Aluminum Foundries, except Die-Casting",null,{"$f":"IFERROR(E172*Constants!$F$21/D345,\"NA\")","v":168047.89499999999},{"$f":"IFERROR(H172/D345*$J$92*Constants!$F$17,\"NA\")","v":393375},"NA"]
[null,"332","Fabricated Metal Products",1530,null,"Fabricated Metal Products",null,{"$f":"IFERROR(E173*Constants!$F$21/D346,\"NA\")","v":80912.321137254898},{"$f":"IFERROR(H173/D346*$J$92*Constants!$F$17,\"NA\")","v":83645.751633986918},"NA"]
[null,"333","Machinery",1021,null,"Machinery",null,{"$f":"IFERROR(E174*Constants!$F$21/D347,\"NA\")","v":78723.182997061711},{"$f":"IFERROR(H174/D347*$J$92*Constants!$F$17,\"NA\")","v":60618.021547502445},"NA"]
[null,"334","Computer and Electronic Products",416,null,"Computer and Electronic Products",null,{"$f":"IFERROR(E175*Constants!$F$21/D348,\"NA\")","v":182262.41091346153},{"$f":"IFERROR(H175/D348*$J$92*Constants!$F$17,\"NA\")","v":80692.307692307688},"NA"]
[null,"   334413","   Semiconductors and Related Devices",81,null,"   Semiconductors and Related Devices",null,{"$f":"IFERROR(E176*Constants!$F$21/D349,\"NA\")","v":489157.65037037036},{"$f":"IFERROR(H176/D349*$J$92*Constants!$F$17,\"NA\")","v":168358.02469135803},"NA"]
[null,"335","Electrical Equip., Appliances, and Components",287,null,"Electrical Equip., Appliances, and Components",null,{"$f":"IFERROR(E177*Constants!$F$21/D350,\"NA\")","v":131313.88954703833},{"$f":"IFERROR(H177/D350*$J$92*Constants!$F$17,\"NA\")","v":127926.82926829268},"NA"]
[null,"336","Transportation Equipment",1169,null,"Transportation Equipment",null,{"$f":"IFERROR(E178*Constants!$F$21/D351,\"NA\")","v":147340.81698887938},{"$f":"IFERROR(H178/D351*$J$92*Constants!$F$17,\"NA\")","v":138191.61676646705},4935.8426005132587]
[null,"   336111","   Automobiles",101,null,"   Automobiles",null,{"$f":"IFERROR(E179*Constants!$F$21/D352,\"NA\")","v":136012.6300990099},{"$f":"IFERROR(H179/D352*$J$92*Constants!$F$17,\"NA\")","v":186950.49504950494},"NA"]
[null,"   336112","   Light Trucks and Utility Vehicles",93,null,"   Light Trucks and Utility Vehicles",null,{"$f":"IFERROR(E180*Constants!$F$21/D353,\"NA\")","v":155490.85290322581},{"$f":"IFERROR(H180/D353*$J$92*Constants!$F$17,\"NA\")","v":270709.67741935479},"NA"]
[null," 3364"," Aerospace Product and Parts",278,null," Aerospace Product and Parts",null,{"$f":"IFERROR(E181*Constants!$F$21/D354,\"NA\")","v":118786.6579856115},{"$f":"IFERROR(H181/D354*$J$92*Constants!$F$17,\"NA\")","v":101881.29496402878},"NA"]
[null,"   336411","   Aircraft",94,null,"   Aircraft",null,{"$f":"IFERROR(E182*Constants!$F$21/D355,\"NA\")","v":98806.862553191488},{"$f":"IFERROR(H182/D355*$J$92*Constants!$F$17,\"NA\")","v":66957.446808510635},"NA"]
[null,"337","Furniture and Related Products",415,null,"Furniture and Related Products",null,{"$f":"IFERROR(E183*Constants!$F$21/D356,\"NA\")","v":38413.296578313253},{"$f":"IFERROR(H183/D356*$J$92*Constants!$F$17,\"NA\")","v":37915.662650602404},"NA"]
[null,"339","Miscellaneous",359,null,"Miscellaneous",null,{"$f":"IFERROR(E184*Constants!$F$21/D357,\"NA\")","v":90968.222674094708},{"$f":"IFERROR(H184/D357*$J$92*Constants!$F$17,\"NA\")","v":73050.139275766007},"NA"]
[null,"","Total",11270,null,"Total",null,{"$f":"IFERROR(E185*Constants!$F$21/D358,\"NA\")","v":229952.1983744454},{"$f":"IFERROR(H185/D358*$J$92*Constants!$F$17,\"NA\")","v":656392.90150842944},8191.6592724046141]

{"sheet":"Industrial Processes","index":25,"n_rows":16,"n_cols":7,"rows_kept":16,"cut":false,"hidden":false,"merged":[]}
[null,"Industrial Process"]
[]
[null,"This tab documents the source data and calculations used to develop the assumptions used to calculate GHG emissions from industrial processes. Refer to the final report for the detailed methodology."]
[]
[null,"Emission Factors"]
[]
[null,"Industrial Process","kgCO2/ton ","kgCH4/ton ","kgN2O/ton  ","kgCO2e/ton","Source"]
[null,"Cement production",852.93615990146668,0.29501305793660398,7.2587235646027733E-3,{"$f":"C8*Constants!$I$6+'Industrial Processes'!D8*Constants!$I$7+'Industrial Processes'!E8*Constants!$I$8","v":863.12008726831129},"GREET2, 2024"]
[null,"Lime manufacture",1145.4119016197467,0.60039986101755094,1.5494531718261019E-3,{"$f":"C9*Constants!$I$6+'Industrial Processes'!D9*Constants!$I$7+'Industrial Processes'!E9*Constants!$I$8","v":1162.633702818772},"GREET1, 2024 "]
[null,"Limestone",8.0430296657657649,9.7706806885542608E-3,1.0221759645249325E-3,{"$f":"C10*Constants!$I$6+'Industrial Processes'!D10*Constants!$I$7+'Industrial Processes'!E10*Constants!$I$8","v":8.5874853556443913},"GREET1, 2024 "]
[null,"Magnesium production and processing",15228.705207622083,30.379638540368802,0.37349016350280201,{"$f":"C11*Constants!$I$6+'Industrial Processes'!D11*Constants!$I$7+'Industrial Processes'!E11*Constants!$I$8","v":16178.309980080652},"GREET2, 2024 "]
[null,"Iron & steel production","NA*","NA*","NA*",1326.6024619739444,"GREET1, 2024, EC3"]
[null,"Ammonia production & urea consumption",823.9007402129555,3.7241271256704884,3.4668999845026076E-2,{"$f":"C13*Constants!$I$6+'Industrial Processes'!D13*Constants!$I$7+'Industrial Processes'!E13*Constants!$I$8","v":937.36358469066101},"GREET1, 2024 "]
[null,"Aluminum production","NA*","NA*","NA*",9332.1564599999983,"Aluminum Association Decarbonization Roadmap"]
[null,"Nitric acid production",616.17314385041846,1.4905287521026747,4.3262560640816998,{"$f":"C15*Constants!$I$6+'Industrial Processes'!D15*Constants!$I$7+'Industrial Processes'!E15*Constants!$I$8","v":1804.3658058909436},"GREET1, 2024 "]
[null,"*Breakout by gas not provided due to lack of data availability"]

{"sheet":"OnRoad","index":26,"n_rows":99,"n_cols":38,"rows_kept":99,"cut":false,"hidden":false,"merged":[]}
[null,"On-Road Vehicles"]
[]
[null,"This tab documents the source data and calculations used to develop the assumptions used to calculate GHG emissions from on-road vehicles. Refer to the final report for the detailed methodology."]
[]
[null,"Lifecycle Emissions"]
[]
[null,"Lifecycle Emissions Factor (gCO2e/mile)"]
[null,"Speed Bins",2025,2026,2027,2028,2029,2030,2031,2032,2033,2034,2035,2036,2037,2038,2039,2040,2041,2042,2043,2044,2045,2046,2047,2048,2049,2050,2051,2052,2053,2054,2055,2056,2057,2058,2059,2060]
[null,"0-30",{"$f":"$C$16*AVERAGE(C28:C53)","v":854.89464360101783},{"$f":"$C$16*AVERAGE(D28:D53)","v":829.32202182010565},802.84651237232265,776.08888257713295,747.34061147180682,717.54666011306404,684.9872766177723,650.85812285768316,618.17486140037386,587.43054743402058,558.62217779679781,531.88468417218758,507.53096291977806,485.20550410796409,464.99725577209404,446.81205089399003,430.65200669361633,416.20895121358404,403.52873736533564,392.43367399285296,382.77843206278123,374.4647707553608,367.30909081720517,361.03811769438425,355.8796051351332,351.40371344514824,347.36148515244093,343.86820112178555,340.8912485046859,338.3534557676644,336.10761364926094,334.14095548843119,332.55666668257328,331.11074417150417,329.90704826210208,328.88593424167823]
[null,"31-55",{"$f":"$C$16*AVERAGE(C54:C78)","v":529.47271958866406},514.01223577994529,497.83219264151688,481.33867748362997,463.75928817069791,445.56786573767346,425.71853773033342,404.82808601485334,384.79431530001978,365.93030369982364,348.26689793578282,331.90272319494017,317.00560177861985,303.33381417479808,290.97092537893627,279.83427866068303,269.94278189724355,261.09087547442465,253.31303038402615,246.49728977910766,240.55835311239071,235.43931148672294,231.02271223337044,227.14631042669131,223.93914025829486,221.15920703107946,218.64468713903767,216.4611233911009,214.59336934697873,212.98693475895638,211.56282713065752,210.30662204723808,209.2840893612734,208.3416945567256,207.5474222037754,206.86051324683734]
[null,"56-75",{"$f":"$C$16*AVERAGE(C79:C98)","v":518.99263722567741},{"$f":"$C$16*AVERAGE(D79:D98)","v":503.88721356454545},488.04706816050384,471.80007960041559,454.58659943644318,436.81263581747641,417.45175032437294,397.09643577941381,377.58284710989307,359.20981738112727,342.00336070660654,326.07971497622231,311.57549702547152,298.26030662451859,286.22410771148509,275.38415945947042,265.76804364739013,257.15301330351309,249.57950379015813,242.94401429513573,237.16809383973018,232.18874255782896,227.90048048469311,224.14167055128127,221.03338574035601,218.35656222406328,215.92445482219574,213.8148892223567,212.01763745007787,210.47107553669829,209.10528873635303,207.90248918274935,206.93191887085203,206.03552081605298,205.28616650327686,204.63939632607034]
[null,"Fleet Average",{"$f":"$C$16*C23","v":578.90617937608965},{"$f":"$C$16*D23","v":561.6901994379474},543.77522045128183,525.45906177380209,505.92427218279119,485.7328706492886,463.70646514040465,440.63746255543282,418.55059572231585,397.76880375328363,{"$f":"$C$16*M23","v":378.31123461411613},360.28652010662375,343.8758700575404,328.81428315544372,315.19140257330076,302.92113415633457,292.02891810257353,282.27670173353391,273.70362016023773,266.19082110845733,259.64658004377952,254.00410648714728,249.13886306482317,244.87346226133872,241.35313495648873,238.30985458984276,235.55252830071984,233.16524179426517,231.12971492963098,229.38190857432795,227.83638279025388,226.47734902674165,225.38116977728967,224.37098135094232,223.52770632686051,222.80330489851715]
[null,"Note: Derived using AR5 GWP values."]
[]
[null,"Upstream Scaling Factor"]
[null,"GHGs",1.289402269]
[null,"Source: MICE3.0 MnDOT review version 070124 (1).xslx (Vehicle_Ops tab, C68)"]
[]
[null,"Tailpipe Emissions"]
[]
[null,null,"Fleet Average Tailpipe Emissions (gCO2e/mile)"]
[null,null,2025,2026,2027,2028,2029,2030,2031,2032,2033,2034,2035,2036,2037,2038,2039,2040,2041,2042,2043,2044,2045,2046,2047,2048,2049,2050,2051,2052,2053,2054,2055,2056,2057,2058,2059,2060]
[null,null,448.97251485764963,435.6206072706604,421.72658876504727,407.52143408381278,392.3711663507172,376.71166115288463,359.62901282935826,341.73777505228884,324.60823575789431,308.49085139409169,293.40047222618631,279.42134799099205,266.69401654166035,255.01295527458367,244.44768723553469,234.93144183100128,226.48394928687188,218.92058709688365,212.27170661992818,206.44513159954531,201.36972478352257,196.99368660498865,193.22043171061239,189.91238665281014,187.18218569885946,184.82196000373469,182.68350689610881,180.83203931004186,179.25338002459415,177.89786328841024,176.69922588778527,175.64522296240946,174.79507768517016,174.01162286223828,173.35761825533169,172.79580644085027]
[null,null,"Source: MICE3.0 MOVES emissions rates. Provided by Jeff Houk via email on 1/23/2025"]
[]
[null,"Tailpipe Emissions by Speed Bin (gCO2e/mile)"]
[null,"speed",2025,2026,2027,2028,2029,2030,2031,2032,2033,2034,2035,2036,2037,2038,2039,2040,2041,2042,2043,2044,2045,2046,2047,2048,2049,2050,2051,2052,2053,2054,2055,2056,2057,2058,2059,2060]
[null,5,1228.1947379773378,1190.8762810845144,1152.5976831309376,1113.9057592478189,1072.2087643927684,1028.9519595655065,981.58696319975991,932.28234920735065,885.13887378028005,840.8570877416505,799.28520746875938,760.67181561064933,725.47301621159613,693.22702387920197,664.02154686763197,637.77767854585989,614.51658327527196,593.68930034623156,575.41333482583161,559.45609293446751,545.61155589637235,533.70818959656981,523.51750162265091,514.62216049885603,507.36332430183239,501.10985691191792,495.45371233996627,490.59879714179908,486.49644926303296,483.05179304163704,480.03185676250536,477.41604938090427,475.36708815327398,473.51820445869345,472.02957990841037,470.81633232502975]
[null,6,1136.3858062344736,1101.8833334244046,1066.4744777470473,1030.6855222526297,992.12140508069626,952.11905579000222,908.32292172880898,862.70872630883423,819.09087548777381,778.11586735885169,739.65493695139844,703.93243323923616,671.36985253571174,641.53649902266,614.51769313041382,590.23433848369723,568.70392298380898,549.43112406574039,532.51860005400874,517.74922092124609,504.93187963491607,493.9105095456091,484.4699185012243,476.22723115141741,469.49653141770119,463.69394201042735,458.44598312162901,453.9391560373395,450.12815779501221,446.92375059621031,444.11206339013154,441.67439519535503,439.76010875111746,438.03110776679563,436.63456309667157,435.4917390339794]
[null,7,1044.5768744916097,1012.8903857642947,980.35127236315714,947.4652852574402,912.03404576862397,875.28615201449793,835.05888025785816,793.13510341031781,753.04287719526747,715.37464697605287,680.02466643403761,647.1930508678231,617.26668885982735,589.84597416611803,565.01383939319567,542.69099842153446,522.891262692346,505.17294778524928,489.62386528218576,476.04234890802468,464.25220337345979,454.11282949464839,445.42233537979774,437.83230180397874,431.62973853357005,426.27802710893673,421.4382539032917,417.27951493287992,413.75986632699153,410.79570815078358,408.19227001775778,405.9327410098058,404.15312934896087,402.54401107489787,401.23954628493283,400.16714574292899]
[null,8,952.76794274874555,923.89743810418474,894.22806697926683,864.24504826225098,831.94668645655179,798.45324823899364,761.79483878690723,723.56148051180139,686.99487890276123,652.63342659325406,620.39439591667667,590.45366849640993,563.16352518394297,538.15544930957594,515.50998565597752,495.1476583593718,477.07860240088303,460.91477150475816,446.72913051036289,434.33547689480321,423.57252711200357,414.31514944368774,406.37475225837113,399.43737245654012,393.76294564943885,388.86211220744616,384.43052468495443,380.61987382842034,377.39157485897078,374.66766570535685,372.27247664538396,370.1910868242565,368.54614994680435,367.05691438300005,365.84452947319403,364.84255245187865]
[null,9,860.95901100588151,834.9044904440749,808.10486159537663,781.02481126706164,751.85932714447949,721.62034446348935,688.53079731595631,653.98785761328497,620.94688061025499,589.89220621045524,560.76412539931573,533.71428612499676,509.06036150805846,486.46492445303397,466.00613191875925,447.60431829720915,431.26594210942005,416.65659522426699,403.83439573853997,392.62860488158179,382.89285085054729,374.51746939272704,367.32716913694458,361.04244310910144,355.89615276530765,351.44619730595559,347.42279546661712,343.96023272396076,341.02328339095004,338.53962325993012,336.35268327301014,334.44943263870726,332.93917054464782,331.56981769110223,330.44951266145529,329.51795916082824]
[null,10,769.15007926301746,745.91154278396505,721.98165621148632,697.8045742718723,671.77196783240731,644.78744068798505,615.26675584500549,584.41423471476855,554.89888231774876,527.15098582765643,501.13385488195485,476.97490375358365,454.95719783217407,434.774399596492,416.5022781815411,400.06097823504643,385.45328181795708,372.39841894377588,360.93966096671704,350.92173286836038,342.21317458909101,334.71978934176633,328.27958601551796,322.64751376166282,318.02935988117645,314.03028240446503,310.41506624827986,307.30059161950118,304.6549919229293,302.4115808145034,300.43288990063638,298.70777845315803,297.3321911424913,296.08272099920441,295.05449584971649,294.19336586977789]
[null,11,741.0686823444039,718.71959148573819,695.67771176949373,672.40042607620512,647.34740548551781,621.38142060245366,592.98328191882933,563.2835988759806,534.86536361841615,508.14477710437086,483.09594102156296,459.8383858727633,438.6442399258375,419.21609804263403,401.62812141338316,385.80146533410959,371.73687848641686,359.16950254128471,348.13811065188031,338.49190743008973,330.10408529061232,322.88561459797324,316.6790428469165,311.24877679526264,306.79263154839788,302.93207329821638,299.44271016868692,296.43447942841027,293.87696658084656,291.70575808645106,289.78896845974594,288.11604116114796,286.77854381546661,285.56251693202859,284.55886423557087,283.71560624237202]
[null,12,712.98728542579033,691.52764018751122,669.37376732750124,646.99627788053783,622.92284313862842,597.97540051692226,570.69980799265306,542.15296303719265,514.83184491908355,489.13856838108535,465.05802716117108,442.701867991943,422.33128201950092,403.65779648877606,386.75396464522521,371.54195243317275,358.02047515487669,345.94058613879355,335.33656033704358,326.06208199181907,317.99499599213362,311.0514398541801,305.07849967831504,299.85003982886246,295.55590321561937,291.83386419196779,288.47035408909397,285.56836723731942,283.09894123876376,280.99993535839866,279.14504701885551,277.52430386913795,276.22489648844186,275.0423128648527,274.0632326214253,273.23784661496609]
[null,13,684.90588850717677,664.33568888928437,643.06982288550864,621.59212968487066,598.49828079173892,574.56938043139075,548.41633406647691,521.0223271984047,494.79832621975095,470.13235965779978,447.02011330077914,425.56535011112265,406.01832411316434,388.09949493491808,371.87980787706726,357.28243953223591,344.30407182333647,332.71166973630238,322.53501002220685,313.63225655354836,305.88590669365493,299.21726511038702,293.47795650971364,288.45130286246228,284.3191748828408,280.73565508571915,277.49799800950109,274.70225504622852,272.32091589668096,270.29411263034632,268.50112557796507,266.93256657712789,265.67124916141711,264.52210879767688,263.56760100727968,262.76008698756016]
[null,14,656.82449158856332,637.1437375910574,616.76587844351616,596.18798148920337,574.07371844484953,551.16336034585936,526.13286014030064,499.89169135961674,474.76480752041829,451.12615093451427,428.98219944038726,408.42883223030231,389.70536620682776,372.54119338106005,357.00565110890938,343.02292663129913,330.58766849179631,319.48275333381116,309.73345970737017,301.2024311152777,293.77681739517624,287.38309036659388,281.87741334111217,277.05256589606205,273.08244655006229,269.63744597947056,266.52564192990815,263.83614285513761,261.54289055459822,259.58828990229398,257.85720413707463,256.34082928511788,255.11760183439242,254.00190473050102,253.07196939313405,252.28232736015428]
[null,15,628.74309466994976,609.95178629283055,590.46193400152356,570.78383329353619,549.64915609796003,527.75734026032796,503.84938621412448,478.76105552082879,454.73128882108568,432.1199422112287,410.94428557999538,391.29231434948201,373.39240830049118,356.98289182720208,342.13149434075143,328.76341373036229,316.87126516025609,306.25383693132,296.93190939253344,288.77260567700705,281.66772809669754,275.54891562280079,270.27687017251071,265.65382892966187,261.84571821728372,258.53923687322191,255.55328585031521,252.97003066404673,250.76486521251545,248.88246717424161,247.21328269618422,245.74909199310781,244.5639545073677,243.48170066332517,242.57633777898846,241.80456773274838]
[null,16,612.31508358806548,594.04817259760262,575.08618896831297,555.93799671660747,535.37693540076907,514.07836676932936,490.8199905792211,466.40090769631433,443.00865570022819,420.9951985673917,400.38099267093099,381.25137847977368,363.8287677344,347.8561975297776,333.40059024973408,320.38769731154048,308.81150198567553,298.47543979484794,289.40024369004141,281.45568304399586,274.5365423267412,268.57706207816511,263.44075088066563,258.93531587259423,255.22213881747322,251.99658089572273,249.08398664684245,246.56302922561244,244.40996256510465,242.57001788337359,240.9377477431392,239.50490251053131,238.34327190007431,237.28166039779111,236.39176189157399,235.63165552867815]
[null,17,595.88707250618108,578.1445589023748,559.71044393510238,541.09216013967875,521.10471470357822,500.39939327833065,477.79059494431777,454.04075987179988,431.28602257937069,409.87045492355469,389.81769976186661,371.21044261006534,354.26512716830882,338.72950323235318,324.66968615871673,312.01198089271867,300.75173881109492,290.69704265837595,281.86857798754937,274.13876041098467,267.4053565567848,261.60520853352944,256.60463158882061,252.21680281552656,248.5985594176627,245.45392491822352,242.61468744336966,240.15602778717815,238.05505991769385,236.25756859250558,234.66221279009417,233.26071302795481,232.12258929278093,231.08162013225703,230.20718600415952,229.45874332460789]
[null,18,579.45906142429681,562.24094520714686,544.33469890189167,526.24632356274992,506.83249400638732,486.72041978733205,464.76119930941439,441.68061204728542,419.56338945851314,398.74571127971768,379.25440685280222,361.16950674035701,344.70148660221764,329.6028089349287,315.93878206769944,303.6362644738968,292.69197563651437,282.9186455219039,274.33691228505739,266.82183777797349,260.27417078682845,254.63335498889376,249.76851229697556,245.4982897584589,241.9749800178522,238.91126894072434,236.1453882398969,233.74902634874388,231.70015727028306,229.94511930163759,228.38667783704915,227.01652354537833,225.90190668548752,224.88157986672297,224.02261011674506,223.28583112053767]
[null,19,563.03105034241241,546.33733151191905,528.95895386868108,511.4004869858212,492.56027330919642,473.04144629633339,451.73180367451107,429.32046422277097,407.84075633765565,387.62096763588067,368.69111394373783,351.12857087064867,335.13784603612646,320.47611463750428,307.20787797668208,295.26054805507499,284.63221246193376,275.1402483854319,266.80524658256536,259.5049151449623,253.1429850168721,247.66150144425808,242.93239300513051,238.77977670139126,235.35140061804168,232.36861296322513,229.67608903642412,227.34202491030959,225.34525462287223,223.63267001076957,222.11114288400412,220.77233406280183,219.68122407819413,218.68153960118889,217.83803422933062,217.11291891646741]
[null,20,546.60303926052813,530.43371781669111,513.58320883547049,496.55465040889248,478.28805261200552,459.36247280533473,438.70240803960769,416.96031639825651,396.11812321679815,376.49622399204367,358.12782103467345,341.08763500094034,325.57420547003528,311.3494203400798,298.47697388566473,286.88483163625318,276.57244928735321,267.36185124895985,259.27358088007333,252.18799251195114,246.01179924691573,240.6896478996224,236.09627371328546,232.06126364432359,228.72782121823118,225.82595698572595,223.20678983295136,220.9350234718753,218.99035197546144,217.32022071990156,215.8356079309591,214.52814458022533,213.46054147090075,212.48149933565483,211.65345834191615,210.94000671239718]
[null,21,535.78492608271438,519.939944940543,503.42814465613122,486.73812807304034,468.83874795991539,450.29363950117209,430.05002574313824,408.74104208741147,388.31357484777601,369.08180080131018,351.07925030019891,334.37890158816492,319.17584501071644,305.23484177767449,292.61950069840248,281.25854093750115,271.15174790076099,262.12426744062367,254.19635450425801,247.25059259981703,241.19577443804735,235.97760939104424,231.47309928472836,227.51572344939089,224.2453750760171,221.39678165112414,218.82638692880943,216.59628862279249,214.68672724064709,213.04559355192467,211.58622789378356,210.30058964831667,209.2498770351194,208.28555904114359,207.46944737237132,206.76513395405067]
[null,22,524.96681290490073,509.44617206439483,493.27308047679196,476.92160573718826,459.38944330782527,441.22480619700946,421.39764344666884,400.52176777656638,380.50902647875381,361.66737761057675,344.03067956572437,327.67016817538945,312.77748455139761,299.12026321526918,286.76202751114022,275.63225023874912,265.73104651416872,256.88668363228749,249.11912812844267,242.31319268768291,236.37974962917895,231.26557088246611,226.84992485617124,222.97018325445822,219.76292893380301,216.96760631652234,214.4459840246675,212.25755377370967,210.38310250583277,208.77096638394775,207.33684785660802,206.07303471640802,205.03921259933807,204.08961874663234,203.28543640282646,202.59026119570416]
[null,23,514.14869972708698,498.95239918824672,483.11801629745275,467.10508340133612,449.9401386557351,432.15597289284676,412.74526115019938,392.30249346572134,372.70447810973167,354.25295441984326,336.98210883124983,320.96143476261403,306.37912409207871,293.00568465286392,280.90455432387796,270.00595953999704,260.31034512757651,251.64909982395133,244.04190175262735,237.37579277554877,231.56372482031057,226.55353237388795,222.22675042761415,218.42464305952552,215.28048279158889,212.5384309819205,210.06558112052556,207.91881892462683,206.07947777101842,204.49633921597086,203.08746781943245,201.84547978449939,200.82854816355672,199.89367845212107,199.10142543328163,198.41538843735762]
[null,24,503.33058654927322,488.45862631209854,472.96295211811349,457.28856106548403,440.49083400364498,423.08713958868412,404.09287885372999,384.08321915487625,364.89992974070947,346.83853122910983,329.93353809677529,314.25270134983856,299.98076363275987,286.89110609045861,275.0470811366157,264.37966884124501,254.8896437409843,246.41151601561515,238.96467537681201,232.43839286341466,226.74770001144216,221.84149386530981,217.60357599905703,213.87910286459285,210.79803664937481,208.10925564731869,205.68517821638363,203.58008407554402,201.7758530362041,200.22171204799395,198.83808778225691,197.61792485259073,196.61788372777539,195.69773815760982,194.91741446373678,194.24051567901111]
[null,25,492.51247337145952,477.96485343595043,462.80788793877423,447.47203872963189,431.04152935155486,414.01830628452149,395.44049655726053,375.86394484403121,357.09538137168732,339.42410803837635,322.88496736230076,307.54396793706314,293.58240317344104,280.77652752805329,269.18960794935344,258.75337814249298,249.46894235439206,241.17393220727897,233.8874490009967,227.50099295128055,221.93167520257379,217.12945535673165,212.98040157049994,209.33356266966015,206.31559050716072,203.68008031271688,201.3047753122417,199.24134922646121,197.47222830138975,195.94708488001706,194.58870774508136,193.39036992068208,192.40721929199404,191.50179786309857,190.73340349419195,190.0656429206646]
[null,26,485.26295072127317,470.96040048059615,456.04213291260834,440.94829704292624,424.78534394463674,408.04140049435665,389.77166651887484,370.51162658601459,352.04157804574584,334.64904891018364,318.37202467323539,303.27627029965925,289.53913110538673,276.93934878548396,265.53941413612216,255.27222687488285,246.13863129997785,237.97836026268155,230.81026804380789,224.52730386055629,219.04760687359212,214.32270435887636,210.24050022259866,206.65106494697142,203.67979963809719,201.08615669900033,198.74841900865817,196.71697434101466,194.97510570062403,193.47274865731563,192.13458807347664,190.9536839611637,189.98436822868825,189.09146141074527,188.3330263432438,187.6734959275345]
[null,27,478.01342807108676,463.95594752524192,449.27637788644245,434.42455535622059,418.52915853771862,402.06449470419182,384.10283648048915,365.15930832799796,346.98777471980441,329.87398978199093,313.85908198417007,299.00857266225529,285.49585903733248,273.10217004291462,261.88922032289088,251.79107560727272,242.80832024556366,234.7827883180841,227.73308708661909,221.553614769832,216.16353854461045,211.51595336102108,207.50059887469737,203.96856722428271,201.04400876903364,198.4922330852838,196.19206270507462,194.19259945556811,192.47798309985831,190.99841243461421,189.68046840187193,188.51699800164536,187.5615171653825,186.68112495839196,185.93264919229566,185.28134893440441]
[null,28,470.76390542090041,456.95149456988764,442.5106228602765,427.90081366951495,412.27297313080049,396.08758891402698,378.4340064421034,359.80699006998134,341.93397139386292,325.09893065379816,309.34613929510471,294.74087502485139,281.45258696927817,269.26499130034534,258.2390265096596,248.30992433966262,239.47800919114945,231.58721637348668,224.65590612943026,218.57992567910773,213.27947021562878,208.70920236316579,204.76069752679612,201.28606950159397,198.40821789997011,195.89830947156725,193.63570640149109,191.66822457012159,189.98086049909259,188.52407621191276,187.2263487302672,186.08031204212699,185.13866610207671,184.27078850603863,183.53227204134751,182.88920194127434]
[null,29,463.51438277071401,449.94704161453342,435.74486783411061,421.3770719828093,406.01678772388237,390.11068312386215,372.7651764037177,354.45467181196472,336.88016806792149,320.32387152560545,304.83319660603939,290.47317738744744,277.40931490122392,265.42781255777601,254.58883269642834,244.82877307205248,236.14769813673527,228.39164442888924,221.57872517224146,215.60623658838344,210.39540188664711,205.9024513653105,202.02079617889484,198.60357177890526,195.77242703090656,193.30438585785072,191.07935009790754,189.14384968467505,187.48373789832686,186.04973998921133,184.7722290586625,183.64362608260865,182.71581503877096,181.86045205368532,181.13189489039937,180.49705494814424]
[null,30,456.26486012052766,442.94258865917914,428.97911280794472,414.85333029610365,399.76060231696425,384.13377733369731,367.09634636533201,349.10235355394809,331.82636474198,315.54881239741275,300.32025391697402,286.20547975004354,273.36604283316962,261.59063381520667,250.93863888319706,241.34762180444235,232.81738708232106,225.19607248429182,218.50154421505266,212.63254749765917,207.51133355766544,203.09570036745521,199.28089483099356,195.92107405621653,193.13663616184303,190.71046224413416,188.52299379432401,186.6194747992285,184.98661529756114,183.57540376650991,182.31810938705777,181.20694012309028,180.29296397546517,179.45011560133202,178.73151773945122,178.10490795501414]
[null,31,449.78318259799983,436.62926839336865,422.84967648361288,408.89872590342389,393.99493694916589,378.56567596265808,361.74278132795354,343.98784355013021,326.9462445309145,310.89218256793532,295.87069169552524,281.94799111932173,269.28194249482726,257.66477800716672,247.15626735180689,237.69381601873451,229.27905990153297,221.75971416977171,215.15470719178575,209.36478530569153,204.31375709334756,199.95898579369239,196.1973569379978,192.88639810586207,190.14357568610879,187.75460255908303,185.60013548904533,183.72619090424274,182.11938977956501,180.7319055427684,179.49666307138116,178.40540099446855,177.5093664461138,176.68318920287916,175.98009464870069,175.36797335000384]
[null,32,443.30150507547194,430.31594812755822,416.72024015928099,402.94412151074414,388.22927158136753,372.99757459161879,356.38921629057501,338.87333354631232,322.066124319849,306.2355527384579,291.42112947407645,277.69050248859992,265.19784215648485,253.73892219912673,243.37389582041672,234.04001023302666,225.74073272074489,218.32335585525161,211.80787016851883,206.09702311372388,201.11618062902969,196.82227121992958,193.11381904500203,189.85172215550762,187.15051521037455,184.79874287403192,182.67727718376665,180.83290700925696,179.25216426156885,177.8884073190269,176.67521675570455,175.60386186584685,174.72576891676243,173.91626280442631,173.22867155795018,172.63103874499353]
[null,33,436.8198275529441,424.00262786174773,410.59080383494916,396.98951711806438,382.46360621356922,367.42947322057955,351.03565125319653,333.75882354249438,317.18600410878344,301.57892290898053,286.97156725262766,273.43301385787805,261.11374181814244,249.81306639108675,239.59152428902655,230.38620444731879,222.20240553995683,214.88699754073153,208.46103314525189,202.82926092175623,197.91860416471181,193.68555664616676,190.03028115200627,186.81704620515313,184.15745473464034,181.84288318898078,179.754418878488,177.9396231142712,176.38493874357272,175.04490909528539,173.85377044002794,172.80232273722513,171.94217138741104,171.14933640597349,170.47724846719964,169.89410413998326]
[null,34,430.33815003041622,417.68930759593729,404.46136751061726,391.03491272538463,376.69794084577086,361.86137184954026,345.682086215818,328.6443135386765,312.30588389771793,296.92229307950311,282.52200503117888,269.17552522715624,257.02964147980009,245.88721058304679,235.80915275763638,226.73239866161094,218.66407835916874,211.45063922621142,205.11419612198497,199.56149872978858,194.72102770039393,190.54884207240394,186.9467432590105,183.78237025479868,181.1643942589061,178.88702350392967,176.83156057320932,175.04633921928541,173.51771322557656,172.20141087154389,171.03232412435133,170.00078360860343,169.15857385805967,168.38241000752063,167.72582537644914,167.15716953497295]
[null,35,423.85647250788838,411.3759873301268,398.33193118628543,385.08030833270487,370.9322754779725,356.29327047850103,340.32852117843953,323.52980353485862,307.42576368665243,292.26566325002568,278.07244280973009,264.91803659643443,252.94554114145771,241.96135477500681,232.02678122624621,223.0785928759031,215.12575117838065,208.01428091169132,201.76735909871806,196.29373653782093,191.52345123607606,187.41212749864113,183.86320536601474,180.74769430444422,178.17133378317186,175.93116381887853,173.90870226793064,172.15305532429966,170.65048770758042,169.35791264780238,168.21087780867472,167.1992444799817,166.3749763287083,165.61548360906778,164.9744022856986,164.42023492996265]
[null,36,421.74111740542071,409.34259959324339,396.38174765877829,383.20702315315413,369.14395232303474,354.59112013260557,338.71792633489952,322.01418036141041,306.00013885061668,290.92407806282728,276.80913043449146,263.72778155103794,251.82138488262606,240.89711333653156,231.0170033733859,222.11755308980182,214.20877552664524,207.13578273802142,200.92232135233101,195.47789787963291,190.73301090247074,186.64352163170798,183.11358641897704,180.01478441561306,177.45188884903149,175.22432390242224,173.21268235701962,171.46626343251302,169.97151217445736,168.68573211930101,167.54476672678823,166.53837318859743,165.71835396152736,164.96273098727801,164.32501136742744,163.77347945038886]
[null,37,419.62576230295309,407.30921185635998,394.4315641312711,381.33373797360343,367.35562916809704,352.88896978671011,337.1073314913595,320.49855718796221,304.57451401458093,289.58249287562887,275.54581805925289,262.53752650564144,250.69722862379444,239.83287189805631,230.00722552052559,221.15651330370054,213.29179987490986,206.25728456435152,200.07728360594396,194.66205922144488,189.94257056886542,185.87491576477487,182.36396747193936,179.28187452678193,176.73244391489112,174.51748398596595,172.51666244610857,170.77947154072638,169.29253664133429,168.01355159079966,166.87865564490173,165.87750189721314,165.06173159434641,164.30997836548826,163.6756204491563,163.12672397081508]
[null,38,417.51040720048542,405.27582411947662,392.48138060376397,379.46045279405269,365.56730601315928,351.18681944081459,335.49673664781949,318.98293401451406,303.14888917854518,288.24090768843053,274.28250568401427,261.34727146024494,249.5730723649628,238.76863045958109,228.99744766766526,220.19547351759923,212.37482422317444,205.37878639068163,199.23224585955694,193.84622056325682,189.15213023526013,185.10630989784173,181.61434852490166,178.54896463795077,176.01299898075075,173.81064406950969,171.82064253519755,170.09267964893971,168.61356110821126,167.34137106229829,166.21254456301523,165.21663060582887,164.40510922716544,163.65722574369849,163.02622953088513,162.47996849124127]
[null,39,415.3950520980178,403.24243638259321,390.53119707625677,377.58716761450199,363.77898285822158,349.48466909491913,333.88614180427948,317.46731084106585,301.72326434250942,286.89932250123212,273.0191933087757,260.15701641484844,248.44891610613118,237.70438902110584,227.98766981480495,219.23443373149794,211.45784857143906,204.50028821701173,198.38720811316989,193.03038190506879,188.36168990165481,184.33770403090861,180.86472957786398,177.81605474911964,175.29355404661038,173.1038041530534,171.1246226242865,169.40588775715307,167.93458557508819,166.66919053379695,165.54643348112873,164.55575931444457,163.7484868599845,163.00447312190875,162.37683861261399,161.83321301166748]
[null,40,413.27969699555013,401.2090486457098,388.58101354874964,375.71388243495124,361.99065970328382,347.78251874902367,332.27554696073946,315.95168766761765,300.29763950647367,285.55773731403372,271.75588093353707,258.96676136945194,247.32475984729953,236.64014758263059,226.97789196194464,218.27339394539666,210.54087291970365,203.62179004334183,197.54217036678284,192.21454324688077,187.5712495680495,183.56909816397547,180.11511063082628,177.08314486028848,174.57410911247001,172.39696423659711,170.42860271337548,168.71909586536643,167.25561004196513,165.99701000529558,164.88032239924223,163.8948880230603,163.09186449280355,162.35172050011897,161.72744769434283,161.1864575320937]
[null,41,411.65656331198397,399.64869143280401,387.08441677839841,374.27631983635501,360.61817185690239,346.47638905895337,331.03991450440236,314.7892581954481,299.20455335045318,284.52924306239015,270.78766529143218,258.05492413691996,246.46374769942298,235.82544386000521,226.20513864030355,217.53827264869508,209.83973548855238,202.95028433756718,196.89651106322822,191.59139812878405,186.96791189354906,182.98257404270066,179.54329431178664,176.52422327986355,174.02563664615849,171.85835907205265,169.89839121012642,168.1959817938509,166.73866724146225,165.48532448169661,164.37336954492028,163.39205657475787,162.5923849829733,161.85525792716422,161.23344748722474,160.69475534440832]
[null,42,410.03342962841782,398.08833421989823,385.58782000804712,372.83875723775878,359.24568401052096,345.17025936888302,329.8042820480652,313.62682872327855,298.11146719443263,283.50074881074659,269.81944964932728,257.14308690438804,245.60273555154646,235.01074013737983,225.43238531866243,216.80315135199353,209.13859805740111,202.27877863179253,196.25085175967357,190.96825301068736,186.36457421904862,182.39604992142588,178.971477992747,175.96530169943858,173.47716417984699,171.31975390750819,169.36817970687738,167.67286772233538,166.22172444095938,164.97363895809764,163.8664166905983,162.88922512645544,162.09290547314305,161.35879535420946,160.73944728010665,160.20305315672294]
[null,43,408.41029594485167,396.5279770069925,384.09122323769589,371.40119463916255,357.87319616413953,343.86412967881273,328.5686495917281,312.46439925110906,297.01838103841214,282.47225455910296,268.85123400722239,256.23124967185606,244.74172340366991,234.19603641475445,224.65963199702134,216.06803005529196,208.43746062624982,201.60727292601786,195.60519245611894,190.34510789259065,185.76123654454821,181.80952580015108,178.39966167370736,175.40638011901365,172.92869171353547,170.78114874296375,168.83796820362832,167.14975365081989,165.7047816404565,164.4619534344987,163.35946383627635,162.38639367815301,161.59342596331282,160.86233278125471,160.24544707298855,159.7113509690376]
[null,44,406.78716226128552,394.96761979408672,382.5946264673446,369.96363204056632,356.5007083177581,342.55799998874238,327.33301713539095,311.30196977893951,295.9252948823916,281.4437603074594,267.88301836511749,255.31941243932411,243.88071125579339,233.38133269212906,223.88687867538022,215.33290875859041,207.73632319509855,200.93576722024321,194.95953315256429,189.72196277449396,185.15789887004777,181.2230016788763,177.82784535466772,174.84745853858868,172.38021924722398,170.24254357841929,168.30775670037929,166.62663957930437,165.18783883995363,163.95026791089973,162.85251098195437,161.88356222985058,161.09394645348257,160.36587020829995,159.75144686587046,159.21964878135222]
[null,45,405.16402857771936,393.40726258118093,381.09802969699336,368.52606944197009,355.12822047137666,341.25187029867209,326.09738467905385,310.13954030676996,294.83220872637111,280.41526605581583,266.9148027230126,254.40757520679216,243.01969910791684,232.56662896950368,223.11412535373913,214.59778746188883,207.03518576394728,200.26426151446856,194.31387384900967,189.09881765639724,184.55456119554734,180.63647755760149,177.25602903562807,174.28853695816375,171.83174678091245,169.70393841387482,167.77754519713022,166.10352550778885,164.67089603945075,163.43858238730076,162.34555812763242,161.38073078154815,160.59446694365232,159.8694076353452,159.25744665875237,158.72794659366684]
[null,46,403.25746143059195,391.55075635443478,379.29342821587153,366.77137312439089,353.43065361613617,339.61677677259007,324.53252849563893,308.65255209949322,293.42078028655828,279.07568338408544,265.64209594209922,253.1978077851256,241.86697621450654,231.46612027196898,222.06122347000053,213.58790508251627,206.06420499593153,199.32777064574506,193.40773297667246,188.21941964028687,183.69889255329858,179.80156339826908,176.43945352062673,173.48867083453243,171.04608984656284,168.93153462823676,167.01690603874707,165.35340603989454,163.93029705012216,162.70640963348012,161.6214310997976,160.66394722569794,159.88431452453159,159.16548830575437,158.55939423204779,158.03525097634423]
[null,47,401.35089428346453,389.69425012768869,377.48882673474975,365.01667680681163,351.73308676089567,337.98168324650806,322.96767231222401,307.16556389221648,292.0093518467454,277.73610071235504,264.36938916118578,251.98804036345905,240.71425332109627,230.36561157443424,221.00832158626193,212.57802270314372,205.09322422791578,198.39127977702159,192.50159210433526,187.3400216241765,182.84322391104982,178.96664923893667,175.62287800562541,172.68880471090111,170.26043291221322,168.15913084259873,166.25626688036394,164.60328657200023,163.18969806079357,161.97423687965949,160.89730407196279,159.94716366984773,159.17416210541086,158.46156897616353,157.86134180534322,157.34255535902159]
[null,48,399.44432713633711,387.83774390094254,375.68422525362791,363.26198048923243,350.03551990565512,336.34658972042604,321.40281612880904,305.67857568493974,290.59792340693258,276.39651804062458,263.0966823802724,250.77827294179249,239.56153042768597,229.26510287689953,219.95541970252336,211.56814032377116,204.12224345990006,197.4547889082981,191.59545123199803,186.46062360806613,181.98755526880109,178.13173507960423,174.80630249062406,171.88893858726979,169.47477597786357,167.38672705696067,165.49562772198078,163.85316710410595,162.44909907146499,161.24206412583888,160.17317704412801,159.23038011399748,158.4640096862901,157.75764964657273,157.16328937863861,156.64985974169898]
[null,49,397.53775998920969,385.98123767419645,373.87962377250614,361.50728417165317,348.33795305041463,334.71149619434402,319.83795994539412,304.19158747766301,289.1864949671197,275.05693536889419,261.82397559935896,249.56850552012594,238.4088075342757,228.1645941793648,218.90251781878476,210.5582579443986,203.15126269188431,196.51829803957463,190.68931035966082,185.58122559195576,181.13188662655233,177.29682092027181,173.98972697562274,171.08907246363847,168.68911904351395,166.61432327132263,164.73498856359765,163.10304763621164,161.7085000821364,160.50989137201825,159.4490500162932,158.51359655814727,157.75385726716937,157.0537303169819,156.46523695193403,155.95716412437633]
[null,50,395.63119284208227,384.1247314474503,372.0750222913843,359.75258785407397,346.64038619517413,333.07640266826201,318.2731037619792,302.70459927038627,287.77506652730688,273.71735269716379,260.55126881844558,248.35873809845938,237.2560846408654,227.06408548183009,217.84961593504616,209.54837556502605,202.18028192386856,195.58180717085114,189.78316948732362,184.70182757584539,180.27621798430357,176.4619067609394,173.1731514606214,170.28920634000715,167.90346210916434,165.84191948568457,163.9743494052145,162.35292816831733,160.96790109280781,159.77771861819761,158.72492298845839,157.79681300229706,157.04370484804863,156.34981098739107,155.76718452522945,155.26446850705372]
[null,51,394.08290773669466,382.60811675174006,370.59301808104931,358.30356150927412,345.23034786002432,331.71120576556251,316.95971098308689,301.45098874290994,286.5803883029547,272.5793710199319,259.4660028940184,247.32289724928916,236.26519234930984,226.11427347717006,216.93743555507234,208.67023121651965,201.33283772142516,194.76167729864133,188.98700601337706,183.92706607230446,179.5206201363761,175.72306409707187,172.44922593622135,169.57909118997844,167.2055128365725,165.15534722066565,163.29764267356123,161.68539019334321,160.30874888633329,159.12619582552324,158.0806607394702,157.15924063489564,156.41245806832933,155.7244572808842,155.14748229766732,154.65009130491723]
[null,52,392.53462263130712,381.09150205602975,369.11101387071432,356.85453516447427,343.82030952487452,330.34600886286302,315.64631820419464,300.19737821543362,285.38571007860253,271.44138934270001,258.38073696959117,246.28705640011896,235.27430005775432,225.16446147251006,216.02525517509852,207.79208686801326,200.48539351898174,193.9415474264315,188.19084253943049,183.15230456876355,178.76502228844865,174.98422143320434,171.72530041182131,168.86897603994973,166.50756356398065,164.46877495564675,162.62093594190793,161.01785221836911,159.64959667985875,158.47467303284884,157.43639849048202,156.52166826749422,155.78121128861,155.09910357437732,154.52778007010522,154.03571410278073]
[null,53,390.98633752591951,379.57488736031951,367.62900966037927,355.40550881967442,342.41027118972471,328.98081196016346,314.33292542530234,298.94376768795729,284.19103185425035,270.30340766546811,257.29547104516394,245.25121555094873,234.28340776619876,224.21464946785002,215.11307479512467,206.91394251950689,199.63794931653834,193.12141755422169,187.3946790654839,182.37754306522262,178.00942444052117,174.24537876933681,171.00137488742124,168.15886088992104,165.80961429138878,163.78220269062783,161.94422921025466,160.35031424339499,158.99044447338423,157.82315024017447,156.79213624149386,155.8840959000928,155.14996450889069,154.47374986787045,153.90807784254309,153.42133690064423]
[null,54,389.43805242053196,378.05827266460921,366.14700545004428,353.95648247487458,341.0002328545749,327.61561505746397,313.01953264641008,297.69015716048096,282.99635362989818,269.16542598823622,256.21020512073676,244.21537470177853,233.29251547464324,223.26483746319002,214.20089441515086,206.03579817100049,198.79050511409491,192.30128768201186,186.59851559153734,181.60278156168172,177.25382659259373,173.50653610546928,170.27744936302119,167.44874573989233,165.11166501879694,163.09563042560893,161.26752247860136,159.68277626842089,158.33129226690968,157.17162744750007,156.14787399250568,155.24652353269138,154.51871772917136,153.84839616136358,153.28837561498099,152.80695969850774]
[null,55,387.88976731514435,376.54165796889896,364.66500123970928,352.50745613007473,339.5901945194251,326.25041815476447,311.70613986751778,296.43654663300464,281.80167540554601,268.02744431100433,255.12493919630955,243.1795338526083,232.30162318308768,222.31502545852999,213.28871403517704,205.1576538224941,197.94306091165151,191.48115780980206,185.80235211759077,180.82802005814079,176.49822874466625,172.76769344160175,169.55352383862115,166.73863058986362,164.4137157462051,162.40905816059001,160.5908157469481,159.01523829344677,157.67214006043517,156.5201046548257,155.5036117435175,154.60895116528997,153.88747094945205,153.22304245485671,152.66867338741886,152.19258249637124]
[null,56,387.6340195636057,376.30249343273385,364.44383558830998,352.30041716795841,339.4005698486352,326.07731756727748,311.54901831703091,296.29371216034224,281.67217081829381,267.90990329425296,255.01829286441134,243.0831846009354,232.21404160012523,222.23517923407957,213.21567546627244,205.09051747107458,197.88129949905377,191.42378807269341,185.74860208715768,180.77736177176919,176.45028684459024,172.7219412973038,169.50964078026837,166.69633151234788,164.37217565980563,162.36835693596427,160.55057734075214,158.97502308388783,157.63186390146865,156.47957537797745,155.46264935757512,154.56745195839255,153.84539360084338,153.18017967958309,152.6249878716292,152.14786732776523]
[null,57,387.37827181206711,376.06332889656881,364.22266993691068,352.0933782058421,339.2109451778453,325.90421697979048,311.39189676654399,296.15087768767984,281.54266623104166,267.79236227750158,254.91164653251315,242.98683534926249,232.12646001716277,222.15533300962915,213.14263689736785,205.02338111965506,197.81953808645599,191.36641833558477,185.69485205672459,180.72670348539759,176.40234494451425,172.67618915300585,169.46575772191559,166.65403243483212,164.33063557340617,162.32765571133854,160.51033893455619,158.93480787432887,157.5915877425021,156.43904610112921,155.42168697163274,154.52595275149514,153.80331625223468,153.13731690430947,152.58130235583954,152.10315215915921]
[null,58,387.12252406052846,375.8241643604037,364.00150428551137,351.88633924372573,339.02132050705535,325.73111639230353,311.23477521605713,296.00804321501744,281.41316164378946,267.67482126075021,254.80500020061493,242.89048609758959,232.03887843420031,222.07548678517875,213.06959832846326,204.95624476823554,197.75777667385825,191.3090485984761,185.64110202629152,180.67604519902602,176.35440304443824,172.63043700870793,169.42187466356279,166.61173335731638,164.2890954870067,162.2869544867128,160.47010052836026,158.89459266476993,157.55131158353558,156.39851682428096,155.38072458569033,154.4844535445977,153.76123890362601,153.09445412903582,152.53761684004988,152.05843699055322]
[null,59,386.86677630898987,375.58499982423865,363.78033863411207,351.67930028160941,338.83169583626545,325.55801580481653,311.07765366557021,295.86520874235504,281.28365705653732,267.55728024399883,254.69835386871674,242.79413684591668,231.95129685123786,221.99564056072833,212.99655975955866,204.88910841681601,197.69601526126047,191.25167886136745,185.58735199585843,180.62538691265442,176.30646114436226,172.58468486440998,169.37799160521001,166.56943427980062,164.24755540060724,162.24625326208707,160.42986212216431,158.85437745521097,157.51103542456903,156.35798754743271,155.33976219974795,154.44295433770029,153.71916155501731,153.05159135376221,152.49393132426022,152.0137218219472]
[null,60,386.61102855745122,375.34583528807354,363.55917298271277,351.4722613194931,338.64207116547556,325.38491521732954,310.92053211508335,295.72237426969264,281.15415246928512,267.43973922724746,254.59170753681852,242.69778759424378,231.8637152682754,221.91579433627791,212.92352119065407,204.82197206539649,197.63425384866272,191.19430912425881,185.53360196542533,180.57472862628282,176.25851924428625,172.53893272011203,169.33410854685724,166.52713520228488,164.20601531420778,162.20555203746133,160.38962371596836,158.81416224565203,157.47075926560251,156.31745827058447,155.29879981380557,154.40145513080287,153.67708420640864,153.00872857848859,152.45024580847056,151.96900665334118]
[null,61,388.5471059874497,377.23455932341392,365.39005453504512,353.2437588154437,340.35567840947533,327.04030006940854,312.5157959081539,297.2521906227044,282.62005921624581,268.84467291395259,255.9404735930456,243.99552548386418,233.11518620402697,223.12504000544567,214.09462620200594,205.95939920135146,198.74194769913896,192.27541576820792,186.59122169225972,181.61162903117162,177.27721835507828,173.54163542062574,170.32326243545501,167.50397094926365,165.17229725249837,163.16332732661317,161.33938865905145,159.75684127800957,158.40748276813343,157.24857866358056,156.22494725408296,155.32324412640722,154.59520463921541,153.92332369380827,153.36181700185875,152.87778963806866]
[null,62,390.48318341744812,379.12328335875424,367.22093608737748,355.0152563113943,342.06928565347511,328.69568492148755,314.11105970122441,298.78200697571617,284.08596596320643,270.24960660065773,257.28923964927264,245.29326337348462,234.36665713977854,224.3342856746134,215.26573121335778,207.09682633730642,199.84964154961523,193.35652241215703,187.64884141909411,182.64852943606041,178.2959174658703,174.54433812113942,171.31241632405278,168.48080669624241,166.13857919078896,164.12110261576498,162.28915360213458,160.69952031036712,159.34420627066436,158.17969905657665,157.15109469436035,156.24503312201156,155.51332507202221,154.83791880912798,154.27338819524695,153.78657262279614]
[null,63,392.41926084744659,381.01200739409461,369.05181763970978,356.78675380734489,343.78289289747482,330.35106977356656,315.70632349429496,300.31182332872788,285.55187271016712,271.65454028736292,258.63800570549972,246.59100126310503,235.61812807553011,225.54353134378115,216.43683622470965,208.23425347326139,200.95733540009147,194.43762905610618,188.7064611459285,183.68542984094924,179.31461657666233,175.54704082165313,172.30157021265055,169.45764244322115,167.10486112907958,165.07887790491682,163.23891854521767,161.64219934272469,160.28092977319525,159.11081944957272,158.07724213463771,157.16682211761588,156.43144550482899,155.75251392444767,155.18495938863518,154.69535560752365]
[null,64,394.35533827744501,382.90073142943493,370.88269919204214,358.55825130329549,345.4965001414746,332.00645462564557,317.30158728736546,301.84163968173965,287.01777945712774,273.05947397406806,259.9867717617268,247.88873915272546,236.86959901128168,226.75277701294888,217.60794123606149,209.37168060921636,202.06502925056773,195.51873570005529,189.76408087276289,184.72233024583804,180.33331568745436,176.54974352216681,173.29072410124832,170.43447819019991,168.07114306737017,166.03665319406863,164.1886834883008,162.58487837508224,161.21765327572618,160.04193984256881,159.0033895749151,158.08861111322022,157.34956593763579,156.66710903976738,156.09653058202338,155.60413859225113]
[null,65,396.29141570744349,384.7894554647753,372.7135807443745,360.32974879924609,347.21010738547437,333.66183947772458,318.89685108043602,303.37145603475142,288.48368620408843,274.46440766077319,261.33553781795388,249.18647704234587,238.12106994703325,227.96202268211664,218.77904624741336,210.50910774517132,203.17272310104397,196.5998423440044,190.82170059959728,185.75923065072683,181.35201479824639,177.55244622268052,174.27987798984609,171.41131393717868,169.03742500566077,166.99442848322047,165.13844843138389,163.52755740743979,162.1543767782571,160.9730602355649,159.92953701519249,159.01040010882457,158.26768637044256,157.58170415508707,157.00810177541157,156.51292157697861]
[null,66,399.43236171407966,387.83560974290231,375.65852294885798,363.16953554069187,349.94251502963459,336.28483546798782,321.40506337595434,305.75826088693429,290.75485374664987,276.62665357286772,263.3963417180172,251.15374443454263,240.00319276105367,229.76630849604538,220.51287648468428,212.17975635082371,204.78749502544309,198.16462148515384,192.34239275695899,187.24105975700226,182.80014135970416,178.97133799163663,175.67380571793277,172.78298177423662,170.39104767234539,168.33230840578798,166.46170939965788,164.83841811325965,163.45494669574879,162.26428225983625,161.21257948132111,160.28621041712253,159.53794225017887,158.84666301096595,158.26857168949425,157.76933019910535]
[null,67,402.57330772071583,390.88176402102937,378.60346515334146,366.0093222821377,352.67492267379481,338.90783145825105,323.91327567147266,308.14506573911717,293.02602128921131,278.78889948496226,265.45714561808052,253.12101182673939,241.88531557507406,231.5705943099741,222.24670672195523,213.85040495647613,206.40226694984219,199.72940062630329,193.86308491432069,188.72288886327769,184.24826792116193,180.39022976059275,177.06773344601945,174.15464961129453,171.74467033903002,169.67018832835547,167.78497036793186,166.14927881907951,164.75551661324047,163.55550428410757,162.49562194744976,161.5620207254205,160.80819812991518,160.11162186684484,159.52904160357693,159.02573882123212]
[null,68,405.71425372735195,393.92791829915637,381.548407357825,368.84910902358348,355.40733031795503,341.53082744851429,326.42148796699098,310.53187059130005,295.2971888317727,280.95114539705685,267.51794951814378,255.08827921893612,243.76743838909448,233.37488012390284,223.98053695922616,215.52105356212851,208.01703887424131,201.2941797674527,195.38377707168237,190.20471796955309,185.6963944826197,181.80912152954883,178.4616611741061,175.52631744835247,173.09829300571465,171.00806825092297,169.10823133620582,167.46013952489938,166.05608653073219,164.84672630837892,163.77866441357838,162.83783103371849,162.07845400965149,161.37658072272376,160.78951151765963,160.28214744335887]
[null,69,408.85519973398812,396.97407257728344,384.49334956230848,371.68889576502932,358.13973796211525,344.15382343877752,328.9297002625093,312.91867544348293,297.56835637433414,283.11339130915138,269.5787534182071,257.05554661113291,245.64956120311487,235.17916593783156,225.71436719649711,217.19170216778093,209.6318107986404,202.85895890860215,196.90446922904408,191.68654707582851,187.14452104407746,183.22801329850495,179.85558890219278,176.89798528541039,174.45191567239928,172.34594817349046,170.4314923044798,168.77100023071924,167.35665644822387,166.13794833265024,165.06170687970703,164.11364134201645,163.34870988938781,162.64153957860265,162.04998143174231,161.53855606548564]
[null,70,411.99614574062429,400.02022685541044,387.43829176679196,374.52868250647509,360.87214560627547,346.77681942904076,331.43791255802762,315.3054802956658,299.83952391689559,285.27563722124592,271.63955731827042,259.02281400332964,247.53168401713529,236.9834517517603,227.44819743376803,218.86235077343332,211.24658272303952,204.42373804975159,198.42516138640579,193.16837618210394,188.59264760553523,184.64690506746106,181.24951663027946,178.26965312246833,175.80553833908391,173.68382809605797,171.75475327275379,170.0818609365391,168.65722636571556,167.42917035692159,166.34474934583565,165.38945165031441,164.61896576912412,163.90649843448153,163.31045134582499,162.79496468761238]
[null,71,416.25392176577031,404.14721336428306,391.43354386747586,378.38644241018369,364.5856787551192,350.34209988359788,334.84577646727291,318.54560020473815,302.91970021331849,288.20533289029174,274.42843440884474,261.68149019691987,250.07078807651931,239.41329818460801,229.77915480361114,221.10445548565875,213.40999843933088,206.51664786132463,200.4558901978013,195.14484937409549,190.52191216881033,186.53535325126111,183.10322514614094,180.09291119560498,177.60379575293015,175.46074667995165,173.51194211135007,171.82201316599679,170.38330561988516,169.14276875046124,168.04731153996713,167.08250790135227,166.30453491422455,165.58514745033099,164.98338426415091,164.46296952350892]
[null,72,420.5116977909164,408.27419987315562,395.42879596815976,382.24420231389229,368.29921190396294,353.90738033815501,338.25364037651821,321.78572011381056,305.99987650974134,291.13502855933757,277.21731149941905,264.34016639051009,252.60989213590332,241.84314461745572,232.11011217345424,223.3465601978842,215.57341415562226,208.60955767289769,202.48661900919677,197.12132256608703,192.4511767320854,188.42380143506116,184.95693366200243,181.91616926874161,179.40205316677643,177.23766526384532,175.26913094994634,173.56216539545449,172.10938487405477,170.8563671440009,169.7498737340986,168.77556415239016,167.99010405932498,167.26379646618045,166.65631718247684,166.13097435940546]
[null,73,424.76947381606243,412.40118638202824,399.4240480688436,386.10196221760089,372.01274505280668,357.47266079271213,341.66150428576356,325.0258400228829,309.08005280616425,294.06472422838345,280.00618858999337,266.99884258410032,255.14899619528734,244.27299105030346,234.44106954329737,225.58866491010963,217.73682987191361,210.70246748447073,204.51734782059228,199.0977957580786,194.3804412953605,190.31224961886124,186.81064217786394,183.73942734187827,181.20031058062267,179.014583847739,177.02631978854259,175.30231762491221,173.8354641282244,172.56996553754058,171.45243592823005,170.46862040342802,169.67567320442538,168.94244548202994,168.32925010080274,167.79897919530202]
[null,74,429.02724984120852,416.52817289090081,403.4193001695275,389.95972212130948,375.72627820165042,361.03794124726926,345.06936819500885,328.26595993195531,312.1602291025871,296.99441989742928,282.79506568056769,269.65751877769054,257.68810025467133,246.70283748315117,236.77202691314048,227.83076962233508,219.900245588205,212.7953772960438,206.54807663198775,201.07426895007015,196.30970585863557,192.2006978026613,188.66435069372542,185.5626854150149,182.99856799446894,180.79150243163267,178.78350862713887,177.0424698543699,175.56154338239401,174.28356393108024,173.15499812236152,172.16167665446591,171.36124234952581,170.6210944978794,170.00218301912867,169.46698403119856]
[null,75,433.28502586635454,420.65515939977342,407.4145522702114,393.81748202501808,379.43981135049415,364.60322170182639,348.47723210425414,331.50607984102766,315.24040539901,299.92411556647511,285.58394277114201,272.31619497128077,260.22720431405537,249.13268391599888,239.10298428298358,230.07287433456051,222.06366130449635,214.88828710761683,208.57880544338326,203.05074214206169,198.23897042191066,194.08914598646135,190.51805920958691,187.38594348815155,184.79682540831519,182.56842101552635,180.54069746573515,178.78262208382759,177.28762263656361,175.99716232461989,174.85756031649299,173.85473290550377,173.04681149462624,172.29974351372886,171.67511593745459,171.1349888670951]
[null,"Source: MICE3.0 MOVES emissions rates. Provided by Jeff Houk via email on 1/23/2025"]

{"sheet":"HFCs","index":27,"n_rows":59,"n_cols":9,"rows_kept":59,"cut":false,"hidden":false,"merged":[[15,3,16,3],[15,4,15,8],[46,1,47,1],[37,1,38,1]]}
[null,"HFC Leakage"]
[]
[null,"This tab documents the source data and calculations used to develop the assumptions used to calculate GHG emissions from HFC leakage. Refer to the final report for the detailed methodology."]
[]
[null,"Refrigerant Types and GWPs"]
[]
[null,"Equipment Type","Default Refrigerant"]
[null,"Room A/C","R-454B"]
[null,"Other commercial A/C and heat pumps","R-454B"]
[null,"Other residential A/C and heat pumps","R-454B"]
[null,"Walk-in refrigerators and freezers","R-404A"]
[null,"Room A/C & Other residential A/C and heat pumps","R-454B"]
[null,"Source: U.S. EPA, 2016. Accounting Tool to Support Federal Reporting of Hydrofluorocarbon Emissions. Table 3-6. https://www.epa.gov/sites/default/files/2015-09/documents/hfc_emissions_accounting_tool_supporting_documentation.pdf"]
[null,"ACHRNews. 2024. Equipment Prices Keep Rising, as R-410A Inventory Decreases. Available online at: https://www.achrnews.com/articles/163729-equipment-prices-keep-rising-as-r-410a-inventory-decreases. "]
[]
[null,"Refrigerant List",null,"Refrigerant","Refrigerant Composition"]
[null,"R-32",null,null,"R-32","HFC-125","HFC-134a","HFC-143a","HFC-152a"]
[null,"R-404A",null,"R-404A",null,0.44,0.04,0.52]
[null,"R-407A",null,"R-407A",0.2,0.4,0.4]
[null,"R-407C",null,"R-407C",0.23,0.25,0.52]
[null,"R-407F",null,"R-407F",0.3,0.3,0.4]
[null,"R-448A",null,"R-410A",0.5,0.5]
[null,"R-449A",null,"R-448A",0.26,0.26,0.21]
[null,"R-449B",null,"R-449A",0.24299999999999999,0.247,0.25700000000000001]
[null,"R-450A",null,"R-449B",0.252,0.24299999999999999,0.27300000000000002]
[null,"R-452B",null,"R-450A",null,null,0.42]
[null,"R-454A",null,"R-452B",0.67,7.0000000000000007E-2]
[null,"R-454B",null,"R-454A",0.35]
[null,"R-454C",null,"R-454B",0.68900000000000006]
[null,"R-457A",null,"R-454C",0.215]
[null,"R-513A",null,"R-457A",0.18,null,null,null,0.12]
[null,"Non-HFC",null,"R-513A",null,null,0.44]
[]
[null,"Refrigerant Capacity"]
[]
[null,"Building or Vehicle Type","Equipment Type","Units per Thousand Square Feet","Refrigerant Capacity per Square Foot (kg/ft2)","Refrigerant Charge Size per Unit of Equipment (kg)"]
[null,"Office","Other commercial A/C and heat pumps",null,1.8E-3,13]
[null,"School","Walk-in refrigerators and freezers",0.04,null,10]
[null,null,"Other commercial A/C and heat pumps",null,1.8E-3,13]
[null,"Family Housing","Average room A/C & Other residential A/C and heat pumps",null,2.2499999999999998E-3,2.75]
[null,"Warehouse, Service & Industrial","Other commercial A/C and heat pumps ",null,2.9999999999999997E-4,13]
[null,"Source: U.S. EPA, 2016. Accounting Tool to Support Federal Reporting of Hydrofluorocarbon Emissions. https://www.epa.gov/sites/default/files/2015-09/documents/hfc_emissions_accounting_tool_supporting_documentation.pdf"]
[]
[null,"Building Type","Equipment Type","Refrigerant Capacity (kg /1000 sq ft)"]
[null,"Residential",{"$f":"C40","v":"Average room A/C & Other residential A/C and heat pumps"},{"$f":"IF(E40=0,D40*F40,E40*1000)","v":2.25}]
[null,"Commercial",{"$f":"C37","v":"Other commercial A/C and heat pumps"},{"$f":"IF(E37=0,D37*F37,E37*1000)","v":1.8}]
[null,"Institutional",{"$f":"C38","v":"Walk-in refrigerators and freezers"},{"$f":"IF(E38=0,D38*F38,E38*1000)","v":0.4}]
[null,null,{"$f":"C39","v":"Other commercial A/C and heat pumps"},{"$f":"IF(E39=0,D39*F39,E39*1000)","v":1.8}]
[null,"Industrial",{"$f":"C41","v":"Other commercial A/C and heat pumps "},{"$f":"IF(E41=0,D41*F41,E41*1000)","v":0.3}]
[]
["Leak Rate"]
[]
[null,"Equipment Type","Installation Emission Factor\n(% of capacity)","Operating Emission Factor\n(% of capacity/yr)","Refrigerant Remaining at Disposal\n(% of capacity)","Recovery Efficiency\n(% of remaining)","Unit Lifetime (Years)","Annualized leak rate"]
[null,"Room A/C",0,8.9999999999999993E-3,0.94,0.21,12,{"$f":"C54/G54+D54+E54*(1-F54)/G54","v":7.088333333333334E-2}]
[null,"Other commercial A/C and heat pumps",0,0.08,0.8,0.7,25,8.9599999999999999E-2]
[null,"Other residential A/C and heat pumps",0,0.08,0.8,0.5,15,0.10666666666666667]
[null,"Walk-in refrigerators and freezers",0.02,0.12,0.9,0.7,20,0.13450000000000001]
[null,"Room A/C & Other residential A/C and heat pumps",{"$f":"AVERAGE(C54,C56)","v":0},{"$f":"AVERAGE(D54,D56)","v":4.4499999999999998E-2},{"$f":"AVERAGE(E54,E56)","v":0.87},{"$f":"AVERAGE(F54,F56)","v":0.35499999999999998},{"$f":"AVERAGE(G54,G56)","v":13.5},8.6066666666666666E-2]
[null,"Source: U.S. EPA, 2016. Accounting Tool to Support Federal Reporting of Hydrofluorocarbon Emissions. https://www.epa.gov/sites/default/files/2015-09/documents/hfc_emissions_accounting_tool_supporting_documentation.pdf"]

{"sheet":"Waste","index":28,"n_rows":301,"n_cols":8,"rows_kept":301,"cut":false,"hidden":false,"merged":[[50,2,50,7],[165,1,166,1],[165,2,165,3],[165,4,165,5]]}
[null,"Construction Waste Off-Site"]
[]
[null,"This tab documents the source data and calculations used to develop the assumptions used to calculate GHG emissions from waste and wastewater generation and treatment. Refer to the final report for the detailed methodology."]
[]
[null,"Waste Composition"]
[]
[null,"Material Type","Percent of C&D Waste"]
[null,"Concrete",0.218]
[null,"Roofing Shingles",0.193]
[null,"Brick",7.1999999999999995E-2]
[null,"Dirt/Sand/Rock/Gravel",{"$f":"13.4%-C12","v":0.13}]
[null,"Yard Waste",4.0000000000000001E-3]
[null,"Treated/Painted/ Processed Wood ",8.3000000000000004E-2]
[null,"Clean Wood ",7.1999999999999995E-2]
[null,"Gypsum Board",8.1000000000000003E-2]
[null,"Metal",2.5000000000000001E-2]
[null,"Mixed MSW",1.2999999999999999E-2]
[null,"Mixed Plastics",3.0000000000000001E-3]
[null,"Asphalt",2.1000000000000001E-2]
[null,"Carpet",4.0000000000000001E-3]
[null,"Insulation",4.0000000000000001E-3]
[null,"Glass",2E-3]
[null,"Other",{"$f":"1-SUM(C8:C22)","v":7.5000000000000067E-2}]
[null,"Source: Minnesota Pollution Control Agency. Construction and Demolition Materials Composition Study, 2020. https://www.pca.state.mn.us/sites/default/files/w-sw5-55.pdf"]
[]
[null,"Loss Rate"]
[]
[null,"Table 1. Percent of Material Discarded During Construction"]
[null,"Material ","Percent Discarded"]
[null,"Concrete",0.03]
[null,"Wood Products",0.05]
[null,"Drywall and Plasters ",0.1]
[null,"Steel",0]
[null,"Brick and Clay Tile",0.04]
[null,"Asphalt Shingles",0.1]
[null,"Asphalt Pavement",0]
[null,"Source: U.S. EPA, 2018, Construction and Demolition Debris Generation in the United States, 2015. https://www.epa.gov/sites/default/files/2018-09/documents/construction_and_demolition_debris_generation_in_the_united_states_2015_final.pdf. "]
[]
[null,"Material Type","Loss Rate (%)"]
[null,"Aluminum",{"$f":"C33","v":0}]
[null,"Asphalt ",{"$f":"C36","v":0}]
[null,"Brick",{"$f":"C34","v":0.04}]
[null,"Concrete",{"$f":"C30","v":0.03}]
[null,"Glass",{"$f":"C30","v":0.03}]
[null,"Insulation",{"$f":"C32","v":0.1}]
[null,"Steel",{"$f":"C33","v":0}]
[null,"Wood Products",{"$f":"C31","v":0.05}]
[]
[null,"Emission Factors"]
[]
[null,null,"Metric Tons CO2e / Short Ton Material"]
[null,"Material","Recycled","Landfilled","Combusted","Composted","Anaerobically Digested (Dry Digestate with Curing)","Anaerobically Digested (Wet  Digestate with Curing)"]
[null,"Aluminum Cans",0.06,0.02,0.01,"NA","NA","NA"]
[null,"Aluminum Ingot",0.04,0.02,0.01,"NA","NA","NA"]
[null,"Steel Cans",0.32,0.02,0.01,"NA","NA","NA"]
[null,"Copper Wire",0.18,0.02,0.01,"NA","NA","NA"]
[null,"Glass",0.05,0.02,0.01,"NA","NA","NA"]
[null,"HDPE",0.21,0.02,2.8,"NA","NA","NA"]
[null,"LDPE","NA",0.02,2.8,"NA","NA","NA"]
[null,"PET",0.23,0.02,2.0499999999999998,"NA","NA","NA"]
[null,"LLDPE","NA",0.02,2.8,"NA","NA","NA"]
[null,"PP",0.2,0.02,2.8,"NA","NA","NA"]
[null,"PS","NA",0.02,3.02,"NA","NA","NA"]
[null,"PVC","NA",0.02,1.26,"NA","NA","NA"]
[null,"PLA","NA",0.02,0.01,0.13,"NA","NA"]
[null,"Corrugated Containers",0.11,1,0.05,"NA","NA","NA"]
[null,"Magazines/Third-class mail",0.02,0.46,0.05,"NA","NA","NA"]
[null,"Newspaper",0.02,0.39,0.05,"NA","NA","NA"]
[null,"Office Paper",0.02,1.41,0.05,"NA","NA","NA"]
[null,"Phonebooks",0.04,0.39,0.05,"NA","NA","NA"]
[null,"Textbooks",0.04,1.41,0.05,"NA","NA","NA"]
[null,"Dimensional Lumber","NA",0.17,0.05,"NA","NA","NA"]
[null,"Medium-density Fiberboard","NA",7.0000000000000007E-2,0.05,"NA","NA","NA"]
[null,"Food Waste (non-meat)","NA",0.67,0.05,0.11,0.14000000000000001,0.11]
[null,"Food Waste (meat only)","NA",0.69,0.05,0.11,0.14000000000000001,0.11]
[null,"Beef","NA",0.64,0.05,0.11,0.14000000000000001,0.11]
[null,"Poultry","NA",0.73,0.05,0.11,0.14000000000000001,0.11]
[null,"Grains","NA",2.06,0.05,0.11,0.14000000000000001,0.11]
[null,"Bread","NA",1.49,0.05,0.11,0.14000000000000001,0.11]
[null,"Fruits and Vegetables","NA",0.28000000000000003,0.05,0.11,0.14000000000000001,0.11]
[null,"Dairy Products","NA",0.72,0.05,0.11,0.14000000000000001,0.11]
[null,"Yard Trimmings","NA",0.36,0.05,0.14000000000000001,0.11,"NA"]
[null,"Grass","NA",0.28000000000000003,0.05,0.14000000000000001,0.09,"NA"]
[null,"Leaves","NA",0.28000000000000003,0.05,0.14000000000000001,0.12,"NA"]
[null,"Branches","NA",0.57999999999999996,0.05,0.14000000000000001,0.15,"NA"]
[null,"Mixed Paper (general)",7.0000000000000007E-2,0.89,0.05,"NA","NA","NA"]
[null,"Mixed Paper (primarily residential)",7.0000000000000007E-2,0.86,0.05,"NA","NA","NA"]
[null,"Mixed Paper (primarily from offices)",0.03,0.84,0.05,"NA","NA","NA"]
[null,"Mixed Metals",0.23,0.02,0.01,"NA","NA","NA"]
[null,"Mixed Plastics",0.22,0.02,2.34,"NA","NA","NA"]
[null,"Mixed Recyclables",0.09,0.75,0.11,"NA","NA","NA"]
[null,"Food Waste","NA",0.68,0.05,0.11,{"$f":"(G76*0.09)+(G77*0.11)+(G78*0.13)+(G80*0.49)+(G81*0.18)","v":0.14000000000000001},{"$f":"(H76*0.09)+(H77*0.11)+(H78*0.13)+(H80*0.49)+(H81*0.18)","v":0.11}]
[null,"Mixed Organics","NA",0.54,0.05,0.13,{"$f":"G92*0.53+G82*0.47","v":0.12590000000000001},"NA"]
[null,"Mixed MSW","NA",0.57999999999999996,0.43,"NA","NA","NA"]
[null,"Carpet","NA",0.02,1.68,"NA","NA","NA"]
[null,"Desktop CPUs",0.01,0.02,0.4,"NA","NA","NA"]
[null,"Portable Electronic Devices",0.02,0.02,0.89,"NA","NA","NA"]
[null,"Flat-panel Displays",0.02,0.02,0.74,"NA","NA","NA"]
[null,"CRT Displays","NA",0.02,0.64,"NA","NA","NA"]
[null,"Electronic Peripherals",0.05,0.02,2.23,"NA","NA","NA"]
[null,"Hard-copy Devices",0.01,0.02,1.92,"NA","NA","NA"]
[null,"Mixed Electronics",0.02,0.02,0.96,"NA","NA","NA"]
[null,"Clay Bricks","NA",0.02,"NA","NA","NA","NA"]
[null,"Concrete",0.01,0.02,"NA","NA","NA","NA"]
[null,"Fly Ash",0.01,0.02,"NA","NA","NA","NA"]
[null,"Tires",0.1,0.02,2.21,"NA","NA","NA"]
[null,"Asphalt Concrete",3.5205384954666674E-3,0.02,"NA","NA","NA","NA"]
[null,"Asphalt Shingles",0.03,0.02,0.7,"NA","NA","NA"]
[null,"Drywall","NA",0.02,"NA","NA","NA","NA"]
[null,"Fiberglass Insulation",0.05,0.02,"NA","NA","NA","NA"]
[null,"Structural Steel",0.04,0.02,"NA","NA","NA","NA"]
[null,"Vinyl Flooring","NA",0.02,0.28999999999999998,"NA","NA","NA"]
[null,"Wood Flooring","NA",0.18,0.08,"NA","NA","NA"]
[null,"Source: EPA Emission Factors Hub (Januaray 2025), Table 9"]
[null,"Note: WARM assumes Food Waste consists of: Beef 9%, Poultry 11%, Grains 13%, Fruits and Vegetables 49%, and Dairy Products 18%"]
[null,"Note: WARM assumes Mixed Organics consists of Food Waste 53% and Yard Trimmings 47%"]
[]
[null,"Material Type","Landfill Emission Factor (MTCO2e/ton)"]
[null,"Concrete",{"$f":"D104","v":0.02}]
[null,"Roofing Shingles",{"$f":"D108","v":0.02}]
[null,"Brick",{"$f":"D103","v":0.02}]
[null,"Dirt/Sand/Rock/Gravel",{"$f":"C119","v":0.02}]
[null,"Yard Waste",{"$f":"D82","v":0.36}]
[null,"Treated/Painted/ Processed Wood ",{"$f":"D72","v":0.17}]
[null,"Clean Wood ",{"$f":"D72","v":0.17}]
[null,"Gypsum Board",{"$f":"D109","v":0.02}]
[null,"Metal",{"$f":"D89","v":0.02}]
[null,"Mixed MSW",{"$f":"D94","v":0.57999999999999996}]
[null,"Mixed Plastics",{"$f":"D90","v":0.02}]
[null,"Asphalt",{"$f":"D107","v":0.02}]
[null,"Carpet",{"$f":"D95","v":0.02}]
[null,"Insulation",{"$f":"D110","v":0.02}]
[null,"Glass",{"$f":"D57","v":0.02}]
[null,"Other",{"$f":"C119","v":0.02}]
[null,"Mixed C&D Waste",{"$f":"SUMPRODUCT(C8:C23,C119:C134)","v":5.1889999999999992E-2}]
[]
[null,"Material Type","Landfill Emission Factor (MTCO2e/ton)"]
[null,"Aluminum",{"$f":"D54","v":0.02}]
[null,"Asphalt",{"$f":"D107","v":0.02}]
[null,"Brick",{"$f":"D103","v":0.02}]
[null,"Concrete",{"$f":"D104","v":0.02}]
[null,"Glass",{"$f":"D57","v":0.02}]
[null,"Insulation",{"$f":"D110","v":0.02}]
[null,"Steel",{"$f":"D111","v":0.02}]
[null,"Wood Products",{"$f":"D72","v":0.17}]
[null,"Mixed Waste",{"$f":"C135","v":5.1889999999999992E-2}]
[]
[null,"Operational Waste Off-Site"]
[]
[null,"Generation Rates"]
[]
[null,"Households","Lbs/Household/Week ","Lbs/Household/Day"]
[null,107713,49.03,{"$f":"C153/7","v":7.0042857142857144}]
[null,"Source: https://lims.minneapolismn.gov/Download/RCAV2/30166/Minneapolis%202022%20Final%20Sort%20Report.pdf"]
[]
[null,"Building Type","Waste Disposal","Units","Source"]
[null,"Commercial",10.53,"lb/employee/day","CalRecycle"]
[null,"Industrial",8.93,"lb/employee/day","CalRecycle"]
[null,"Institutional",3.55,"lb/employee/day","CalRecycle"]
[null,"Public venues and events",172,"lb/100 visitors","Cascadia"]
[null,"Source: CalRecycle. Estimated Solid Waste Generation Rates. https://www2.calrecycle.ca.gov/wastecharacterization/general/rates "]
[null,"Source: Cascadia Consulting Group, 2006. Targeted Statewide Waste Characterization Study: Waste Disposal and Diversion Findings for Selected Industry Groups. https://www2.calrecycle.ca.gov/Publications/Details/1184 "]
[]
[null,"Treatment Practice"]
[]
[null,"County","Waste Disposed in 2022 (tons)",null,"Disposal Rate by County"]
[null,null,"Landfilled","Combusted","Landfilled","Combusted"]
[null,"Aitkin",8846," -   ",{"$f":"IFERROR(ROUND(C168/SUM($C168:$D168),2),0)","v":1},{"$f":"IFERROR(ROUND(D168/SUM($C168:$D168),2),0)","v":0}]
[null,"Anoka",200756,19548,{"$f":"IFERROR(ROUND(C169/SUM($C169:$D169),2),0)","v":0.91},{"$f":"IFERROR(ROUND(D169/SUM($C169:$D169),2),0)","v":0.09}]
[null,"Becker",9362,11834,{"$f":"IFERROR(ROUND(C170/SUM($C170:$D170),2),0)","v":0.44},{"$f":"IFERROR(ROUND(D170/SUM($C170:$D170),2),0)","v":0.56000000000000005}]
[null,"Beltrami",11857,8434,0.57999999999999996,0.42]
[null,"Benton",10891,8130,0.56999999999999995,0.43]
[null,"Big Stone",2841," -   ",{"$f":"IFERROR(ROUND(C173/SUM($C173:$D173),2),0)","v":1},{"$f":"IFERROR(ROUND(D173/SUM($C173:$D173),2),0)","v":0}]
[null,"Blue Earth",33314,24020,{"$f":"IFERROR(ROUND(C174/SUM($C174:$D174),2),0)","v":0.57999999999999996},{"$f":"IFERROR(ROUND(D174/SUM($C174:$D174),2),0)","v":0.42}]
[null,"Brown",23251,3055,{"$f":"IFERROR(ROUND(C175/SUM($C175:$D175),2),0)","v":0.88},{"$f":"IFERROR(ROUND(D175/SUM($C175:$D175),2),0)","v":0.12}]
[null,"Carlton",16109," -   ",1,0]
[null,"Carver",57084,7,1,0]
[null,"Cass",19512," -   ",1,0]
[null,"Chippewa",11382," -   ",1,0]
[null,"Chisago",34543," -   ",1,0]
[null,"Clay",32383,6440,0.83,0.17]
[null,"Clearwater",2272,3134,0.42,0.57999999999999996]
[null,"Cook",3180," -   ",1,0]
[null,"Cottonwood",10364," -   ",1,0]
[null,"Crow Wing",45646," -   ",1,0]
[null,"Dakota",229565,11697,0.95,0.05]
[null,"Dodge",956,8702,0.1,0.9]
[null,"Faribault",1337,5928,0.18,0.82]
[null,"Fillmore",6182,1711,0.78,0.22]
[null,"Freeborn",22000," -   ",1,0]
[null,"Goodhue",412,20727,0.02,0.98]
[null,"Grant"," -   ",2648,0,1]
[null,"Hennepin",357157,377125,0.49,0.51]
[null,"Houston",1231,6038,0.17,0.83]
[null,"Hubbard",10989,5518,0.67,0.33]
[null,"Isanti",32430," -   ",1,0]
[null,"Itasca",28422," -   ",1,0]
[null,"Jackson",4319,3,1,0]
[null,"Kanabec",10355," -   ",1,0]
[null,"Kandiyohi",34158," -   ",1,0]
[null,"Kittson",2185," -   ",1,0]
[null,"Koochiching",8372," -   ",1,0]
[null,"Lac qui Parle",4787," -   ",1,0]
[null,"Lake",5791," -   ",1,0]
[null,"Lake of the Woods",3422," -   ",1,0]
[null,"Le Sueur",10614,4637,0.7,0.3]
[null,"Lincoln",2991," -   ",1,0]
[null,"Lyon",21507," -   ",1,0]
[null,"Mahnomen ",25,1649,0.01,0.99]
[null,"Marshall ",5066," -   ",1,0]
[null,"Martin ",3260,8530,0.28000000000000003,0.72]
[null,"McLeod ",21599," -   ",1,0]
[null,"Meeker ",8523," -   ",1,0]
[null,"Mille Lacs ",16752," -   ",1,0]
[null,"Morrison ",23478," -   ",1,0]
[null,"Mower ",24736,3,1,0]
[null,"Murray ",4491," -   ",1,0]
[null,"Nicollet ",55129,8555,0.87,0.13]
[null,"Nobles ",10687," -   ",1,0]
[null,"Norman ",692,3007,0.19,0.81]
[null,"Olmsted ",2923,100767,0.03,0.97]
[null,"Otter Tail ",10888,21816,0.33,0.67]
[null,"Pennington ",9299," -   ",1,0]
[null,"Pine ",21960," -   ",1,0]
[null,"Pipestone ",6272," -   ",1,0]
[null,"Polk ",15316,8106,0.65,0.35]
[null,"Pope/Douglas ",7543,27248,0.22,0.78]
[null,"Ramsey ",68570,238772,0.22,0.78]
[null,"Red Lake ",1694," -   ",1,0]
[null,"Redwood/Renville ",15040," -   ",1,0]
[null,"Rice ",45129,1300,0.97,0.03]
[null,"Rock ",4531," -   ",1,0]
[null,"Roseau ",10690," -   ",1,0]
[null,"Scott ",72448," -   ",1,0]
[null,"Sherburne ",41698,5314,0.89,0.11]
[null,"Sibley ",5977,1497,0.8,0.2]
[null,"St. Louis - partial",53672," -   ",1,0]
[null,"Stearns ",42832,31948,0.56999999999999995,0.43]
[null,"Steele ",35313," -   ",{"$f":"IFERROR(ROUND(C239/SUM($C239:$D239),2),0)","v":1},{"$f":"IFERROR(ROUND(D239/SUM($C239:$D239),2),0)","v":0}]
[null,"Stevens ",4401,1988,0.69,0.31]
[null,"Swift ",7405," -   ",1,0]
[null,"Todd ",5879,7105,0.45,0.55000000000000004]
[null,"Traverse ",1101," -   ",1,0]
[null,"Wabasha ",2048,3915,0.34,0.66]
[null,"Wadena ",1421,4910,0.22,0.78]
[null,"Waseca ",4505," -   ",1,0]
[null,"Washington ",25479,97332,0.21,0.79]
[null,"Watonwan ",6543," -   ",1,0]
[null,"Wilkin ",2464," -   ",1,0]
[null,"Winona ",20390,1949,0.91,0.09]
[null,"WLSSD",56314," -   ",1,0]
[null,"Wright ",91149," -   ",1,0]
[null,"Yellow Medicine ",4719," -   ",1,0]
[null,"Source: MPCA, Select Committee on Recycling and the Environment (SCORE), https://data.pca.state.mn.us/views/SCOREreport2022/2022SCOREreport?%3Aembed=y&%3AisGuestRedirectFromVizportal=y "]
[]
[null,"Operational Waste On-Site"]
[]
[null,"Emission Factors"]
[]
[null,"Treatment Practice"," Emission Factor (MTCO2e/ton)"]
[null,"Landfilling (MSW)",{"$f":"D94","v":0.57999999999999996}]
[null,"Landfilling (C&D)",{"$f":"C135","v":5.1889999999999992E-2}]
[null,"Combustion",{"$f":"E94","v":0.43}]
[null,"Composting",{"$f":"F93","v":0.13}]
[null,"Anaerobic Digestion (Dry)",{"$f":"G93","v":0.12590000000000001}]
[null,"Anaerobic Digestion (Wet)",{"$f":"H74","v":0.11}]
[]
[null,"Treatment Practice"," Emission Factor (MTCO2e/ton)"]
[null,"Recycling",{"$f":"C91","v":0.09}]
[null,"Composted",{"$f":"F93","v":0.13}]
[null,"Landfilled",{"$f":"D94","v":0.57999999999999996}]
[null,"Combusted",{"$f":"E94","v":0.43}]
[]
[null,"Wasterwater On-Site"]
[]
[null,"Municipal"]
[]
[null,"Data Element","Value","Units"]
[null,"BOD",0.09,"kg/person/day"]
[null,"BOD emission factor",0.6,"kg CH4/kg BOD"]
[null,"Protein",35.700000000000003,"kg/person/year"]
[null,"Nitrogen content in protein",0.16,"Percent"]
[null,"Fraction of nitrogen not consumed",1.75,"kg N/kg N"]
[null,"Effluent N2O emission factor",5.0000000000000001E-3,"kg N2O-N/kg N"]
[null,"Source: EPA State Inventory Tool (January 2025)"]
[]
[null,"System Type","Methane Correction Factor (MCF)","Direct N2O Emission Factors\n(kg N2O-N/kg N) "]
[null,"Septic system",0.5,4.4999999999999997E-3]
[null,"Aerobic system",0.03,1.4999999999999999E-2]
[null,"Anaerobic system",0.8,0]
[null,"Constructed wetlands",0.4,1.2999999999999999E-3]
[null,"Sources: U.S. EPA. 2024. Inventory of U.S. Greenhouse Gas Emissions and Sinks: 1990–2022; IPCC (2019) 2019 Refinement to the 2006 IPCC Guidelines for National Greenhouse Gas Inventories"]
[]
[null,"Industrial"]
[]
[null,"Product","Wastewater outflow (m3/metric ton)","COD/BOD (g/L)","Fraction of BOD/COD anaerobically digested","Emission Factor (g CH4/g BOD/COD)"]
[null,"Fruits and vegetables",9.11,5,0,0.25]
[null,"Red meat",5.3,4.0999999999999996,0.33,0.25]
[null,"Poultry",12.5,4.0999999999999996,0.25,0.25]
[null,"Pulp and paper",39,0.3,5.1999999999999998E-2,0.6]
[null,"Source: EPA State Inventory Tool (January 2025)"]

{"sheet":"Lists","index":29,"n_rows":88,"n_cols":31,"rows_kept":88,"cut":false,"hidden":true,"merged":[[1,3,1,6]]}
[]
[null,"Project Types",null,"GWPs",null,null,null,null,"Construction Materials",null,"Unit",null,"Geographical Sourcing",null,"Y/N",null,"Counties",null,"Electricity Provider",null,"Manure management systems: All",null,"Waste Treatment Practice",null,"Industrial WW Product Types ",null,"Construction Equipment Fuel",null,"Operational Year",null,"Operational Lifetime"]
[null,"Subp. 2, Nuclear fuels and nuclear waste",null,"GHG","AR4","AR5","AR6",null,"Aluminum",null,"Tons",null,"Domestic",null,"Yes",null,"Aitkin",null,"Grid Average",null,"Anaerobic digester",null,"Landfilling (MSW)",null,"Fruits and Vegetables",null,"Diesel",null,2025,null,1]
[null,"Subp. 3, Electric-generating facilities",null,"CO2",1,1,1,null,"Asphalt",null,"Cubic yards",null,"Imported",null,"No",null,"Anoka",null,{"$f":"'Annual Assumptions'!B19","v":"Xcel Energy"},null,"Anaerobic lagoon - liquid",null,"Landfilling (C&D)",null,"Red Meat",null,"Electric",null,2026,null,2]
[null,"Subp. 4, Petroleum Refineries",null,"CH4",25,28,27,null,"Brick",null,"Square feet",null,"Unknown",null,null,null,"Becker",null,{"$f":"'Annual Assumptions'!B20","v":"Minnesota Power"},null,"Cattle deep litter",null,"Combustion",null,"Poultry",null,"Biodiesel 100",null,2027,null,3]
[null,"Subp. 5, Fuel conversion Facilities",null,"N2O",298,265,273,null,"Concrete",null,null,null,null,null,null,null,"Beltrami",null,{"$f":"'Annual Assumptions'!B21","v":"Great River Energy"},null,"Composting",null,"Composting",null,"Pulp and Paper",null,"Biodiesel 20",null,2028,null,4]
[null,"Subp. 6, Transmission lines",null,"HFC-134a",1430,1300,1530,null,"Glass",null,"Unit Dropdown",null,null,null,null,null,"Benton",null,{"$f":"'Annual Assumptions'!B22","v":"Otter Tail Power Company"},null,"Daily spread",null,"Anaerobic Digestion (Dry)",null,null,null,"Renewable Diesel",null,2029,null,5]
[null,"Subp. 7, Pipelines",null,"R-32",675,677,771,null,"Insulation",null,"MT",null,null,null,null,null,"Big Stone",null,null,null,"Deep pit",null,"Anaerobic Digestion (Wet)",null,null,null,null,null,2030,null,6]
[null,"Subp. 8, Transfer facilities",null,"HFC-125",3500,3170,3740,null,"Steel",null,"tons",null,null,null,null,null,"Blue Earth",null,null,null,"Dry lot",null,null,null,null,null,"Construction Equipment Approach",null,2031,null,7]
[null,"Subp. 9, Underground storage",null,"HFC-143a",4470,4800,5810,null,"Wood Products",null,"kg",null,null,null,null,null,"Brown",null,null,null,"Liquid/slurry",null,null,null,null,null,"Equipment Use",null,2032,null,8]
[null,"Subp. 10, Storage facilities",null,"HFC-152a",124,138,164,null,null,null,null,null,null,null,null,null,"Carlton",null,null,null,"Pasture, range, paddock",null,null,null,null,null,"Fuel Consumption",null,2033,null,9]
[null,"Subp. 11, Metallic mineral mining and processing",null,"R-404A",{"$f":"(0.44*E9)+(0.04*E7)+(0.52*E10)","v":3921.6000000000004},{"$f":"(0.44*F9)+(0.04*F7)+(0.52*F10)","v":3942.8},{"$f":"(0.44*G9)+(0.04*G7)+(0.52*G10)","v":4728},null,null,null,null,null,null,null,null,null,"Carver",null,null,null,"Poultry with litter",null,null,null,null,null,null,null,2034,null,10]
[null,"Subp. 12, Nonmetallic mineral mining",null,"R-410A",{"$f":"(0.5*E8)+(0.5*E9)","v":2087.5},{"$f":"(0.5*F8)+(0.5*F9)","v":1923.5},{"$f":"(0.5*G8)+(0.5*G9)","v":2255.5},null,null,null,null,null,null,null,null,null,"Cass",null,null,null,"Poultry without litter",null,null,null,null,null,"Building Energy Approach",null,2035,null,11]
[null,"Subp. 13, Paper or pulp processing mills",null,"R-407A",{"$f":"SUMIF(HFCs!$D$18:$D$32,Lists!$D14,HFCs!$E$18:$E$32)*Lists!E$8+SUMIF(HFCs!$D$18:$D$32,Lists!$D14,HFCs!$F$18:$F$32)*Lists!E$9+SUMIF(HFCs!$D$18:$D$32,Lists!$D14,HFCs!$H$18:$H$32)*Lists!E$10+SUMIF(HFCs!$D$18:$D$32,Lists!$D14,HFCs!$G$18:$G$32)*Lists!E$7+SUMIF(HFCs!$D$18:$D$32,Lists!$D14,HFCs!$I$18:$I$32)*Lists!E$11","v":2107},{"$f":"SUMIF(HFCs!$D$18:$D$32,Lists!$D14,HFCs!$E$18:$E$32)*Lists!F$8+SUMIF(HFCs!$D$18:$D$32,Lists!$D14,HFCs!$F$18:$F$32)*Lists!F$9+SUMIF(HFCs!$D$18:$D$32,Lists!$D14,HFCs!$H$18:$H$32)*Lists!F$10+SUMIF(HFCs!$D$18:$D$32,Lists!$D14,HFCs!$G$18:$G$32)*Lists!F$7+SUMIF(HFCs!$D$18:$D$32,Lists!$D14,HFCs!$I$18:$I$32)*Lists!F$11","v":1923.4},{"$f":"SUMIF(HFCs!$D$18:$D$32,Lists!$D14,HFCs!$E$18:$E$32)*Lists!G$8+SUMIF(HFCs!$D$18:$D$32,Lists!$D14,HFCs!$F$18:$F$32)*Lists!G$9+SUMIF(HFCs!$D$18:$D$32,Lists!$D14,HFCs!$H$18:$H$32)*Lists!G$10+SUMIF(HFCs!$D$18:$D$32,Lists!$D14,HFCs!$G$18:$G$32)*Lists!G$7+SUMIF(HFCs!$D$18:$D$32,Lists!$D14,HFCs!$I$18:$I$32)*Lists!G$11","v":2262.1999999999998},null,null,null,null,null,null,null,null,null,"Chippewa",null,null,null,"Solid storage",null,null,null,null,null,"Energy Intensity",null,2036,null,12]
[null,"Subp. 14, Industrial, commercial, institutional facilities",null,"R-407C",{"$f":"SUMIF(HFCs!$D$18:$D$32,Lists!$D15,HFCs!$E$18:$E$32)*Lists!E$8+SUMIF(HFCs!$D$18:$D$32,Lists!$D15,HFCs!$F$18:$F$32)*Lists!E$9+SUMIF(HFCs!$D$18:$D$32,Lists!$D15,HFCs!$H$18:$H$32)*Lists!E$10+SUMIF(HFCs!$D$18:$D$32,Lists!$D15,HFCs!$G$18:$G$32)*Lists!E$7+SUMIF(HFCs!$D$18:$D$32,Lists!$D15,HFCs!$I$18:$I$32)*Lists!E$11","v":1773.85},{"$f":"SUMIF(HFCs!$D$18:$D$32,Lists!$D15,HFCs!$E$18:$E$32)*Lists!F$8+SUMIF(HFCs!$D$18:$D$32,Lists!$D15,HFCs!$F$18:$F$32)*Lists!F$9+SUMIF(HFCs!$D$18:$D$32,Lists!$D15,HFCs!$H$18:$H$32)*Lists!F$10+SUMIF(HFCs!$D$18:$D$32,Lists!$D15,HFCs!$G$18:$G$32)*Lists!F$7+SUMIF(HFCs!$D$18:$D$32,Lists!$D15,HFCs!$I$18:$I$32)*Lists!F$11","v":1624.21},{"$f":"SUMIF(HFCs!$D$18:$D$32,Lists!$D15,HFCs!$E$18:$E$32)*Lists!G$8+SUMIF(HFCs!$D$18:$D$32,Lists!$D15,HFCs!$F$18:$F$32)*Lists!G$9+SUMIF(HFCs!$D$18:$D$32,Lists!$D15,HFCs!$H$18:$H$32)*Lists!G$10+SUMIF(HFCs!$D$18:$D$32,Lists!$D15,HFCs!$G$18:$G$32)*Lists!G$7+SUMIF(HFCs!$D$18:$D$32,Lists!$D15,HFCs!$I$18:$I$32)*Lists!G$11","v":1907.9299999999998},null,null,null,null,null,null,null,null,null,"Chisago",null,null,null,null,null,null,null,null,null,"Fuel Consumption",null,2037,null,13]
[null,"Subp. 15, Air pollution",null,"R-407F",{"$f":"SUMIF(HFCs!$D$18:$D$32,Lists!$D16,HFCs!$E$18:$E$32)*Lists!E$8+SUMIF(HFCs!$D$18:$D$32,Lists!$D16,HFCs!$F$18:$F$32)*Lists!E$9+SUMIF(HFCs!$D$18:$D$32,Lists!$D16,HFCs!$H$18:$H$32)*Lists!E$10+SUMIF(HFCs!$D$18:$D$32,Lists!$D16,HFCs!$G$18:$G$32)*Lists!E$7+SUMIF(HFCs!$D$18:$D$32,Lists!$D16,HFCs!$I$18:$I$32)*Lists!E$11","v":1824.5},{"$f":"SUMIF(HFCs!$D$18:$D$32,Lists!$D16,HFCs!$E$18:$E$32)*Lists!F$8+SUMIF(HFCs!$D$18:$D$32,Lists!$D16,HFCs!$F$18:$F$32)*Lists!F$9+SUMIF(HFCs!$D$18:$D$32,Lists!$D16,HFCs!$H$18:$H$32)*Lists!F$10+SUMIF(HFCs!$D$18:$D$32,Lists!$D16,HFCs!$G$18:$G$32)*Lists!F$7+SUMIF(HFCs!$D$18:$D$32,Lists!$D16,HFCs!$I$18:$I$32)*Lists!F$11","v":1674.1},{"$f":"SUMIF(HFCs!$D$18:$D$32,Lists!$D16,HFCs!$E$18:$E$32)*Lists!G$8+SUMIF(HFCs!$D$18:$D$32,Lists!$D16,HFCs!$F$18:$F$32)*Lists!G$9+SUMIF(HFCs!$D$18:$D$32,Lists!$D16,HFCs!$H$18:$H$32)*Lists!G$10+SUMIF(HFCs!$D$18:$D$32,Lists!$D16,HFCs!$G$18:$G$32)*Lists!G$7+SUMIF(HFCs!$D$18:$D$32,Lists!$D16,HFCs!$I$18:$I$32)*Lists!G$11","v":1965.3},null,null,null,null,null,null,null,null,null,"Clay",null,null,null,null,null,null,null,null,null,null,null,2038,null,14]
[null,"Subp. 16, Hazardous waste",null,"R-448A",{"$f":"SUMIF(HFCs!$D$18:$D$32,Lists!$D17,HFCs!$E$18:$E$32)*Lists!E$8+SUMIF(HFCs!$D$18:$D$32,Lists!$D17,HFCs!$F$18:$F$32)*Lists!E$9+SUMIF(HFCs!$D$18:$D$32,Lists!$D17,HFCs!$H$18:$H$32)*Lists!E$10+SUMIF(HFCs!$D$18:$D$32,Lists!$D17,HFCs!$G$18:$G$32)*Lists!E$7+SUMIF(HFCs!$D$18:$D$32,Lists!$D17,HFCs!$I$18:$I$32)*Lists!E$11","v":1385.8},{"$f":"SUMIF(HFCs!$D$18:$D$32,Lists!$D17,HFCs!$E$18:$E$32)*Lists!F$8+SUMIF(HFCs!$D$18:$D$32,Lists!$D17,HFCs!$F$18:$F$32)*Lists!F$9+SUMIF(HFCs!$D$18:$D$32,Lists!$D17,HFCs!$H$18:$H$32)*Lists!F$10+SUMIF(HFCs!$D$18:$D$32,Lists!$D17,HFCs!$G$18:$G$32)*Lists!F$7+SUMIF(HFCs!$D$18:$D$32,Lists!$D17,HFCs!$I$18:$I$32)*Lists!F$11","v":1273.22},{"$f":"SUMIF(HFCs!$D$18:$D$32,Lists!$D17,HFCs!$E$18:$E$32)*Lists!G$8+SUMIF(HFCs!$D$18:$D$32,Lists!$D17,HFCs!$F$18:$F$32)*Lists!G$9+SUMIF(HFCs!$D$18:$D$32,Lists!$D17,HFCs!$H$18:$H$32)*Lists!G$10+SUMIF(HFCs!$D$18:$D$32,Lists!$D17,HFCs!$G$18:$G$32)*Lists!G$7+SUMIF(HFCs!$D$18:$D$32,Lists!$D17,HFCs!$I$18:$I$32)*Lists!G$11","v":1494.1599999999999},null,null,null,null,null,null,null,null,null,"Clearwater",null,null,null,"Manure management systems: Beef cattle",null,null,null,null,null,null,null,2039,null,15]
[null,"Subp. 17, Solid waste",null,"R-449A",{"$f":"SUMIF(HFCs!$D$18:$D$32,Lists!$D18,HFCs!$E$18:$E$32)*Lists!E$8+SUMIF(HFCs!$D$18:$D$32,Lists!$D18,HFCs!$F$18:$F$32)*Lists!E$9+SUMIF(HFCs!$D$18:$D$32,Lists!$D18,HFCs!$H$18:$H$32)*Lists!E$10+SUMIF(HFCs!$D$18:$D$32,Lists!$D18,HFCs!$G$18:$G$32)*Lists!E$7+SUMIF(HFCs!$D$18:$D$32,Lists!$D18,HFCs!$I$18:$I$32)*Lists!E$11","v":1396.0350000000001},{"$f":"SUMIF(HFCs!$D$18:$D$32,Lists!$D18,HFCs!$E$18:$E$32)*Lists!F$8+SUMIF(HFCs!$D$18:$D$32,Lists!$D18,HFCs!$F$18:$F$32)*Lists!F$9+SUMIF(HFCs!$D$18:$D$32,Lists!$D18,HFCs!$H$18:$H$32)*Lists!F$10+SUMIF(HFCs!$D$18:$D$32,Lists!$D18,HFCs!$G$18:$G$32)*Lists!F$7+SUMIF(HFCs!$D$18:$D$32,Lists!$D18,HFCs!$I$18:$I$32)*Lists!F$11","v":1281.6010000000001},{"$f":"SUMIF(HFCs!$D$18:$D$32,Lists!$D18,HFCs!$E$18:$E$32)*Lists!G$8+SUMIF(HFCs!$D$18:$D$32,Lists!$D18,HFCs!$F$18:$F$32)*Lists!G$9+SUMIF(HFCs!$D$18:$D$32,Lists!$D18,HFCs!$H$18:$H$32)*Lists!G$10+SUMIF(HFCs!$D$18:$D$32,Lists!$D18,HFCs!$G$18:$G$32)*Lists!G$7+SUMIF(HFCs!$D$18:$D$32,Lists!$D18,HFCs!$I$18:$I$32)*Lists!G$11","v":1504.3430000000001},null,null,null,null,null,null,null,null,null,"Cook",null,null,null,"Anaerobic digester",null,null,null,null,null,null,null,2040,null,16]
[null,"Subp. 18, Wastewater",null,"R-449B",{"$f":"SUMIF(HFCs!$D$18:$D$32,Lists!$D19,HFCs!$E$18:$E$32)*Lists!E$8+SUMIF(HFCs!$D$18:$D$32,Lists!$D19,HFCs!$F$18:$F$32)*Lists!E$9+SUMIF(HFCs!$D$18:$D$32,Lists!$D19,HFCs!$H$18:$H$32)*Lists!E$10+SUMIF(HFCs!$D$18:$D$32,Lists!$D19,HFCs!$G$18:$G$32)*Lists!E$7+SUMIF(HFCs!$D$18:$D$32,Lists!$D19,HFCs!$I$18:$I$32)*Lists!E$11","v":1410.99},{"$f":"SUMIF(HFCs!$D$18:$D$32,Lists!$D19,HFCs!$E$18:$E$32)*Lists!F$8+SUMIF(HFCs!$D$18:$D$32,Lists!$D19,HFCs!$F$18:$F$32)*Lists!F$9+SUMIF(HFCs!$D$18:$D$32,Lists!$D19,HFCs!$H$18:$H$32)*Lists!F$10+SUMIF(HFCs!$D$18:$D$32,Lists!$D19,HFCs!$G$18:$G$32)*Lists!F$7+SUMIF(HFCs!$D$18:$D$32,Lists!$D19,HFCs!$I$18:$I$32)*Lists!F$11","v":1295.8140000000001},{"$f":"SUMIF(HFCs!$D$18:$D$32,Lists!$D19,HFCs!$E$18:$E$32)*Lists!G$8+SUMIF(HFCs!$D$18:$D$32,Lists!$D19,HFCs!$F$18:$F$32)*Lists!G$9+SUMIF(HFCs!$D$18:$D$32,Lists!$D19,HFCs!$H$18:$H$32)*Lists!G$10+SUMIF(HFCs!$D$18:$D$32,Lists!$D19,HFCs!$G$18:$G$32)*Lists!G$7+SUMIF(HFCs!$D$18:$D$32,Lists!$D19,HFCs!$I$18:$I$32)*Lists!G$11","v":1520.8019999999999},null,null,null,null,null,null,null,null,null,"Cottonwood",null,null,null,"Cattle deep litter",null,null,null,null,null,null,null,null,null,17]
[null,"Subp. 19, Residential Development",null,"R-450A",{"$f":"SUMIF(HFCs!$D$18:$D$32,Lists!$D20,HFCs!$E$18:$E$32)*Lists!E$8+SUMIF(HFCs!$D$18:$D$32,Lists!$D20,HFCs!$F$18:$F$32)*Lists!E$9+SUMIF(HFCs!$D$18:$D$32,Lists!$D20,HFCs!$H$18:$H$32)*Lists!E$10+SUMIF(HFCs!$D$18:$D$32,Lists!$D20,HFCs!$G$18:$G$32)*Lists!E$7+SUMIF(HFCs!$D$18:$D$32,Lists!$D20,HFCs!$I$18:$I$32)*Lists!E$11","v":600.6},{"$f":"SUMIF(HFCs!$D$18:$D$32,Lists!$D20,HFCs!$E$18:$E$32)*Lists!F$8+SUMIF(HFCs!$D$18:$D$32,Lists!$D20,HFCs!$F$18:$F$32)*Lists!F$9+SUMIF(HFCs!$D$18:$D$32,Lists!$D20,HFCs!$H$18:$H$32)*Lists!F$10+SUMIF(HFCs!$D$18:$D$32,Lists!$D20,HFCs!$G$18:$G$32)*Lists!F$7+SUMIF(HFCs!$D$18:$D$32,Lists!$D20,HFCs!$I$18:$I$32)*Lists!F$11","v":546},{"$f":"SUMIF(HFCs!$D$18:$D$32,Lists!$D20,HFCs!$E$18:$E$32)*Lists!G$8+SUMIF(HFCs!$D$18:$D$32,Lists!$D20,HFCs!$F$18:$F$32)*Lists!G$9+SUMIF(HFCs!$D$18:$D$32,Lists!$D20,HFCs!$H$18:$H$32)*Lists!G$10+SUMIF(HFCs!$D$18:$D$32,Lists!$D20,HFCs!$G$18:$G$32)*Lists!G$7+SUMIF(HFCs!$D$18:$D$32,Lists!$D20,HFCs!$I$18:$I$32)*Lists!G$11","v":642.6},null,null,null,null,null,null,null,null,null,"Crow Wing",null,null,null,"Composting",null,null,null,null,null,null,null,null,null,18]
[null,"Subp. 19a, Residential Development in shoreland outside of the seven-county Twin Cities metropolitan area",null,"R-452B",{"$f":"SUMIF(HFCs!$D$18:$D$32,Lists!$D21,HFCs!$E$18:$E$32)*Lists!E$8+SUMIF(HFCs!$D$18:$D$32,Lists!$D21,HFCs!$F$18:$F$32)*Lists!E$9+SUMIF(HFCs!$D$18:$D$32,Lists!$D21,HFCs!$H$18:$H$32)*Lists!E$10+SUMIF(HFCs!$D$18:$D$32,Lists!$D21,HFCs!$G$18:$G$32)*Lists!E$7+SUMIF(HFCs!$D$18:$D$32,Lists!$D21,HFCs!$I$18:$I$32)*Lists!E$11","v":697.25},{"$f":"SUMIF(HFCs!$D$18:$D$32,Lists!$D21,HFCs!$E$18:$E$32)*Lists!F$8+SUMIF(HFCs!$D$18:$D$32,Lists!$D21,HFCs!$F$18:$F$32)*Lists!F$9+SUMIF(HFCs!$D$18:$D$32,Lists!$D21,HFCs!$H$18:$H$32)*Lists!F$10+SUMIF(HFCs!$D$18:$D$32,Lists!$D21,HFCs!$G$18:$G$32)*Lists!F$7+SUMIF(HFCs!$D$18:$D$32,Lists!$D21,HFCs!$I$18:$I$32)*Lists!F$11","v":675.49},{"$f":"SUMIF(HFCs!$D$18:$D$32,Lists!$D21,HFCs!$E$18:$E$32)*Lists!G$8+SUMIF(HFCs!$D$18:$D$32,Lists!$D21,HFCs!$F$18:$F$32)*Lists!G$9+SUMIF(HFCs!$D$18:$D$32,Lists!$D21,HFCs!$H$18:$H$32)*Lists!G$10+SUMIF(HFCs!$D$18:$D$32,Lists!$D21,HFCs!$G$18:$G$32)*Lists!G$7+SUMIF(HFCs!$D$18:$D$32,Lists!$D21,HFCs!$I$18:$I$32)*Lists!G$11","v":778.37000000000012},null,null,null,null,null,null,null,null,null,"Dakota",null,null,null,"Daily spread",null,null,null,null,null,null,null,null,null,19]
[null,"Subp. 20, Campgrounds and RV Parks",null,"R-454A",{"$f":"SUMIF(HFCs!$D$18:$D$32,Lists!$D22,HFCs!$E$18:$E$32)*Lists!E$8+SUMIF(HFCs!$D$18:$D$32,Lists!$D22,HFCs!$F$18:$F$32)*Lists!E$9+SUMIF(HFCs!$D$18:$D$32,Lists!$D22,HFCs!$H$18:$H$32)*Lists!E$10+SUMIF(HFCs!$D$18:$D$32,Lists!$D22,HFCs!$G$18:$G$32)*Lists!E$7+SUMIF(HFCs!$D$18:$D$32,Lists!$D22,HFCs!$I$18:$I$32)*Lists!E$11","v":236.24999999999997},{"$f":"SUMIF(HFCs!$D$18:$D$32,Lists!$D22,HFCs!$E$18:$E$32)*Lists!F$8+SUMIF(HFCs!$D$18:$D$32,Lists!$D22,HFCs!$F$18:$F$32)*Lists!F$9+SUMIF(HFCs!$D$18:$D$32,Lists!$D22,HFCs!$H$18:$H$32)*Lists!F$10+SUMIF(HFCs!$D$18:$D$32,Lists!$D22,HFCs!$G$18:$G$32)*Lists!F$7+SUMIF(HFCs!$D$18:$D$32,Lists!$D22,HFCs!$I$18:$I$32)*Lists!F$11","v":236.95},{"$f":"SUMIF(HFCs!$D$18:$D$32,Lists!$D22,HFCs!$E$18:$E$32)*Lists!G$8+SUMIF(HFCs!$D$18:$D$32,Lists!$D22,HFCs!$F$18:$F$32)*Lists!G$9+SUMIF(HFCs!$D$18:$D$32,Lists!$D22,HFCs!$H$18:$H$32)*Lists!G$10+SUMIF(HFCs!$D$18:$D$32,Lists!$D22,HFCs!$G$18:$G$32)*Lists!G$7+SUMIF(HFCs!$D$18:$D$32,Lists!$D22,HFCs!$I$18:$I$32)*Lists!G$11","v":269.84999999999997},null,null,null,null,null,null,null,null,null,"Dodge",null,null,null,"Deep pit",null,null,null,null,null,null,null,null,null,20]
[null,"Subp. 20a, Resorts, campgrounds, and RV parks in shorelands",null,"R-454B",{"$f":"SUMIF(HFCs!$D$18:$D$32,Lists!$D23,HFCs!$E$18:$E$32)*Lists!E$8+SUMIF(HFCs!$D$18:$D$32,Lists!$D23,HFCs!$F$18:$F$32)*Lists!E$9+SUMIF(HFCs!$D$18:$D$32,Lists!$D23,HFCs!$H$18:$H$32)*Lists!E$10+SUMIF(HFCs!$D$18:$D$32,Lists!$D23,HFCs!$G$18:$G$32)*Lists!E$7+SUMIF(HFCs!$D$18:$D$32,Lists!$D23,HFCs!$I$18:$I$32)*Lists!E$11","v":465.07500000000005},{"$f":"SUMIF(HFCs!$D$18:$D$32,Lists!$D23,HFCs!$E$18:$E$32)*Lists!F$8+SUMIF(HFCs!$D$18:$D$32,Lists!$D23,HFCs!$F$18:$F$32)*Lists!F$9+SUMIF(HFCs!$D$18:$D$32,Lists!$D23,HFCs!$H$18:$H$32)*Lists!F$10+SUMIF(HFCs!$D$18:$D$32,Lists!$D23,HFCs!$G$18:$G$32)*Lists!F$7+SUMIF(HFCs!$D$18:$D$32,Lists!$D23,HFCs!$I$18:$I$32)*Lists!F$11","v":466.45300000000003},{"$f":"SUMIF(HFCs!$D$18:$D$32,Lists!$D23,HFCs!$E$18:$E$32)*Lists!G$8+SUMIF(HFCs!$D$18:$D$32,Lists!$D23,HFCs!$F$18:$F$32)*Lists!G$9+SUMIF(HFCs!$D$18:$D$32,Lists!$D23,HFCs!$H$18:$H$32)*Lists!G$10+SUMIF(HFCs!$D$18:$D$32,Lists!$D23,HFCs!$G$18:$G$32)*Lists!G$7+SUMIF(HFCs!$D$18:$D$32,Lists!$D23,HFCs!$I$18:$I$32)*Lists!G$11","v":531.21900000000005},null,null,null,null,null,null,null,null,null,"Faribault",null,null,null,"Dry lot",null,null,null,null,null,null,null,null,null,21]
[null,"Subp. 21, Airport projects",null,"R-454C",{"$f":"SUMIF(HFCs!$D$18:$D$32,Lists!$D24,HFCs!$E$18:$E$32)*Lists!E$8+SUMIF(HFCs!$D$18:$D$32,Lists!$D24,HFCs!$F$18:$F$32)*Lists!E$9+SUMIF(HFCs!$D$18:$D$32,Lists!$D24,HFCs!$H$18:$H$32)*Lists!E$10+SUMIF(HFCs!$D$18:$D$32,Lists!$D24,HFCs!$G$18:$G$32)*Lists!E$7+SUMIF(HFCs!$D$18:$D$32,Lists!$D24,HFCs!$I$18:$I$32)*Lists!E$11","v":145.125},{"$f":"SUMIF(HFCs!$D$18:$D$32,Lists!$D24,HFCs!$E$18:$E$32)*Lists!F$8+SUMIF(HFCs!$D$18:$D$32,Lists!$D24,HFCs!$F$18:$F$32)*Lists!F$9+SUMIF(HFCs!$D$18:$D$32,Lists!$D24,HFCs!$H$18:$H$32)*Lists!F$10+SUMIF(HFCs!$D$18:$D$32,Lists!$D24,HFCs!$G$18:$G$32)*Lists!F$7+SUMIF(HFCs!$D$18:$D$32,Lists!$D24,HFCs!$I$18:$I$32)*Lists!F$11","v":145.55500000000001},{"$f":"SUMIF(HFCs!$D$18:$D$32,Lists!$D24,HFCs!$E$18:$E$32)*Lists!G$8+SUMIF(HFCs!$D$18:$D$32,Lists!$D24,HFCs!$F$18:$F$32)*Lists!G$9+SUMIF(HFCs!$D$18:$D$32,Lists!$D24,HFCs!$H$18:$H$32)*Lists!G$10+SUMIF(HFCs!$D$18:$D$32,Lists!$D24,HFCs!$G$18:$G$32)*Lists!G$7+SUMIF(HFCs!$D$18:$D$32,Lists!$D24,HFCs!$I$18:$I$32)*Lists!G$11","v":165.76499999999999},null,null,null,null,null,null,null,null,null,"Fillmore",null,null,null,"Liquid/slurry",null,null,null,null,null,null,null,null,null,22]
[null,"Subp. 23, Barge fleeting",null,"R-457A",{"$f":"SUMIF(HFCs!$D$18:$D$32,Lists!$D25,HFCs!$E$18:$E$32)*Lists!E$8+SUMIF(HFCs!$D$18:$D$32,Lists!$D25,HFCs!$F$18:$F$32)*Lists!E$9+SUMIF(HFCs!$D$18:$D$32,Lists!$D25,HFCs!$H$18:$H$32)*Lists!E$10+SUMIF(HFCs!$D$18:$D$32,Lists!$D25,HFCs!$G$18:$G$32)*Lists!E$7+SUMIF(HFCs!$D$18:$D$32,Lists!$D25,HFCs!$I$18:$I$32)*Lists!E$11","v":136.38},{"$f":"SUMIF(HFCs!$D$18:$D$32,Lists!$D25,HFCs!$E$18:$E$32)*Lists!F$8+SUMIF(HFCs!$D$18:$D$32,Lists!$D25,HFCs!$F$18:$F$32)*Lists!F$9+SUMIF(HFCs!$D$18:$D$32,Lists!$D25,HFCs!$H$18:$H$32)*Lists!F$10+SUMIF(HFCs!$D$18:$D$32,Lists!$D25,HFCs!$G$18:$G$32)*Lists!F$7+SUMIF(HFCs!$D$18:$D$32,Lists!$D25,HFCs!$I$18:$I$32)*Lists!F$11","v":138.41999999999999},{"$f":"SUMIF(HFCs!$D$18:$D$32,Lists!$D25,HFCs!$E$18:$E$32)*Lists!G$8+SUMIF(HFCs!$D$18:$D$32,Lists!$D25,HFCs!$F$18:$F$32)*Lists!G$9+SUMIF(HFCs!$D$18:$D$32,Lists!$D25,HFCs!$H$18:$H$32)*Lists!G$10+SUMIF(HFCs!$D$18:$D$32,Lists!$D25,HFCs!$G$18:$G$32)*Lists!G$7+SUMIF(HFCs!$D$18:$D$32,Lists!$D25,HFCs!$I$18:$I$32)*Lists!G$11","v":158.46},null,null,null,null,null,null,null,null,null,"Freeborn",null,null,null,"Pasture, range, paddock",null,null,null,null,null,null,null,null,null,23]
[null,"Subp. 24, Water appropriation and impoundments",null,"R-513A",{"$f":"SUMIF(HFCs!$D$18:$D$32,Lists!$D26,HFCs!$E$18:$E$32)*Lists!E$8+SUMIF(HFCs!$D$18:$D$32,Lists!$D26,HFCs!$F$18:$F$32)*Lists!E$9+SUMIF(HFCs!$D$18:$D$32,Lists!$D26,HFCs!$H$18:$H$32)*Lists!E$10+SUMIF(HFCs!$D$18:$D$32,Lists!$D26,HFCs!$G$18:$G$32)*Lists!E$7+SUMIF(HFCs!$D$18:$D$32,Lists!$D26,HFCs!$I$18:$I$32)*Lists!E$11","v":629.20000000000005},{"$f":"SUMIF(HFCs!$D$18:$D$32,Lists!$D26,HFCs!$E$18:$E$32)*Lists!F$8+SUMIF(HFCs!$D$18:$D$32,Lists!$D26,HFCs!$F$18:$F$32)*Lists!F$9+SUMIF(HFCs!$D$18:$D$32,Lists!$D26,HFCs!$H$18:$H$32)*Lists!F$10+SUMIF(HFCs!$D$18:$D$32,Lists!$D26,HFCs!$G$18:$G$32)*Lists!F$7+SUMIF(HFCs!$D$18:$D$32,Lists!$D26,HFCs!$I$18:$I$32)*Lists!F$11","v":572},{"$f":"SUMIF(HFCs!$D$18:$D$32,Lists!$D26,HFCs!$E$18:$E$32)*Lists!G$8+SUMIF(HFCs!$D$18:$D$32,Lists!$D26,HFCs!$F$18:$F$32)*Lists!G$9+SUMIF(HFCs!$D$18:$D$32,Lists!$D26,HFCs!$H$18:$H$32)*Lists!G$10+SUMIF(HFCs!$D$18:$D$32,Lists!$D26,HFCs!$G$18:$G$32)*Lists!G$7+SUMIF(HFCs!$D$18:$D$32,Lists!$D26,HFCs!$I$18:$I$32)*Lists!G$11","v":673.2},null,null,null,null,null,null,null,null,null,"Goodhue",null,null,null,"Solid storage",null,null,null,null,null,null,null,null,null,24]
[null,"Subp. 25, Marinas",null,"Non-HFC",0,0,0,null,null,null,null,null,null,null,null,null,"Grant",null,null,null,null,null,null,null,null,null,null,null,null,null,25]
[null,"Subp. 26, Stream diversion",null,null,null,null,null,null,null,null,null,null,null,null,null,null,"Hennepin",null,null,null,"Manure management systems: Dairy cattle",null,null,null,null,null,null,null,null,null,26]
[null,"Subp. 27, Wetlands and public waters",null,null,null,null,null,null,null,null,null,null,null,null,null,null,"Houston",null,null,null,"Anaerobic digester",null,null,null,null,null,null,null,null,null,27]
[null,"Subp. 28, Forestry",null,null,null,null,null,null,null,null,null,null,null,null,null,null,"Hubbard",null,null,null,"Anaerobic lagoon - liquid",null,null,null,null,null,null,null,null,null,28]
[null,"Subp. 29, Animal feedlots",null,null,null,null,null,null,null,null,null,null,null,null,null,null,"Isanti",null,null,null,"Daily spread",null,null,null,null,null,null,null,null,null,29]
[null,"Subp. 30, Natural areas",null,null,null,null,null,null,null,null,null,null,null,null,null,null,"Itasca",null,null,null,"Deep pit",null,null,null,null,null,null,null,null,null,30]
[null,"Subp. 31, Historical places",null,null,null,null,null,null,null,null,null,null,null,null,null,null,"Jackson",null,null,null,"Dry lot",null,null,null,null,null,null,null,null,null,31]
[null,"Subp. 32, Mixed residential and industrial-commerical projects",null,null,null,null,null,null,null,null,null,null,null,null,null,null,"Kanabec",null,null,null,"Liquid/slurry",null,null,null,null,null,null,null,null,null,32]
[null,"Subp. 33, Communications towers",null,null,null,null,null,null,null,null,null,null,null,null,null,null,"Kandiyohi",null,null,null,"Pasture, range, paddock",null,null,null,null,null,null,null,null,null,33]
[null,"Subp. 34, Sports or entertainment facilities",null,null,null,null,null,null,null,null,null,null,null,null,null,null,"Kittson",null,null,null,"Solid storage",null,null,null,null,null,null,null,null,null,34]
[null,"Subp. 35, Release of genetically engineered organisms",null,null,null,null,null,null,null,null,null,null,null,null,null,null,"Koochiching",null,null,null,null,null,null,null,null,null,null,null,null,null,35]
[null,"Subp. 36, Land use conversion, including golf courses",null,null,null,null,null,null,null,null,null,null,null,null,null,null,"Lac qui Parle",null,null,null,"Manure management systems: Swine",null,null,null,null,null,null,null,null,null,36]
[null,"Subp. 36a, Land conversions in shoreland",null,null,null,null,null,null,null,null,null,null,null,null,null,null,"Lake",null,null,null,"Anaerobic digester",null,null,null,null,null,null,null,null,null,37]
[null,"Subp. 37, Recreational trails",null,null,null,null,null,null,null,null,null,null,null,null,null,null,"Lake of the Woods",null,null,null,"Anaerobic lagoon - liquid",null,null,null,null,null,null,null,null,null,38]
[null,null,null,null,null,null,null,null,null,null,null,null,null,null,null,null,"Le Sueur",null,null,null,"Deep pit",null,null,null,null,null,null,null,null,null,39]
[null,null,null,null,null,null,null,null,null,null,null,null,null,null,null,null,"Lincoln",null,null,null,"Liquid/slurry",null,null,null,null,null,null,null,null,null,40]
[null,null,null,null,null,null,null,null,null,null,null,null,null,null,null,null,"Lyon",null,null,null,"Pasture, range, paddock",null,null,null,null,null,null,null,null,null,41]
[null,null,null,null,null,null,null,null,null,null,null,null,null,null,null,null,"Mahnomen ",null,null,null,"Solid storage",null,null,null,null,null,null,null,null,null,42]
[null,null,null,null,null,null,null,null,null,null,null,null,null,null,null,null,"Marshall ",null,null,null,null,null,null,null,null,null,null,null,null,null,43]
[null,null,null,null,null,null,null,null,null,null,null,null,null,null,null,null,"Martin ",null,null,null,"Manure management systems: Poultry",null,null,null,null,null,null,null,null,null,44]
[null,null,null,null,null,null,null,null,null,null,null,null,null,null,null,null,"McLeod ",null,null,null,"Anaerobic digester",null,null,null,null,null,null,null,null,null,45]
[null,null,null,null,null,null,null,null,null,null,null,null,null,null,null,null,"Meeker ",null,null,null,"Anaerobic lagoon - liquid",null,null,null,null,null,null,null,null,null,46]
[null,null,null,null,null,null,null,null,null,null,null,null,null,null,null,null,"Mille Lacs ",null,null,null,"Composting",null,null,null,null,null,null,null,null,null,47]
[null,null,null,null,null,null,null,null,null,null,null,null,null,null,null,null,"Morrison ",null,null,null,"Liquid/slurry",null,null,null,null,null,null,null,null,null,48]
[null,null,null,null,null,null,null,null,null,null,null,null,null,null,null,null,"Mower ",null,null,null,"Pasture, range, paddock",null,null,null,null,null,null,null,null,null,49]
[null,null,null,null,null,null,null,null,null,null,null,null,null,null,null,null,"Murray ",null,null,null,"Poultry with litter",null,null,null,null,null,null,null,null,null,50]
[null,null,null,null,null,null,null,null,null,null,null,null,null,null,null,null,"Nicollet ",null,null,null,"Poultry without litter",null,null,null,null,null,null,null,null,null,51]
[null,null,null,null,null,null,null,null,null,null,null,null,null,null,null,null,"Nobles ",null,null,null,"Solid storage",null,null,null,null,null,null,null,null,null,52]
[null,null,null,null,null,null,null,null,null,null,null,null,null,null,null,null,"Norman ",null,null,null,null,null,null,null,null,null,null,null,null,null,53]
[null,null,null,null,null,null,null,null,null,null,null,null,null,null,null,null,"Olmsted ",null,null,null,null,null,null,null,null,null,null,null,null,null,54]
[null,null,null,null,null,null,null,null,null,null,null,null,null,null,null,null,"Otter Tail ",null,null,null,null,null,null,null,null,null,null,null,null,null,55]
[null,null,null,null,null,null,null,null,null,null,null,null,null,null,null,null,"Pennington ",null,null,null,null,null,null,null,null,null,null,null,null,null,56]
[null,null,null,null,null,null,null,null,null,null,null,null,null,null,null,null,"Pine ",null,null,null,null,null,null,null,null,null,null,null,null,null,57]
[null,null,null,null,null,null,null,null,null,null,null,null,null,null,null,null,"Pipestone ",null,null,null,null,null,null,null,null,null,null,null,null,null,58]
[null,null,null,null,null,null,null,null,null,null,null,null,null,null,null,null,"Polk ",null,null,null,null,null,null,null,null,null,null,null,null,null,59]
[null,null,null,null,null,null,null,null,null,null,null,null,null,null,null,null,"Pope/Douglas ",null,null,null,null,null,null,null,null,null,null,null,null,null,60]
[null,null,null,null,null,null,null,null,null,null,null,null,null,null,null,null,"Ramsey "]
[null,null,null,null,null,null,null,null,null,null,null,null,null,null,null,null,"Red Lake "]
[null,null,null,null,null,null,null,null,null,null,null,null,null,null,null,null,"Redwood/Renville "]
[null,null,null,null,null,null,null,null,null,null,null,null,null,null,null,null,"Rice "]
[null,null,null,null,null,null,null,null,null,null,null,null,null,null,null,null,"Rock "]
[null,null,null,null,null,null,null,null,null,null,null,null,null,null,null,null,"Roseau "]
[null,null,null,null,null,null,null,null,null,null,null,null,null,null,null,null,"Scott "]
[null,null,null,null,null,null,null,null,null,null,null,null,null,null,null,null,"Sherburne "]
[null,null,null,null,null,null,null,null,null,null,null,null,null,null,null,null,"Sibley "]
[null,null,null,null,null,null,null,null,null,null,null,null,null,null,null,null,"St. Louis - partial"]
[null,null,null,null,null,null,null,null,null,null,null,null,null,null,null,null,"Stearns "]
[null,null,null,null,null,null,null,null,null,null,null,null,null,null,null,null,"Steele "]
[null,null,null,null,null,null,null,null,null,null,null,null,null,null,null,null,"Stevens "]
[null,null,null,null,null,null,null,null,null,null,null,null,null,null,null,null,"Swift "]
[null,null,null,null,null,null,null,null,null,null,null,null,null,null,null,null,"Todd "]
[null,null,null,null,null,null,null,null,null,null,null,null,null,null,null,null,"Traverse "]
[null,null,null,null,null,null,null,null,null,null,null,null,null,null,null,null,"Wabasha "]
[null,null,null,null,null,null,null,null,null,null,null,null,null,null,null,null,"Wadena "]
[null,null,null,null,null,null,null,null,null,null,null,null,null,null,null,null,"Waseca "]
[null,null,null,null,null,null,null,null,null,null,null,null,null,null,null,null,"Washington "]
[null,null,null,null,null,null,null,null,null,null,null,null,null,null,null,null,"Watonwan "]
[null,null,null,null,null,null,null,null,null,null,null,null,null,null,null,null,"Wilkin "]
[null,null,null,null,null,null,null,null,null,null,null,null,null,null,null,null,"Winona "]
[null,null,null,null,null,null,null,null,null,null,null,null,null,null,null,null,"WLSSD"]
[null,null,null,null,null,null,null,null,null,null,null,null,null,null,null,null,"Wright "]
[null,null,null,null,null,null,null,null,null,null,null,null,null,null,null,null,"Yellow Medicine "]

{"sheet":"Log","index":30,"n_rows":9,"n_cols":3,"rows_kept":9,"cut":false,"hidden":false,"merged":[]}
["Version Log"]
[]
["Version","Date","Updates"]
[1.1000000000000001,"2025-05-01","Initial version"]
[1.2,"2026-03-01","Wastewater: Added System Type field to User Inputs tab, added EFs to Assumptions tab, added formula for direct N2O emissions to Operations tab"]
[1.2,"2026-03-01","Land Use Change: Broke out land types for wetlands into peatland and mineral soils. Updated tables in User Inputs tab and Assumptions tab. Updated calcualtions in Construction and Operations tabs."]
[1.2,"2026-03-01","Added alternate calculation approaches for Construction Equipment and Building Energy Consumption. Updated User Inputs tab to allow for selection of approach and entering of fuel consumption totals. Updated calculation tabs to accommodate both approaches."]
[1.2,"2026-03-01","HFC Leakage: Added option to select the HFC used in equipment. Removed housedold refrigerators and stand-alone refrigerators from equipment list since these equipment types are assumed to no longer use HFCs."]
[1.2,"2026-03-01","Added Quantified Reductions tab"]